{"text_format":"1","workbook":"xlsx","n_sheets":11,"sheets":["Instrucciones","RawData_PLE","RawData_91500","RawData_trace","ProbDens-unedited","PlotDat12","ProbDens2","PlotDat2","Datatable_t","DT_IsoplotR","trace_t"],"not_rendered":{"charts":4,"images":0,"macros":1,"external_links":0,"defined_names":141,"comments":0,"pivot_tables":0},"unopened":[{"sheet":"ProbDens-unedited","index":4,"reason":"not_a_worksheet"},{"sheet":"ProbDens2","index":6,"reason":"not_a_worksheet"}],"bounds":{"document_bytes":16777216,"sheet_cells":100000,"rows_first":2000,"rows_last":500,"rows_between":2000,"halvings":0,"cell_chars":16384,"cell_head_chars":4096},"cells_cut":0,"cells_raw":0,"read":"whole","date_system":"1900"}

{"sheet":"Instrucciones","index":0,"n_rows":12,"n_cols":14,"rows_kept":12,"cut":false,"hidden":false,"merged":[]}
[null,"INSTRUCCIONES"]
[]
[1,"Posiblemente haya datos de muestras anteriores almacenados en esta hoja. En la hoja Datatable_t presiona \"CLean\" para eliminar todos estos datos. Asegurate que exista una copia de estos datos con el nombre de la muestra. "]
[2,"Importa los datos de las relaciones isotópicas y edades en forma de texto de los archivos generados en Iolite en la celda A1 de la hoja:",null,null,null,null,null,null,null,null,null,null,null," RawData_91500"]
[3,"Importa los datos de las concentraciones de elementos traza obtenidos en IOLITE en celda A1 de la hoja:",null,null,null,null,null,null,null,null,null,null,null," RawData_trace"]
["IMPORTANTE: En este momento Guardar el archivo con el nombre de la muestra (ej. NOMBRE DE LA MUESTRA_UPb data) y ejecutar los procedimientos subsecuentes ya en el nuevo archivo"]
[4,"En la hoja Datatable_t presiona \"IMPORTAR\". "]
[5,"En la ventana que se abre, selecciona que tipo de datos deseas importar para las relaciones isotópicas y las edades según la reducción realizada en IOLITE (Final; Andersen; PbCommun). "]
[null,"También importa los datos de concentración de elementos traza. IMPORTANTE Si los datos de los traza son semiquantitative (SQ), selecciona la casilla [ ] Trazas SQ antes de importar los resultados de los elementos traza"]
[null,"Esto va a borrar la leyenda \"SQ_\" de todos los encabezados de las columnas de los elementos traza para poder hacer la importación "]
[6,"Presiona el boton \"CERRAR\" para cerrar esta ventana [IMPORTAR]"]
[7,"Seleccionar la casilla Pb_ppm en la parte superior de Datatable_t "]

{"sheet":"RawData_PLE","index":1,"n_rows":0,"n_cols":0,"rows_kept":0,"cut":false,"hidden":false,"merged":[]}

{"sheet":"RawData_91500","index":2,"n_rows":219,"n_cols":175,"rows_kept":219,"cut":false,"hidden":false,"merged":[]}
[null,"Source file","DateTime","Date","Time","Duration(s)","Comments","Total points","Selection type","Components","Final207_235","Final207_235_Int2SE","Final207_235_Prop2SE","Final206_238","Final206_238_Int2SE","Final206_238_Prop2SE","ErrorCorrelation_6_38vs7_35","Final238_206","Final238_206_Prop2SE","Final207_206","Final207_206_Int2SE","Final207_206_Prop2SE","ErrorCorrelation_38_6vs7_6","Final208_232","Final208_232_Int2SE","Final208_232_Prop2SE","Final206_208","Final206_208_Int2SE","Final206_208_Prop2SE","FinalAge207_235","FinalAge207_235_Int2SE","FinalAge207_235_Prop2SE","FinalAge206_238","FinalAge206_238_Int2SE","FinalAge206_238_Prop2SE","FinalAge208_232","FinalAge208_232_Int2SE","FinalAge208_232_Prop2SE","FinalAge207_206","FinalAge207_206_Int2SE","FinalAge207_206_Prop2SE","Final206_204","Final206_204_Int2SE","Final207_204","Final207_204_Int2SE","Final208_204","Final208_204_Int2SE","Approx_U_PPM","Approx_U_PPM_Int2SE","Approx_Th_PPM","Approx_Th_PPM_Int2SE","Approx_Pb_PPM","Approx_Pb_PPM_Int2SE","FInal_U_Th_Ratio","FInal_U_Th_Ratio_Int2SE","Final238_206","Final238_206_Int2SE","FinalDiscPercent","FinalDiscPercent_Int2SE","Dose","Dose_Int2SE",null,null,null,null,null,null,"ErrorCorrelAnd_6_38vs7_35","FinalAnd208_232","FinalAnd208_232_Int2SE","FinalAnd208_232_Prop2SE","FinalAnd238_206","FinalAnd238_206_Int2SE","FinalAnd207_206","FinalAnd207_206_Int2SE","FinalAnd207_206_Prop2SE","FinalAgeAnd207_206","FinalAgeAnd207_206_Int2SE","FinalAgeAnd207_206_Prop2SE","FinalAgeAnd207_235","FinalAgeAnd207_235_Int2SE","FinalAgeAnd207_235_Prop2SE","FinalAgeAnd206_238","FinalAgeAnd206_238_Int2SE","FinalAgeAnd206_238_Prop2SE","FinalAgeAnd208_232","FinalAgeAnd208_232_Int2SE","FinalAgeAnd208_232_Prop2SE","FinalFracCommonPb","FinalFracCommonPb_Int2SE","FinalFracLostPb","FinalFracLostPb_Int2SE","AndersenSolution","AndersenSolution_Int2SE","FinalPbC207_235","FinalPbC207_235_Int2SE","FinalPbC207_235_Prop2SE","FinalPbC206_238","FinalPbC206_238_Int2SE","FinalPbC206_238_Prop2SE","ErrorCorrelAnd_6_38vs7_35","FinalPbC208_232","FinalPbC208_232_Int2SE","FinalPbC208_232_Prop2SE","FinalPbC207_206","FinalPbC207_206_Int2SE","FinalPbC207_206_Prop2SE","FinalPbC238_206","FinalPbC238_206_Int2SE","FinalAgePbC207_206","FinalAgePbC207_206_Int2SE","FinalAgePbC207_206_Prop2SE","FinalAgePbC207_235","FinalAgePbC207_235_Int2SE","FinalAgePbC207_235_Prop2SE","FinalAgePbC206_238","FinalAgePbC206_238_Int2SE","FinalAgePbC206_238_Prop2SE","FinalAgePbC208_232","FinalAgePbC208_232_Int2SE","FinalAgePbC208_232_Prop2SE","ErrorCorrelAnd_6_38vs7_35","FinalAnd208_232","FinalAnd208_232_Int2SE","FinalAnd208_232_Prop2SE","FinalAnd238_206","FinalAnd238_206_Int2SE","FinalAnd207_206","FinalAnd207_206_Int2SE","FinalAnd207_206_Prop2SE","FinalAgeAnd207_206","FinalAgeAnd207_206_Int2SE","FinalAgeAnd207_206_Prop2SE","FinalAgeAnd207_235","FinalAgeAnd207_235_Int2SE","FinalAgeAnd207_235_Prop2SE","FinalAgeAnd206_238","FinalAgeAnd206_238_Int2SE","FinalAgeAnd206_238_Prop2SE","FinalAgeAnd208_232","FinalAgeAnd208_232_Int2SE","FinalAgeAnd208_232_Prop2SE","FinalFracCommonPb","FinalFracCommonPb_Int2SE","FinalFracLostPb","FinalFracLostPb_Int2SE","AndersenSolution","AndersenSolution_Int2SE","FinalPbC207_235","FinalPbC207_235_Int2SE","FinalPbC207_235_Prop2SE","FinalPbC206_238","FinalPbC206_238_Int2SE","FinalPbC206_238_Prop2SE","ErrorCorrelAnd_6_38vs7_35","FinalPbC208_232","FinalPbC208_232_Int2SE","FinalPbC208_232_Prop2SE","FinalPbC207_206","FinalPbC207_206_Int2SE","FinalPbC207_206_Prop2SE","FinalPbC238_206","FinalPbC238_206_Int2SE","FinalAgePbC207_206","FinalAgePbC207_206_Int2SE","FinalAgePbC207_206_Prop2SE","FinalAgePbC207_235","FinalAgePbC207_235_Int2SE","FinalAgePbC207_235_Prop2SE","FinalAgePbC206_238","FinalAgePbC206_238_Int2SE","FinalAgePbC206_238_Prop2SE","FinalAgePbC208_232","FinalAgePbC208_232_Int2SE","FinalAgePbC208_232_Prop2SE"]
["G_NIST610_1","610_1","04/12/2018 (3) 18:29:56.00","04/12/2018 (3)","18:29:56",24.084,"610_1",52,"Normal",1,26.92,0.47,0.89,0.22370000000000001,3.3999999999999998E-3,4.4999999999999997E-3,0.90761999999999998,null,8.9925019999999994E-2,0.88039999999999996,5.7999999999999996E-3,4.2000000000000003E-2,0.19247,0.497,1.0999999999999999E-2,4.2999999999999997E-2,0.46389999999999998,3.5999999999999999E-3,3.5000000000000003E-2,3379,17,32,1301,18,24,8150,140,550,5143,13,95,17.11,0.47,15.85,0.46,37.799999999999997,1.1000000000000001,334,17,334,19,1746,96,0.99199999999999999,8.3000000000000001E-3,4.4702729999999997,7.0000000000000007E-2,74.69,"08:09:36",1990000000000000,130000000000000,null,null,null,null,null,null,"NaN","no value","NAN","NAN","no value","NAN","no value","NAN","NAN","no value","NAN","NAN","no value","NAN","NAN","no value","NAN","NAN","no value","NAN","NAN","no value","NAN","no value","NAN",0,1,"no value","NAN","NAN","no value","NAN","NAN","NaN","no value","NAN","NAN",0,1,4.3,"no value","NAN","no value","NAN","NAN","no value","NAN","NAN","no value","NAN","NAN","no value","NAN","NAN",0.70013000000000003,1.562E-2,9.3000000000000005E-4,1.6000000000000001E-3,20.83,0.56999999999999995,4.7910000000000001E-2,7.7999999999999999E-4,7.9000000000000001E-4,90,37,38,282,11,12,300.60000000000002,8.1999999999999993,9.1,313,19,31,7.1999999999999998E-3,4.5999999999999999E-3,-102,32,0.31,0.12,-7.0000000000000007E-2,0.56999999999999995,0.61,4.4400000000000002E-2,4.4999999999999997E-3,5.0000000000000001E-3,0.97445999999999999,5.0000000000000001E-3,1.2999999999999999E-2,2.1000000000000001E-2,-0.1,0.11,0.11,25.1,3,2580,440,440,300,430,450,280,28,31,90,250,420]
["G_NIST610_2","610_2","04/12/2018 (3) 18:31:23.00","04/12/2018 (3)","18:31:23",24.085000000000001,"610_2",52,"Normal",1,26.97,0.46,0.87,0.22309999999999999,3.8E-3,4.7999999999999996E-3,0.93452000000000002,null,9.6436649999999999E-2,0.88190000000000002,5.1999999999999998E-3,0.04,0.34323999999999999,0.49609999999999999,9.2999999999999992E-3,4.2999999999999997E-2,0.46810000000000002,3.0999999999999999E-3,3.5000000000000003E-2,3383,17,32,1298,20,25,8140,120,550,5147,12,91,17.010000000000002,0.46,15.52,0.43,37.1,1,340,17,337,17,1663,83,0.99570000000000003,6.1000000000000004E-3,4.4822949999999997,7.6999999999999999E-2,74.78,"10:04:48",2000000000000000,130000000000000,null,null,null,null,null,null,"NaN","no value","NAN","NAN","no value","NAN","no value","NAN","NAN","no value","NAN","NAN","no value","NAN","NAN","no value","NAN","NAN","no value","NAN","NAN","no value","NAN","no value","NAN",0,1,"no value","NAN","NAN","no value","NAN","NAN","NaN","no value","NAN","NAN",0,1,4.5,"no value","NAN","no value","NAN","NAN","no value","NAN","NAN","no value","NAN","NAN","no value","NAN","NAN",0.67352999999999996,1.01E-2,5.8999999999999999E-3,7.1999999999999998E-3,24.2,0.77,5.0889999999999998E-2,8.4999999999999995E-4,8.5999999999999998E-4,234,39,39,256.7,6.8,7.2,261.89999999999998,8,8.6999999999999993,200,120,140,1.6E-2,4.8999999999999998E-3,-0.24,0.38,0.37,0.25,0.31,0.15,0.16,4.1599999999999998E-2,1.5E-3,1.6000000000000001E-3,0.61817999999999995,1.9E-2,3.9E-2,4.7E-2,5.8999999999999997E-2,2.1999999999999999E-2,2.3E-2,24.12,"20:52:48",1200,410,420,290,100,110,263,9.3000000000000007,10,340,780,950]
["G_NIST610_3",610,"04/12/2018 (3) 19:19:12.00","04/12/2018 (3)","19:19:12",24.084,610,52,"Normal",1,27.17,0.52,0.93,0.219,4.0000000000000001E-3,4.8999999999999998E-3,0.93523999999999996,null,0.1021663,0.90200000000000002,5.3E-3,4.2000000000000003E-2,0.31624999999999998,0.504,0.01,4.3999999999999997E-2,0.4496,2.5999999999999999E-3,3.3000000000000002E-2,3393,19,35,1279,22,27,8250,130,550,5192,12,95,17.13,0.66,15.79,0.57999999999999996,38,1.4,342,17,351,19,1861,97,0.97019999999999995,7.6E-3,4.5662099999999999,8.4000000000000005E-2,75.349999999999994,"10:33:36",2040000000000000,140000000000000,null,null,null,null,null,null,"NaN","no value","NAN","NAN","no value","NAN","no value","NAN","NAN","no value","NAN","NAN","no value","NAN","NAN","no value","NAN","NAN","no value","NAN","NAN","no value","NAN","no value","NAN",0,1,"no value","NAN","NAN","no value","NAN","NAN","NaN","no value","NAN","NAN",0,1,3.7,"no value","NAN","no value","NAN","NAN","no value","NAN","NAN","no value","NAN","NAN","no value","NAN","NAN",0.79347999999999996,1.7899999999999999E-2,3.0000000000000001E-3,4.3E-3,14.23,0.27,5.595E-2,7.6999999999999996E-4,8.0000000000000004E-4,448,31,32,439,11,13,438.9,8.3000000000000007,10,358,59,86,1.7399999999999999E-2,3.3999999999999998E-3,-0.2,0.35,0.4,0.16,0.59,0.43,0.49,7.0900000000000005E-2,3.8999999999999998E-3,4.7000000000000002E-3,0.95257000000000003,1.9E-2,3.1E-2,4.4999999999999998E-2,4.7E-2,4.2999999999999997E-2,4.4999999999999998E-2,14.29,"19:55:12",2020,370,380,670,190,220,441,23,28,310,610,890]
["G_NIST610_4",610,"04/12/2018 (3) 19:59:05.00","04/12/2018 (3)","19:59:05",24.085000000000001,610,52,"Normal",1,26.65,0.47,0.89,0.22140000000000001,3.8999999999999998E-3,4.8999999999999998E-3,0.90941000000000005,null,9.9963360000000001E-2,0.86570000000000003,6.7000000000000002E-3,4.1000000000000002E-2,0.29831000000000002,0.47299999999999998,0.01,4.1000000000000002E-2,0.51339999999999997,3.8999999999999998E-3,3.7999999999999999E-2,3369,17,33,1289,21,26,7830,130,530,5110,15,91,16.89,0.57999999999999996,15.39,0.46,37,1.2,351,18,352,20,1364,73,1.0035000000000001,7.1000000000000004E-3,4.5167120000000001,0.08,74.84,"10:04:48",2070000000000000,140000000000000,null,null,null,null,null,null,"NaN","no value","NAN","NAN","no value","NAN","no value","NAN","NAN","no value","NAN","NAN","no value","NAN","NAN","no value","NAN","NAN","no value","NAN","NAN","no value","NAN","no value","NAN",0,1,"no value","NAN","NAN","no value","NAN","NAN","NaN","no value","NAN","NAN",0,1,4.2,"no value","NAN","no value","NAN","NAN","no value","NAN","NAN","no value","NAN","NAN","no value","NAN","NAN",0.36601,2.4209999999999999E-2,7.2999999999999996E-4,1.8E-3,13.28,0.23,5.3740000000000003E-2,8.7000000000000001E-4,8.9999999999999998E-4,364,39,41,454,12,15,469.3,7.8,9.6999999999999993,483,14,36,5.0000000000000001E-4,1.1000000000000001E-3,6.0000000000000001E-3,4.3999999999999997E-2,0.5,1,0.43,0.26,0.31,7.4700000000000003E-2,2.5000000000000001E-3,3.0999999999999999E-3,0.85982999999999998,0.02,7.3000000000000001E-3,1.7999999999999999E-2,3.3000000000000002E-2,2.5000000000000001E-2,2.5999999999999999E-2,13.55,"11:31:12",1370,290,300,230,240,290,464,15,19,400,150,370]
["G_NIST610_5",610,"04/12/2018 (3) 20:38:56.00","04/12/2018 (3)","20:38:56",24.084,610,52,"Normal",1,27.07,0.5,0.91,0.22020000000000001,3.5999999999999999E-3,4.5999999999999999E-3,0.91186,null,9.4868759999999996E-2,0.88560000000000005,6.3E-3,4.1000000000000002E-2,0.23039000000000001,0.4713,9.7000000000000003E-3,4.1000000000000002E-2,0.51849999999999996,3.3E-3,3.7999999999999999E-2,3384,18,33,1285,19,25,7800,130,530,5155,14,93,17.07,0.52,15.57,0.51,37.4,1.2,332,15,338,18,1444,68,0.98619999999999997,8.3000000000000001E-3,4.5413259999999998,7.4999999999999997E-2,75.11,"09:21:36",1960000000000000,120000000000000,null,null,null,null,null,null,"NaN","no value","NAN","NAN","no value","NAN","no value","NAN","NAN","no value","NAN","NAN","no value","NAN","NAN","no value","NAN","NAN","no value","NAN","NAN","no value","NAN","no value","NAN",0,1,"no value","NAN","NAN","no value","NAN","NAN","NaN","no value","NAN","NAN",0,1,4.5999999999999996,"no value","NAN","no value","NAN","NAN","no value","NAN","NAN","no value","NAN","NAN","no value","NAN","NAN",0.26336999999999999,5.9299999999999999E-2,1.6999999999999999E-3,3.8E-3,5,7.4999999999999997E-2,7.8799999999999995E-2,1.9E-3,2E-3,1168,50,52,1184,23,29,1178,16,22,1163,33,73,2.2000000000000001E-3,1.2999999999999999E-3,0.05,3.1E-2,0.73899999999999999,7.5999999999999998E-2,2.1,0.6,0.75,0.19700000000000001,6.0000000000000001E-3,8.0999999999999996E-3,0.86716000000000004,4.8000000000000001E-2,3.3000000000000002E-2,7.1999999999999995E-2,6.9000000000000006E-2,0.02,2.1000000000000001E-2,5.0999999999999996,"03:36:00",1480,280,290,1160,170,210,1158,32,44,830,640,1400]
["G_NIST610_6",610,"04/12/2018 (3) 20:52:54.00","04/12/2018 (3)","20:52:54",24.085000000000001,610,52,"Normal",1,28.73,0.53,0.97,0.2208,3.5999999999999999E-3,4.5999999999999999E-3,0.94837000000000005,null,9.4353859999999998E-2,0.9335,5.4000000000000003E-3,4.2999999999999997E-2,7.6988000000000001E-2,0.51100000000000001,1.2E-2,4.3999999999999997E-2,0.45800000000000002,2.3E-3,3.4000000000000002E-2,3442,18,33,1288,20,25,8340,150,560,5263,12,98,17.12,0.5,15.62,0.49,37.299999999999997,1.1000000000000001,298,15,297,17,1389,76,0.99890000000000001,8.3000000000000001E-3,4.5289859999999997,7.5999999999999998E-2,75.52,"09:07:12",1760000000000000,120000000000000,null,null,null,null,null,null,"NaN","no value","NAN","NAN","no value","NAN","no value","NAN","NAN","no value","NAN","NAN","no value","NAN","NAN","no value","NAN","NAN","no value","NAN","NAN","no value","NAN","no value","NAN",0,1,"no value","NAN","NAN","no value","NAN","NAN","NaN","no value","NAN","NAN",0,1,3.9,"no value","NAN","no value","NAN","NAN","no value","NAN","NAN","no value","NAN","NAN","no value","NAN","NAN",0.79417000000000004,3.601E-3,2.6999999999999999E-5,2.3000000000000001E-4,84.9,1.5,4.648E-2,2.2000000000000001E-4,2.4000000000000001E-4,22,11,12,74,1.5,2.2000000000000002,75.599999999999994,1.4,1.7,72.64,0.54,4.5999999999999996,2E-3,1.2999999999999999E-3,-11.2,4.5999999999999996,0.82699999999999996,9.5000000000000001E-2,7.2999999999999995E-2,1.0999999999999999E-2,1.6E-2,1.1639999999999999E-2,2.1000000000000001E-4,2.5999999999999998E-4,0.21873000000000001,3.5990000000000002E-3,4.1999999999999998E-5,3.6000000000000002E-4,3.7400000000000003E-2,8.3999999999999995E-3,9.1999999999999998E-3,86.1,1.6,330,150,170,71,11,16,74.599999999999994,1.3,1.6,72.62,0.84,7.2]
[null,null,null,null,null,null,null,null,null,null,null,null,null,null,null,null,null,null,null,null,null,null,null,null,null,null,null,null,null,null,null,null,null,null,null,null,null,null,null,null,null,null,null,null,null,null,null,null,null,null,null,null,null,null,null,null,null,null,null,null,null,null,null,null,null,null,null,"NaN","no value","NAN","NAN","no value","NAN","no value","NAN","NAN","no value","NAN","NAN","no value","NAN","NAN","no value","NAN","NAN","no value","NAN","NAN","no value","NAN","no value","NAN",0,1,"no value","NAN","NAN","no value","NAN","NAN","NaN","no value","NAN","NAN",0,1,4.4000000000000004,"no value","NAN","no value","NAN","NAN","no value","NAN","NAN","no value","NAN","NAN","no value","NAN","NAN",0.80633999999999995,1.09E-2,2.5000000000000001E-3,3.5999999999999999E-3,22.19,0.47,4.9700000000000001E-2,1E-3,1.1000000000000001E-3,176,49,50,273.10000000000002,8.3000000000000007,9,285.10000000000002,5.7,7,232,56,79,3.5000000000000003E-2,5.4999999999999997E-3,-39,28,0.24,0.15,0.3,0.12,0.13,4.4699999999999997E-2,1.5E-3,1.8E-3,0.78698999999999997,1.2999999999999999E-2,1.4999999999999999E-2,2.1000000000000001E-2,4.4999999999999998E-2,1.9E-2,0.02,22.43,"17:16:48",1310,260,270,230,110,110,281.89999999999998,9.1,11,240,290,410]
["Output_1_1","Baclab2N4CII-1","04/12/2018 (3) 18:40:21.50","04/12/2018 (3)","18:40:21.500",22.395,"Baclab2N4CII-1",48,"Normal",1,1.744,4.2000000000000003E-2,6.4000000000000001E-2,0.17130000000000001,1.6000000000000001E-3,2.8E-3,0.20338999999999999,null,9.5420859999999996E-2,7.3499999999999996E-2,1.6999999999999999E-3,3.8E-3,0.16209999999999999,5.3400000000000003E-2,1.2999999999999999E-3,4.7000000000000002E-3,9.16,0.24,0.73,1024,15,24,1019,8.6,15,1050,24,89,1021,45,100,90,140,7,10,11,16,170,11,62.9,3.8,27.5,1.4,2.68,2.3E-2,5.8377119999999998,5.2999999999999999E-2,-0.3,4.9000000000000004,664000000000000,41000000000000,null,null,null,null,null,null,null,null,null,null,null,null,null,null,null,null,null,null,null,null,null,null,null,null,null,null,null,null,null,null,null,null,null,null,null,null,null,null,null,null,null,null,null,null,null,null,null,null,null,null,null,null,null,null,null,null,null,null,null,null,0.52298,2.0199999999999999E-2,1.6000000000000001E-3,3.0000000000000001E-3,13.69,0.42,5.3999999999999999E-2,1.6000000000000001E-3,1.6000000000000001E-3,361,68,69,439,18,20,458,14,15,404,31,59,1.32E-2,3.7000000000000002E-3,-0.46,0.51,0.44,0.17,0.73,0.37,0.41,7.4800000000000005E-2,3.8999999999999998E-3,4.3E-3,0.86112,2.5000000000000001E-2,1.6E-2,3.1E-2,4.9000000000000002E-2,3.9E-2,0.04,13.67,"18:43:12",1720,370,370,580,190,210,464,24,26,480,320,620]
["Output_1_2","Baclab2N4CII-2","04/12/2018 (3) 18:41:23.09","04/12/2018 (3)","18:41:23.090",22.992000000000001,"Baclab2N4CII-2",50,"Normal",1,0.18,1.7000000000000001E-2,1.7000000000000001E-2,1.4590000000000001E-2,3.6999999999999999E-4,4.0999999999999999E-4,0.34484999999999999,null,1.926075,8.8900000000000007E-2,7.4999999999999997E-3,8.3999999999999995E-3,1.4285000000000001E-2,8.3400000000000002E-3,7.5000000000000002E-4,1E-3,5.81,0.47,0.63,167,14,15,93.4,2.2999999999999998,2.6,168,15,20,1340,180,200,-128,74,-10.3,6.4,-26,15,190,21,67.599999999999994,5,4.49,0.46,2.96,0.19,68.540099999999995,1.8,89.8,4,65000000000000,7100000000000,null,null,null,null,null,null,1,2.3E-3,1.2999999999999999E-3,1.2999999999999999E-3,114.2,9.6999999999999993,4.6073200000000002E-2,1.7E-6,1.7E-6,1.4510000000000001,0.09,9.0999999999999998E-2,56.6,4.4000000000000004,4.4000000000000004,58,4.5999999999999996,4.5999999999999996,47,26,27,0.109,2.5999999999999999E-2,-41.4,4.8,0.48,0.14000000000000001,-1.3,1.2,1.3,-4.0000000000000001E-3,0.01,0.01,0.99677000000000004,-4.5999999999999999E-2,3.3000000000000002E-2,3.4000000000000002E-2,0.79,0.3,0.31,21,43,4599,79,80,1110,410,410,-29,65,66,-790,720,740,"NaN","no value","NAN","NAN","no value","NAN","no value","NAN","NAN","no value","NAN","NAN","no value","NAN","NAN","no value","NAN","NAN","no value","NAN","NAN","no value","NAN","no value","NAN",0,1,"no value","NAN","NAN","no value","NAN","NAN","NaN","no value","NAN","NAN",0,1,1.6,"no value","NAN","no value","NAN","NAN","no value","NAN","NAN","no value","NAN","NAN","no value","NAN","NAN"]
["Output_1_3","Baclab2N4CII-3","04/12/2018 (3) 18:42:30.81","04/12/2018 (3)","18:42:30.810",12.298999999999999,"Baclab2N4CII-3",26,"Normal",1,1.361,2.7E-2,4.8000000000000001E-2,0.13719999999999999,1.2999999999999999E-3,2.2000000000000001E-3,0.32584000000000002,null,0.11687309999999999,7.17E-2,1.2999999999999999E-3,3.5000000000000001E-3,0.1169,4.99E-2,2.8E-3,4.5999999999999999E-3,25.3,1.5,2.1,872,11,20,828.6,7.5,12,985,55,89,984,40,100,-4500,2900,-320,200,-200,130,271.2,9.1999999999999993,32.24,0.47,13.16,0.75,8.4499999999999993,0.26,7.2886300000000004,7.0000000000000007E-2,15.5,3.4,825000000000000,22000000000000,null,null,null,null,null,null,0.94935999999999998,3.0500000000000002E-3,1.3999999999999999E-4,2.1000000000000001E-4,108.3,2.2999999999999998,4.6117999999999999E-2,1.8E-5,2.0000000000000002E-5,3.78,0.96,1,58,1.2,1.3,59.4,1.2,1.3,61.6,2.9,4.2,6.6E-3,4.5999999999999999E-3,-16.5,3.4,1,1,4.1000000000000002E-2,5.5E-2,5.8999999999999997E-2,9.0799999999999995E-3,3.3E-4,3.5E-4,0.88822000000000001,2.7000000000000001E-3,9.3000000000000005E-4,1.2999999999999999E-3,1.9E-2,3.9E-2,4.2000000000000003E-2,109.7,4.5,1670,470,500,33,56,60,58.3,2.1,2.2000000000000002,54,19,27,"NaN","no value","NAN","NAN","no value","NAN","no value","NAN","NAN","no value","NAN","NAN","no value","NAN","NAN","no value","NAN","NAN","no value","NAN","NAN","no value","NAN","no value","NAN",0,1,"no value","NAN","NAN","no value","NAN","NAN","NaN","no value","NAN","NAN",0,1,1.5,"no value","NAN","no value","NAN","NAN","no value","NAN","NAN","no value","NAN","NAN","no value","NAN","NAN"]
["Output_1_4","Baclab2N4CII-4","04/12/2018 (3) 18:43:17.34","04/12/2018 (3)","18:43:17.340",11.709,"Baclab2N4CII-4",25,"Normal",1,1.92,4.9000000000000002E-2,7.1999999999999995E-2,0.17530000000000001,2E-3,3.0000000000000001E-3,3.6061000000000003E-2,null,9.762419E-2,7.8299999999999995E-2,2.0999999999999999E-3,3.8999999999999998E-3,0.36596000000000001,4.1000000000000002E-2,1.4999999999999999E-2,5.1000000000000004E-3,12.35,0.53,0.9,1087,17,25,1041,11,16,810,290,98,1149,54,100,-6000,6800,-450,510,-470,530,260,13,63.19,0.99,29.5,1.6,4.13,0.25,5.7045070000000004,6.0999999999999999E-2,7.9,4.7,1037000000000000,44000000000000,null,null,null,null,null,null,0.57787999999999995,3.0799999999999998E-3,2.3000000000000001E-4,2.7999999999999998E-4,103.4,2.5,4.6099000000000001E-2,1.0000000000000001E-5,1.1E-5,2.82,0.53,0.57999999999999996,60.9,1.4,1.5,62.4,1.5,1.5,62.2,4.5999999999999996,5.7,9.1999999999999998E-3,4.0000000000000001E-3,-22.9,3.5,1,1,-7.5999999999999998E-2,0.09,9.7000000000000003E-2,8.4700000000000001E-3,7.6000000000000004E-4,7.7999999999999999E-4,0.95943999999999996,-1E-3,2.5999999999999999E-3,3.2000000000000002E-3,-0.19,0.15,0.16,138,24,2200,240,270,-100,99,110,54.3,4.8,5,-20,53,66,"NaN","no value","NAN","NAN","no value","NAN","no value","NAN","NAN","no value","NAN","NAN","no value","NAN","NAN","no value","NAN","NAN","no value","NAN","NAN","no value","NAN","no value","NAN",0,1,"no value","NAN","NAN","no value","NAN","NAN","NaN","no value","NAN","NAN",0,1,1.4,"no value","NAN","no value","NAN","NAN","no value","NAN","NAN","no value","NAN","NAN","no value","NAN","NAN"]
["Output_1_5","Baclab2N4CII-5","04/12/2018 (3) 18:44:26.85","04/12/2018 (3)","18:44:26.850",18.239000000000001,"Baclab2N4CII-5",40,"Normal",1,2.3170000000000002,5.0999999999999997E-2,7.8E-2,0.20580000000000001,1.5E-3,3.0000000000000001E-3,0.13166,null,7.0832160000000005E-2,8.1699999999999995E-2,1.8E-3,4.0000000000000001E-3,0.28237000000000001,6.3200000000000006E-2,1.9E-3,5.4000000000000003E-3,10.56,0.26,0.8,1216,16,24,1206.3,8.3000000000000007,16,1238,35,100,1240,42,96,4600,3900,310,300,430,360,231,17,76.599999999999994,5.5,39.299999999999997,2.9,3.0310000000000001,2.9000000000000001E-2,4.8590859999999996,3.6999999999999998E-2,2.5,3.6,1086000000000000,76000000000000,null,null,null,null,null,null,0.99887000000000004,2.8900000000000002E-3,2.7E-4,3.4000000000000002E-4,106.3,2.4,4.6101999999999997E-2,1.8E-5,1.9000000000000001E-5,2.96,0.95,1,59.2,1.3,1.4,60.6,1.4,1.5,58.3,5.5,6.8,1.4500000000000001E-2,5.5999999999999999E-3,-24.9,3.2,1,1,2.8000000000000001E-2,7.9000000000000001E-2,8.3000000000000004E-2,9.2999999999999992E-3,7.3999999999999999E-4,7.6999999999999996E-4,0.96238999999999997,1.8E-3,2.2000000000000001E-3,2.7000000000000001E-3,2.1999999999999999E-2,5.1999999999999998E-2,5.5E-2,109.3,8.1,2320,390,420,46,74,78,59.7,4.7,4.9000000000000004,37,45,55,"NaN","no value","NAN","NAN","no value","NAN","no value","NAN","NAN","no value","NAN","NAN","no value","NAN","NAN","no value","NAN","NAN","no value","NAN","NAN","no value","NAN","no value","NAN",0,1,"no value","NAN","NAN","no value","NAN","NAN","NaN","no value","NAN","NAN",0,1,1.4,"no value","NAN","no value","NAN","NAN","no value","NAN","NAN","no value","NAN","NAN","no value","NAN","NAN"]
["Output_1_6","Baclab2N4CII-6","04/12/2018 (3) 18:45:30.60","04/12/2018 (3)","18:45:30.600",13.487,"Baclab2N4CII-6",29,"Normal",1,0.45700000000000002,2.3E-2,2.3E-2,5.9139999999999998E-2,7.9000000000000001E-4,9.8999999999999999E-4,8.5336999999999996E-2,null,0.28305609999999998,5.7200000000000001E-2,2.7000000000000001E-3,3.5999999999999999E-3,0.20361000000000001,1.949E-2,6.9999999999999999E-4,1.6999999999999999E-3,4.46,0.15,0.34,385,15,15,370.4,4.8,6,394,15,34,500,110,130,10,68,5,9.3000000000000007,2,16,205.9,5.5,151.30000000000001,4.2,23.77,0.91,1.375,1.0999999999999999E-2,16.909030000000001,0.22,19,24,297000000000000,11000000000000,null,null,null,null,null,null,0.92127999999999999,3.0799999999999998E-3,1.7000000000000001E-4,2.1000000000000001E-4,106.5,3.3,4.6143999999999998E-2,5.3000000000000001E-5,5.8999999999999998E-5,5.0999999999999996,2.7,3,58.3,1.9,2,60.5,1.9,1.9,62.2,3.4,4.2,6.1999999999999998E-3,3.7000000000000002E-3,-18.2,3.5,1,1,0.109,9.0999999999999998E-2,9.8000000000000004E-2,0.01,8.1999999999999998E-4,8.4000000000000003E-4,0.94903999999999999,4.1999999999999997E-3,2E-3,2.5999999999999999E-3,0.06,4.4999999999999998E-2,0.05,102.5,7.7,2460,350,380,114,76,82,64.099999999999994,5.3,5.4,84,41,52,"NaN","no value","NAN","NAN","no value","NAN","no value","NAN","NAN","no value","NAN","NAN","no value","NAN","NAN","no value","NAN","NAN","no value","NAN","NAN","no value","NAN","no value","NAN",0,1,"no value","NAN","NAN","no value","NAN","NAN","NaN","no value","NAN","NAN",0,1,1.4,"no value","NAN","no value","NAN","NAN","no value","NAN","NAN","no value","NAN","NAN","no value","NAN","NAN"]
["Output_1_7","Baclab2N4CII-7","04/12/2018 (3) 18:46:23.47","04/12/2018 (3)","18:46:23.470",14.673999999999999,"Baclab2N4CII-7",32,"Normal",1,0.52300000000000002,2.1999999999999999E-2,2.4E-2,6.6710000000000005E-2,9.8999999999999999E-4,1.1999999999999999E-3,-0.16924,null,0.26964929999999998,5.7099999999999998E-2,2.5999999999999999E-3,3.3999999999999998E-3,0.46615000000000001,2.0219999999999998E-2,8.4000000000000003E-4,1.9E-3,5.52,0.23,0.45,429,15,16,416.3,6,7,405,17,38,510,100,130,-20,89,5,14,-6,17,286,13,179.6,7.1,30,1.4,1.597,1.4999999999999999E-2,14.990259999999999,0.22,9,45,460000000000000,19000000000000,null,null,null,null,null,null,1,3.46E-3,9.8999999999999999E-4,1E-3,102.8,4.0999999999999996,4.6073900000000001E-2,2.3E-6,2.3999999999999999E-6,1.49,0.12,0.13,60,2.5,2.6,61.5,2.7,2.7,70,20,20,0.05,1.0999999999999999E-2,-43.9,4.8,0.71,0.14000000000000001,-0.13,0.39,0.4,8.0999999999999996E-3,3.3E-3,3.3999999999999998E-3,0.99139999999999995,-6.0000000000000001E-3,1.9E-2,1.9E-2,0.51,0.34,0.35,40,45,3810,220,230,350,190,200,51,21,22,-150,380,390,"NaN","no value","NAN","NAN","no value","NAN","no value","NAN","NAN","no value","NAN","NAN","no value","NAN","NAN","no value","NAN","NAN","no value","NAN","NAN","no value","NAN","no value","NAN",0,1,"no value","NAN","NAN","no value","NAN","NAN","NaN","no value","NAN","NAN",0,1,1.7,"no value","NAN","no value","NAN","NAN","no value","NAN","NAN","no value","NAN","NAN","no value","NAN","NAN"]
["Output_1_8","Baclab2N4CII-8","04/12/2018 (3) 18:47:19.50","04/12/2018 (3)","18:47:19.500",17.05,"Baclab2N4CII-8",37,"Normal",1,0.52300000000000002,1.7999999999999999E-2,2.1000000000000001E-2,6.6780000000000006E-2,7.1000000000000002E-4,1.1000000000000001E-3,-0.13957,null,0.24666060000000001,5.6899999999999999E-2,2E-3,3.0999999999999999E-3,0.39457999999999999,2.0400000000000001E-2,6.4000000000000005E-4,1.9E-3,5.99,0.18,0.47,427,12,14,416.7,4.3,6.8,408,13,38,471,82,130,160,250,7,12,28,41,400,18,233,11,38.6,1.4,1.7410000000000001,1.2E-2,14.974539999999999,0.16,9,34,641000000000000,29000000000000,null,null,null,null,null,null,0.99980999999999998,3.16E-3,4.2999999999999999E-4,4.6999999999999999E-4,109.5,4.5999999999999996,4.6100000000000002E-2,1.8E-5,1.9000000000000001E-5,2.83,0.96,0.98,57.3,2.5,2.5,58.6,2.6,2.6,63.7,8.6,9.4,3.5000000000000003E-2,1.2E-2,-29.3,5.7,1,1,-0.32,0.38,0.39,6.0000000000000001E-3,3.0999999999999999E-3,3.2000000000000002E-3,0.99258000000000002,-7.0000000000000001E-3,0.01,1.0999999999999999E-2,0.51,0.41,0.42,46,59,3570,220,230,160,240,240,38,20,20,-160,210,230]
["Output_1_9","Baclab2N4CII-9","04/12/2018 (3) 18:48:22.47","04/12/2018 (3)","18:48:22.470",16.457000000000001,"Baclab2N4CII-9",36,"Normal",1,0.76700000000000002,0.03,3.3000000000000002E-2,9.0300000000000005E-2,1.1000000000000001E-3,1.5E-3,-9.3998999999999999E-2,null,0.1839568,6.1699999999999998E-2,2.5000000000000001E-3,3.5000000000000001E-3,0.37667,2.9020000000000001E-2,8.8999999999999995E-4,2.5999999999999999E-3,6.16,0.14000000000000001,0.47,577,17,19,557.4,6.3,8.8000000000000007,578,17,50,642,90,120,660,440,36,27,113,76,287,15,152.9,7.9,38.1,1.9,1.9039999999999999,1.4E-2,11.074199999999999,0.12,2,18,619000000000000,34000000000000,null,null,null,null,null,null,0.98375000000000001,2.8800000000000002E-3,4.8000000000000001E-4,5.5000000000000003E-4,109.4,3.9,4.6087599999999999E-2,8.1999999999999994E-6,8.6000000000000007E-6,2.2000000000000002,0.43,0.45,57.4,1.9,1.9,59,1.9,2,58.2,9.6999999999999993,11,4.5699999999999998E-2,9.4999999999999998E-3,-32.6,4.2,0.98799999999999999,2.4E-2,0.01,0.19,0.2,8.8000000000000005E-3,1.6000000000000001E-3,1.6000000000000001E-3,0.98470000000000002,6.9999999999999999E-4,7.3000000000000001E-3,8.3999999999999995E-3,-0.02,0.57999999999999996,0.6,115,80,3520,250,260,-10,180,180,58,11,11,10,150,170,1,-4.0000000000000002E-4,8.0999999999999996E-3,8.5000000000000006E-3,71.3,3.1,4.60734E-2,2.7E-6,2.7999999999999999E-6,1.46,0.14000000000000001,0.14000000000000001,86.4,3.3,3.4,89.5,3.5,3.7,-10,160,170,8.2000000000000007E-3,5.4000000000000003E-3,-62.5,7,0,1,0.06,0.28000000000000003,0.28999999999999998,1.3899999999999999E-2,2.7000000000000001E-3,2.8E-3,0.98143999999999998,-0.09,0.2,0.21,-7.0000000000000007E-2,0.21,0.21,72,29,2910,570,570,40,250,260,89,17,18,-2100,4800,5000]
["Output_1_10","Baclab2N4CII-10","04/12/2018 (3) 18:49:24.25","04/12/2018 (3)","18:49:24.250",21.803000000000001,"Baclab2N4CII-10",47,"Normal",1,0.439,4.4999999999999998E-2,3.3000000000000002E-2,5.2299999999999999E-2,1.2999999999999999E-3,1.1999999999999999E-3,-3.5459999999999998E-2,null,0.4387103,5.9400000000000001E-2,5.8999999999999999E-3,5.7000000000000002E-3,0.27228000000000002,1.6670000000000001E-2,8.1999999999999998E-4,1.5E-3,3.59,0.21,0.3,372,34,23,328.5,7.9,7.2,334,16,30,530,220,200,120,75,5.9,4.4000000000000004,35,22,81.599999999999994,6.2,80.3,6.7,11.1,1,1.0369999999999999,1.0999999999999999E-2,19.120460000000001,0.48,170,120,110000000000000,8400000000000,null,null,null,null,null,null,0.99734999999999996,2.9299999999999999E-3,2.0000000000000001E-4,2.5000000000000001E-4,103.1,1.8,4.6113000000000001E-2,2.3E-5,2.5999999999999998E-5,3.5,1.2,1.3,60.7,1.1000000000000001,1.1000000000000001,62.4,1.1000000000000001,1.1000000000000001,59.1,4,5.0999999999999996,1.24E-2,4.4000000000000003E-3,-24.1,3.1,1,1,0.05,0.11,0.12,9.5999999999999992E-3,9.7000000000000005E-4,1E-3,0.98304999999999998,2.7000000000000001E-3,2.3999999999999998E-3,3.0000000000000001E-3,-0.03,9.9000000000000005E-2,0.11,114,15,2660,290,320,10,120,130,61.6,6.2,6.6,54,49,61,0.68769999999999998,1.107E-2,6.3000000000000003E-4,1.1000000000000001E-3,28.72,0.65,4.7260000000000003E-2,5.5000000000000003E-4,5.5000000000000003E-4,60,27,27,209.1,5.8,6.2,221.7,5,5.9,222,13,21,4.1999999999999997E-3,4.1999999999999997E-3,-89,27,0.44,0.14000000000000001,0.15,0.22,0.23,3.3700000000000001E-2,2.0999999999999999E-3,2.5000000000000001E-3,0.92513000000000001,8.2000000000000007E-3,7.9000000000000008E-3,1.2999999999999999E-2,7.0000000000000001E-3,4.8000000000000001E-2,4.8000000000000001E-2,30,1.9,2120,350,350,70,220,240,213,13,16,160,160,270]
["Output_1_11","Baclab2N4CII-11","04/12/2018 (3) 18:53:18.50","04/12/2018 (3)","18:53:18.500",12.893000000000001,"Baclab2N4CII-11",28,"Normal",1,0.96599999999999997,3.6999999999999998E-2,3.7999999999999999E-2,6.4350000000000004E-2,6.6E-4,1.4E-3,0.26983000000000001,null,0.33808890000000003,0.1075,4.0000000000000001E-3,5.7999999999999996E-3,-4.2567000000000004E-3,5.0299999999999997E-2,2.8999999999999998E-3,4.4000000000000003E-3,4.21,0.18,0.34,685,19,20,402,4,8.1999999999999993,992,57,85,1761,66,100,280,200,32,22,71,49,231,9.5,71.2,1.4,35.4,1.9,3.28,0.15,15.54002,0.16,77.09,"21:07:12",339000000000000,14000000000000,null,null,null,null,null,null,0.99922,3.0999999999999999E-3,1.4E-3,1.4E-3,116,16,4.6081700000000003E-2,9.5000000000000005E-6,9.5999999999999996E-6,1.9,0.49,0.5,61,7,7.2,60.9,6.9,6.9,63,28,29,0.22600000000000001,4.3999999999999997E-2,-33.5,6.9,0.53,0.17,0,1.3,1.4,1.0999999999999999E-2,0.01,0.01,0.99450000000000005,7.0000000000000001E-3,2.8000000000000001E-2,2.9000000000000001E-2,0.71,0.2,0.2,23,22,4600,120,120,730,450,460,67,67,67,70,580,610,0.62366999999999995,3.5830000000000001E-2,5.2999999999999998E-4,1.2999999999999999E-3,8.65,0.14000000000000001,5.8299999999999998E-2,1.5E-3,1.6000000000000001E-3,551,61,68,664,18,25,706,11,14,711,10,25,1.1599999999999999E-2,2.0999999999999999E-3,-0.38,0.18,1,1,1.02,0.16,0.22,0.11650000000000001,2.0999999999999999E-3,2.8E-3,0.51500000000000001,4.07E-2,7.6E-3,1.9E-2,6.8000000000000005E-2,0.01,1.0999999999999999E-2,8.6,"03:50:24",1140,160,180,714,80,110,711,12,16,800,150,360]
["Output_1_12","Baclab2N4CII-12","04/12/2018 (3) 18:54:17.53","04/12/2018 (3)","18:54:17.530",20.614000000000001,"Baclab2N4CII-12",44,"Normal",1,0.52010000000000001,9.2999999999999992E-3,1.7000000000000001E-2,6.8309999999999996E-2,4.6999999999999999E-4,1.1000000000000001E-3,0.15160000000000001,null,0.235735,5.4510000000000003E-2,9.7000000000000005E-4,2.7000000000000001E-3,0.25191000000000002,2.07E-2,1.6000000000000001E-3,1.9E-3,15.77,0.57999999999999996,1.2,425,6.2,11,426,2.8,6.4,413,32,38,392,41,120,270,420,15,24,22,30,876,75,187,12,38.799999999999997,2.2000000000000002,4.63,0.1,14.639150000000001,9.7000000000000003E-2,-21,15,1350000000000000,110000000000000,null,null,null,null,null,null,1,3.3999999999999998E-3,2E-3,2.0999999999999999E-3,129,19,4.6072700000000001E-2,1.5999999999999999E-6,1.5999999999999999E-6,1.425,8.3000000000000004E-2,8.4000000000000005E-2,55.8,7.6,7.7,57.3,7.9,7.9,69,41,43,0.23100000000000001,4.5999999999999999E-2,-41,5.2,0.25,0.15,0.3,1.1000000000000001,1.1000000000000001,1.09E-2,9.1999999999999998E-3,9.1999999999999998E-3,0.99407000000000001,3.0000000000000001E-3,4.3999999999999997E-2,4.4999999999999998E-2,0.68,0.35,0.35,13,59,4530,160,160,840,460,470,68,59,59,90,850,880,0.96538000000000002,7.1999999999999998E-3,2.5999999999999999E-3,3.8E-3,28.8,1.1000000000000001,4.9759999999999999E-2,7.5000000000000002E-4,8.0999999999999996E-4,194,29,32,215.7,8.5,9.4,221.1,8.8000000000000007,9.1999999999999993,146,53,77,1.2800000000000001E-2,2E-3,-0.18,0.25,0.53,0.27,0.29399999999999998,7.5999999999999998E-2,8.4000000000000005E-2,3.4299999999999997E-2,1.6999999999999999E-3,1.8E-3,0.51622000000000001,3.5000000000000003E-2,2.3E-2,3.3000000000000002E-2,7.0000000000000007E-2,1.2999999999999999E-2,1.4E-2,28.6,1.4,1060,340,360,273,52,57,217,11,11,670,440,650]
["Output_1_13","Baclab2N4CII-13","04/12/2018 (3) 18:55:17.72","04/12/2018 (3)","18:55:17.720",9.9239999999999995,"Baclab2N4CII-13",22,"Normal",1,0.41899999999999998,1.0999999999999999E-2,1.4999999999999999E-2,5.1389999999999998E-2,6.0999999999999997E-4,9.3000000000000005E-4,0.21362999999999999,null,0.35214839999999997,5.8400000000000001E-2,1.6000000000000001E-3,3.0000000000000001E-3,0.23649999999999999,2.0199999999999999E-2,3.8999999999999998E-3,1.6999999999999999E-3,7.13,0.19,0.54,357.2,8.1,11,323.10000000000002,3.8,5.7,404,76,34,553,56,110,340,570,22,35,44,79,945,79,386,32,69.8,5.7,2.4510000000000001,3.5000000000000003E-2,19.459040000000002,0.23,38.299999999999997,6.3,1124000000000000,83000000000000,null,null,null,null,null,null,0.91139999999999999,3.13E-3,3.3E-4,3.8000000000000002E-4,106.4,3.2,4.6102999999999998E-2,2.6999999999999999E-5,2.8E-5,3,1.4,1.4,58.7,1.5,1.6,60.5,1.7,1.7,63.1,6.6,7.7,1.7100000000000001E-2,7.7999999999999996E-3,-25.1,3.6,0.98799999999999999,2.4E-2,0.03,0.17,0.17,8.8000000000000005E-3,1.4E-3,1.4E-3,0.98467000000000005,2.2000000000000001E-3,4.4999999999999997E-3,5.1999999999999998E-3,-0.1,0.14000000000000001,0.14000000000000001,128,20,2910,270,280,-110,180,190,56.5,9,9.1999999999999993,43,91,110,0.82952999999999999,1.7399999999999999E-2,3.5000000000000001E-3,4.8999999999999998E-3,30.86,0.76,4.7730000000000002E-2,7.5000000000000002E-4,7.6999999999999996E-4,83,36,38,193,5.7,6.5,206.4,4.9000000000000004,5.6,347,70,98,2.5999999999999999E-3,2.5000000000000001E-3,-80,29,5.6000000000000001E-2,6.2E-2,0.2,0.12,0.13,3.2199999999999999E-2,1.6999999999999999E-3,1.9E-3,0.84504999999999997,2.1999999999999999E-2,0.03,4.2000000000000003E-2,4.4999999999999998E-2,2.5000000000000001E-2,2.5999999999999999E-2,30.9,1.5,1360,350,360,174,99,110,204,10,12,390,590,830]
["Output_1_14","Baclab2N4CII-14","04/12/2018 (3) 18:56:24.85","04/12/2018 (3)","18:56:24.850",12.896000000000001,"Baclab2N4CII-14",28,"Normal",1,1.4730000000000001,7.0999999999999994E-2,8.2000000000000003E-2,6.6500000000000004E-2,1.1000000000000001E-3,1.2999999999999999E-3,-1.0456999999999999E-2,null,0.29396800000000001,0.1573,7.7000000000000002E-3,1.0999999999999999E-2,0.41071999999999997,2.8920000000000001E-2,8.8999999999999995E-4,2.5999999999999999E-3,1.4630000000000001,5.8000000000000003E-2,0.11,922,30,32,415.3,6.7,7.7,576,18,51,2466,85,110,5,40,1.2,6.5,7,27,95.2,2.5,161.9,5.5,48.1,1.9,0.58950000000000002,6.4000000000000003E-3,15.03759,0.25,83.11,"16:48:00",185300000000000,5500000000000,null,null,null,null,null,null,0.99444999999999995,3.3700000000000002E-3,4.6000000000000001E-4,4.8999999999999998E-4,109.4,6.4,4.60864E-2,7.6000000000000001E-6,7.7999999999999999E-6,2.14,0.39,0.41,58.9,3.6,3.7,59.5,3.6,3.6,67.900000000000006,9.3000000000000007,9.9,2.0299999999999999E-2,9.4999999999999998E-3,-31.9,4.9000000000000004,0.98899999999999999,2.3E-2,-0.06,0.35,0.36,8.8999999999999999E-3,2.8999999999999998E-3,2.8999999999999998E-3,0.97989000000000004,1E-3,9.2999999999999992E-3,9.9000000000000008E-3,0.87,0.74,0.76,-30,120,3780,250,260,290,190,190,57,18,18,50,180,190,0.71753,2.7470000000000001E-2,6.8000000000000005E-4,1.1999999999999999E-3,11.32,0.28000000000000003,5.6899999999999999E-2,2.3999999999999998E-3,2.5000000000000001E-3,477,93,97,535,23,25,547,13,14,548,13,23,9.4999999999999998E-3,1.6000000000000001E-3,-0.22,0.19,1,1,0.72,0.18,0.2,8.8700000000000001E-2,2.8E-3,3.2000000000000002E-3,0.65690000000000004,2.7E-2,2.5999999999999999E-2,4.4999999999999998E-2,6.0999999999999999E-2,1.4E-2,1.4999999999999999E-2,11.22,"07:55:12",1110,300,310,520,110,120,548,17,19,510,510,890]
["Output_1_15","Baclab2N4CII-15","04/12/2018 (3) 18:57:22.66","04/12/2018 (3)","18:57:22.660",17.05,"Baclab2N4CII-15",37,"Normal",1,0.52200000000000002,1.4999999999999999E-2,1.9E-2,6.9620000000000001E-2,6.8000000000000005E-4,1.1000000000000001E-3,0.15690999999999999,null,0.22694710000000001,5.3699999999999998E-2,1.6000000000000001E-3,2.8E-3,0.18296000000000001,2.2499999999999999E-2,1.6000000000000001E-3,2.3999999999999998E-3,74.7,7.4,10,426,10,13,433.9,4.0999999999999996,6.8,449,31,48,359,63,120,-80,280,-4,15,0.1,4.0999999999999996,730,69,32.93,0.94,7.8,0.56999999999999995,22.4,1.7,14.36369,0.14000000000000001,-36,53,1090000000000000,100000000000000,null,null,null,null,null,null,0.91091,3.0400000000000002E-3,1.4999999999999999E-4,2.1000000000000001E-4,105.3,2,4.6113000000000001E-2,1.1E-5,1.2E-5,3.53,0.59,0.63,59.8,1.3,1.4,60.9,1.3,1.3,61.4,2.9,4.2,6.7999999999999996E-3,4.7999999999999996E-3,-18.5,2.8,1,1,2.1999999999999999E-2,6.3E-2,6.6000000000000003E-2,9.11E-3,5.5999999999999995E-4,5.8E-4,0.99712000000000001,2.3E-3,1.1000000000000001E-3,1.5E-3,3.0000000000000001E-3,3.7999999999999999E-2,4.1000000000000002E-2,112.3,6.9,2170,280,300,-4,67,71,58.4,3.6,3.7,46,21,31,0.86948000000000003,1.6E-2,2.3E-2,2.3E-2,37.6,1.8,4.863E-2,6.2E-4,6.3000000000000003E-4,137,33,33,159,12,12,168,7,7.3,290,450,450,-6.9999999999999999E-4,2.3999999999999998E-3,-0.6,1.2,0.42,0.19,0.19,0.12,0.12,2.6599999999999999E-2,1.1999999999999999E-3,1.1999999999999999E-3,0.443,0.13,0.33,0.33,0.05,3.2000000000000001E-2,3.3000000000000002E-2,37.799999999999997,1.7,1600,430,440,160,100,110,169.4,7.4,7.8,1000,5800,5800]
["Output_1_16","Baclab2N4CII-16","04/12/2018 (3) 18:58:31.57","04/12/2018 (3)","18:58:31.570",6.9543999999999997,"Baclab2N4CII-16",15,"Normal",1,2.19,0.17,0.17,0.2059,6.3E-3,1.4E-2,0.31548999999999999,null,0.3302291,7.6499999999999999E-2,6.0000000000000001E-3,3.8999999999999998E-3,8.1036999999999998E-2,6.2E-2,5.4999999999999997E-3,5.5999999999999999E-3,8.11,0.76,1.2,1173,54,67,1207,34,79,1220,100,110,1080,160,130,0,130,1.1000000000000001,9.6,0,16,71.900000000000006,6.7,30.7,1.5,20.6,2,2.27,9.7000000000000003E-2,4.8567270000000002,0.14000000000000001,-8,14,350000000000000,30000000000000,null,null,null,null,null,null,0.87490000000000001,2.8240000000000001E-3,7.7999999999999999E-5,1.4999999999999999E-4,112.9,1.3,4.6143999999999998E-2,2.3E-5,2.9E-5,5.0999999999999996,1.2,1.5,55.54,0.63,0.77,56.95,0.66,"17:31:12",57,1.6,3,9.2999999999999992E-3,2.3999999999999998E-3,-11.3,1.6,0.96199999999999997,3.6999999999999998E-2,5.3999999999999999E-2,1.9E-2,2.3E-2,8.8199999999999997E-3,1.6000000000000001E-4,1.8000000000000001E-4,0.86382000000000003,2.7799999999999999E-3,3.4000000000000002E-4,6.4000000000000005E-4,3.7999999999999999E-2,1.6E-2,2.1000000000000001E-2,114.1,2.4,1240,190,240,48,19,23,56.6,1,1.2,56,6.8,13,0.80167999999999995,2.9100000000000001E-2,1.1000000000000001E-3,2.5000000000000001E-3,10.77,0.48,5.4699999999999999E-2,2.5999999999999999E-3,2.5999999999999999E-3,390,110,110,524,31,36,570,26,27,579,22,50,4.4000000000000003E-3,3.2000000000000002E-3,-23,45,0.68,0.17,0.62,0.31,0.35,9.1899999999999996E-2,3.8E-3,4.0000000000000001E-3,0.60123000000000004,2.8299999999999999E-2,5.3E-3,1.2E-2,4.9000000000000002E-2,2.3E-2,2.4E-2,10.81,"11:45:36",1270,410,420,410,200,230,567,23,23,560,100,240]
["Output_1_17","Baclab2N4CII-17","04/12/2018 (3) 18:59:25.81","04/12/2018 (3)","18:59:25.810",16.456,"Baclab2N4CII-17",35,"Normal",1,0.39400000000000002,1.7999999999999999E-2,0.02,5.0909999999999997E-2,7.9000000000000001E-4,8.7000000000000001E-4,-4.4571999999999997E-3,null,0.33567039999999998,5.4600000000000003E-2,2.5999999999999999E-3,3.5999999999999999E-3,0.42109000000000002,3.09E-2,7.0000000000000001E-3,5.8999999999999999E-3,132,53,44,337,13,14,320.10000000000002,4.9000000000000004,5.3,610,140,120,390,110,140,190,160,8.1,8.6999999999999993,2.2999999999999998,1.5,288.39999999999998,8.3000000000000007,4.8600000000000003,0.21,1.53,0.35,60,2.2000000000000002,19.642510000000001,0.3,68,69,311800000000000,8700000000000,null,null,null,null,null,null,0.99985000000000002,3.4299999999999999E-3,3.6999999999999999E-4,4.2000000000000002E-4,103.7,4.4000000000000004,4.6094000000000003E-2,1.2999999999999999E-5,1.2999999999999999E-5,2.54,0.67,0.69,60.3,2.6,2.7,61.7,2.8,2.8,69.2,7.5,8.5,1.21E-2,7.1000000000000004E-3,-27.6,4.8,1,1,-0.2,0.23,0.23,6.7000000000000002E-3,2.3E-3,2.3E-3,0.97824999999999995,-4.4999999999999997E-3,6.7999999999999996E-3,7.7000000000000002E-3,0.16,0.35,0.37,100,66,2990,320,330,-40,180,190,46,13,14,-90,140,160,0.58172000000000001,1.32E-2,1.1000000000000001E-3,1.6999999999999999E-3,22.88,0.54,4.8710000000000003E-2,8.4000000000000003E-4,8.4999999999999995E-4,131,41,41,251.2,9.8000000000000007,11,275.2,7,7.9,265,21,33,4.3E-3,3.0000000000000001E-3,-54,35,0.46,0.14000000000000001,0.37,0.12,0.13,4.5199999999999997E-2,1.2999999999999999E-3,1.4E-3,0.65669999999999995,1.6299999999999999E-2,5.5999999999999999E-3,8.6E-3,5.6000000000000001E-2,0.02,0.02,22.21,"14:09:36",1360,330,340,295,96,100,285.10000000000002,7.8,8.8000000000000007,320,110,170]
["Output_1_18","Baclab2N4CII-18","04/12/2018 (3) 19:00:17.50","04/12/2018 (3)","19:00:17.500",15.27,"Baclab2N4CII-18",33,"Normal",1,0.67700000000000005,0.02,2.5999999999999999E-2,8.6470000000000005E-2,8.5999999999999998E-4,1.4E-3,-0.12931000000000001,null,0.1872393,5.6000000000000001E-2,1.8E-3,3.0000000000000001E-3,0.38533000000000001,2.5829999999999999E-2,6.4999999999999997E-4,2.3E-3,5.37,0.2,0.43,524,12,15,534.6,5.0999999999999996,8.5,515,13,45,439,73,120,170,270,7,14,35,52,368,22,231.3,8.5,62.8,2.2999999999999998,1.579,3.5000000000000003E-2,11.5647,0.12,-29,54,771000000000000,43000000000000,null,null,null,null,null,null,0.99268000000000001,3.0799999999999998E-3,3.4000000000000002E-4,3.6999999999999999E-4,103.6,4.2,4.6106000000000001E-2,2.4000000000000001E-5,2.5000000000000001E-5,3.1,1.2,1.3,59.9,2.5,2.5,61.5,2.5,2.5,62.2,6.9,7.4,1.9599999999999999E-2,8.8999999999999999E-3,-28.6,7.4,1,1,-0.09,0.19,0.19,8.3000000000000001E-3,1.6999999999999999E-3,1.6999999999999999E-3,0.98575999999999997,-1.1000000000000001E-3,5.1000000000000004E-3,5.4999999999999997E-3,0.05,0.22,0.22,99,42,2850,270,280,-100,270,270,53,11,11,-20,100,110,0.88119999999999998,1.7500000000000002E-2,4.0000000000000001E-3,6.1000000000000004E-3,32.04,0.53,4.648E-2,5.5999999999999995E-4,5.6999999999999998E-4,22,28,29,185,4.2,4.7,198.2,3.2,3.9,350,79,120,9.5999999999999992E-3,2.8999999999999998E-3,-116,36,4.2000000000000003E-2,8.3000000000000004E-2,0.15,0.13,0.14000000000000001,3.0499999999999999E-2,1.1999999999999999E-3,1.4E-3,0.85484000000000004,-1E-3,4.9000000000000002E-2,7.4999999999999997E-2,3.4000000000000002E-2,0.03,3.1E-2,32.9,1.2,1120,500,510,120,110,130,193.7,7.3,9,-100,1000,1500]
["Output_1_19","Baclab2N4CII-19","04/12/2018 (3) 19:01:29.57","04/12/2018 (3)","19:01:29.570",10.518000000000001,"Baclab2N4CII-19",23,"Normal",1,1.5029999999999999,7.3999999999999996E-2,6.6000000000000003E-2,0.1575,2.2000000000000001E-3,3.2000000000000002E-3,0.20974999999999999,null,0.12899969999999999,6.8500000000000005E-2,2.8999999999999998E-3,3.5999999999999999E-3,0.12831000000000001,4.8899999999999999E-2,2E-3,4.1999999999999997E-3,12.06,0.48,0.93,929,30,27,943,12,18,966,39,82,891,93,110,-150,250,-11,17,-15,21,238.5,6.1,68.5,1.8,34.200000000000003,1.5,3.4340000000000002,4.5999999999999999E-2,6.3492059999999997,9.4E-2,-13,14,855000000000000,20000000000000,null,null,null,null,null,null,0.95692999999999995,3.0400000000000002E-3,8.9999999999999998E-4,9.3000000000000005E-4,105.2,4.7,4.6108000000000003E-2,3.8999999999999999E-5,4.0000000000000003E-5,3.2,2,2.1,60.1,2.7,2.8,61.5,2.8,2.9,61,18,19,4.2999999999999997E-2,1.2999999999999999E-2,-33.5,5.6,0.66,0.13,-0.28000000000000003,0.35,0.35,6.7000000000000002E-3,3.0000000000000001E-3,3.0999999999999999E-3,0.99455000000000005,-1.4E-2,1.7000000000000001E-2,1.7999999999999999E-2,0.71,0.46,0.47,12,64,3620,210,220,180,190,190,43,19,20,-410,390,410,0.94096999999999997,1.4E-2,1.2E-2,1.2E-2,54.1,2.7,4.7019999999999999E-2,5.8E-4,5.8E-4,49,29,29,116.1,7.3,7.4,119.1,6.1,6.3,280,240,240,4.1999999999999997E-3,8.3999999999999995E-3,-45,25,7.0999999999999994E-2,9.7000000000000003E-2,-1.6,1.8,1.8,4.0000000000000001E-3,1.7000000000000001E-2,1.7000000000000001E-2,0.99897000000000002,-1,1,1,0.03,0.23,0.23,40,34,2200,1700,1700,100,1200,1200,20,110,110,-6100,7100,7100]
["Output_1_20","Baclab2N4CII-20","04/12/2018 (3) 19:02:16.50","04/12/2018 (3)","19:02:16.500",24.771999999999998,"Baclab2N4CII-20",53,"Normal",1,0.64600000000000002,2.1000000000000001E-2,2.8000000000000001E-2,8.0699999999999994E-2,1.1000000000000001E-3,1.4E-3,-7.0209999999999995E-2,null,0.21497150000000001,5.7200000000000001E-2,2.2000000000000001E-3,3.3999999999999998E-3,0.45049,0.03,1.1000000000000001E-3,2.8E-3,9.56,0.96,1.2,505,13,17,500.2,6.3,8.3000000000000007,597,21,54,513,76,120,-53,74,-3.1,4.5,-2.1,7.6,240,15,67,3.2,19.45,0.92,3.41,0.36,12.39157,0.16,4,36,434000000000000,24000000000000,null,null,null,null,null,null,0.96501999999999999,2.7899999999999999E-3,2.9E-4,3.2000000000000003E-4,108.8,3.9,4.6096999999999999E-2,1.1E-5,1.1E-5,2.72,0.57999999999999996,0.6,58.1,2.1,2.1,59.2,2,2.1,56.3,5.8,6.5,8.3000000000000001E-3,7.0000000000000001E-3,-21.7,3.7,1,1,-0.13,0.17,0.17,7.6E-3,1.5E-3,1.5E-3,0.97857000000000005,-1.6999999999999999E-3,4.1000000000000003E-3,4.5999999999999999E-3,-0.27,0.44,0.45,168,88,2960,320,330,-70,140,150,48.9,9.5,9.6,-36,82,93,0.56864999999999999,9.4999999999999998E-3,1.6999999999999999E-3,2.3999999999999998E-3,26.97,0.46,4.8489999999999998E-2,7.9000000000000001E-4,8.4000000000000003E-4,120,38,41,225.6,5.6,6.8,234.2,3.6,4.5999999999999996,190,34,48,1.0500000000000001E-2,3.0999999999999999E-3,-66,30,0.37,0.15,0.53,0.13,0.16,3.9E-2,1.2999999999999999E-3,1.6999999999999999E-3,0.91005000000000003,3.4000000000000002E-2,1.2999999999999999E-2,1.7999999999999999E-2,0.09,2.1999999999999999E-2,2.4E-2,25.87,"23:02:24",1820,230,240,398,98,120,246.7,8.1,10,660,250,360]
["Output_1_21","Baclab2N4CII-21","04/12/2018 (3) 19:06:27.19","04/12/2018 (3)","19:06:27.190",11.112,"Baclab2N4CII-21",24,"Normal",1,0.68700000000000006,3.1E-2,4.2000000000000003E-2,6.4570000000000002E-2,8.8000000000000003E-4,1.1000000000000001E-3,3.4145000000000002E-2,null,0.26383420000000002,7.6700000000000004E-2,3.5999999999999999E-3,5.1999999999999998E-3,0.25105,2.494E-2,6.4999999999999997E-4,2.2000000000000001E-3,2.9889999999999999,7.4999999999999997E-2,0.22,530,19,24,403.3,5.3,6.5,498,13,43,1139,93,120,340,280,28,23,113,90,449,6.3,413.2,3.9,89.3,2.2999999999999998,1.077,0.01,15.487069999999999,0.21,63.2,3.2,748000000000000,12000000000000,null,null,null,null,null,null,0.99419000000000002,3.32E-3,2.2000000000000001E-4,2.7999999999999998E-4,99.8,1.7,4.6122000000000003E-2,3.1000000000000001E-5,3.3000000000000003E-5,4,1.6,1.7,63,1.1000000000000001,1.1000000000000001,64.400000000000006,1.1000000000000001,1.2,67.099999999999994,4.3,5.6,1.5800000000000002E-2,6.3E-3,-19.399999999999999,4.0999999999999996,1,1,1E-3,6.0999999999999999E-2,6.4000000000000001E-2,9.4299999999999991E-3,5.1999999999999995E-4,5.5000000000000003E-4,0.92744000000000004,1.5E-3,1.8E-3,2.3E-3,8.0000000000000002E-3,4.3999999999999997E-2,4.5999999999999999E-2,105.3,5.8,1840,360,380,9,64,67,60.5,3.3,3.5,30,36,46,0.58001000000000003,2.75E-2,2.2000000000000001E-3,3.3999999999999998E-3,15.53,0.63,5.0200000000000002E-2,1.4E-3,1.4E-3,197,66,67,373,10,11,406,16,16,548,43,67,1.2800000000000001E-2,6.3E-3,-117,61,0.111,8.2000000000000003E-2,0.24,0.79,0.82,6.3E-2,7.4000000000000003E-3,7.7999999999999996E-3,0.92384999999999995,1.7999999999999999E-2,0.02,3.1E-2,2.9000000000000001E-2,6.9000000000000006E-2,7.0000000000000007E-2,15.7,1.7,2730,370,370,640,370,380,393,45,47,520,400,620]
["Output_1_22","Baclab2N4CII-22","04/12/2018 (3) 19:07:31.75","04/12/2018 (3)","19:07:31.750",8.7361000000000004,"Baclab2N4CII-22",19,"Normal",1,1.8979999999999999,7.0999999999999994E-2,0.13,0.17780000000000001,3.3E-3,0.01,0.66542000000000001,null,0.31632719999999998,7.7100000000000002E-2,1.9E-3,3.8E-3,-6.3436999999999993E-2,6.54E-2,3.0999999999999999E-3,5.7000000000000002E-3,24.5,2.8,4.5999999999999996,1079,25,56,1055,18,58,1279,59,110,1119,50,100,270,980,21,78,-2,35,403,25,46.6,4.2,25.7,2.4,9.1,1.4,5.6242970000000003,0.1,4.3,4.3,1589000000000000,62000000000000,null,null,null,null,null,null,0.99622999999999995,3.0200000000000001E-3,2.9E-4,3.2000000000000003E-4,103.1,2.2999999999999998,4.6107000000000002E-2,2.0999999999999999E-5,2.3E-5,3.2,1.1000000000000001,1.2,60.5,1.2,1.3,62.2,1.3,1.4,60.9,5.8,6.5,2.1000000000000001E-2,5.5999999999999999E-3,-22.9,4,1,1,0.05,0.11,0.12,9.7999999999999997E-3,1E-3,1.1000000000000001E-3,0.98414999999999997,3.5999999999999999E-3,3.5999999999999999E-3,4.1000000000000003E-3,0.03,0.16,0.18,104,23,2630,340,370,30,120,130,62.7,6.7,7,71,73,82,0.81688000000000005,2.4899999999999999E-2,5.7000000000000002E-3,1.4999999999999999E-2,7.08,0.12,7.2099999999999997E-2,1.8E-3,2.0999999999999999E-3,989,50,59,885,20,27,852,14,17,490,110,300,2.3800000000000002E-2,3.7000000000000002E-3,0.13,3.9E-2,0.49,0.16,1.78,0.16,0.22,0.14410000000000001,2.3999999999999998E-3,3.0000000000000001E-3,0.48730000000000001,5.5E-2,1.2999999999999999E-2,3.5999999999999997E-2,8.6999999999999994E-2,7.0000000000000001E-3,8.2000000000000007E-3,6.96,"02:52:48",1390,130,150,1033,59,80,868,13,17,1060,260,690]
["Output_1_23","Baclab2N4CII-23","04/12/2018 (3) 19:08:17.50","04/12/2018 (3)","19:08:17.500",23.585000000000001,"Baclab2N4CII-23",51,"Normal",1,0.72499999999999998,2.9000000000000001E-2,3.5000000000000003E-2,8.77E-2,8.7000000000000001E-4,1.4E-3,0.21187,null,0.18202409999999999,0.06,2.5000000000000001E-3,3.7000000000000002E-3,8.7914000000000006E-2,2.7380000000000002E-2,6.4999999999999997E-4,2.3999999999999998E-3,2.899,7.0999999999999994E-2,0.22,555,16,20,541.9,5.0999999999999996,8.5,546,13,47,602,87,130,220,140,12.8,8.3000000000000007,79,48,211,13,240,14,53.4,2.7,0.86650000000000005,6.6E-3,11.402509999999999,0.11,38,37,496000000000000,31000000000000,null,null,null,null,null,null,0.78188999999999997,3.13E-3,2.2000000000000001E-4,2.5999999999999998E-4,106.6,4.8,4.6193999999999999E-2,8.7000000000000001E-5,9.0000000000000006E-5,7.7,4.5,4.7,58.7,3.1,3.2,61.2,2.7,2.7,63.2,4.5,5.3,1.1000000000000001E-3,5.4000000000000003E-3,-20.5,4.3,1,1,0.04,0.19,0.19,8.8999999999999999E-3,1.6000000000000001E-3,1.6000000000000001E-3,0.94540999999999997,2.8E-3,4.7999999999999996E-3,5.7000000000000002E-3,-0.01,0.12,0.12,136,37,3030,330,340,20,200,210,57,10,10,54,97,110,0.87463999999999997,2.5999999999999999E-3,5.3E-3,6.1999999999999998E-3,36.619999999999997,0.83,4.8730000000000002E-2,4.8999999999999998E-4,5.0000000000000001E-4,133,24,25,173.4,4.2,4.5999999999999996,174.3,3.8,4.4000000000000004,50,110,130,6.1999999999999998E-3,2.7000000000000001E-3,-5.7,8,0.31,0.14000000000000001,0.19700000000000001,7.4999999999999997E-2,8.2000000000000003E-2,2.7490000000000001E-2,8.5999999999999998E-4,1E-3,0.74938000000000005,7.0000000000000001E-3,3.7999999999999999E-2,4.3999999999999997E-2,4.7E-2,1.7999999999999999E-2,1.9E-2,36.700000000000003,1.2,1430,220,230,168,65,72,174.8,5.4,6.3,40,770,910]
["Output_1_24","Baclab2N4CII-24","04/12/2018 (3) 19:09:16.50","04/12/2018 (3)","19:09:16.500",23.584,"Baclab2N4CII-24",51,"Normal",1,0.81499999999999995,4.3999999999999997E-2,0.05,0.1014,1.9E-3,2.3E-3,-0.14124999999999999,null,0.2236928,5.74E-2,3.5000000000000001E-3,4.4000000000000003E-3,0.40267999999999998,3.2460000000000003E-2,9.7999999999999997E-4,2.8999999999999998E-3,3.03,0.11,0.25,606,26,29,623,11,13,646,19,57,520,130,160,41,45,2.9,2.7,19,16,80.8,6,83.6,4.0999999999999996,21.36,0.9,0.93,2.1999999999999999E-2,9.8619330000000005,0.18,110,140,208000000000000,13000000000000,null,null,null,null,null,null,0.92684999999999995,3.0200000000000001E-3,2.1000000000000001E-4,2.5999999999999998E-4,103.8,2.7,4.6096100000000001E-2,5.8000000000000004E-6,6.0000000000000002E-6,2.65,0.3,0.32,60.5,1.6,1.6,61.9,1.6,1.7,61,4.2,5.2,8.0999999999999996E-3,6.4999999999999997E-3,-22.2,2.9,1,1,0.05,0.12,0.13,9.5499999999999995E-3,9.3000000000000005E-4,9.6000000000000002E-4,0.96662000000000003,2.0999999999999999E-3,3.0000000000000001E-3,3.7000000000000002E-3,-0.11,0.2,0.21,133,40,2460,380,400,-10,150,150,61.3,5.9,6.1,42,62,75,0.87378999999999996,3.3999999999999998E-3,4.3E-3,5.3E-3,37.9,1.1000000000000001,4.8210000000000003E-2,6.2E-4,6.4999999999999997E-4,108,31,32,165.4,5,5.6,168.6,4.5,5,67,86,110,8.8999999999999999E-3,3.0000000000000001E-3,-42,26,0.27,0.15,0.15,6.0999999999999999E-2,6.8000000000000005E-2,2.6079999999999999E-2,8.1999999999999998E-4,9.1E-4,0.44449,-1.7999999999999999E-2,3.1E-2,3.9E-2,3.7999999999999999E-2,1.4999999999999999E-2,1.6E-2,38.299999999999997,1.2,1190,350,360,144,56,63,165.9,5.2,5.7,-280,600,740]
["Output_1_25","Baclab2N4CII-25","04/12/2018 (3) 19:10:16.50","04/12/2018 (3)","19:10:16.500",23.582999999999998,"Baclab2N4CII-25",51,"Normal",1,2.6509999999999998,0.06,9.6000000000000002E-2,0.20949999999999999,2.2000000000000001E-3,3.5000000000000001E-3,0.20075000000000001,null,7.974436E-2,9.0999999999999998E-2,1.9E-3,4.5999999999999999E-3,0.33837,7.0400000000000004E-2,2.3999999999999998E-3,6.4000000000000003E-3,8.61,0.35,0.72,1316,16,26,1226,12,19,1374,45,120,1445,42,100,30,120,4,12,1,13,112.3,7,40.5,2.9,22.1,1.7,2.7610000000000001,0.04,4.7732700000000001,5.0999999999999997E-2,14.8,3,538000000000000,36000000000000,null,null,null,null,null,null,0.99822999999999995,3.0599999999999998E-3,4.4000000000000002E-4,4.6999999999999999E-4,108.5,3.5,4.60922E-2,8.6000000000000007E-6,8.8000000000000004E-6,2.44,0.45,0.46,57.9,1.7,1.7,59.1,1.8,1.8,61.7,8.8000000000000007,9.5,1.0800000000000001E-2,9.7999999999999997E-3,-22.9,4,1,1,0,0.25,0.25,8.6E-3,2.0999999999999999E-3,2.0999999999999999E-3,0.98558000000000001,1.1999999999999999E-3,6.7000000000000002E-3,7.3000000000000001E-3,0.16,0.39,0.4,91,65,3140,360,370,130,170,170,55,13,14,20,140,150,0.46932000000000001,3.2099999999999997E-2,3.5999999999999999E-3,6.1000000000000004E-3,10.49,0.18,5.4199999999999998E-2,2.8999999999999998E-3,3.0000000000000001E-3,360,120,130,539,25,28,587.5,9.6999999999999993,13,639,70,120,2.6499999999999999E-2,6.4000000000000003E-3,-68,74,0.44,0.24,0.92,0.19,0.22,9.6600000000000005E-2,2.5000000000000001E-3,3.2000000000000002E-3,0.45561000000000001,4.5600000000000002E-2,9.7999999999999997E-3,1.7000000000000001E-2,6.7000000000000004E-2,1.4E-2,1.4999999999999999E-2,10.39,"06:28:48",1230,350,360,640,110,120,594,15,19,900,190,320]
["Output_1_26","Baclab2N4CII-26","04/12/2018 (3) 19:11:15.50","04/12/2018 (3)","19:11:15.500",23.585000000000001,"Baclab2N4CII-26",51,"Normal",1,0.91900000000000004,3.1E-2,4.1000000000000002E-2,8.7859999999999994E-2,9.1E-4,1.5E-3,0.28724,null,0.19431609999999999,7.4899999999999994E-2,2.3999999999999998E-3,4.1999999999999997E-3,5.4172999999999999E-2,3.1609999999999999E-2,6.4000000000000005E-4,2.7000000000000001E-3,3.2469999999999999,7.9000000000000001E-2,0.25,660,16,21,542.9,5.4,8.6,629,13,53,1058,67,120,220,160,15,12,69,51,272,10,242.2,8.9,59,2.6,1.1113,7.0000000000000001E-3,11.381740000000001,0.12,47.5,3.4,609000000000000,25000000000000,null,null,null,null,null,null,0.93630999999999998,2.9399999999999999E-3,2.2000000000000001E-4,2.7E-4,105.2,2.9,4.6121000000000002E-2,2.4000000000000001E-5,2.5999999999999998E-5,3.9,1.3,1.4,58.8,1.5,1.6,60.7,1.5,1.5,59.4,4.3,5.5,1.4999999999999999E-2,5.7000000000000002E-3,-17.7,3.4,1,1,-0.05,0.1,0.11,8.4700000000000001E-3,8.7000000000000001E-4,8.8999999999999995E-4,0.96865000000000001,-5.0000000000000001E-4,3.0000000000000001E-3,3.8E-3,-0.08,0.11,0.12,123,14,2280,420,450,-46,97,100,54.4,5.5,5.7,-10,61,78,0.56194999999999995,1.112E-2,7.2999999999999996E-4,1.2999999999999999E-3,24.96,0.68,4.836E-2,9.2000000000000003E-4,9.3999999999999997E-4,113,44,45,240.2,9.8000000000000007,11,253,7.2,7.9,224,15,27,4.1999999999999997E-3,2.7000000000000001E-3,-39,29,0.39,0.12,0.03,0.28999999999999998,0.33,3.73E-2,2.5000000000000001E-3,2.8E-3,0.91764999999999997,5.0000000000000001E-3,0.01,1.9E-2,4.0000000000000001E-3,5.0999999999999997E-2,5.2999999999999999E-2,26.4,2,2090,370,380,60,310,350,236,16,17,130,200,360]
["Output_1_27","Baclab2N4CII-27","04/12/2018 (3) 19:12:15.50","04/12/2018 (3)","19:12:15.500",23.585000000000001,"Baclab2N4CII-27",51,"Normal",1,2.38,4.5999999999999999E-2,8.2000000000000003E-2,0.2107,1.6000000000000001E-3,3.2000000000000002E-3,0.32443,null,7.2081019999999996E-2,8.1299999999999997E-2,1.6999999999999999E-3,4.1000000000000003E-3,0.14929000000000001,6.2700000000000006E-2,1.5E-3,5.4999999999999997E-3,6.69,0.17,0.52,1235,14,25,1232.7,8.8000000000000007,17,1230,29,100,1221,41,100,390,370,36,31,47,50,239,18,124,11,61.2,4.7,1.8919999999999999,2.5999999999999999E-2,4.7460839999999997,3.6999999999999998E-2,0.6,3.3,1220000000000000,100000000000000,null,null,null,null,null,null,0.89571999999999996,3.0500000000000002E-3,2.0000000000000001E-4,2.5000000000000001E-4,104.1,2.7,4.6101099999999999E-2,7.3000000000000004E-6,7.7000000000000008E-6,2.91,0.38,0.4,60.5,1.6,1.6,62,1.6,1.6,61.5,4.0999999999999996,5.0999999999999996,7.4000000000000003E-3,6.0000000000000001E-3,-19.8,3.5,1,1,0,0.11,0.11,9.1000000000000004E-3,1E-3,1E-3,0.95723999999999998,1.6000000000000001E-3,2.3999999999999998E-3,3.0000000000000001E-3,4.0000000000000001E-3,5.7000000000000002E-2,0.06,117,14,2350,370,380,10,110,110,58.4,6.4,6.6,32,49,62,0.47099000000000002,1.34E-2,1.1999999999999999E-3,2E-3,22.57,0.46,4.793E-2,8.0000000000000004E-4,8.1999999999999998E-4,92,39,39,253.7,9.1999999999999993,9.9,280.3,5.5,6.6,269,23,40,9.4000000000000004E-3,3.8E-3,-89,34,0.28999999999999998,0.13,0.44,0.36,0.38,4.5600000000000002E-2,3.0000000000000001E-3,3.7000000000000002E-3,0.95794000000000001,1.4E-2,1.6E-2,2.8000000000000001E-2,4.1000000000000002E-2,4.9000000000000002E-2,0.05,22.7,1.6,2290,380,390,270,260,280,287,19,23,260,320,560]
["Output_1_28","Baclab2N4CII-28","04/12/2018 (3) 19:13:14.50","04/12/2018 (3)","19:13:14.500",23.584,"Baclab2N4CII-28",51,"Normal",1,0.96699999999999997,8.6999999999999994E-2,9.1999999999999998E-2,6.9699999999999998E-2,1.2999999999999999E-3,1.6000000000000001E-3,0.69111,null,0.32934750000000002,9.9000000000000005E-2,7.9000000000000008E-3,9.1000000000000004E-3,-0.53664999999999996,5.2400000000000002E-2,6.7000000000000002E-3,8.0000000000000002E-3,6.67,0.85,0.98,681,47,49,432.8,6.9,8.5,1030,130,150,1500,160,190,90,160,15,14,32,26,511,55,131,13,44.5,3.1,3.9,0.11,14.347200000000001,0.23,67.099999999999994,3.7,792000000000000,75000000000000,null,null,null,null,null,null,0.99902999999999997,3.5699999999999998E-3,3.5E-4,3.8000000000000002E-4,104.5,3.5,4.6105E-2,2.4000000000000001E-5,2.5000000000000001E-5,3.1,1.2,1.3,60.1,1.9,1.9,61.5,1.9,2,72,7,7.7,2.9399999999999999E-2,7.9000000000000008E-3,-29.7,5.7,1,1,-0.22,0.15,0.15,7.4000000000000003E-3,1.1999999999999999E-3,1.2999999999999999E-3,0.97235000000000005,-5.3E-3,4.5999999999999999E-3,5.1000000000000004E-3,-0.24,0.38,0.4,138,52,2520,290,300,-240,180,180,47.4,7.9,8.1,-110,95,100,0.74758000000000002,1.034E-2,2.7E-4,1.1000000000000001E-3,30.13,0.73,4.7849999999999997E-2,7.6000000000000004E-4,8.3000000000000001E-4,89,38,41,200.3,6.7,8.1999999999999993,211.2,5,5.7,207.9,5.4,22,6.3E-3,2.2000000000000001E-3,-73,32,0.5,0.18,0.216,5.1999999999999998E-2,6.4000000000000001E-2,3.3279999999999997E-2,8.1999999999999998E-4,9.3000000000000005E-4,0.40983999999999998,1.034E-2,6.9999999999999999E-4,2.8E-3,4.5999999999999999E-2,1.0999999999999999E-2,1.2E-2,30.15,"18:00:00",890,180,190,193,44,54,211,5.0999999999999996,5.8,208,14,56]
["Output_1_29","Baclab2N4CII-29","04/12/2018 (3) 19:14:14.50","04/12/2018 (3)","19:14:14.500",23.584,"Baclab2N4CII-29",51,"Normal",1,0.88,0.02,3.2000000000000001E-2,8.8200000000000001E-2,1E-3,1.5E-3,0.19681000000000001,null,0.19282089999999999,7.2499999999999995E-2,1.8E-3,3.8E-3,0.30123,2.7570000000000001E-2,9.7000000000000005E-4,2.5000000000000001E-3,5.24,0.2,0.44,640,11,17,544.70000000000005,6,9.1,550,19,49,999,48,100,350,190,26,14,52,33,398,42,249,18,55.5,2.2999999999999998,1.5589999999999999,4.4999999999999998E-2,11.337870000000001,0.13,44.7,3,850000000000000,78000000000000,null,null,null,null,null,null,0.99892000000000003,2.9199999999999999E-3,2.2000000000000001E-4,2.5999999999999998E-4,111.4,3.6,4.6116999999999998E-2,2.4000000000000001E-5,2.5000000000000001E-5,3.7,1.3,1.3,56.7,1.7,1.8,57.9,1.8,1.8,59,4.3,5.2,1.2800000000000001E-2,6.1999999999999998E-3,-20.9,3.2,1,1,-7.0000000000000007E-2,0.14000000000000001,0.15,7.4999999999999997E-3,1.4E-3,1.4E-3,0.97833999999999999,-1.1999999999999999E-3,3.8E-3,4.5999999999999999E-3,-0.37,0.26,0.28000000000000003,186,47,2850,310,330,-140,170,170,48.3,8.9,9,-12,74,88,0.12429999999999999,4.4699999999999997E-2,1.4E-3,3.2000000000000002E-3,6.6840000000000002,8.4000000000000005E-2,6.7299999999999999E-2,1.4E-3,1.4E-3,844,41,42,879,20,23,900,11,15,883,27,61,5.9999999999999995E-4,1.5E-3,3.0000000000000001E-3,3.1E-2,0.70299999999999996,8.7999999999999995E-2,0.73,0.49,0.56999999999999995,0.14449999999999999,4.4999999999999997E-3,6.1000000000000004E-3,0.91208,1.0999999999999999E-2,2.5000000000000001E-2,5.5E-2,3.1E-2,2.5999999999999999E-2,2.7E-2,6.97,"05:31:12",1100,280,290,720,210,240,870,25,35,180,510,1100]
["Output_1_30","Baclab2N4CII-30","04/12/2018 (3) 19:15:13.50","04/12/2018 (3)","19:15:13.500",23.585999999999999,"Baclab2N4CII-30",51,"Normal",1,0.73599999999999999,3.7999999999999999E-2,4.2999999999999997E-2,8.5099999999999995E-2,1.1999999999999999E-3,1.6000000000000001E-3,2.5211000000000001E-2,null,0.22093309999999999,6.3500000000000001E-2,3.2000000000000002E-3,4.3E-3,0.24640000000000001,2.8129999999999999E-2,8.8999999999999995E-4,2.5000000000000001E-3,4.54,0.2,0.39,557,22,25,526.29999999999995,7.1,9.6999999999999993,561,17,50,680,110,150,63,66,3.7,4.0999999999999996,10,14,106.4,5.6,74.8,5,17.8,1.3,1.4179999999999999,2.1000000000000001E-2,11.75088,0.17,57,88,224000000000000,13000000000000,null,null,null,null,null,null,0.84918000000000005,3.0349999999999999E-3,9.5000000000000005E-5,1.7000000000000001E-4,107.8,1.6,4.6149000000000003E-2,3.4E-5,3.8000000000000002E-5,5.4,1.7,2,58.18,0.95,1.1000000000000001,59.68,0.92,"23:31:12",61.3,1.9,3.3,4.7999999999999996E-3,3.3999999999999998E-3,-12,2.2999999999999998,0.96199999999999997,4.2999999999999997E-2,5.3999999999999999E-2,4.2000000000000003E-2,4.7E-2,9.1500000000000001E-3,4.0000000000000002E-4,4.2999999999999999E-4,0.89898999999999996,3.0599999999999998E-3,8.1999999999999998E-4,1.4E-3,3.1E-2,2.3E-2,2.5000000000000001E-2,109.6,4.5,1670,330,370,57,38,42,58.7,2.6,2.7,62,17,29,0.76873000000000002,1.8499999999999999E-2,1.8E-3,4.3E-3,28.53,0.41,4.632E-2,2.7999999999999998E-4,2.9999999999999997E-4,14,14,15,206.2,3,3.9,222.4,3.1,4.3,371,36,86,1.32E-2,2.0999999999999999E-3,-131,24,1.7000000000000001E-2,3.4000000000000002E-2,0.24299999999999999,5.8000000000000003E-2,7.3999999999999996E-2,3.5220000000000001E-2,5.9999999999999995E-4,8.1999999999999998E-4,0.64426000000000005,2.4E-2,1.2E-2,0.03,4.9000000000000002E-2,1.2E-2,1.2999999999999999E-2,28.36,"12:14:24",990,160,180,212,48,62,223.2,3.7,5.0999999999999996,470,240,590]
["Output_1_31","Baclab2N4CII-31","04/12/2018 (3) 19:20:28.35","04/12/2018 (3)","19:20:28.350",8.7350999999999992,"Baclab2N4CII-31",19,"Normal",1,1.92,0.1,7.4999999999999997E-2,0.1757,5.0000000000000001E-3,6.0000000000000001E-3,0.55295000000000005,null,0.19436039999999999,8.0500000000000002E-2,4.1999999999999997E-3,4.5999999999999999E-3,4.4549999999999999E-2,7.1900000000000006E-2,4.3E-3,5.7999999999999996E-3,7.99,0.47,0.68,1085,36,27,1043,28,34,1402,80,110,1190,110,100,-40,120,-2.6,9.9,-4,16,91.5,8,30.5,3,22.7,2,2.9489999999999998,4.9000000000000002E-2,5.6915199999999997,0.16,11.4,8,363000000000000,29000000000000,null,null,null,null,null,null,0.87549999999999994,2.9099999999999998E-3,2.1000000000000001E-4,2.5999999999999998E-4,104.2,3.5,4.6123999999999998E-2,3.0000000000000001E-5,3.1000000000000001E-5,4.0999999999999996,1.5,1.6,61.4,2,2.2000000000000002,61.7,1.9,2,58.8,4.0999999999999996,5.2,1.54E-2,5.7000000000000002E-3,-20.3,3.2,1,1,0.04,0.13,0.14000000000000001,9.4000000000000004E-3,1.1000000000000001E-3,1.1000000000000001E-3,0.96521999999999997,2.3E-3,3.0999999999999999E-3,3.8999999999999998E-3,-0.02,0.23,0.25,111,36,2800,280,300,-40,170,180,60,7.2,7.3,45,63,78,1,4.4140000000000004E-3,6.9999999999999994E-5,3.1E-4,52.96,0.95,4.6081370000000003E-2,6.4000000000000001E-7,6.7999999999999995E-7,1.8779999999999999,3.3000000000000002E-2,3.5999999999999997E-2,114.8,2,2.4,120.4,2.2000000000000002,2.7,89,1.4,6.1,8.3000000000000001E-3,1.9E-3,-63.07,0.12,0,1,0.121,2.5999999999999999E-2,0.03,1.8919999999999999E-2,4.2000000000000002E-4,5.1000000000000004E-4,0.77080000000000004,4.4289999999999998E-3,6.9999999999999994E-5,3.1E-4,4.5900000000000003E-2,9.7000000000000003E-3,0.01,53,1.2,640,240,250,114,24,28,120.8,2.7,3.2,89.3,1.4,6.2]
["Output_1_32","Baclab2N4CII-32","04/12/2018 (3) 19:21:24.60","04/12/2018 (3)","19:21:24.600",12.3,"Baclab2N4CII-32",26,"Normal",1,0.73399999999999999,3.1E-2,2.9000000000000001E-2,8.7599999999999997E-2,1.4E-3,1.4E-3,0.28119,null,0.18243989999999999,6.1499999999999999E-2,2.5999999999999999E-3,3.3E-3,0.10911,2.8920000000000001E-2,7.6999999999999996E-4,2.3999999999999998E-3,3.657,6.3E-2,0.28999999999999998,558,18,16,541.29999999999995,8.1,8.5,576,15,48,639,95,120,50,160,3,9.6999999999999993,29,53,299,11,262.60000000000002,9.8000000000000007,80.2,3.4,1.1460999999999999,7.6E-3,11.41553,0.18,-8,28,666000000000000,29000000000000,null,null,null,null,null,null,0.99892999999999998,2.3E-3,8.8999999999999995E-4,9.3999999999999997E-4,112.8,7.2,4.6077600000000003E-2,3.3000000000000002E-6,3.4000000000000001E-6,1.68,0.17,0.18,57.5,3.4,3.5,58.7,3.5,3.6,46,18,19,0.10100000000000001,2.1000000000000001E-2,-35,6,0.74,0.15,0.01,0.36,0.36,8.6999999999999994E-3,3.0000000000000001E-3,3.0000000000000001E-3,0.98375999999999997,4.0000000000000001E-3,1.2999999999999999E-2,1.4E-2,0.35,0.95,0.97,60,120,3730,220,230,130,290,290,59,18,18,60,260,280,0.97458,3.5999999999999999E-3,9.7999999999999997E-3,1.2E-2,33.5,2.6,4.8899999999999999E-2,1.4E-3,1.5E-3,141,70,71,189,17,18,192,15,16,70,200,240,7.4999999999999997E-2,0.01,-56,48,0,1,0.59,0.26,0.27,3.2500000000000001E-2,3.8999999999999998E-3,3.8999999999999998E-3,0.81779000000000002,9.6000000000000002E-2,7.1999999999999995E-2,8.8999999999999996E-2,0.122,6.2E-2,6.2E-2,30.4,3.7,2450,310,310,430,210,210,206,24,25,1800,1400,1700]
["Output_1_33","Baclab2N4CII-33","04/12/2018 (3) 19:22:12.12","04/12/2018 (3)","19:22:12.120",25.96,"Baclab2N4CII-33",56,"Normal",1,1.68,4.3999999999999997E-2,6.6000000000000003E-2,0.16980000000000001,1.8E-3,2.8999999999999998E-3,0.21,null,0.10058250000000001,7.2300000000000003E-2,1.9E-3,3.8999999999999998E-3,0.17466999999999999,5.3999999999999999E-2,2.5000000000000001E-3,4.8999999999999998E-3,13.04,0.45,1.1000000000000001,999,17,25,1011,9.8000000000000007,16,1063,48,94,982,53,110,260,230,19,17,16,17,170.9,9.6,44.7,2.2000000000000002,23.1,1.2,3.8490000000000002,4.2999999999999997E-2,5.8892819999999997,6.0999999999999999E-2,-7.2,7.1,657000000000000,38000000000000,null,null,null,null,null,null,0.99919999999999998,3.0000000000000001E-3,3.1E-4,3.6000000000000002E-4,105.3,3.3,4.6091699999999999E-2,7.9999999999999996E-6,8.1999999999999994E-6,2.42,0.42,0.43,59.8,1.8,1.9,61.2,1.9,2,60.5,6.2,7.2,1.3100000000000001E-2,7.7000000000000002E-3,-24.8,2.9,1,1,0.05,0.17,0.18,9.2999999999999992E-3,1.5E-3,1.6000000000000001E-3,0.98563000000000001,2.8E-3,4.7999999999999996E-3,5.4999999999999997E-3,-0.16,0.28999999999999998,0.3,142,51,3150,290,300,50,170,170,59.7,9.8000000000000007,10,55,97,110,0.81777999999999995,1.3089999999999999E-2,3.8999999999999999E-4,1.1000000000000001E-3,29.97,0.49,4.6370000000000001E-2,2.3000000000000001E-4,2.4000000000000001E-4,13.3,9.4,10,194.3,3.5,4.2,212.2,3.3,4.3,262.8,7.9,23,7.1999999999999998E-3,1.9E-3,-127,23,0.125,6.6000000000000003E-2,0.21299999999999999,6.9000000000000006E-2,8.4000000000000005E-2,3.3599999999999998E-2,7.6999999999999996E-4,1E-3,0.74912999999999996,1.26E-2,2E-3,5.8999999999999999E-3,4.5999999999999999E-2,1.2999999999999999E-2,1.4E-2,29.83,"17:31:12",1170,200,210,198,55,67,213,4.8,6.3,253,41,120]
["Output_1_34","Baclab2N4CII-34","04/12/2018 (3) 19:23:13.50","04/12/2018 (3)","19:23:13.500",18.832000000000001,"Baclab2N4CII-34",41,"Normal",1,3.6389999999999998,6.7000000000000004E-2,0.13,0.27150000000000002,2.5000000000000001E-3,4.3E-3,0.22786999999999999,null,5.8334940000000002E-2,9.8500000000000004E-2,1.9E-3,5.0000000000000001E-3,0.1903,8.1500000000000003E-2,1.9E-3,7.4000000000000003E-3,7.01,0.2,0.54,1557,15,29,1548,13,22,1584,36,140,1597,37,93,560,470,56,46,79,67,162,13,79,4.7,63.1,3.6,2.0390000000000001,3.9E-2,3.6832410000000002,3.4000000000000002E-2,2.6,2.5,1048000000000000,75000000000000,null,null,null,null,null,null,0.98307,2.7899999999999999E-3,1.2E-4,1.8000000000000001E-4,108.7,1.9,4.6122000000000003E-2,3.0000000000000001E-5,3.3000000000000003E-5,4,1.6,1.7,58.1,1,1.1000000000000001,59.3,1,1.1000000000000001,56.4,2.4,3.5,1.03E-2,4.3E-3,-18.7,2.8,1,1,4.7E-2,5.8999999999999997E-2,6.4000000000000001E-2,9.1400000000000006E-3,5.2999999999999998E-4,5.6999999999999998E-4,0.96001000000000003,2.3999999999999998E-3,1.1999999999999999E-3,1.6999999999999999E-3,-1.2E-2,0.06,6.6000000000000003E-2,114,7.8,2040,220,250,28,63,68,58.6,3.4,3.6,49,24,35,0.53818999999999995,5.5800000000000002E-2,1.4E-3,3.7000000000000002E-3,5.39,0.13,7.7499999999999999E-2,2.5000000000000001E-3,2.7000000000000001E-3,1125,63,68,1104,29,37,1093,20,24,1097,26,71,2.2000000000000001E-3,2.5999999999999999E-3,3.5999999999999997E-2,5.7000000000000002E-2,0.875,0.09,1.85,0.46,0.59,0.18440000000000001,6.0000000000000001E-3,7.1000000000000004E-3,0.75061,5.3800000000000001E-2,9.7000000000000003E-3,2.5999999999999999E-2,7.2999999999999995E-2,1.7000000000000001E-2,1.7999999999999999E-2,5.46,"04:04:48",1460,310,330,980,180,230,1090,32,39,1050,190,510]
["Output_1_35","Baclab2N4CII-35","04/12/2018 (3) 19:24:11.12","04/12/2018 (3)","19:24:11.120",21.209,"Baclab2N4CII-35",46,"Normal",1,2.149,4.2999999999999997E-2,7.5999999999999998E-2,0.1991,1.2999999999999999E-3,2.8999999999999998E-3,2.4053E-3,null,7.3156929999999995E-2,7.8100000000000003E-2,1.6000000000000001E-3,4.0000000000000001E-3,0.38564999999999999,5.7000000000000002E-2,4.8999999999999998E-3,5.1000000000000004E-3,8.2799999999999994,0.83,0.66,1164,14,25,1170.5999999999999,7,16,1118,97,97,1157,38,100,190,640,16,52,67,89,347,50,136,10,72.900000000000006,5,2.3199999999999998,0.21,5.022602,3.5000000000000003E-2,-0.9,3.5,1600000000000000,220000000000000,null,null,null,null,null,null,0.54037999999999997,3.1199999999999999E-3,3.6000000000000002E-4,4.2000000000000002E-4,108.5,3.9,4.6136999999999997E-2,5.5000000000000002E-5,5.5999999999999999E-5,4.8,2.8,2.9,56.8,2.5,2.5,59.7,2.1,2.1,62.9,7.3,8.4,8.9999999999999993E-3,8.6999999999999994E-3,-18.399999999999999,4.5,0.94199999999999995,6.4000000000000001E-2,0.05,0.22,0.22,9.4999999999999998E-3,1.8E-3,1.8E-3,0.97402999999999995,2.7000000000000001E-3,6.3E-3,7.3000000000000001E-3,-0.01,0.11,0.11,133,38,3150,400,410,50,190,190,61,11,11,50,130,150,0.87333000000000005,1.35E-2,4.7000000000000002E-3,5.4000000000000003E-3,68.7,2.9,4.641E-2,2.7999999999999998E-4,2.9E-4,19,15,15,94.3,5.0999999999999996,5.0999999999999996,92.4,3.3,3.4,270,94,110,5.0000000000000001E-4,6.4999999999999997E-3,-45,19,0.12,0.11,0.14000000000000001,0.2,0.2,1.5299999999999999E-2,2.3E-3,2.3999999999999998E-3,0.94035999999999997,5.1999999999999998E-2,8.5999999999999993E-2,9.9000000000000005E-2,4.3999999999999997E-2,5.8000000000000003E-2,5.8999999999999997E-2,70,11,2150,460,460,150,160,160,98,15,15,800,1700,2000]
["Output_1_36","Baclab2N4CII-36","04/12/2018 (3) 19:25:20.22","04/12/2018 (3)","19:25:20.220",12.301,"Baclab2N4CII-36",26,"Normal",1,0.55500000000000005,2.5000000000000001E-2,2.5000000000000001E-2,6.9970000000000004E-2,8.9999999999999998E-4,1.1999999999999999E-3,0.18056,null,0.24510799999999999,5.9200000000000003E-2,2.3999999999999998E-3,3.3999999999999998E-3,0.16483,2.2499999999999999E-2,1.1000000000000001E-3,2E-3,5.8,0.27,0.5,447,16,17,436,5.4,7.1,449,21,40,579,93,120,430,370,21,20,76,63,299,13,168.2,3.7,34.5,1.7,1.8009999999999999,4.5999999999999999E-2,14.291840000000001,0.19,10,19,493000000000000,23000000000000,null,null,null,null,null,null,0.97511999999999999,3.8E-3,2.5000000000000001E-3,2.7000000000000001E-3,120,16,4.614E-2,1.2999999999999999E-4,1.3999999999999999E-4,5,6.6,7,55.7,5.8,6,54.6,6.6,6.6,76,51,54,0.44,4.2999999999999997E-2,-33.299999999999997,6.1,0.24,0.14000000000000001,-0.4,1,1,6.4000000000000003E-3,7.6E-3,7.6E-3,0.99104000000000003,-4.0000000000000001E-3,2.4E-2,2.5000000000000001E-2,0.95,0.41,0.42,1,36,4660,140,140,740,430,450,40,49,49,-140,490,520,0.93630000000000002,-2.5499999999999998E-2,8.6999999999999994E-3,9.4999999999999998E-3,31.2,1,5.033E-2,2.1000000000000001E-4,2.1000000000000001E-4,210.1,9.6999999999999993,9.8000000000000007,203.4,6.5,6.7,204,6.6,7.1,-520,180,190,4.4499999999999998E-2,8.8999999999999999E-3,0.03,3.3000000000000002E-2,0,1,0.37,0.13,0.13,3.3500000000000002E-2,1.5E-3,1.6000000000000001E-3,0.87668999999999997,2.7E-2,4.2999999999999997E-2,4.7E-2,7.9000000000000001E-2,2.7E-2,2.7E-2,30,1.3,1430,340,350,300,100,110,212.5,9.3000000000000007,10,480,860,940]
["Output_1_37","Baclab2N4CII-37","04/12/2018 (3) 19:26:12.50","04/12/2018 (3)","19:26:12.500",23.584,"Baclab2N4CII-37",51,"Normal",1,0.45500000000000002,4.2000000000000003E-2,4.3999999999999997E-2,6.2300000000000001E-2,1.5E-3,1.6999999999999999E-3,3.2169000000000003E-2,null,0.43799870000000002,5.3199999999999997E-2,5.1999999999999998E-3,5.7000000000000002E-3,0.27017999999999998,1.9900000000000001E-2,1.4E-3,2.2000000000000001E-3,4.05,0.33,0.45,376,29,30,389.4,9,10,399,27,43,310,180,200,6,22,1.6,1.6,0.9,4.4000000000000004,50.6,1.4,43.6,1.5,7.77,0.57999999999999996,1.1850000000000001,1.4E-2,16.051359999999999,0.43,61,71,80500000000000,2700000000000,null,null,null,null,null,null,0.84272000000000002,4.0000000000000001E-3,2.5000000000000001E-3,2.7000000000000001E-3,128,17,4.623E-2,1.7000000000000001E-4,1.7000000000000001E-4,9.1999999999999993,8.6,8.8000000000000007,52.9,6.7,6.8,52.7,6.4,6.5,88,49,51,0.41399999999999998,5.7000000000000002E-2,-28.3,5.6,0.31,0.15,-0.08,0.91,0.92,8.2000000000000007E-3,7.1999999999999998E-3,7.3000000000000001E-3,0.99539,1E-3,2.8000000000000001E-2,2.9000000000000001E-2,0.76,0.24,0.25,18,31,4320,300,310,630,350,360,51,46,47,-50,570,600,0.98785000000000001,4.4999999999999997E-3,6.8999999999999999E-3,7.1000000000000004E-3,67.8,6,4.6219999999999997E-2,1.8000000000000001E-4,1.8000000000000001E-4,8.8000000000000007,9.1,9.1,94.4,8.6999999999999993,8.8000000000000007,96.7,9.1,9.1999999999999993,90,140,140,7.0000000000000001E-3,1.2E-2,-44,23,0.27,0.24,-0.14000000000000001,0.59,0.6,1.32E-2,5.4000000000000003E-3,5.4999999999999997E-3,0.97591000000000006,-0.11,0.2,0.2,-0.05,0.41,0.41,57,26,3350,840,840,-30,430,430,84,35,35,-1300,3200,3200]
["Output_1_38","Baclab2N4CII-38","04/12/2018 (3) 19:27:23.78","04/12/2018 (3)","19:27:23.780",16.457000000000001,"Baclab2N4CII-38",34,"Normal",1,0.54200000000000004,6.8000000000000005E-2,0.11,5.3999999999999999E-2,1.5E-3,1.4E-3,0.10632,null,0.48010969999999997,7.6899999999999996E-2,9.7000000000000003E-3,1.4E-2,0.44058999999999998,2.1399999999999999E-2,1.1999999999999999E-3,2.3999999999999998E-3,2.27,0.13,0.17,432,45,59,338.8,9.1999999999999993,8.6,428,24,48,1090,250,240,-2,26,0.4,2.4,-2,12,74,10,93,14,17.5,2.5,0.78600000000000003,1.7000000000000001E-2,18.518519999999999,0.64,70,12,122100000000000,9100000000000,null,null,null,null,null,null,0.99951000000000001,2.97E-3,7.9000000000000001E-4,8.4999999999999995E-4,119,12,4.6076600000000002E-2,3.7000000000000002E-6,3.8E-6,1.63,0.19,0.2,53.5,4.9000000000000004,5,54.7,5.0999999999999996,5.0999999999999996,60,16,17,0.23100000000000001,3.4000000000000002E-2,-36.799999999999997,5.5,0.66,0.16,-0.1,0.68,0.7,6.7999999999999996E-3,5.7000000000000002E-3,5.7000000000000002E-3,0.98606000000000005,0,1.4E-2,1.4E-2,0.71,0.25,0.26,20,41,4260,230,230,550,250,260,43,37,37,-20,280,290,0.68113000000000001,4.9369999999999997E-2,6.8999999999999997E-4,2.0999999999999999E-3,6.1280000000000001,9.2999999999999999E-2,7.1999999999999995E-2,2.3999999999999998E-3,2.7000000000000001E-3,975,71,79,978,28,37,976,14,19,974,13,40,7.6E-3,3.5999999999999999E-3,-0.12,0.18,0.92600000000000005,7.0000000000000007E-2,1.77,0.19,0.26,0.16420000000000001,2.8E-3,4.0000000000000001E-3,0.72219,5.2699999999999997E-2,3.8999999999999998E-3,1.2E-2,7.6499999999999999E-2,7.7000000000000002E-3,8.6E-3,6.1,"02:38:24",1210,160,180,1018,74,100,980,16,22,1037,74,230]
["Output_1_39","Baclab2N4CII-39","04/12/2018 (3) 19:28:11.50","04/12/2018 (3)","19:28:11.500",23.585999999999999,"Baclab2N4CII-39",51,"Normal",1,2.6619999999999999,7.0000000000000007E-2,0.1,0.22550000000000001,2.3999999999999998E-3,3.8E-3,3.2146000000000001E-2,null,7.4729229999999994E-2,8.7599999999999997E-2,2.8E-3,4.8999999999999998E-3,0.38646000000000003,7.0099999999999996E-2,2E-3,6.1999999999999998E-3,6.17,0.19,0.49,1319,20,29,1311,12,20,1368,38,120,1366,60,110,420,250,37,22,75,43,87.8,4.0999999999999996,49.5,2.4,28.4,1.4,1.8080000000000001,1.7999999999999999E-2,4.43459,4.9000000000000002E-2,3.3,4.5999999999999996,478000000000000,22000000000000,null,null,null,null,null,null,0.85306999999999999,-2.9999999999999997E-4,6.1999999999999998E-3,6.4000000000000003E-3,135,23,4.7899999999999998E-2,3.2000000000000002E-3,3.3E-3,14,15,15,55.5,8.9,9.1999999999999993,53,9.1,9.1,20,120,120,0.47299999999999998,6.6000000000000003E-2,-23.8,6.7,0,1,0,1.5,1.6,8.0000000000000002E-3,1.2E-2,1.2E-2,0.99448000000000003,-4.0000000000000001E-3,7.4999999999999997E-2,7.8E-2,0.93,0.28999999999999998,0.3,2,34,4710,110,110,1030,440,450,52,75,76,-400,1600,1700,0.62999000000000005,1.179E-2,7.5000000000000002E-4,1.5E-3,29.07,0.62,4.6760000000000003E-2,3.8999999999999999E-4,3.8999999999999999E-4,36,19,19,205.3,5.5,5.8,217.3,4.0999999999999996,5,237,15,31,4.4999999999999997E-3,4.7000000000000002E-3,-101,27,0.32,0.13,0.22,0.39,0.41,3.3099999999999997E-2,3.5999999999999999E-3,4.4000000000000003E-3,0.97589000000000004,1.0500000000000001E-2,9.2999999999999992E-3,1.9E-2,1.7999999999999999E-2,6.4000000000000001E-2,6.5000000000000002E-2,30.7,3.7,2420,310,310,500,160,170,210,23,27,210,190,380]
["Output_1_40","Baclab2N4CII-40","04/12/2018 (3) 19:29:19.41","04/12/2018 (3)","19:29:19.410",10.518000000000001,"Baclab2N4CII-40",23,"Normal",1,0.52200000000000002,2.7E-2,2.3E-2,6.5509999999999999E-2,7.6999999999999996E-4,1E-3,0.21737000000000001,null,0.23301549999999999,5.8700000000000002E-2,2.8999999999999998E-3,3.3999999999999998E-3,-9.1479000000000005E-3,3.0099999999999998E-2,1.9E-3,2.8999999999999998E-3,15.4,1.2,1.4,426,18,15,409,4.7,6,599,36,56,560,100,110,130,320,14,23,21,24,351.4,5.4,55,2,14.2,1.1000000000000001,6.63,0.19,15.264849999999999,0.18,3,37,506000000000000,11000000000000,null,null,null,null,null,null,1,4.5999999999999999E-3,2.3999999999999998E-3,2.5000000000000001E-3,112,11,4.60741E-2,1.9E-6,1.9999999999999999E-6,1.5,0.1,0.1,59.3,5.6,5.8,60.8,5.9,5.9,93,48,50,0.40200000000000002,4.7E-2,-37.5,3.5,0.23,0.17,-0.54,0.91,0.93,5.1999999999999998E-3,7.1999999999999998E-3,7.1999999999999998E-3,0.99143999999999999,-1.6E-2,3.2000000000000001E-2,3.4000000000000002E-2,1.5,1.3,1.4,140,190,4140,340,350,680,290,300,32,46,46,-390,680,720,0.58318000000000003,1.145E-2,7.9000000000000001E-4,1.1000000000000001E-3,26.49,0.68,4.7849999999999997E-2,8.0999999999999996E-4,8.1999999999999998E-4,88,39,40,221,9.6,10,238.5,5.4,6.3,230,16,22,1.4500000000000001E-2,5.8999999999999999E-3,-81,32,0.37,0.15,0.8,0.46,0.48,4.24E-2,4.1000000000000003E-3,4.7000000000000002E-3,0.97474000000000005,2.5999999999999999E-2,1.2E-2,1.7000000000000001E-2,0.115,6.0999999999999999E-2,6.2E-2,24.4,2.2000000000000002,2880,340,340,540,250,270,267,25,29,500,230,330]
["Output_1_41","Baclab2N4CII-41","04/12/2018 (3) 19:33:22.38","04/12/2018 (3)","19:33:22.380",11.706,"Baclab2N4CII-41",25,"Normal",1,3.5920000000000001,8.5000000000000006E-2,0.12,0.26900000000000002,3.5999999999999999E-3,4.1000000000000003E-3,-1.5551E-3,null,5.666036E-2,9.8100000000000007E-2,2.8E-3,5.0000000000000001E-3,0.51710999999999996,8.5599999999999996E-2,2.8999999999999998E-3,7.3000000000000001E-3,9.3000000000000007,0.37,0.69,1547,19,27,1536,19,21,1659,55,140,1582,54,95,1700,1200,160,120,190,140,150.9,4.2,56.8,1.5,47.5,2,2.7050000000000001,3.9E-2,3.7174719999999999,5.0999999999999997E-2,2.7,4,961000000000000,28000000000000,null,null,null,null,null,null,0.99939,4.5900000000000003E-3,9.7999999999999997E-4,1.1000000000000001E-3,75.7,3.1,4.6080900000000001E-2,7.9000000000000006E-6,8.4999999999999999E-6,1.85,0.41,0.44,83,3.2,3.4,85.8,3.4,3.5,93,20,22,7.2099999999999997E-2,9.5999999999999992E-3,-56,3.7,0.46,0.17,-0.1,0.11,0.11,1.188E-2,9.7000000000000005E-4,9.7999999999999997E-4,0.83496000000000004,-1.2500000000000001E-2,9.4999999999999998E-3,1.0999999999999999E-2,-5.5E-2,7.0000000000000007E-2,7.4999999999999997E-2,84.9,7,1790,660,710,-160,150,150,76.099999999999994,6.2,6.2,-230,190,210,0.99302000000000001,4.0299999999999997E-3,1.6000000000000001E-4,3.2000000000000003E-4,71.8,2,4.6091899999999998E-2,9.2E-6,9.5000000000000005E-6,2.4300000000000002,0.48,0.49,85.7,2.6,2.8,88.9,2.7,3,81.2,3.1,6.4,6.1000000000000004E-3,2.8E-3,-36.200000000000003,8.4,1,1,0.128,2.3E-2,2.4E-2,1.4290000000000001E-2,4.2999999999999999E-4,4.6999999999999999E-4,0.72063999999999995,4.1099999999999999E-3,1.9000000000000001E-4,3.8000000000000002E-4,5.8000000000000003E-2,1.4999999999999999E-2,1.4999999999999999E-2,70.2,2.1,960,320,330,121,20,22,91.5,2.7,3,82.9,3.7,7.6]
["Output_1_42","Baclab2N4CII-42","04/12/2018 (3) 19:34:22.00","04/12/2018 (3)","19:34:22",12.895,"Baclab2N4CII-42",28,"Normal",1,0.82599999999999996,4.2000000000000003E-2,3.7999999999999999E-2,9.3299999999999994E-2,2E-3,1.8E-3,0.13830999999999999,null,0.2067803,6.54E-2,3.3E-3,3.8E-3,0.27110000000000001,2.93E-2,1.1000000000000001E-3,2.5000000000000001E-3,3.27,0.13,0.25,610,24,21,575,12,11,584,22,50,760,110,120,500,330,23,18,160,100,137.80000000000001,5.3,145.6,7.2,42.6,2.1,0.96399999999999997,1.7000000000000001E-2,10.718109999999999,0.24,15,18,338000000000000,14000000000000,null,null,null,null,null,null,0.99912999999999996,2.5899999999999999E-3,3.6000000000000002E-4,4.2000000000000002E-4,114.3,5.8,4.6089900000000003E-2,7.3000000000000004E-6,7.9999999999999996E-6,2.3199999999999998,0.38,0.42,55.8,2.9,3.2,57,3,3,52.3,7.2,8.5,0.156,1.4E-2,-27,4.5999999999999996,1,1,-0.22,0.2,0.22,6.8999999999999999E-3,1.6999999999999999E-3,1.6999999999999999E-3,0.95791000000000004,-3.3999999999999998E-3,3.8999999999999998E-3,4.5999999999999999E-3,-0.21,0.55000000000000004,0.6,200,110,2460,680,750,-230,250,280,44,11,11,-57,76,90,0.71365999999999996,2.0799999999999999E-2,3.0000000000000001E-3,4.3E-3,39.9,1.1000000000000001,4.7530000000000003E-2,4.6000000000000001E-4,4.8000000000000001E-4,74,23,24,152.69999999999999,3.8,4.5,160.6,4.0999999999999996,4.5,416,60,85,2.2000000000000001E-3,2.2000000000000001E-3,-30,15,0.16200000000000001,7.8E-2,0.13900000000000001,9.2999999999999999E-2,0.11,2.5100000000000001E-2,1.1000000000000001E-3,1.1999999999999999E-3,0.84731000000000001,3.5999999999999997E-2,4.5999999999999999E-2,6.5000000000000002E-2,3.4000000000000002E-2,0.02,0.02,40.299999999999997,1.7,1480,350,370,146,81,94,160.1,6.7,7.5,570,910,1300]
["Output_1_43","Baclab2N4CII-43","04/12/2018 (3) 19:35:19.22","04/12/2018 (3)","19:35:19.220",14.08,"Baclab2N4CII-43",30,"Normal",1,0.67200000000000004,4.2999999999999997E-2,3.6999999999999998E-2,8.0799999999999997E-2,1.6000000000000001E-3,1.6999999999999999E-3,-0.21876000000000001,null,0.26039109999999999,6.1800000000000001E-2,4.7000000000000002E-3,4.4000000000000003E-3,0.48951,2.6700000000000002E-2,1.4E-3,2.5000000000000001E-3,5.12,0.28000000000000003,0.44,525,28,21,501.1,9.6999999999999993,9.9,533,28,50,680,170,150,220,140,9.1999999999999993,7.7,40,29,66.7,1.8,42.01,0.94,11.36,0.61,1.6180000000000001,2.5999999999999999E-2,12.376239999999999,0.23,-50,160,132100000000000,3800000000000,null,null,null,null,null,null,0.99999000000000005,2.2000000000000001E-3,1.1999999999999999E-3,1.1999999999999999E-3,117,13,4.6079799999999997E-2,5.4E-6,5.5999999999999997E-6,1.8,0.28000000000000003,0.28999999999999998,58,5.0999999999999996,5.3,59.5,5.3,5.3,44,24,25,0.34599999999999997,3.9E-2,-34.6,5.3,0.54,0.17,-0.5,0.75,0.77,5.1000000000000004E-3,5.7999999999999996E-3,5.8999999999999999E-3,0.98911000000000004,-8.9999999999999993E-3,1.7999999999999999E-2,1.9E-2,1.1200000000000001,0.93,0.97,80,200,4310,200,210,430,350,360,32,37,38,-210,370,390,0.97475999999999996,5.1999999999999998E-3,5.1000000000000004E-3,5.5999999999999999E-3,49,1.6,4.6339999999999999E-2,2.9999999999999997E-4,2.9999999999999997E-4,15,15,15,125.9,4.7,4.8,130.9,4.4000000000000004,4.7,100,100,110,4.5999999999999999E-3,6.3E-3,-62,19,0.22,0.18,0.16,0.17,0.17,2.0899999999999998E-2,1.8E-3,1.9E-3,0.88583999999999996,1.0999999999999999E-2,5.0999999999999997E-2,5.5E-2,0.04,3.5999999999999997E-2,3.5999999999999997E-2,47.5,3.5,1890,540,540,120,150,160,134,11,12,100,1000,1100]
["Output_1_44","Baclab2N4CII-44","04/12/2018 (3) 19:36:20.41","04/12/2018 (3)","19:36:20.410",14.081,"Baclab2N4CII-44",31,"Normal",1,0.40400000000000003,1.4E-2,1.6E-2,5.1529999999999999E-2,4.8000000000000001E-4,8.1999999999999998E-4,-5.7713E-2,null,0.30881160000000002,5.74E-2,2.0999999999999999E-3,3.2000000000000002E-3,0.36318,1.7979999999999999E-2,6.4000000000000005E-4,1.5E-3,9.1300000000000008,0.33,0.69,344,9.9,11,323.89999999999998,2.9,5,360,13,30,492,83,130,500,550,37,36,72,70,712,28,233.6,8.6999999999999993,43,2.1,3.016,0.04,19.406169999999999,0.18,36,39,821000000000000,30000000000000,null,null,null,null,null,null,1,2.6800000000000001E-3,6.7000000000000002E-4,7.2000000000000005E-4,120.3,4.4000000000000004,4.60782E-2,2.7999999999999999E-6,2.9000000000000002E-6,1.71,0.15,0.15,52.7,1.8,1.9,53.9,1.9,1.9,54,13,15,0.16300000000000001,0.02,-32.200000000000003,4.3,1,1,-0.01,0.15,0.15,7.6E-3,1.1000000000000001E-3,1.1000000000000001E-3,0.96931999999999996,4.0000000000000002E-4,6.0000000000000001E-3,6.4999999999999997E-3,-0.16,0.19,0.2,148,26,2640,770,810,-70,170,170,48.9,7,7.1,10,120,130,0.83043999999999996,8.4899999999999993E-3,7.2000000000000005E-4,1.1000000000000001E-3,33.700000000000003,0.77,4.8309999999999999E-2,5.6999999999999998E-4,6.6E-4,112,28,33,184.3,5.3,6.9,189.3,4.2,4.8,171,14,21,1.6999999999999999E-3,1.1000000000000001E-3,-27,18,0.36,0.13,0.17799999999999999,2.1999999999999999E-2,2.9000000000000001E-2,2.962E-2,6.4000000000000005E-4,7.2999999999999996E-4,0.21184,7.9000000000000008E-3,1.6000000000000001E-3,2.3E-3,4.36E-2,5.4000000000000003E-3,6.1999999999999998E-3,33.89,"17:31:12",490,180,210,165,19,25,188.1,4,4.5999999999999996,158,31,46]
["Output_1_45","Baclab2N4CII-45","04/12/2018 (3) 19:37:14.66","04/12/2018 (3)","19:37:14.660",14.673,"Baclab2N4CII-45",32,"Normal",1,0.93300000000000005,3.2000000000000001E-2,3.5999999999999997E-2,9.9099999999999994E-2,1.4E-3,1.6999999999999999E-3,0.35205999999999998,null,0.1731018,6.7799999999999999E-2,2.3E-3,3.5000000000000001E-3,0.14041999999999999,2.8000000000000001E-2,1.2999999999999999E-3,2.5000000000000001E-3,9.5,0.66,0.94,668,17,18,609.1,8.1,9.8000000000000007,558,27,50,879,71,110,330,380,21,24,27,33,198.5,6.1,79,2.4,22.2,1.1000000000000001,2.57,0.15,10.090820000000001,0.14000000000000001,29,6,460000000000000,12000000000000,null,null,null,null,null,null,0.99958999999999998,3.2000000000000002E-3,1E-3,1E-3,115.5,8.1999999999999993,4.6079099999999998E-2,5.8000000000000004E-6,6.1E-6,1.76,0.3,0.32,54.4,3.4,3.6,55.5,3.6,3.6,64,20,21,0.28599999999999998,0.03,-36.4,4.5,0.67,0.15,-0.21,0.74,0.77,7.0000000000000001E-3,5.8999999999999999E-3,5.8999999999999999E-3,0.99526999999999999,-4.0000000000000001E-3,1.6E-2,1.6E-2,0.81,0.27,0.28000000000000003,11,32,4460,120,130,740,300,320,44,38,38,-40,340,350,0.88097000000000003,1.2E-2,3.5999999999999999E-3,4.1999999999999997E-3,31.2,1,4.8180000000000001E-2,8.7000000000000001E-4,8.8000000000000003E-4,105,42,43,193,6.3,6.6,202.9,5.8,6.3,241,72,84,7.9000000000000008E-3,3.8E-3,-61,33,0.33,0.19,0.26,0.16,0.17,3.2500000000000001E-2,1.6999999999999999E-3,1.8E-3,0.81994999999999996,3.1E-2,0.05,5.8999999999999997E-2,5.0999999999999997E-2,3.5999999999999997E-2,3.5999999999999997E-2,31.3,1.7,1820,270,270,220,130,140,206,10,11,500,1000,1200]
["Output_1_46","Baclab2N4CII-46","04/12/2018 (3) 19:38:14.66","04/12/2018 (3)","19:38:14.660",15.27,"Baclab2N4CII-46",33,"Normal",1,0.876,2.4E-2,3.5000000000000003E-2,9.8400000000000001E-2,1.2999999999999999E-3,1.6000000000000001E-3,0.38580999999999999,null,0.16524559999999999,6.4699999999999994E-2,1.6999999999999999E-3,3.5000000000000001E-3,0.10147,3.2399999999999998E-2,1.2999999999999999E-3,2.8999999999999998E-3,11.77,0.83,1,638,13,19,605,7.4,9.4,644,26,57,757,54,110,230,370,15,26,19,37,449,46,116.1,4.0999999999999996,37.6,1.7,3.82,0.28000000000000003,10.162599999999999,0.13,20.2,6.1,987000000000000,87000000000000,null,null,null,null,null,null,0.99707000000000001,5.3E-3,5.1999999999999998E-3,5.5999999999999999E-3,135,42,4.6370000000000001E-2,2.7999999999999998E-4,2.9E-4,16,14,15,66,11,11,67,11,11,100,100,110,0.497,6.2E-2,-34,10,0,1,0.1,1.5,1.6,1.2E-2,1.2E-2,1.2E-2,0.99326000000000003,1.4999999999999999E-2,0.06,6.5000000000000002E-2,0.77,0.27,0.28000000000000003,15,27,4610,170,180,790,460,480,71,74,74,0,1300,1400,0.62799000000000005,4.0079999999999998E-2,6.7000000000000002E-4,1.6000000000000001E-3,7.58,0.11,7.0999999999999994E-2,1.6999999999999999E-3,1.8E-3,954,49,52,837,22,29,800,11,15,794,13,31,-4.0000000000000002E-4,1.8E-3,0.157,4.3999999999999997E-2,0.93500000000000005,7.1999999999999995E-2,1.3,0.21,0.28000000000000003,0.1318,1.9E-3,2.5999999999999999E-3,0.60550000000000004,0.04,1.0999999999999999E-2,2.5999999999999999E-2,7.0999999999999994E-2,1.0999999999999999E-2,1.2E-2,7.6,"02:38:24",1100,260,280,840,87,120,798,11,15,780,210,510]
["Output_1_47","Baclab2N4CII-47","04/12/2018 (3) 19:39:07.72","04/12/2018 (3)","19:39:07.720",25.960999999999999,"Baclab2N4CII-47",56,"Normal",1,2.44,6.7000000000000004E-2,0.1,0.2016,2.3999999999999998E-3,3.7000000000000002E-3,-5.4496000000000003E-2,null,9.1037569999999998E-2,8.8300000000000003E-2,2.8E-3,5.0000000000000001E-3,0.51670000000000005,6.13E-2,2.0999999999999999E-3,5.3E-3,3.96,0.1,0.31,1252,20,29,1184,13,20,1201,41,100,1373,61,110,230,220,17,17,44,50,107.4,8.8000000000000007,93.8,6.8,55.4,3.9,1.1639999999999999,1.7999999999999999E-2,4.9603169999999999,0.06,11.8,5,553000000000000,47000000000000,null,null,null,null,null,null,0.88560000000000005,3.2000000000000002E-3,2.8E-3,3.2000000000000002E-3,127,21,4.6149999999999997E-2,1.2999999999999999E-4,1.3999999999999999E-4,5.0999999999999996,6.6,6.9,57.1,7.5,8.1,56.8,6.8,6.9,64,56,64,0.47099999999999997,4.7E-2,-35.1,7.6,0,1,-2.2000000000000002,1.3,1.4,-7.6E-3,9.7999999999999997E-3,9.7999999999999997E-3,0.99119999999999997,-7.1999999999999995E-2,0.04,4.5999999999999999E-2,0.61,0.25,0.26,31,33,4500,200,210,290,390,420,-52,64,64,-1360,830,960,0.96026999999999996,3.5920000000000001E-3,8.2000000000000001E-5,2.7999999999999998E-4,87,1.3,4.6176000000000002E-2,9.1000000000000003E-5,9.7E-5,6.8,4.7,5,72.3,1.3,1.8,73.7,1.1000000000000001,1.4,72.5,1.7,5.5,6.7999999999999996E-3,2.0999999999999999E-3,-15.1,4.5999999999999996,1,1,7.5999999999999998E-2,1.2E-2,1.7999999999999999E-2,1.154E-2,2.2000000000000001E-4,2.9E-4,0.55428999999999995,3.6089999999999998E-3,9.7999999999999997E-5,3.3E-4,4.7800000000000002E-2,7.6E-3,8.0999999999999996E-3,86.8,1.6,500,230,250,74,12,17,74,1.4,1.8,72.8,2,6.6]
["Output_1_48","Baclab2N4CII-48","04/12/2018 (3) 19:40:11.88","04/12/2018 (3)","19:40:11.880",11.705,"Baclab2N4CII-48",25,"Normal",1,2.766,0.08,9.7000000000000003E-2,0.22450000000000001,2.8999999999999998E-3,3.7000000000000002E-3,6.2633999999999995E-2,null,7.3412329999999998E-2,8.9300000000000004E-2,3.0000000000000001E-3,4.7999999999999996E-3,0.31447999999999998,6.6100000000000006E-2,1.6999999999999999E-3,5.8999999999999999E-3,3.73,0.1,0.28999999999999998,1345,22,26,1305,15,19,1293,32,110,1417,59,99,190,380,45,50,100,140,124.6,5.5,114.7,5.3,75.599999999999994,3.8,1.0940000000000001,1.4999999999999999E-2,4.4543429999999997,5.3999999999999999E-2,7.6,4.9000000000000004,731000000000000,35000000000000,null,null,null,null,null,null,0.80198999999999998,8.9999999999999998E-4,5.8999999999999999E-3,6.1999999999999998E-3,137,58,4.8399999999999999E-2,4.0000000000000001E-3,4.1000000000000003E-3,17,17,18,62,16,16,53,13,13,10,120,120,0.52100000000000002,7.8E-2,-27,11,0,1,-1,1.7,1.7,2E-3,1.2999999999999999E-2,1.2999999999999999E-2,0.99038000000000004,-3.3000000000000002E-2,5.7000000000000002E-2,0.06,0.86,0.17,0.17,5,17,4560,190,200,1310,290,300,6,85,86,-1000,1300,1300,0.61151,4.9800000000000001E-3,7.5000000000000002E-4,9.3999999999999997E-4,68,2.2999999999999998,4.6169000000000002E-2,7.4999999999999993E-5,7.4999999999999993E-5,6.4,3.8,3.9,93.7,3.5,3.6,95.7,3.2,3.4,100,15,19,2.8999999999999998E-3,4.7999999999999996E-3,-53,7.9,0.54,0.12,7.0000000000000007E-2,0.2,0.21,1.4999999999999999E-2,1.6999999999999999E-3,1.8E-3,0.96860999999999997,-4.0000000000000001E-3,1.7000000000000001E-2,2.1000000000000001E-2,-5.8999999999999997E-2,9.5000000000000001E-2,9.6000000000000002E-2,79,11,3090,260,260,10,190,190,96,11,12,-100,340,430]
["Output_1_49","Baclab2N4CII-49","04/12/2018 (3) 19:41:15.63","04/12/2018 (3)","19:41:15.630",9.9260000000000002,"Baclab2N4CII-49",22,"Normal",1,0.61899999999999999,4.8000000000000001E-2,5.1999999999999998E-2,6.0900000000000003E-2,1.1999999999999999E-3,1.2999999999999999E-3,1.5084E-2,null,0.35051670000000001,7.4300000000000005E-2,5.7999999999999996E-3,6.6E-3,0.26579000000000003,2.5899999999999999E-2,1.1999999999999999E-3,2.7000000000000001E-3,4.16,0.18,0.33,501,30,30,381.3,7.3,7.7,516,23,52,1090,160,160,170,290,11,19,41,69,219.3,3.7,130.4,3.6,33,1,1.694,4.2000000000000003E-2,16.420359999999999,0.33,59.4,8.9,324000000000000,7100000000000,null,null,null,null,null,null,1,3.3999999999999998E-3,1.1000000000000001E-3,1.1999999999999999E-3,123,13,4.6075100000000001E-2,2.6000000000000001E-6,2.6000000000000001E-6,1.55,0.13,0.14000000000000001,55.9,4.0999999999999996,4.2,56.4,4.5,4.5999999999999996,68,23,25,0.22,3.5000000000000003E-2,-37.299999999999997,4.4000000000000004,0.64,0.14000000000000001,-0.45,0.77,0.79,4.8999999999999998E-3,6.3E-3,6.4000000000000003E-3,0.99421999999999999,-2E-3,1.9E-2,0.02,0.79,0.23,0.24,9,29,4420,150,150,730,310,320,30,41,41,-80,380,410,"NaN","no value","NAN","NAN","no value","NAN","no value","NAN","NAN","no value","NAN","NAN","no value","NAN","NAN","no value","NAN","NAN","no value","NAN","NAN","no value","NAN","no value","NAN",0,1,"no value","NAN","NAN","no value","NAN","NAN","NaN","no value","NAN","NAN",0,1,"nan","no value","NAN","no value","NAN","NAN","no value","NAN","NAN","no value","NAN","NAN","no value","NAN","NAN"]
["Output_1_50","Baclab2N4CII-50","04/12/2018 (3) 19:42:12.06","04/12/2018 (3)","19:42:12.060",12.3,"Baclab2N4CII-50",26,"Normal",1,1.8420000000000001,6.8000000000000005E-2,6.7000000000000004E-2,0.1719,2.2000000000000001E-3,2.8E-3,8.9446999999999999E-2,null,9.4755900000000004E-2,7.7100000000000002E-2,2.7000000000000001E-3,3.8999999999999998E-3,0.25185000000000002,5.1499999999999997E-2,1.6999999999999999E-3,4.4000000000000003E-3,6.05,0.22,0.47,1059,24,24,1022,12,15,1016,32,85,1130,77,100,580,750,57,61,100,130,206.1,8.1999999999999993,115.1,3.6,59,1.8,1.782,2.4E-2,5.8173360000000001,7.3999999999999996E-2,6.6,7.2,858000000000000,39000000000000,null,null,null,null,null,null,0.99944999999999995,3.1700000000000001E-3,5.2999999999999998E-4,5.4000000000000001E-4,113,6.6,4.6127000000000001E-2,4.8000000000000001E-5,5.1E-5,4.2,2.5,2.6,57.1,3.3,3.5,58.3,3.5,3.5,64,11,11,0.22,2.4E-2,-27.8,6.2,1,1,-0.26,0.34,0.35,6.6E-3,2.7000000000000001E-3,2.7000000000000001E-3,0.98595999999999995,-2.8E-3,6.4000000000000003E-3,6.6E-3,0.18,0.37,0.39,84,55,3640,260,280,20,210,220,42,17,17,-60,130,140,0.54581999999999997,6.9100000000000003E-3,4.4999999999999999E-4,7.1000000000000002E-4,44.6,1.2,4.6138999999999999E-2,6.9999999999999994E-5,7.1000000000000005E-5,4.8,3.6,3.7,136.9,4.5999999999999996,4.8,142.6,3.8,4.3,139.1,9,14,3.7000000000000002E-3,4.4000000000000003E-3,-94,14,0.54,0.14000000000000001,-0.15,0.38,0.39,1.8800000000000001E-2,3.5000000000000001E-3,3.8999999999999998E-3,0.97757000000000005,5.0000000000000001E-4,6.8999999999999999E-3,1.0999999999999999E-2,-0.35,0.34,0.34,78,28,2690,380,380,120,290,300,120,22,24,10,140,220]
["Output_1_51","Baclab2N4CII-51","04/12/2018 (3) 19:46:08.50","04/12/2018 (3)","19:46:08.500",23.582999999999998,"Baclab2N4CII-51",51,"Normal",1,0.38800000000000001,2.5999999999999999E-2,2.8000000000000001E-2,5.2159999999999998E-2,8.5999999999999998E-4,1.1000000000000001E-3,-8.0114000000000005E-2,null,0.40431280000000003,5.4300000000000001E-2,3.8E-3,4.5999999999999999E-3,0.31885000000000002,1.5559999999999999E-2,5.5999999999999995E-4,1.4E-3,3.82,0.19,0.34,334,20,21,327.8,5.3,6.7,312,11,28,370,160,190,122,93,7.9,5.6,30,24,120.6,8.8000000000000007,108.7,5,16.54,0.78,1.097,2.8000000000000001E-2,19.171779999999998,0.34,70,45,162000000000000,11000000000000,null,null,null,null,null,null,0.99968000000000001,3.15E-3,9.7999999999999997E-4,1.1000000000000001E-3,110.3,6.5,4.6075900000000003E-2,5.4E-6,5.8000000000000004E-6,1.59,0.28000000000000003,0.3,58,3.4,3.5,59.4,3.5,3.6,63,20,21,0.24099999999999999,2.3E-2,-42.4,3.2,0.63,0.16,-0.44,0.45,0.46,5.4999999999999997E-3,3.8E-3,3.8E-3,0.99295999999999995,-0.01,1.0999999999999999E-2,1.2E-2,0.55000000000000004,0.41,0.44,36,54,3700,350,380,-20,370,380,35,24,24,-210,230,250,0.94621,7.3800000000000003E-3,2.1000000000000001E-4,5.1999999999999995E-4,44.65,0.96,4.6150999999999998E-2,8.7000000000000001E-5,9.2999999999999997E-5,5.4,4.4000000000000004,4.8,136.30000000000001,3,3.6,143.6,3.1,3.6,148.69999999999999,4.3,11,5.3E-3,1.8E-3,-79,12,0.95799999999999996,0.04,5.0999999999999997E-2,9.1999999999999998E-2,0.11,2.2079999999999999E-2,9.7000000000000005E-4,1.1000000000000001E-3,0.89931000000000005,6.8100000000000001E-3,7.6999999999999996E-4,1.9E-3,2.7E-2,2.8000000000000001E-2,0.03,45.4,2.1,1540,240,260,63,99,120,140.80000000000001,6.1,7.2,137,15,38]
["Output_1_52","Baclab2N4CII-52","04/12/2018 (3) 19:47:09.50","04/12/2018 (3)","19:47:09.500",23.585000000000001,"Baclab2N4CII-52",51,"Normal",1,0.70499999999999996,2.7E-2,3.4000000000000002E-2,8.6699999999999999E-2,1.1000000000000001E-3,1.6000000000000001E-3,-2.8389999999999999E-2,null,0.21285399999999999,5.9499999999999997E-2,2.3999999999999998E-3,3.7000000000000002E-3,0.36236000000000002,2.673E-2,9.6000000000000002E-4,2.3999999999999998E-3,4.99,0.16,0.4,541,16,20,536,6.7,9.4,533,19,48,553,91,140,300,210,12,11,52,40,137.30000000000001,4,91.5,2.7,24.6,0.87,1.4850000000000001,1.2E-2,11.53403,0.15,-5,48,291800000000000,8700000000000,null,null,null,null,null,null,0.91800000000000004,2.3E-3,3.3999999999999998E-3,3.5999999999999999E-3,125,21,4.6179999999999999E-2,1.8000000000000001E-4,1.9000000000000001E-4,6.8,9.1,9.4,58.1,9.8000000000000007,11,57.1,9.6999999999999993,9.8000000000000007,45,68,72,0.48599999999999999,6.0999999999999999E-2,-29.3,9.9,0,1,-1.9,1.6,1.7,-5.0000000000000001E-3,1.2E-2,1.2E-2,0.99187000000000003,-5.6000000000000001E-2,4.9000000000000002E-2,5.1999999999999998E-2,0.72,0.23,0.24,23,25,4550,180,180,620,430,470,-37,80,80,-1300,1100,1100,0.73587999999999998,7.0000000000000001E-3,1.1999999999999999E-3,1.5E-3,47.4,1.1000000000000001,4.6690000000000002E-2,2.5000000000000001E-4,2.5999999999999998E-4,33,13,13,129.69999999999999,3.5,4,135.30000000000001,3.3,3.8,140,24,31,3.2000000000000002E-3,2.0999999999999999E-3,-51,13,0.35,0.11,0.15,0.11,0.13,2.1399999999999999E-2,1E-3,1.1999999999999999E-3,0.86212,1.2999999999999999E-2,2.4E-2,3.1E-2,3.7999999999999999E-2,3.3000000000000002E-2,3.4000000000000002E-2,48.1,2.4,2070,290,300,100,110,130,136.19999999999999,6.4,7.3,280,460,600]
["Output_1_53","Baclab2N4CII-53","04/12/2018 (3) 19:48:20.19","04/12/2018 (3)","19:48:20.190",12.894,"Baclab2N4CII-53",28,"Normal",1,0.70799999999999996,2.1000000000000001E-2,2.7E-2,8.0399999999999999E-2,1.1000000000000001E-3,1.1999999999999999E-3,0.30445,null,0.185639,6.4399999999999999E-2,1.8E-3,3.3E-3,0.17032,2.7560000000000001E-2,5.9999999999999995E-4,2.3E-3,5.93,0.17,0.45,543,12,16,498.4,6.7,7.3,549,12,45,748,58,110,410,650,39,49,110,140,511,28,262,14,76,3.9,1.9350000000000001,1.7000000000000001E-2,12.437810000000001,0.17,32.6,5.6,977000000000000,56000000000000,null,null,null,null,null,null,1,4.7999999999999996E-3,2.8999999999999998E-3,3.0000000000000001E-3,110,14,4.6074299999999999E-2,1.3E-6,1.3999999999999999E-6,1.51,6.9000000000000006E-2,7.0999999999999994E-2,62.1,5.6,5.8,63.8,5.9,6,97,58,61,0.28999999999999998,3.7999999999999999E-2,-39.1,4.2,0,1,-0.9,1.3,1.4,3.0000000000000001E-3,0.01,1.0999999999999999E-2,0.99611000000000005,-3.7999999999999999E-2,5.1999999999999998E-2,5.5E-2,0.66,0.28999999999999998,0.3,33,33,4550,130,140,640,480,490,12,68,68,-600,1100,1100,0.77088999999999996,7.9900000000000006E-3,5.0000000000000001E-4,8.0000000000000004E-4,46.9,1.2,4.6141000000000001E-2,9.3999999999999994E-5,9.6000000000000002E-5,4.9000000000000004,4.8,4.9000000000000004,128.4,3.4,3.7,136.19999999999999,3.6,4,161,10,16,4.7000000000000002E-3,3.0999999999999999E-3,-79,14,0.51,0.16,0.26,0.11,0.12,2.2200000000000001E-2,1.1000000000000001E-3,1.2999999999999999E-3,0.85506000000000004,1.12E-2,4.0000000000000001E-3,6.4000000000000003E-3,5.7000000000000002E-2,2.9000000000000001E-2,0.03,45.7,2.2999999999999998,1930,330,340,200,100,110,141.80000000000001,7.2,8,224,80,130]
["Output_1_54","Baclab2N4CII-54","04/12/2018 (3) 19:49:07.91","04/12/2018 (3)","19:49:07.910",24.178000000000001,"Baclab2N4CII-54",52,"Normal",1,2.6680000000000001,8.8999999999999996E-2,0.12,0.22800000000000001,2.5000000000000001E-3,3.8999999999999998E-3,8.6834999999999996E-2,null,7.5023080000000006E-2,8.5099999999999995E-2,3.0000000000000001E-3,5.0000000000000001E-3,0.28544999999999998,6.5699999999999995E-2,2.5999999999999999E-3,6.1000000000000004E-3,7.57,0.3,0.65,1316,25,33,1324,13,21,1285,49,110,1308,66,110,460,270,39,23,40,30,69.5,2.6,32.799999999999997,1.1000000000000001,22.2,1.1000000000000001,2.105,2.7E-2,4.3859649999999997,4.8000000000000001E-2,-4,5.7,378000000000000,13000000000000,null,null,null,null,null,null,0.96755000000000002,4.3E-3,2.0999999999999999E-3,2.3E-3,119,14,4.6080000000000003E-2,1.5E-5,1.5E-5,1.82,0.78,0.81,57.1,4.7,4.8,56.5,5.5,5.6,87,43,46,0.34,3.9E-2,-37.1,4.2,0.27,0.15,0.1,1,1.1000000000000001,9.1999999999999998E-3,8.3000000000000001E-3,8.3000000000000001E-3,0.99419000000000002,5.0000000000000001E-3,3.2000000000000001E-2,3.4000000000000002E-2,0.85,0.22,0.23,9,26,4520,120,130,780,350,360,57,53,53,0,660,710,0.99068999999999996,-4.0000000000000001E-3,1.7999999999999999E-2,1.7999999999999999E-2,41.7,6,4.8140000000000002E-2,8.7000000000000001E-4,8.7000000000000001E-4,104,43,43,162,20,20,166,21,21,-90,380,380,8.3000000000000004E-2,4.3999999999999997E-2,-41,25,0,1,5.3,6.5,6.5,0.05,4.3999999999999997E-2,4.3999999999999997E-2,0.99865000000000004,0.35,0.46,0.46,0.6,0.2,0.2,14.1,9.1,4380,250,250,1990,610,610,390,320,320,7100,5500,5500]
["Output_1_55","Baclab2N4CII-55","04/12/2018 (3) 19:50:02.56","04/12/2018 (3)","19:50:02.560",15.863,"Baclab2N4CII-55",34,"Normal",1,1.804,8.6999999999999994E-2,0.23,7.4499999999999997E-2,1.1999999999999999E-3,2.5999999999999999E-3,0.33045999999999998,null,0.46844740000000001,0.1757,8.6999999999999994E-3,1.7000000000000001E-2,-1.9435999999999998E-2,3.2599999999999997E-2,9.1999999999999998E-3,8.8999999999999999E-3,2.0259999999999998,6.2E-2,0.16,1043,32,69,463.1,7.2,16,640,180,170,2593,83,140,64,50,11,8.6,33,26,248.6,6.2,186.4,2.8,90.7,3,1.3,3.4000000000000002E-2,13.42282,0.22,81.77,"16:19:12",461000000000000,13000000000000,null,null,null,null,null,null,0.99963999999999997,3.3E-3,2.8999999999999998E-3,3.3E-3,127,20,4.6096999999999999E-2,4.6E-5,4.8000000000000001E-5,2.7,2.4,2.5,55.7,6.5,6.9,57,6.8,6.8,66,59,66,0.41,4.5999999999999999E-2,-33.200000000000003,5.5,0.21,0.13,0.6,1,1.1000000000000001,1.47E-2,8.0999999999999996E-3,8.0999999999999996E-3,0.99038999999999999,2.4E-2,3.6999999999999998E-2,4.1000000000000002E-2,0.57999999999999996,0.22,0.23,34,26,4524,92,96,1050,280,290,92,52,52,340,750,840,0.75217999999999996,4.5999999999999999E-3,1.8E-3,2.0999999999999999E-3,58.4,1.2,4.6219999999999997E-2,1.2E-4,1.2E-4,8.9,6.3,6.4,105.9,2.8,3,109.3,2.2000000000000002,2.7,93,37,42,4.1000000000000003E-3,3.7000000000000002E-3,-62,10,6.5000000000000002E-2,0.05,0.03,0.17,0.19,1.66E-2,1.6999999999999999E-3,2E-3,0.96894999999999998,-1.4999999999999999E-2,4.3999999999999997E-2,5.0999999999999997E-2,-4.7E-2,7.3999999999999996E-2,7.4999999999999997E-2,66.599999999999994,7.9,2390,370,380,-40,200,210,106,11,13,-350,940,1100]
["Output_1_56","Baclab2N4CII-56","04/12/2018 (3) 19:51:15.22","04/12/2018 (3)","19:51:15.220",15.864000000000001,"Baclab2N4CII-56",34,"Normal",1,0.76400000000000001,5.6000000000000001E-2,5.1999999999999998E-2,6.3799999999999996E-2,1.5E-3,1.6000000000000001E-3,0.48243999999999998,null,0.39307789999999998,8.8999999999999996E-2,6.1999999999999998E-3,6.4999999999999997E-3,-0.16439000000000001,2.4199999999999999E-2,1.2999999999999999E-3,2.3999999999999998E-3,3.08,0.18,0.27,572,33,29,398.3,9.1999999999999993,9.8000000000000007,489,25,47,1410,130,130,310,170,28,16,101,55,87.5,1.2,77.900000000000006,1.8,20.100000000000001,1.2,1.115,2.1999999999999999E-2,15.67398,0.4,70,3.4,141500000000000,4400000000000,null,null,null,null,null,null,0.41511999999999999,1.6999999999999999E-3,2.2000000000000001E-3,2.3999999999999998E-3,110,11,4.6077100000000003E-2,3.4000000000000001E-6,3.4999999999999999E-6,1.65,0.18,0.18,57.4,7.2,7.4,58.6,7,7,34,45,49,0.40899999999999997,3.5000000000000003E-2,-35.299999999999997,4.0999999999999996,0.21,0.23,-0.36,0.91,0.93,6.4000000000000003E-3,7.1999999999999998E-3,7.3000000000000001E-3,0.98853999999999997,-1.0999999999999999E-2,3.1E-2,3.3000000000000002E-2,0.18,0.64,0.66,77,77,3820,780,810,220,570,580,41,47,47,-260,630,680,0.74156999999999995,6.6800000000000002E-3,5.1000000000000004E-4,7.6000000000000004E-4,52.8,1.7,4.6300000000000001E-2,1.6000000000000001E-4,1.6000000000000001E-4,12.8,8.1999999999999993,8.1999999999999993,115.6,4.5999999999999996,4.8,119.7,4.0999999999999996,4.4000000000000004,134,10,15,2.3E-3,6.4999999999999997E-3,-65,11,0.61,0.13,0.51,0.48,0.5,2.2499999999999999E-2,4.1000000000000003E-3,4.4999999999999997E-3,0.98802000000000001,1.7000000000000001E-2,1.4999999999999999E-2,2.3E-2,0.24,0.16,0.16,44,27,3300,290,290,530,210,220,143,26,28,310,310,470]
["Output_1_57","Baclab2N4CII-57","04/12/2018 (3) 19:52:10.47","04/12/2018 (3)","19:52:10.470",9.9250000000000007,"Baclab2N4CII-57",22,"Normal",1,1.7889999999999999,7.4999999999999997E-2,7.8E-2,0.16980000000000001,2.0999999999999999E-3,2.7000000000000001E-3,-6.5300999999999996E-3,null,9.3645820000000005E-2,7.7299999999999994E-2,3.0999999999999999E-3,4.5999999999999999E-3,0.30446000000000001,5.45E-2,2.3E-3,5.1999999999999998E-3,11.21,0.51,0.88,1046,26,28,1011,12,15,1072,43,96,1116,81,120,1300,1000,90,80,97,88,192.1,6.3,53.5,2.4,31,1.8,3.5779999999999998,5.7000000000000002E-2,5.8892819999999997,7.3999999999999996E-2,6.8,7.8,746000000000000,28000000000000,null,null,null,null,null,null,0.81608999999999998,4.7000000000000002E-3,1.9E-3,2E-3,115,9.4,4.6076499999999999E-2,3.4999999999999999E-6,3.5999999999999998E-6,1.62,0.18,0.19,56.8,4.9000000000000004,5,56.6,4.9000000000000004,4.9000000000000004,94,38,40,0.29299999999999998,3.9E-2,-37.200000000000003,4.8,0.28000000000000003,0.17,-0.27,0.48,0.5,6.6E-3,4.1999999999999997E-3,4.1999999999999997E-3,0.98721999999999999,-2E-3,1.4E-2,1.4999999999999999E-2,0.52,0.56000000000000005,0.57999999999999996,34,77,3850,380,390,-10,480,500,42,27,27,-60,280,300,0.89429000000000003,6.1700000000000001E-3,6.8999999999999997E-4,1.1000000000000001E-3,49.8,1.2,4.6300000000000001E-2,1.8000000000000001E-4,1.8000000000000001E-4,13.1,8.9,9.1,122.3,2.9,3.2,128.6,3.1,3.5,124,14,21,3.3999999999999998E-3,3.3999999999999998E-3,-58,13,0.47,0.15,0.09,0.13,0.14000000000000001,1.9400000000000001E-2,1.5E-3,1.6999999999999999E-3,0.85292999999999997,2E-3,9.7999999999999997E-3,1.4999999999999999E-2,0.02,3.6999999999999998E-2,3.6999999999999998E-2,51.7,4.3,2080,450,460,30,140,150,124.1,9.3000000000000007,11,30,200,310]
["Output_1_58","Baclab2N4CII-58","04/12/2018 (3) 19:53:07.50","04/12/2018 (3)","19:53:07.500",14.676,"Baclab2N4CII-58",32,"Normal",1,1.7310000000000001,9.2999999999999999E-2,9.0999999999999998E-2,0.17100000000000001,2.3999999999999998E-3,3.2000000000000002E-3,0.19101000000000001,null,0.1094354,7.3200000000000001E-2,3.8999999999999998E-3,4.8999999999999998E-3,3.7221999999999998E-2,5.62E-2,3.0999999999999999E-3,5.7000000000000002E-3,8.6,0.43,0.73,1023,33,31,1018,13,17,1104,59,110,1030,110,130,-7,72,-1.9,5.5,-2.2999999999999998,9.1,79.900000000000006,1.6,29.3,0.41,17.09,0.88,2.7160000000000002,5.8000000000000003E-2,5.8479530000000004,8.3000000000000004E-2,-8,14,320200000000000,7000000000000,null,null,null,null,null,null,1,1.5E-3,1.6000000000000001E-3,1.8E-3,123,11,4.6071399999999998E-2,1.5999999999999999E-6,1.7E-6,1.355,8.3000000000000004E-2,8.6999999999999994E-2,50.9,3.9,4.0999999999999996,52,4.0999999999999996,4.0999999999999996,31,33,37,0.32800000000000001,3.4000000000000002E-2,-38.5,3.8,0.33,0.15,-0.03,0.62,0.64,8.2000000000000007E-3,4.7999999999999996E-3,4.7999999999999996E-3,0.98873999999999995,-1E-3,1.7999999999999999E-2,2.1000000000000001E-2,0.69,0.22,0.23,34,27,4340,140,150,530,230,240,52,31,31,-40,370,430,0.77186999999999995,4.7999999999999996E-3,1.1000000000000001E-3,1.1999999999999999E-3,57.7,1.3,4.6074499999999997E-2,1.9E-6,1.9E-6,1.52,0.1,0.1,106.4,2.2999999999999998,2.4,111.1,2.5,2.8,97,22,24,1.04E-2,5.4000000000000003E-3,-75.599999999999994,6.6,0.27,0.15,0.04,0.33,0.34,1.7000000000000001E-2,2.8999999999999998E-3,3.3E-3,0.99075999999999997,0,2.1999999999999999E-2,2.5000000000000001E-2,-0.33,0.47,0.47,92,43,2640,340,340,90,270,280,108,18,21,-30,460,510]
["Output_1_59","Baclab2N4CII-59","04/12/2018 (3) 19:54:06.50","04/12/2018 (3)","19:54:06.500",23.584,"Baclab2N4CII-59",51,"Normal",1,0.38200000000000001,1.7000000000000001E-2,0.02,5.2990000000000002E-2,7.3999999999999999E-4,1E-3,-0.23341999999999999,null,0.35613299999999998,5.16E-2,2.5000000000000001E-3,3.3999999999999998E-3,0.48853999999999997,1.5910000000000001E-2,4.8999999999999998E-4,1.4E-3,2.89,0.1,0.24,328,13,15,332.8,4.5,6.2,319.10000000000002,9.6999999999999993,28,280,100,140,330,210,14.6,9.6,79,64,216,12,261.10000000000002,8.1,42,1.3,0.81499999999999995,1.9E-2,18.871490000000001,0.28000000000000003,84,50,308000000000000,16000000000000,null,null,null,null,null,null,1,5.5999999999999999E-3,1.6999999999999999E-3,1.8E-3,119,12,4.6072299999999997E-2,1.5E-6,1.5999999999999999E-6,1.403,0.08,8.4000000000000005E-2,55,5.2,5.6,56.3,5.4,5.4,113,34,37,0.376,3.4000000000000002E-2,-38.1,2.6,0.3,0.17,-0.7,0.93,1,1.9E-3,7.1999999999999998E-3,7.1999999999999998E-3,0.99058000000000002,-1.7999999999999999E-2,2.7E-2,0.03,0.92,0.31,0.33,2,54,4370,220,230,640,370,400,21,48,49,-430,570,620,0.91132000000000002,4.1000000000000003E-3,4.8000000000000001E-4,7.2999999999999996E-4,71.5,2.2000000000000002,4.6119E-2,4.8999999999999998E-5,4.8999999999999998E-5,3.8,2.5,2.6,86.3,2.8,2.9,89,2.8,3.1,82.6,9.6999999999999993,15,8.0999999999999996E-3,5.0000000000000001E-3,-54.3,4.7,0.75,0.11,0.2,0.16,0.17,1.43E-2,1.6000000000000001E-3,1.8E-3,0.94589999999999996,1.01E-2,5.7999999999999996E-3,8.8000000000000005E-3,-5.0000000000000001E-3,9.2999999999999999E-2,9.4E-2,84,16,2720,280,280,250,110,110,91,10,11,200,120,180]
["Output_1_60","Baclab2N4CII-60","04/12/2018 (3) 19:55:17.19","04/12/2018 (3)","19:55:17.190",6.9554,"Baclab2N4CII-60",15,"Normal",1,0.40699999999999997,0.04,2.1999999999999999E-2,5.0900000000000001E-2,7.9000000000000001E-4,9.6000000000000002E-4,-6.2811000000000006E-2,null,0.37054049999999999,6.0199999999999997E-2,5.1999999999999998E-3,3.8999999999999998E-3,0.28636,1.61E-2,1.1000000000000001E-3,1.4E-3,3.14,0.17,0.25,354,26,15,320,4.9000000000000004,5.9,323,21,29,570,200,140,1030,690,65,45,370,250,254.2,4.5,272.5,4.8,42.8,2.8,0.93100000000000005,1.2E-2,19.646370000000001,0.3,56,24,342700000000000,7500000000000,null,null,null,null,null,null,0.99994000000000005,2.0999999999999999E-3,1.1000000000000001E-3,1.1999999999999999E-3,138,14,4.60741E-2,3.1E-6,3.1999999999999999E-6,1.5,0.16,0.17,48.2,4.3,4.5,50,4.5999999999999996,4.7,41,21,24,0.33200000000000002,3.6999999999999998E-2,-34.4,4.3,0.6,0.15,-0.54,0.63,0.66,3.5999999999999999E-3,5.1000000000000004E-3,5.1000000000000004E-3,0.99299999999999999,-1.4E-2,1.7999999999999999E-2,0.02,0.56999999999999995,0.33,0.34,18,62,4250,160,170,280,360,380,22,33,33,-310,370,420,0.81821999999999995,5.62E-3,3.6000000000000002E-4,5.4000000000000001E-4,57.1,1.6,4.6210000000000001E-2,1.7000000000000001E-4,1.7000000000000001E-4,8.3000000000000007,8.6,8.8000000000000007,108.4,3.8,4.0999999999999996,111.5,2.8,3.2,113.3,7.2,11,2.3999999999999998E-3,3.2000000000000002E-3,-50,12,0.7,0.16,7.0000000000000007E-2,0.12,0.13,1.6899999999999998E-2,1E-3,1.1000000000000001E-3,0.83682000000000001,4.4999999999999997E-3,2.3999999999999998E-3,3.5999999999999999E-3,1.7999999999999999E-2,3.6999999999999998E-2,3.7999999999999999E-2,60.2,3.7,1820,350,360,40,120,130,107.9,6.4,7.3,91,49,73]
["Output_1_61","Baclab2N4CII-61","04/12/2018 (3) 20:00:06.50","04/12/2018 (3)","20:00:06.500",23.585999999999999,"Baclab2N4CII-61",51,"Normal",1,0.38300000000000001,1.7000000000000001E-2,2.1000000000000001E-2,5.2600000000000001E-2,6.4999999999999997E-4,9.3999999999999997E-4,-1.7853000000000001E-2,null,0.33974759999999998,5.1700000000000003E-2,2.3E-3,3.3E-3,0.29413,1.5730000000000001E-2,3.4000000000000002E-4,1.4E-3,2.59,5.7000000000000002E-2,0.2,328,13,15,330.4,4,5.8,315.39999999999998,6.8,27,280,110,150,190,220,14,13,100,100,255.6,6.2,357.4,8.8000000000000007,46.6,1.3,0.7228,9.4999999999999998E-3,19.011410000000001,0.22,93,65,375700000000000,9000000000000,null,null,null,null,null,null,1,6.0000000000000001E-3,1.6000000000000001E-3,1.6999999999999999E-3,114,11,4.6076499999999999E-2,2.5000000000000002E-6,2.7E-6,1.62,0.13,0.14000000000000001,58,4.5999999999999996,4.9000000000000004,59.4,4.9000000000000004,4.9000000000000004,121,32,34,0.32100000000000001,0.03,-36.5,4.2,0.24,0.14000000000000001,-0.4,0.78,0.82,6.1000000000000004E-3,6.1000000000000004E-3,6.1000000000000004E-3,0.99314000000000002,-8.0000000000000002E-3,2.3E-2,2.5000000000000001E-2,1.1100000000000001,0.34,0.36,-34,46,4420,170,180,740,300,310,38,39,39,-220,470,500,0.83913000000000004,7.1599999999999997E-3,6.4000000000000005E-4,7.7999999999999999E-4,47.5,1.1000000000000001,4.6179999999999999E-2,1.6000000000000001E-4,1.6000000000000001E-4,2.9,1.5,1.5,127.5,3.3,3.4,133.19999999999999,2.4,2.9,144,13,16,6.4999999999999997E-3,5.4000000000000003E-3,-69,18,0.66,0.18,0.35,0.21,0.22,2.2200000000000001E-2,1.8E-3,2.0999999999999999E-3,0.96116000000000001,1.01E-2,4.0000000000000001E-3,4.8999999999999998E-3,7.1999999999999995E-2,5.3999999999999999E-2,5.3999999999999999E-2,45.6,4.2,2390,380,390,290,150,160,142,11,13,202,80,99]
["Output_1_62","Baclab2N4CII-62","04/12/2018 (3) 20:01:20.57","04/12/2018 (3)","20:01:20.570",8.7370999999999999,"Baclab2N4CII-62",19,"Normal",1,0.52600000000000002,1.9E-2,3.3000000000000002E-2,5.4300000000000001E-2,1.1000000000000001E-3,1.1000000000000001E-3,-0.15892000000000001,null,0.37307230000000002,7.0599999999999996E-2,2.8999999999999998E-3,4.5999999999999999E-3,0.58311000000000002,1.9269999999999999E-2,5.9000000000000003E-4,1.6999999999999999E-3,3.25,0.12,0.25,429,13,21,340.6,6.8,6.6,386,12,34,934,89,130,-90,110,-5.6,8.1999999999999993,-30,39,330.3,4.8,314.39999999999998,3.8,52.9,1.7,1.0549999999999999,1.0999999999999999E-2,18.41621,0.36,61.6,5,463200000000000,7400000000000,null,null,null,null,null,null,0.99077999999999999,5.6299999999999996E-3,7.1000000000000002E-4,8.4999999999999995E-4,56.5,1.3,4.6076699999999998E-2,2.5000000000000002E-6,2.7999999999999999E-6,1.63,0.13,0.15,109.1,2.4,2.6,113.8,2.6,2.7,113,14,17,6.2799999999999995E-2,7.6E-3,-74,6.8,0.4,0.14000000000000001,-0.27,0.28000000000000003,0.3,1.44E-2,2.3999999999999998E-3,2.5000000000000001E-3,0.98865000000000003,-7.4000000000000003E-3,8.0999999999999996E-3,9.7000000000000003E-3,-0.08,0.33,0.36,65,23,3300,270,300,-60,240,260,92,15,16,-160,170,200,0.77309000000000005,3.8E-3,6.7000000000000002E-4,8.3000000000000001E-4,74.3,2.5,4.6091E-2,2.0999999999999999E-5,2.1999999999999999E-5,2.4,1.1000000000000001,1.1000000000000001,82.2,2.5,2.6,86.3,2.5,2.7,77,13,17,1.2200000000000001E-2,5.0000000000000001E-3,-57.2,4.0999999999999996,0.54,0.12,7.0000000000000007E-2,0.22,0.23,1.3299999999999999E-2,2E-3,2.2000000000000001E-3,0.99075999999999997,3.0000000000000001E-3,1.2999999999999999E-2,1.6E-2,-0.04,0.22,0.22,83,28,2910,260,270,110,200,210,85,13,14,30,260,320]
["Output_1_63","Baclab2N4CII-63","04/12/2018 (3) 20:02:10.06","04/12/2018 (3)","20:02:10.060",13.486000000000001,"Baclab2N4CII-63",29,"Normal",1,0.80200000000000005,3.9E-2,4.2999999999999997E-2,9.3799999999999994E-2,1.8E-3,2.0999999999999999E-3,0.20408000000000001,null,0.23867869999999999,6.2700000000000006E-2,3.2000000000000002E-3,3.8999999999999998E-3,0.24482000000000001,2.9499999999999998E-2,1.5E-3,2.8E-3,5.34,0.27,0.45,601,22,24,578,11,12,587,30,55,670,110,140,490,400,29,24,92,76,102.7,4.7,63.5,1.6,16.64,0.93,1.635,3.9E-2,10.66098,0.21,8,16,235000000000000,11000000000000,null,null,null,null,null,null,0.99904999999999999,4.7000000000000002E-3,2.5999999999999999E-3,2.8E-3,96.8,7,4.6073900000000001E-2,3.1999999999999999E-6,3.3000000000000002E-6,1.49,0.17,0.17,64.3,3.8,3.9,66.099999999999994,3.9,4,94,52,57,0.20200000000000001,2.9000000000000001E-2,-47.7,3,0,1,-0.38,0.51,0.53,7.1000000000000004E-3,4.1999999999999997E-3,4.1999999999999997E-3,0.98907999999999996,-2.1999999999999999E-2,2.8000000000000001E-2,3.1E-2,0.66,0.47,0.49,24,52,4060,270,280,270,270,270,45,27,27,-530,590,640,0.74138999999999999,1.056E-2,6.4999999999999997E-4,1.2999999999999999E-3,27.97,0.65,4.759E-2,5.6999999999999998E-4,5.8E-4,76,28,29,210.6,6.8,7.4,226.8,5.6,6.3,212,13,25,7.3000000000000001E-3,3.3999999999999998E-3,-85,26,0.38,0.12,0.02,0.26,0.28000000000000003,3.4099999999999998E-2,2.3999999999999998E-3,2.7000000000000001E-3,0.92047000000000001,3.3E-3,8.8000000000000005E-3,1.7000000000000001E-2,-3.6999999999999998E-2,6.0999999999999999E-2,6.3E-2,30.9,2.7,1900,330,330,160,210,230,216,15,17,60,180,350]
["Output_1_64","Baclab2N4CII-64","04/12/2018 (3) 20:03:16.00","04/12/2018 (3)","20:03:16",16.456,"Baclab2N4CII-64",36,"Normal",1,0.67800000000000005,3.1E-2,2.9000000000000001E-2,0.08,1.5E-3,1.2999999999999999E-3,0.31935999999999998,null,0.203125,6.1400000000000003E-2,2.8E-3,3.5000000000000001E-3,0.14029,2.7199999999999998E-2,1.1000000000000001E-3,2.3E-3,5.43,0.2,0.42,524,19,17,495.8,9,7.5,541,22,45,644,99,120,1900,1100,122,69,300,200,303,25,180,14,46,2.8,1.696,0.02,12.5,0.23,26,93,579000000000000,45000000000000,null,null,null,null,null,null,0.88070999999999999,3.7000000000000002E-3,1.2999999999999999E-3,1.4E-3,119,10,4.6093000000000002E-2,3.1999999999999999E-5,3.4E-5,2.5,1.7,1.8,56.4,4.9000000000000004,5.0999999999999996,55.7,4.7,4.8,74,27,29,0.39200000000000002,3.5000000000000003E-2,-35.299999999999997,2.9,0.39,0.15,-0.21,0.51,0.53,7.6E-3,4.1000000000000003E-3,4.1000000000000003E-3,0.98690999999999995,-4.0000000000000001E-3,1.4E-2,1.4999999999999999E-2,0.68,0.72,0.76,13,91,3460,470,500,560,190,200,48,26,26,-90,290,310,0.49335000000000001,1.0789999999999999E-2,5.5000000000000003E-4,1.1999999999999999E-3,27.46,0.57999999999999996,4.7500000000000001E-2,6.4999999999999997E-4,6.6E-4,79,33,34,221.3,7.1,8.5,231.2,4.8,5.7,217,11,24,6.1999999999999998E-3,3.3999999999999998E-3,-75,33,0.38,0.15,0.25,0.14000000000000001,0.16,3.6900000000000002E-2,1.2999999999999999E-3,1.5E-3,0.82326999999999995,1.11E-2,3.8999999999999998E-3,8.2000000000000007E-3,0.04,2.4E-2,2.5000000000000001E-2,27.03,"20:52:48",1640,270,270,190,120,140,233.7,8,9.5,222,77,160]
["Output_1_65","Baclab2N4CII-65","04/12/2018 (3) 20:04:10.25","04/12/2018 (3)","20:04:10.250",18.832000000000001,"Baclab2N4CII-65",41,"Normal",1,1.58,4.7E-2,6.5000000000000002E-2,0.1595,1.6000000000000001E-3,2.5999999999999999E-3,5.4377000000000002E-2,null,0.10220029999999999,7.1199999999999999E-2,2.2000000000000001E-3,3.8999999999999998E-3,0.37486999999999998,4.99E-2,1.6000000000000001E-3,4.4000000000000003E-3,7.72,0.27,0.62,961,18,25,953.7,9.1999999999999993,15,983,31,85,970,63,110,250,380,18,28,54,65,161.80000000000001,2.9,72.099999999999994,1.1000000000000001,34.9,1.2,2.2690000000000001,2.7E-2,6.2695920000000003,6.2E-2,-2,7.2,607000000000000,11000000000000,null,null,null,null,null,null,0.92684999999999995,4.7999999999999996E-3,3.0000000000000001E-3,3.0999999999999999E-3,102,12,4.6120000000000001E-2,1E-4,1.1E-4,3.9,5.0999999999999996,5.3,68.900000000000006,7.3,7.5,67.900000000000006,6.5,6.6,95,60,63,0.39900000000000002,4.1000000000000002E-2,-50,8.3000000000000007,0,1,-0.06,0.99,1,8.6E-3,8.0000000000000002E-3,8.0999999999999996E-3,0.99292000000000002,7.0000000000000001E-3,4.1000000000000002E-2,4.2999999999999997E-2,0.87,0.5,0.53,8,48,4460,250,260,790,390,400,53,51,52,-30,850,890,0.38923999999999997,2.3800000000000002E-2,2E-3,2.8999999999999998E-3,14.43,0.45,5.0599999999999999E-2,1.4E-3,1.5E-3,209,65,66,399,19,21,433,14,15,481,38,54,7.4000000000000003E-3,3.3999999999999998E-3,-81,47,0.44,0.12,1.37,0.56000000000000005,0.6,7.5899999999999995E-2,5.7000000000000002E-3,6.1000000000000004E-3,0.94220000000000004,5.8000000000000003E-2,2.3E-2,3.2000000000000001E-2,0.121,3.6999999999999998E-2,3.7999999999999999E-2,13.4,1.1000000000000001,2340,300,310,930,180,190,471,34,37,1300,370,520]
["Output_1_66","Baclab2N4CII-66","04/12/2018 (3) 20:05:14.41","04/12/2018 (3)","20:05:14.410",14.676,"Baclab2N4CII-66",32,"Normal",1,1.425,6.3E-2,6.9000000000000006E-2,0.151,2.5000000000000001E-3,4.1000000000000003E-3,0.35849999999999999,null,0.1798167,6.8199999999999997E-2,2.8E-3,3.5999999999999999E-3,2.0722999999999998E-2,4.4499999999999998E-2,1.6000000000000001E-3,3.8E-3,10.15,0.49,1.8,902,28,31,906,14,23,879,30,74,888,86,110,150,490,10,32,22,58,177,11,63.1,2.6,29.8,1.3,2.8420000000000001,6.0999999999999999E-2,6.6225170000000002,0.11,-10,12,616000000000000,45000000000000,null,null,null,null,null,null,0.99995999999999996,3.8E-3,1.5E-3,1.5E-3,118,11,4.6074200000000003E-2,2.7E-6,2.7999999999999999E-6,1.5,0.14000000000000001,0.15,55.8,5.2,5.4,57.2,5.4,5.4,77,29,31,0.34499999999999997,3.3000000000000002E-2,-37.700000000000003,3.4,0.33,0.14000000000000001,-0.62,0.72,0.76,4.1000000000000003E-3,5.7000000000000002E-3,5.7000000000000002E-3,0.99307999999999996,-1.4999999999999999E-2,2.1000000000000001E-2,2.3E-2,0.9,0.32,0.33,5,31,4400,160,170,580,300,310,25,37,37,-360,440,470,0.32797999999999999,5.3100000000000001E-2,1.1000000000000001E-3,2.5999999999999999E-3,5.46,0.06,7.8600000000000003E-2,1.9E-3,2.2000000000000001E-3,1157,49,55,1117,20,28,1085,11,16,1046,20,49,-1.1000000000000001E-3,1.1999999999999999E-3,7.2999999999999995E-2,3.5000000000000003E-2,0.8,9.0999999999999998E-2,2.08,0.24,0.35,0.18290000000000001,3.3999999999999998E-3,5.1000000000000004E-3,0.80571000000000004,5.8999999999999997E-2,1.2E-2,2.9000000000000001E-2,8.3000000000000004E-2,9.1000000000000004E-3,0.01,5.48,"02:24:00",1320,170,200,1135,88,130,1083,18,28,1150,230,550]
["Output_1_67","Baclab2N4CII-67","04/12/2018 (3) 20:06:04.50","04/12/2018 (3)","20:06:04.500",23.585999999999999,"Baclab2N4CII-67",51,"Normal",1,1.8120000000000001,4.9000000000000002E-2,7.0999999999999994E-2,0.1759,1.8E-3,2.8999999999999998E-3,0.18526000000000001,null,9.3727350000000001E-2,7.4499999999999997E-2,2.0999999999999999E-3,4.0000000000000001E-3,0.15476000000000001,5.2900000000000003E-2,1.2999999999999999E-3,4.5999999999999999E-3,7.64,0.2,0.62,1054,18,25,1044,10,16,1043,25,89,1050,58,110,1100,800,43,45,130,100,166.2,7.4,75.099999999999994,3.3,41.9,1.4,2.2320000000000002,1.4E-2,5.6850480000000001,5.8000000000000003E-2,-3.9,6.6,688000000000000,31000000000000,null,null,null,null,null,null,0.95716999999999997,3.0000000000000001E-3,2.8E-3,3.0000000000000001E-3,139,18,4.6072799999999997E-2,1.9E-6,1.9999999999999999E-6,1.43,0.1,0.1,48.1,6.2,6.7,48,6.4,6.5,61,56,60,0.439,4.2999999999999997E-2,-32.6,5.3,0.24,0.14000000000000001,0.4,1,1.1000000000000001,1.11E-2,7.7000000000000002E-3,7.7000000000000002E-3,0.99621999999999999,1.4E-2,3.2000000000000001E-2,3.5000000000000003E-2,0.68,0.28999999999999998,0.31,24,33,4704,89,94,780,370,400,69,49,50,180,680,730,0.74439,2.35E-2,1E-3,1.8E-3,12.89,0.35,5.3600000000000002E-2,1.5E-3,1.5E-3,341,63,64,461,17,19,481,14,15,470,20,36,1.0200000000000001E-2,4.1000000000000003E-3,-8,16,0.53,0.13,0.51,0.36,0.4,7.6700000000000004E-2,3.2000000000000002E-3,3.5999999999999999E-3,0.84626000000000001,2.3300000000000001E-2,8.5000000000000006E-3,1.6E-2,3.7999999999999999E-2,3.6999999999999998E-2,3.7999999999999999E-2,13.08,"15:50:24",1840,320,330,600,150,160,476,19,21,460,170,310]
["Output_1_68","Baclab2N4CII-68","04/12/2018 (3) 20:07:11.63","04/12/2018 (3)","20:07:11.630",12.895,"Baclab2N4CII-68",28,"Normal",1,1.88,6.7000000000000004E-2,7.0000000000000007E-2,0.1769,2.3E-3,2.8999999999999998E-3,8.5555000000000006E-2,null,9.2670680000000005E-2,7.5899999999999995E-2,3.0000000000000001E-3,4.1000000000000003E-3,0.25539000000000001,5.4199999999999998E-2,1.9E-3,4.7000000000000002E-3,5.58,0.19,0.43,1072,24,25,1050,13,16,1067,37,90,1094,77,99,970,970,71,71,210,180,131.1,4.5999999999999996,80.7,3.1,47.7,2.1,1.66,1.7999999999999999E-2,5.6529109999999996,7.4999999999999997E-2,4.2,6.6,573000000000000,21000000000000,null,null,null,null,null,null,0.99997999999999998,3.5999999999999999E-3,1.1000000000000001E-3,1.1999999999999999E-3,103.8,8,4.6079099999999998E-2,5.4E-6,5.5999999999999997E-6,1.76,0.28000000000000003,0.28999999999999998,61.2,4.7,4.8,62.8,4.9000000000000004,4.9000000000000004,72,22,24,0.26600000000000001,3.4000000000000002E-2,-41.4,3.9,0.49,0.15,-0.25,0.59,0.61,7.7000000000000002E-3,4.7000000000000002E-3,4.7999999999999996E-3,0.99016999999999999,-3.0000000000000001E-3,1.2999999999999999E-2,1.4999999999999999E-2,1.03,0.7,0.72,5,77,3990,310,320,540,220,230,49,30,30,-70,270,310,0.78076999999999996,9.7000000000000003E-3,2.5000000000000001E-3,3.0000000000000001E-3,25.87,0.45,4.9169999999999998E-2,7.2999999999999996E-4,7.6000000000000004E-4,158,36,37,237.7,6.3,7.1,245.2,4.2,5.3,194,51,60,1.3299999999999999E-2,3.2000000000000002E-3,-49,25,0.36,0.14000000000000001,0.1,0.16,0.18,3.7600000000000001E-2,1.6000000000000001E-3,2E-3,0.88568999999999998,-1.4999999999999999E-2,3.2000000000000001E-2,3.7999999999999999E-2,1.2999999999999999E-2,3.5000000000000003E-2,3.5999999999999997E-2,26.8,1.1000000000000001,1480,190,200,150,140,160,238,9.6999999999999993,12,-210,840,990]
["Output_1_69","Baclab2N4CII-69","04/12/2018 (3) 20:08:13.00","04/12/2018 (3)","20:08:13",13.487,"Baclab2N4CII-69",30,"Normal",1,0.59899999999999998,2.1999999999999999E-2,2.5999999999999999E-2,7.2639999999999996E-2,9.3999999999999997E-4,1.1999999999999999E-3,-0.29618,null,0.2274205,5.9499999999999997E-2,2.5000000000000001E-3,3.5999999999999999E-3,0.55239000000000005,2.12E-2,5.5999999999999995E-4,1.8E-3,2.94,0.1,0.26,479,15,16,452,5.7,7.2,424,11,36,565,91,120,440,690,26,42,150,230,430.3,2.6,527,19,123.2,5.6,0.82699999999999996,2.9000000000000001E-2,13.76652,0.18,7,18,851000000000000,14000000000000,null,null,null,null,null,null,0.99960000000000004,3.5999999999999999E-3,1.5E-3,1.5E-3,122,11,4.6086599999999998E-2,9.3999999999999998E-6,9.5000000000000005E-6,2.15,0.49,0.5,52.6,4.5999999999999996,4.7,53.7,4.8,4.8,72,30,31,0.29099999999999998,6.2E-2,-28.7,4.5,0.4,0.16,-0.74,0.82,0.82,2.8E-3,6.4999999999999997E-3,6.4999999999999997E-3,0.99212,-1.7999999999999999E-2,2.5000000000000001E-2,2.5000000000000001E-2,0.76,0.23,0.23,26,32,3630,840,850,520,330,330,17,41,41,-430,500,510,0.86034999999999995,1.7500000000000002E-2,1.8E-3,2.8999999999999998E-3,33.47,0.87,4.7449999999999999E-2,9.2000000000000003E-4,9.3000000000000005E-4,69,46,46,180.2,5.4,5.6,190.2,4.8,5.3,350,36,59,6.1999999999999998E-3,5.4000000000000003E-3,-87,38,0.12,0.11,0.22700000000000001,9.9000000000000005E-2,0.1,2.9700000000000001E-2,1.4E-3,1.6000000000000001E-3,0.70882000000000001,1.9E-2,1.0999999999999999E-2,1.7000000000000001E-2,4.5999999999999999E-2,2.1999999999999999E-2,2.1999999999999999E-2,33.4,1.5,940,190,190,197,89,93,188.5,9,9.9,390,210,340]
["Output_1_70","Baclab2N4CII-70","04/12/2018 (3) 20:08:59.34","04/12/2018 (3)","20:08:59.340",8.1422000000000008,"Baclab2N4CII-70",18,"Normal",1,0.55700000000000005,0.02,0.06,6.1899999999999997E-2,6.2E-4,3.5000000000000001E-3,-0.36670999999999998,null,0.91345410000000005,6.5299999999999997E-2,3.0000000000000001E-3,4.1000000000000003E-3,0.56845000000000001,2.3E-2,1.2E-2,5.3E-3,26.5,1.9,2.2000000000000002,449,13,34,387.2,3.7,21,460,240,100,769,96,120,370,330,23,20,15,12,1205,74,85.1,4.5999999999999996,27.9,1.9,13.94,0.5,16.155090000000001,0.16,46.3,6.9,1601000000000000,92000000000000,null,null,null,null,null,null,0.98277000000000003,4.0000000000000001E-3,2.3E-3,2.5000000000000001E-3,126,34,4.60734E-2,1.9E-6,1.9999999999999999E-6,1.46,9.9000000000000005E-2,0.1,54.9,7,7.5,55.5,7.3,7.4,81,47,51,0.47599999999999998,5.2999999999999999E-2,-37.1,6.6,0,1,0.27,0.61,0.66,1.1599999999999999E-2,4.7000000000000002E-3,4.7999999999999996E-3,0.98365999999999998,1.0999999999999999E-2,0.02,2.1999999999999999E-2,1.1599999999999999,0.51,0.53,-23,66,4170,310,320,810,220,230,73,30,30,180,400,430,0.55195000000000005,2.2499999999999999E-2,1.1999999999999999E-3,2.3E-3,13.32,0.21,5.5500000000000001E-2,1E-3,1.1000000000000001E-3,430,42,44,453,11,13,465.9,7.7,9.9,450,24,45,6.0000000000000001E-3,2.2000000000000001E-3,-0.26,0.28000000000000003,0.59,0.15,0.48,0.14000000000000001,0.17,7.46E-2,1.6000000000000001E-3,2.0999999999999999E-3,0.77485000000000004,1.7399999999999999E-2,8.0000000000000002E-3,1.4999999999999999E-2,4.4999999999999998E-2,1.2999999999999999E-2,1.4E-2,13.46,"06:57:36",870,300,320,360,110,130,463.6,9.9,13,340,160,300]
["Output_1_71","Baclab2N4CII-71","04/12/2018 (3) 20:13:03.50","04/12/2018 (3)","20:13:03.500",12.3,"Baclab2N4CII-71",26,"Normal",1,2.4239999999999999,9.1999999999999998E-2,0.1,0.1744,2.7000000000000001E-3,3.3999999999999998E-3,0.46143000000000001,null,0.1117856,0.1003,3.5000000000000001E-3,6.0000000000000001E-3,-0.17476,6.2199999999999998E-2,2.7000000000000001E-3,5.5999999999999999E-3,6.1,0.26,0.54,1247,28,30,1036,15,19,1219,51,110,1620,66,100,470,470,30,36,74,74,84.5,3.3,39,1.4,19.2,1.1000000000000001,2.1760000000000002,2.8000000000000001E-2,5.7339450000000003,8.7999999999999995E-2,36.1,3,347000000000000,15000000000000,null,null,null,null,null,null,0.78442999999999996,2.2000000000000001E-3,1.1999999999999999E-3,1.1999999999999999E-3,106.5,6.4,4.6077399999999998E-2,5.2000000000000002E-6,5.3000000000000001E-6,1.67,0.27,0.28000000000000003,61.3,3.4,3.5,61.6,3.2,3.2,45,24,25,4.9000000000000002E-2,1.7999999999999999E-2,-43.3,5,0.55000000000000004,0.14000000000000001,0.59,0.52,0.53,1.41E-2,4.4999999999999997E-3,4.4999999999999997E-3,0.99414000000000002,3.5000000000000003E-2,2.5000000000000001E-2,2.5999999999999999E-2,0.43,0.15,0.15,32,27,4120,140,140,620,210,220,90,29,29,620,500,510,0.56342999999999999,1.2070000000000001E-2,5.4000000000000001E-4,1.1999999999999999E-3,24.69,0.54,4.7829999999999998E-2,5.9000000000000003E-4,6.0999999999999997E-4,88,28,29,235.7,6.4,7,257.39999999999998,5.5,6.4,242,11,23,6.0000000000000001E-3,2.3999999999999998E-3,-80,24,0.38,0.11,0.33,0.26,0.28999999999999998,4.0599999999999997E-2,2.3999999999999998E-3,2.8E-3,0.94491999999999998,1.37E-2,6.6E-3,1.4E-2,2.9000000000000001E-2,5.6000000000000001E-2,5.8000000000000003E-2,25.3,1.8,2200,220,220,330,190,210,257,15,17,270,130,280]
["Output_1_72","Baclab2N4CII-72","04/12/2018 (3) 20:14:16.38","04/12/2018 (3)","20:14:16.380",11.707000000000001,"Baclab2N4CII-72",25,"Normal",1,1.0609999999999999,4.3999999999999997E-2,6.7000000000000004E-2,7.1400000000000005E-2,2E-3,1.9E-3,0.23916000000000001,null,0.37269809999999998,0.10730000000000001,4.0000000000000001E-3,7.1000000000000004E-3,0.30276999999999998,2.5499999999999998E-2,1E-3,2.3E-3,2.6,8.7999999999999995E-2,0.2,733,22,31,444,12,11,510,20,45,1784,71,110,800,560,102,66,300,210,181.8,5.4,210,9.9,40.700000000000003,2.2000000000000002,0.875,2.1999999999999999E-2,14.005599999999999,0.38,75.400000000000006,1.3,347000000000000,15000000000000,null,null,null,null,null,null,0.97738000000000003,3.5200000000000001E-3,6.8000000000000005E-4,6.9999999999999999E-4,103.4,6.3,4.6105E-2,3.3000000000000003E-5,3.4E-5,3.1,1.7,1.7,62.2,3.3,3.4,63.3,3.3,3.3,71,14,14,2.5999999999999999E-2,1.4999999999999999E-2,-34.6,5.7,0.98799999999999999,2.5000000000000001E-2,0.09,0.27,0.27,0.01,2.3E-3,2.3E-3,0.97682000000000002,4.0000000000000001E-3,0.01,1.0999999999999999E-2,0.2,0.28000000000000003,0.28000000000000003,70,48,3620,310,320,200,190,190,64,14,15,80,210,210,0.44990000000000002,1.4800000000000001E-2,5.4000000000000003E-3,7.7000000000000002E-3,12.45,0.13,5.8119999999999998E-2,9.1E-4,9.5E-4,540,32,33,507.7,7.5,8.9,498.1,5.0999999999999996,9.3000000000000007,300,110,150,2.3800000000000002E-2,4.1000000000000003E-3,6.2E-2,5.5E-2,0.55000000000000004,0.22,0.8,0.19,0.23,8.1799999999999998E-2,2.3999999999999998E-3,4.4000000000000003E-3,0.88576999999999995,3.6999999999999998E-2,3.2000000000000001E-2,4.7E-2,7.0000000000000007E-2,1.6E-2,1.7000000000000001E-2,12.28,"08:38:24",1200,330,340,560,120,140,507,14,26,680,630,910]
["Output_1_73","Baclab2N4CII-73","04/12/2018 (3) 20:15:03.50","04/12/2018 (3)","20:15:03.500",14.673999999999999,"Baclab2N4CII-73",32,"Normal",1,1.706,3.9E-2,5.7000000000000002E-2,0.1651,1.5E-3,2.5000000000000001E-3,1.2197E-3,null,9.1716160000000005E-2,7.4499999999999997E-2,1.6000000000000001E-3,3.7000000000000002E-3,0.32741999999999999,5.0700000000000002E-2,1.6000000000000001E-3,4.4999999999999997E-3,11.79,0.36,0.94,1010,15,21,985.2,8,14,1000,31,86,1061,41,96,100,260,7,20,8,23,421,30,117.4,7.2,43.1,2,3.5859999999999999,5.1999999999999998E-2,6.0569350000000002,5.3999999999999999E-2,7.7,3.3,1590000000000000,110000000000000,null,null,null,null,null,null,0.99997000000000003,3.14E-3,2.9E-4,3.3E-4,104.8,2.9,4.6090300000000001E-2,6.3999999999999997E-6,6.9E-6,2.35,0.34,0.36,60.2,1.6,1.7,61.6,1.7,1.8,63.3,5.9,6.7,1.06E-2,5.4000000000000003E-3,-28.1,4.9000000000000004,1,1,0.09,0.1,0.11,9.4999999999999998E-3,1E-3,1E-3,0.96162999999999998,4.1000000000000003E-3,3.3E-3,3.7000000000000002E-3,-4.0000000000000001E-3,9.4E-2,0.1,118,16,2580,260,280,50,110,110,60.9,6.4,6.6,82,66,75,0.75307999999999997,1.094E-2,5.8E-4,1.2999999999999999E-3,24.97,0.55000000000000004,4.7719999999999999E-2,5.6999999999999998E-4,5.9000000000000003E-4,82,28,29,236,5.8,6.7,253.7,5.7,6.6,220,12,26,5.7000000000000002E-3,2.8E-3,-84,24,0.34,0.11,0.14000000000000001,0.19,0.22,3.78E-2,1.9E-3,2.2000000000000001E-3,0.86597999999999997,8.6E-3,5.1999999999999998E-3,1.2E-2,2.3E-2,2.7E-2,2.8000000000000001E-2,26.8,1.4,1700,230,240,150,150,170,239,12,14,170,110,240]
["Output_1_74","Baclab2N4CII-74","04/12/2018 (3) 20:16:15.38","04/12/2018 (3)","20:16:15.380",11.706,"Baclab2N4CII-74",25,"Normal",1,2.13,0.13,0.12,0.1396,4.8999999999999998E-3,7.7000000000000002E-3,0.41926000000000002,null,0.39511170000000001,0.10979999999999999,6.6E-3,8.9999999999999993E-3,0.30229,4.9599999999999998E-2,4.5999999999999999E-3,4.5999999999999999E-3,3.93,0.28999999999999998,0.34,1155,41,39,842,28,44,977,88,89,1790,120,120,200,210,19,21,63,59,42.6,2.2999999999999998,32.4,2.5,11.33,0.99,1.29,2.7E-2,7.1633240000000002,0.26,52.6,3.8,150900000000000,6900000000000,null,null,null,null,null,null,0.90786999999999995,3.1099999999999999E-3,1.4999999999999999E-4,1.9000000000000001E-4,102.9,1.8,4.6116999999999998E-2,2.0000000000000002E-5,2.3E-5,3.8,1,1.2,60.9,1.1000000000000001,1.2,62.3,1.1000000000000001,1.1000000000000001,62.9,2.9,3.9,6.8999999999999999E-3,3.3999999999999998E-3,-20.9,3,1,1,3.4000000000000002E-2,5.5E-2,6.0999999999999999E-2,9.4999999999999998E-3,5.5000000000000003E-4,5.9000000000000003E-4,0.94979999999999998,2.5999999999999999E-3,1.6000000000000001E-3,2.2000000000000001E-3,-6.0000000000000001E-3,4.7E-2,5.2999999999999999E-2,111.8,8.8000000000000007,1970,240,280,14,65,71,61,3.5,3.8,53,33,44,0.71947000000000005,5.0500000000000003E-2,1.1999999999999999E-3,4.1000000000000003E-3,5.93,0.12,7.9200000000000007E-2,1.8E-3,2E-3,1173,45,50,1057,22,33,1002,17,22,996,23,78,2E-3,2E-3,0.159,3.6999999999999998E-2,1,1,2.02,0.14000000000000001,0.21,0.16889999999999999,2.8E-3,3.5999999999999999E-3,0.27816999999999997,5.62E-2,5.0000000000000001E-3,1.7000000000000001E-2,8.77E-2,6.1000000000000004E-3,6.7000000000000002E-3,5.9290000000000003,"02:21:07.200",1340,140,150,1115,49,73,1006,16,20,1105,96,330]
["Output_1_75","Baclab2N4CII-75","04/12/2018 (3) 20:17:02.50","04/12/2018 (3)","20:17:02.500",23.585000000000001,"Baclab2N4CII-75",51,"Normal",1,0.85199999999999998,0.03,3.7999999999999999E-2,8.0659999999999996E-2,9.6000000000000002E-4,1.4E-3,1.6740999999999999E-2,null,0.21518480000000001,7.5700000000000003E-2,2.8999999999999998E-3,4.4999999999999997E-3,0.32257999999999998,4.3099999999999999E-2,2.5999999999999999E-3,4.4000000000000003E-3,8.5500000000000007,0.5,0.81,627,17,22,500,5.7,8.5,852,50,86,1075,80,130,-46,37,-3.5,2.9,3,15,141.9,5.6,33.6,2.1,9.5500000000000007,0.6,4.3,0.11,12.39772,0.15,48.8,5.0999999999999996,258000000000000,11000000000000,null,null,null,null,null,null,0.99939,2.4299999999999999E-3,5.5999999999999995E-4,5.9999999999999995E-4,106.7,3.4,4.6079299999999997E-2,3.1999999999999999E-6,3.4000000000000001E-6,1.77,0.17,0.18,58.9,1.8,1.9,60.3,1.9,1.9,49,11,12,3.7100000000000001E-2,7.1000000000000004E-3,-37.799999999999997,4.5,0.79,0.11,-0.02,0.16,0.16,8.6999999999999994E-3,1.4E-3,1.5E-3,0.98107999999999995,-1.6000000000000001E-3,7.6E-3,8.0999999999999996E-3,-0.19,0.32,0.34,128,54,3140,200,220,-70,170,180,55.7,9.1,9.3000000000000007,-40,150,160,0.73524999999999996,1.329E-2,8.8000000000000003E-4,1.6000000000000001E-3,21.18,0.45,4.8500000000000001E-2,7.6999999999999996E-4,7.9000000000000001E-4,119,37,37,273.60000000000002,7.1,7.5,295.60000000000002,5.4,6.5,267,18,31,4.7000000000000002E-3,2.7000000000000001E-3,-54,26,0.38,0.11,0.63,0.3,0.32,5.0299999999999997E-2,2.5999999999999999E-3,3.2000000000000002E-3,0.93533999999999995,2.8000000000000001E-2,1.2999999999999999E-2,2.3E-2,6.2E-2,3.5000000000000003E-2,3.5999999999999997E-2,20.399999999999999,1.1000000000000001,2270,310,320,390,210,220,316,16,19,530,250,450]
["Output_1_76","Baclab2N4CII-76","04/12/2018 (3) 20:18:06.06","04/12/2018 (3)","20:18:06.060",17.052,"Baclab2N4CII-76",36,"Normal",1,2.0449999999999999,4.3999999999999997E-2,6.9000000000000006E-2,0.188,1.6999999999999999E-3,3.0000000000000001E-3,-0.34534999999999999,null,8.4880040000000004E-2,7.8700000000000006E-2,2.0999999999999999E-3,4.0000000000000001E-3,0.64387000000000005,4.8500000000000001E-2,1.2999999999999999E-3,4.4000000000000003E-3,4.34,0.11,0.33,1130,15,23,1110.5,9.1999999999999993,16,958,25,84,1166,50,99,1500,1100,91,75,300,250,197.8,7.2,184.5,4.8,61.5,1.9,1.0640000000000001,1.2999999999999999E-2,5.3191490000000003,0.05,3.4,4.7,960000000000000,29000000000000,null,null,null,null,null,null,0.98170999999999997,2.8500000000000001E-3,2.1000000000000001E-4,2.5999999999999998E-4,105.7,2.5,4.6110999999999999E-2,2.0999999999999999E-5,2.3E-5,3.4,1.1000000000000001,1.2,59.6,1.3,1.5,60.9,1.4,1.4,57.5,4.2,5.3,1.89E-2,5.0000000000000001E-3,-21.9,2.8,1,1,7.6999999999999999E-2,5.3999999999999999E-2,5.8000000000000003E-2,9.6100000000000005E-3,4.8999999999999998E-4,5.1999999999999995E-4,0.89997000000000005,3.0000000000000001E-3,1.4E-3,1.6999999999999999E-3,5.7000000000000002E-2,3.5999999999999997E-2,0.04,104.6,5.0999999999999996,2270,240,260,76,49,53,61.6,3.1,3.3,64,28,36,0.24184,0.1002,8.5000000000000006E-3,1.0999999999999999E-2,3.18,6.3E-2,9.0899999999999995E-2,4.0000000000000001E-3,4.1000000000000003E-3,1448,82,83,1586,40,44,1766,30,36,1930,160,200,0,1,0,1,0.5,1,2.9,1.6,1.7,0.29499999999999998,1.2999999999999999E-2,1.4999999999999999E-2,0.85563,-0.02,0.13,0.17,6.2E-2,3.5999999999999997E-2,3.6999999999999998E-2,3.34,"03:50:24",2280,210,210,1140,520,560,1681,70,83,-1100,3100,4000]
["Output_1_77","Baclab2N4CII-77","04/12/2018 (3) 20:19:11.00","04/12/2018 (3)","20:19:11",11.707000000000001,"Baclab2N4CII-77",26,"Normal",1,1.8260000000000001,5.0999999999999997E-2,0.08,0.1714,2E-3,2.8E-3,9.7520999999999997E-2,null,9.5309539999999998E-2,7.6799999999999993E-2,2.7000000000000001E-3,4.4000000000000003E-3,0.21945999999999999,4.9099999999999998E-2,2.0999999999999999E-3,4.3E-3,8.2100000000000009,0.43,0.65,1054,18,27,1020,11,15,970,40,83,1141,71,110,90,170,6,14,13,22,182.3,1.8,85.45,0.86,28.6,1.2,2.1440000000000001,2.5000000000000001E-2,5.8343059999999998,6.8000000000000005E-2,9.9,6.3,736900000000000,7300000000000,null,null,null,null,null,null,0.99548000000000003,3.48E-3,9.3000000000000005E-4,9.6000000000000002E-4,91.9,4.7,4.6128000000000002E-2,7.6000000000000004E-5,7.7000000000000001E-5,4.3,3.9,4,68,3.1,3.2,69.5,3.1,3.1,70,19,19,1.7999999999999999E-2,1.2999999999999999E-2,-36,10,0.97399999999999998,5.2999999999999999E-2,-0.1,0.33,0.33,9.1000000000000004E-3,2.8999999999999998E-3,2.8999999999999998E-3,0.97502999999999995,-4.0000000000000001E-3,1.2999999999999999E-2,1.4E-2,0,0.35,0.36,89,37,3110,410,420,20,240,240,59,18,19,-80,270,280,0.49029,4.0960000000000003E-2,8.4000000000000003E-4,2.2000000000000001E-3,7.5,0.11,6.7000000000000004E-2,1.6999999999999999E-3,1.9E-3,831,53,58,811,16,21,808,11,15,811,16,42,5.1999999999999998E-3,1.4E-3,-4.0000000000000001E-3,7.2999999999999995E-2,0.96599999999999997,4.8000000000000001E-2,1.26,0.13,0.18,0.1346,2.3E-3,3.0999999999999999E-3,0.63832,4.02E-2,6.7999999999999996E-3,1.7999999999999999E-2,6.8000000000000005E-2,6.7999999999999996E-3,7.4999999999999997E-3,7.44,"03:07:12",930,180,200,817,61,82,814,13,17,790,130,350]
["Output_1_78","Baclab2N4CII-78","04/12/2018 (3) 20:20:03.28","04/12/2018 (3)","20:20:03.280",20.021999999999998,"Baclab2N4CII-78",43,"Normal",1,0.56899999999999995,0.03,3.2000000000000001E-2,5.3620000000000001E-2,9.7000000000000005E-4,1.1000000000000001E-3,5.5247999999999998E-2,null,0.38259480000000001,7.6600000000000001E-2,4.4999999999999997E-3,5.4000000000000003E-3,0.32751999999999998,1.8450000000000001E-2,9.3999999999999997E-4,1.8E-3,3.5,0.17,0.3,459,20,21,336.7,5.9,6.9,369,19,35,1100,110,140,260,190,16,13,54,49,143.30000000000001,5.0999999999999996,123.9,3.6,16.18,0.93,1.151,1.0999999999999999E-2,18.649760000000001,0.34,65.400000000000006,4.4000000000000004,192800000000000,8300000000000,null,null,null,null,null,null,0.99907999999999997,3.6700000000000001E-3,3.4000000000000002E-4,4.0000000000000002E-4,101,2.5,4.6098E-2,1.8E-5,1.9000000000000001E-5,2.74,0.94,0.99,62.3,1.6,1.6,63.6,1.6,1.7,73.900000000000006,6.9,8.1,2.7699999999999999E-2,7.4999999999999997E-3,-32.9,4,1,1,-0.01,0.1,0.1,9.1500000000000001E-3,9.3000000000000005E-4,9.6000000000000002E-4,0.97477000000000003,5.9999999999999995E-4,3.8999999999999998E-3,4.5999999999999999E-3,-0.15,0.14000000000000001,0.14000000000000001,129,19,2820,230,240,-60,110,120,58.7,5.9,6.1,10,79,94,0.78239999999999998,3.3099999999999997E-2,6.6E-3,8.8999999999999999E-3,21.04,0.55000000000000004,5.0310000000000001E-2,9.2000000000000003E-4,9.3999999999999997E-4,205,43,44,289,11,12,300.7,7.6,8.5,660,130,170,7.7000000000000002E-3,4.1000000000000003E-3,-14,20,0.35,0.14000000000000001,0.2,0.21,0.23,4.6199999999999998E-2,2.3999999999999998E-3,2.7000000000000001E-3,0.91988000000000003,-1.0999999999999999E-2,6.2E-2,8.4000000000000005E-2,2.5999999999999999E-2,3.5000000000000003E-2,3.5999999999999997E-2,21.8,1.2,1590,320,330,280,140,160,291,15,17,-200,1400,1900]
["Output_1_79","Baclab2N4CII-79","04/12/2018 (3) 20:21:02.88","04/12/2018 (3)","20:21:02.880",16.456,"Baclab2N4CII-79",36,"Normal",1,0.86,4.4999999999999998E-2,4.5999999999999999E-2,0.1004,1.9E-3,2.0999999999999999E-3,-0.38335000000000002,null,0.20832999999999999,6.1899999999999997E-2,3.8999999999999998E-3,4.4000000000000003E-3,0.60521000000000003,2.8799999999999999E-2,1E-3,2.5999999999999999E-3,3.31,0.13,0.28000000000000003,627,25,27,617,11,12,574,20,52,680,140,140,410,300,23,19,109,89,112.2,7.7,125,12,26,2.1,0.91400000000000003,2.4E-2,9.9601590000000009,0.19,110,210,297000000000000,23000000000000,null,null,null,null,null,null,0.99873000000000001,2.9499999999999999E-3,5.0000000000000001E-4,5.8E-4,106.1,2.9,4.6099000000000001E-2,2.0000000000000002E-5,2.1999999999999999E-5,2.8,1,1.1000000000000001,59.2,1.6,1.7,60.5,1.7,1.8,60,10,12,2.3699999999999999E-2,5.5999999999999999E-3,-30.2,4.4000000000000004,0.71,0.13,4.2000000000000003E-2,8.8999999999999996E-2,9.5000000000000001E-2,9.3200000000000002E-3,8.4999999999999995E-4,8.7000000000000001E-4,0.97184999999999999,1.2999999999999999E-3,6.6E-3,7.6E-3,-0.01,0.13,0.14000000000000001,115,18,2700,260,280,-7,94,100,59.7,5.4,5.5,20,130,150,0.54881999999999997,5.0299999999999997E-2,1.1000000000000001E-3,2.5999999999999999E-3,6.02,0.13,7.6200000000000004E-2,2.5999999999999999E-3,2.7000000000000001E-3,1096,67,69,1020,31,37,992,19,23,991,22,49,3.8999999999999998E-3,1.8E-3,8.2000000000000003E-2,5.8999999999999997E-2,0.91,0.1,1.84,0.27,0.32,0.1676,4.1000000000000003E-3,4.8999999999999998E-3,0.33784999999999998,0.05,0.02,4.4999999999999998E-2,7.8E-2,0.01,1.0999999999999999E-2,5.98,"03:36:00",1120,270,280,1040,100,120,999,23,27,1080,340,780]
["Output_1_80","Baclab2N4CII-80","04/12/2018 (3) 20:22:00.50","04/12/2018 (3)","20:22:00.500",23.584,"Baclab2N4CII-80",51,"Normal",1,3.1589999999999998,5.0999999999999997E-2,0.1,0.25169999999999998,1.9E-3,3.8E-3,0.49570999999999998,null,5.9981479999999997E-2,9.0899999999999995E-2,1.1999999999999999E-3,4.4000000000000003E-3,-1.4746E-2,7.7899999999999997E-2,2.0999999999999999E-3,6.7999999999999996E-3,26.29,0.6,2,1446,12,25,1447.1,9.9,20,1517,39,130,1441,25,92,230,930,18,83,8,35,408,21,54.1,2.7,33.1,1.1000000000000001,7.4859999999999998,6.5000000000000002E-2,3.9729839999999998,2.8000000000000001E-2,-0.5,2,2310000000000000,130000000000000,null,null,null,null,null,null,0.88776999999999995,3.5300000000000002E-3,4.6999999999999999E-4,5.0000000000000001E-4,103.7,4,4.6083199999999998E-2,4.1999999999999996E-6,4.3000000000000003E-6,1.97,0.22,0.23,59.2,2.2999999999999998,2.4,61.4,2.4,2.4,71.3,9.4,10,1.44E-2,7.1999999999999998E-3,-32.299999999999997,5,0.79,0.11,-0.11,0.23,0.24,8.6E-3,1.9E-3,2E-3,0.97799999999999998,-5.0000000000000001E-3,0.01,1.0999999999999999E-2,0.68,0.88,0.92,0,150,3370,280,290,-50,220,230,55,12,13,-120,210,220,0.27810000000000001,1.84E-2,1E-3,1.8E-3,19.760000000000002,0.32,5.0200000000000002E-2,1.1000000000000001E-3,1.1999999999999999E-3,197,53,55,305,12,14,318.7,4.9000000000000004,6.3,368,20,35,4.5999999999999999E-3,2.5000000000000001E-3,-32,28,0.44,0.13,0.38,0.1,0.11,5.0299999999999997E-2,1.1000000000000001E-3,1.5E-3,0.71070999999999995,1.9900000000000001E-2,5.5999999999999999E-3,9.7000000000000003E-3,5.2999999999999999E-2,1.4E-2,1.4E-2,19.73,"09:36:00",850,200,200,311,84,91,316.5,7,9,400,110,190]
["Output_1_81","Baclab2N4CII-81","04/12/2018 (3) 20:26:07.03","04/12/2018 (3)","20:26:07.030",10.516999999999999,"Baclab2N4CII-81",23,"Normal",1,0.76200000000000001,3.3000000000000002E-2,3.7999999999999999E-2,8.8599999999999998E-2,1.1999999999999999E-3,1.5E-3,-6.0198000000000002E-2,null,0.1910838,6.2700000000000006E-2,2.3E-3,3.7000000000000002E-3,0.32956999999999997,2.7640000000000001E-2,9.7000000000000005E-4,2.3999999999999998E-3,5.26,0.25,0.45,579,20,21,547.29999999999995,7.4,8.6999999999999993,551,19,48,712,87,110,1050,720,71,48,210,140,224.9,7.4,151.5,2.5,51.9,1.8,1.4710000000000001,6.0999999999999999E-2,11.28668,0.16,48,64,490000000000000,16000000000000,null,null,null,null,null,null,0.99980999999999998,3.3500000000000001E-3,4.2000000000000002E-4,4.4999999999999999E-4,101.6,3.5,4.6098E-2,1.2999999999999999E-5,1.2999999999999999E-5,2.73,0.66,0.68,61.7,2.2000000000000002,2.2000000000000002,63.2,2.2999999999999998,2.2999999999999998,67.599999999999994,8.6,9,1.03E-2,7.4000000000000003E-3,-29.6,6.6,1,1,-0.15,0.22,0.23,8.0000000000000002E-3,2E-3,2.0999999999999999E-3,0.98548999999999998,-4.1000000000000003E-3,8.5000000000000006E-3,8.9999999999999993E-3,0.1,0.48,0.5,87,87,2520,620,640,-10,160,170,51,13,13,-90,170,180,0.76160000000000005,3.6400000000000002E-2,2.0999999999999999E-3,4.1000000000000003E-3,8.3000000000000007,0.17,6.7599999999999993E-2,1.6000000000000001E-3,1.8E-3,861,48,52,767,18,23,735,15,17,722,41,81,5.1000000000000004E-3,2E-3,0.13800000000000001,5.1999999999999998E-2,0.98099999999999998,3.6999999999999998E-2,1.17,0.11,0.15,0.1216,2.8999999999999998E-3,3.3999999999999998E-3,0.67476000000000003,3.9E-2,1.2E-2,2.5000000000000001E-2,6.7400000000000002E-2,5.7999999999999996E-3,6.4000000000000003E-3,8.26,"04:33:36",870,170,180,775,55,71,740,16,19,760,240,480]
["Output_1_82","Baclab2N4CII-82","04/12/2018 (3) 20:27:03.28","04/12/2018 (3)","20:27:03.280",8.7361000000000004,"Baclab2N4CII-82",19,"Normal",1,0.39100000000000001,2.7E-2,2.5999999999999999E-2,5.1450000000000003E-2,9.2000000000000003E-4,1.2999999999999999E-3,0.22161,null,0.49110300000000001,5.7200000000000001E-2,3.7000000000000002E-3,3.8999999999999998E-3,4.4854999999999999E-2,1.5650000000000001E-2,5.6999999999999998E-4,1.4E-3,3.32,0.31,0.32,334,20,19,323.39999999999998,5.7,8.1,314,11,29,470,140,140,960,790,70,52,460,310,496,75,483,25,96.9,5.6,0.99,0.11,19.436350000000001,0.35,41,25,651000000000000,77000000000000,null,null,null,null,null,null,0.99912000000000001,3.8E-3,1.1000000000000001E-3,1.1000000000000001E-3,104.8,7.3,4.60753E-2,3.4999999999999999E-6,3.4999999999999999E-6,1.56,0.18,0.18,61.2,3.9,3.9,62.7,4.0999999999999996,4.0999999999999996,76,22,23,2.5999999999999999E-2,1.6E-2,-43.9,6.2,0.62,0.17,-0.04,0.5,0.51,8.6999999999999994E-3,4.3E-3,4.3E-3,0.99146999999999996,-3.0000000000000001E-3,2.9000000000000001E-2,0.03,0.3,1.4,1.4,150,150,3920,260,270,190,480,490,56,27,27,-110,590,610,0.77959000000000001,3.95E-2,1.9E-3,6.0000000000000001E-3,6.8710000000000004,9.8000000000000004E-2,7.3999999999999996E-2,1.2999999999999999E-3,1.6999999999999999E-3,1036,36,45,926,16,25,878,12,16,782,38,120,2.3599999999999999E-2,3.0000000000000001E-3,0.157,3.1E-2,0.65,0.14000000000000001,1.89,9.0999999999999998E-2,0.14000000000000001,0.14929999999999999,2E-3,2.8E-3,0.43568000000000001,5.3199999999999997E-2,2.8999999999999998E-3,8.9999999999999993E-3,8.9399999999999993E-2,4.1999999999999997E-3,5.1999999999999998E-3,6.71,"02:12:28.800",1399,91,110,1078,33,51,897,11,16,1046,55,170]
["Output_1_83","Baclab2N4CII-83","04/12/2018 (3) 20:27:58.12","04/12/2018 (3)","20:27:58.120",14.081,"Baclab2N4CII-83",30,"Normal",1,0.83099999999999996,3.3000000000000002E-2,5.0999999999999997E-2,9.7600000000000006E-2,1.1999999999999999E-3,2E-3,3.6885000000000001E-2,null,0.209957,6.1400000000000003E-2,2.5999999999999999E-3,4.0000000000000001E-3,0.23491000000000001,2.86E-2,4.8999999999999998E-3,2.8999999999999998E-3,6.35,0.25,0.49,613,18,28,600.6,6.8,12,568,97,57,635,90,130,470,430,29,25,81,76,282,21,159,11,56.3,4.0999999999999996,1.7390000000000001,1.9E-2,10.245900000000001,0.12,-4,16,659000000000000,49000000000000,null,null,null,null,null,null,0.99917999999999996,3.0699999999999998E-3,2.9999999999999997E-4,3.8000000000000002E-4,106.9,2.9,4.6098300000000002E-2,7.4000000000000003E-6,7.7000000000000008E-6,2.76,0.38,0.4,58.6,1.6,1.6,59.9,1.6,1.7,62,6.1,7.6,3.0800000000000001E-2,8.0999999999999996E-3,-21.8,2.9,1,1,0.13,0.12,0.13,0.01,1.1000000000000001E-3,1.1999999999999999E-3,0.97955999999999999,5.3E-3,4.1000000000000003E-3,5.0000000000000001E-3,0.01,0.1,0.11,112,14,3050,260,270,100,110,120,64,7.2,7.4,106,82,100,0.82677999999999996,1.7000000000000001E-2,1.1000000000000001E-3,2.2000000000000001E-3,23.75,0.65,4.7280000000000003E-2,5.1999999999999995E-4,5.2999999999999998E-4,60,25,26,244.3,6.8,7.4,268.60000000000002,6.8,7.6,340,22,43,1.78E-2,4.1000000000000003E-3,-124,23,0.1,5.3999999999999999E-2,0.24,0.22,0.24,4.2099999999999999E-2,2.0999999999999999E-3,2.3E-3,0.97850999999999999,1.4E-2,1.0999999999999999E-2,2.1999999999999999E-2,1.6E-2,3.6999999999999998E-2,3.7999999999999999E-2,24.6,1.2,1940,230,240,260,150,160,266,13,14,260,230,450]
["Output_1_84","Baclab2N4CII-84","04/12/2018 (3) 20:28:53.37","04/12/2018 (3)","20:28:53.370",19.427,"Baclab2N4CII-84",40,"Normal",1,7.41,0.12,0.22,0.40679999999999999,2.5999999999999999E-3,5.8999999999999999E-3,0.30337999999999998,null,3.5652509999999998E-2,0.13139999999999999,2.2000000000000001E-3,6.1999999999999998E-3,1.413E-2,0.08,0.02,0.01,13.41,0.49,1,2161,14,27,2200,12,27,1630,420,190,2114,29,83,410,900,50,110,2,30,219,11,60,2.9,84,4.2,3.6030000000000002,3.6999999999999998E-2,2.4582099999999998,1.6E-2,-3.5,1.5,2055000000000000,98000000000000,null,null,null,null,null,null,0.99978,3.7599999999999999E-3,6.4000000000000005E-4,6.6E-4,101.3,3.8,4.6085000000000001E-2,7.6000000000000001E-6,7.9000000000000006E-6,2.0699999999999998,0.4,0.41,61.4,2.2999999999999998,2.4,63,2.4,2.5,76,13,13,3.1E-2,1.0999999999999999E-2,-38.6,5.0999999999999996,1,1,7.0000000000000007E-2,0.2,0.21,9.7000000000000003E-3,2E-3,2E-3,0.98470999999999997,2E-3,8.6E-3,8.9999999999999993E-3,0.19,0.32,0.33,80,52,3410,270,280,70,160,170,62,13,13,60,180,190,0.80188999999999999,1.89E-2,1.1000000000000001E-3,2.3E-3,15.86,0.27,5.2699999999999997E-2,1E-3,1.1000000000000001E-3,307,46,48,392,10,12,395.4,6.4,8.3000000000000007,378,22,47,8.9999999999999993E-3,2.8999999999999998E-3,-1.4,1.8,0.54,0.12,0.68,0.16,0.2,6.5100000000000005E-2,1.9E-3,2.3999999999999998E-3,0.80281000000000002,2.6700000000000002E-2,8.3999999999999995E-3,1.7999999999999999E-2,6.9000000000000006E-2,1.7000000000000001E-2,1.7999999999999999E-2,15.45,"11:02:24",1660,220,230,545,86,100,406,12,15,520,170,360]
["Output_1_85","Baclab2N4CII-85","04/12/2018 (3) 20:30:07.81","04/12/2018 (3)","20:30:07.810",12.895,"Baclab2N4CII-85",28,"Normal",1,2.0830000000000002,6.8000000000000005E-2,7.0999999999999994E-2,0.19600000000000001,2E-3,3.3E-3,-6.9237000000000007E-2,null,8.5901710000000006E-2,7.6300000000000007E-2,2.5000000000000001E-3,3.8E-3,0.42126999999999998,6.83E-2,4.1000000000000003E-3,6.4000000000000003E-3,16.8,1.1000000000000001,1.7,1142,23,23,1156,12,18,1334,77,120,1124,66,99,300,620,46,65,16,37,177.1,2.9,33.119999999999997,0.51,26.8,1.5,5.3609999999999998,9.8000000000000004E-2,5.1020409999999998,5.7000000000000002E-2,-3.8,6.8,781000000000000,14000000000000,null,null,null,null,null,null,0.99995999999999996,2.9199999999999999E-3,2.9E-4,3.2000000000000003E-4,104.2,3.2,4.6087099999999999E-2,4.5000000000000001E-6,4.6999999999999999E-6,2.17,0.24,0.25,60.8,1.8,1.8,62.3,1.9,1.9,59,5.8,6.4,4.3900000000000002E-2,9.2999999999999992E-3,-29.2,2.9,1,1,0,0.1,0.11,9.3399999999999993E-3,9.3000000000000005E-4,9.5E-4,0.95996999999999999,1.5E-3,2.8E-3,3.0000000000000001E-3,-0.1,0.11,0.12,125,17,2870,320,340,-40,110,110,59.9,5.9,6.1,29,56,61,0.94145000000000001,-9.0999999999999998E-2,0.01,1.2999999999999999E-2,14.67,0.31,5.5469999999999998E-2,2.1000000000000001E-4,2.3000000000000001E-4,431.2,8.3000000000000007,9.1,425.5,8.6,12,425.4,8.4,10,-1940,230,300,2.4299999999999999E-2,2.3999999999999998E-3,3.4000000000000002E-2,0.02,0,1,0.69199999999999995,9.9000000000000005E-2,0.14000000000000001,6.9500000000000006E-2,1.4E-3,1.6999999999999999E-3,0.75670999999999999,2.3E-2,5.7000000000000002E-2,7.3999999999999996E-2,7.2999999999999995E-2,1.2E-2,1.4E-2,14.39,"07:55:12",1170,170,180,538,58,80,433.1,8.6999999999999993,10,600,1100,1400]
["Output_1_86","Baclab2N4CII-86","04/12/2018 (3) 20:30:59.50","04/12/2018 (3)","20:30:59.500",15.269,"Baclab2N4CII-86",33,"Normal",1,0.69,3.1E-2,3.5000000000000003E-2,7.9299999999999995E-2,1.2999999999999999E-3,1.6000000000000001E-3,0.11472,null,0.25443310000000002,6.1899999999999997E-2,3.0000000000000001E-3,4.0000000000000001E-3,0.24851999999999999,2.7E-2,2E-3,3.0000000000000001E-3,13.7,1.1000000000000001,1.3,535,18,21,492.2,8,9.3000000000000007,538,40,59,640,110,140,-35,74,4,13,5,17,186.1,6.2,43.9,1.5,13.08,0.87,4.2779999999999996,0.05,12.610340000000001,0.22,0,29,335000000000000,15000000000000,null,null,null,null,null,null,0.96536999999999995,3.1199999999999999E-3,2.5999999999999998E-4,2.9999999999999997E-4,107.8,3.6,4.6103999999999999E-2,2.3E-5,2.4000000000000001E-5,3.1,1.2,1.2,58.1,1.9,2,59.5,2,2,62.9,5.3,6.1,1.32E-2,6.6E-3,-23,2.9,1,1,0.03,0.15,0.16,8.6999999999999994E-3,1.2999999999999999E-3,1.2999999999999999E-3,0.96633000000000002,2E-3,4.3E-3,5.0000000000000001E-3,-0.22,0.25,0.26,153,42,3120,280,290,-20,160,170,55.9,8.1999999999999993,8.4,39,86,100,0.59289000000000003,8.3199999999999996E-2,1.1000000000000001E-3,6.4999999999999997E-3,3.4420000000000002,4.7E-2,0.1193,2E-3,2.3999999999999998E-3,1943,30,37,1783,14,27,1646,20,28,1616,21,120,6.6E-3,1.4E-3,0.17799999999999999,1.9E-2,1,1,4.9400000000000004,0.17,0.32,0.29139999999999999,3.2000000000000002E-3,4.4999999999999997E-3,-3.4098999999999997E-2,8.6300000000000002E-2,4.3E-3,2.5000000000000001E-2,0.1192,4.1999999999999997E-3,5.0000000000000001E-3,3.4350000000000001,"00:54:43.200",1933,65,77,1813,27,51,1648,16,23,1672,80,470]
["Output_1_87","Baclab2N4CII-87","04/12/2018 (3) 20:31:58.50","04/12/2018 (3)","20:31:58.500",25.96,"Baclab2N4CII-87",56,"Normal",1,3.62,0.14000000000000001,0.17,0.26900000000000002,4.1000000000000003E-3,4.7999999999999996E-3,0.20796000000000001,null,6.6334069999999995E-2,9.5699999999999993E-2,3.7000000000000002E-3,5.7999999999999996E-3,0.23533000000000001,8.6099999999999996E-2,3.0000000000000001E-3,7.6E-3,4.6500000000000004,0.14000000000000001,0.37,1548,30,36,1535,21,24,1668,56,140,1551,74,120,210,230,39,30,97,76,64.599999999999994,2.2999999999999998,46.8,1.8,41.4,1.9,1.3560000000000001,1.7999999999999999E-2,3.7174719999999999,5.5E-2,-1.6,5.7,431000000000000,16000000000000,null,null,null,null,null,null,1,4.7999999999999996E-3,4.3E-3,4.4000000000000003E-3,102,12,4.6075199999999997E-2,2.2000000000000001E-6,2.3E-6,1.56,0.12,0.12,64.7,7,7.3,66.5,7.3,7.4,96,86,89,0.38600000000000001,5.2999999999999999E-2,-35.299999999999997,4.9000000000000004,0.21,0.19,-0.13,0.9,0.95,9.4999999999999998E-3,7.1999999999999998E-3,7.1999999999999998E-3,0.98980999999999997,-3.0000000000000001E-3,3.4000000000000002E-2,3.5000000000000003E-2,0.54,0.5,0.51,36,52,4080,480,490,170,580,600,60,46,46,-100,690,720,0.70033999999999996,1.06E-2,2.3E-3,3.0999999999999999E-3,24.42,0.68,4.9799999999999997E-2,1.4E-3,1.4E-3,181,67,68,249,10,11,259.2,7,7.8,212,46,62,6.1000000000000004E-3,4.5999999999999999E-3,-13,25,0.54,0.26,0.46,0.12,0.13,4.267E-2,9.8999999999999999E-4,1.1000000000000001E-3,0.40242,2.1000000000000001E-2,7.9000000000000008E-3,1.0999999999999999E-2,8.3000000000000004E-2,1.6E-2,1.6E-2,23.47,"13:12:00",1300,330,340,404,70,76,269.3,6.1,6.9,420,160,210]
["Output_1_88","Baclab2N4CII-88","04/12/2018 (3) 20:33:02.06","04/12/2018 (3)","20:33:02.060",20.021000000000001,"Baclab2N4CII-88",43,"Normal",1,0.30199999999999999,1.9E-2,1.7999999999999999E-2,4.1270000000000001E-2,5.5000000000000003E-4,7.3999999999999999E-4,0.36007,null,0.434473,5.3199999999999997E-2,3.2000000000000002E-3,3.7000000000000002E-3,-0.15941,1.2540000000000001E-2,4.8000000000000001E-4,1.1000000000000001E-3,2.9,0.1,0.24,267,15,14,260.7,3.4,4.5999999999999996,251.9,9.5,23,300,130,150,180,220,5.6,8.9,130,100,230.4,5.8,282.2,4.5999999999999996,35.6,1.3,0.81140000000000001,8.2000000000000007E-3,24.23068,0.32,80,30,257700000000000,5800000000000,null,null,null,null,null,null,0.99866999999999995,2.7399999999999998E-3,3.8999999999999999E-4,4.2999999999999999E-4,111.5,3.4,4.6088499999999998E-2,9.7000000000000003E-6,1.0000000000000001E-5,2.25,0.51,0.52,56.7,1.7,1.8,58,1.8,1.8,55.2,7.9,8.6999999999999993,7.4999999999999997E-2,1.4999999999999999E-2,-30.2,4.3,1,1,0.11,0.19,0.19,9.4999999999999998E-3,1.6000000000000001E-3,1.6000000000000001E-3,0.98734,3.5000000000000001E-3,5.4000000000000003E-3,5.8999999999999999E-3,-0.33,0.39,0.4,174,57,3450,180,180,-20,220,230,61,10,10,70,110,120,0.74480000000000002,9.9000000000000008E-3,6.6E-3,9.7999999999999997E-3,12.12,0.25,5.7639999999999997E-2,7.5000000000000002E-4,8.0000000000000004E-4,521,32,33,515,13,16,513,10,12,190,130,200,9.1999999999999998E-3,2.8E-3,6.0000000000000001E-3,6.6000000000000003E-2,0.41,0.17,0.66,0.16,0.2,8.3099999999999993E-2,1.6999999999999999E-3,2E-3,0.54723999999999995,4.0000000000000001E-3,4.2000000000000003E-2,6.2E-2,5.8000000000000003E-2,1.4E-2,1.4999999999999999E-2,12.08,"06:00:00",1200,230,240,510,110,130,514,10,12,280,840,1300]
["Output_1_89","Baclab2N4CII-89","04/12/2018 (3) 20:34:08.60","04/12/2018 (3)","20:34:08.600",13.486000000000001,"Baclab2N4CII-89",29,"Normal",1,2.1459999999999999,5.1999999999999998E-2,8.3000000000000004E-2,0.20119999999999999,2.3E-3,4.0000000000000001E-3,0.28122999999999998,null,9.8810709999999996E-2,7.6300000000000007E-2,2.0999999999999999E-3,3.7000000000000002E-3,0.28416999999999998,5.4699999999999999E-2,1.1000000000000001E-3,4.5999999999999999E-3,10.77,0.41,0.98,1163,17,28,1182,12,22,1076,22,89,1096,55,110,6400,3200,520,260,660,330,303,18,116.5,2.6,60.1,1.6,2.5960000000000001,8.7999999999999995E-2,4.9701789999999999,5.6000000000000001E-2,-8.8000000000000007,6.1,1428000000000000,74000000000000,null,null,null,null,null,null,0.94238999999999995,2.7200000000000002E-3,2.0000000000000001E-4,2.3000000000000001E-4,107,4,4.6170999999999997E-2,7.3999999999999996E-5,7.8999999999999996E-5,6.5,3.8,4.0999999999999996,59.2,2.2000000000000002,2.2999999999999998,60.6,2.2000000000000002,2.2000000000000002,55,3.9,4.5,1.26E-2,5.4999999999999997E-3,-18.2,4.4000000000000004,1,1,0.13700000000000001,6.8000000000000005E-2,7.1999999999999995E-2,9.8899999999999995E-3,6.6E-4,6.7000000000000002E-4,0.90549999999999997,4.4999999999999997E-3,1.6000000000000001E-3,1.9E-3,7.6999999999999999E-2,4.5999999999999999E-2,4.9000000000000002E-2,103.4,8.1,2420,230,250,117,62,65,63.4,4.2,4.3,91,33,38,0.65103,2.7779999999999999E-2,4.6999999999999999E-4,1.2999999999999999E-3,11.23,0.17,5.57E-2,1.8E-3,2E-3,420,73,80,522,16,20,548.70000000000005,7.9,10,553.79999999999995,9.3000000000000007,25,2.0500000000000001E-2,2.2000000000000001E-3,-9,16,1,1,0.84,0.17,0.22,8.9700000000000002E-2,2E-3,2.7000000000000001E-3,0.81383000000000005,3.4000000000000002E-2,5.7999999999999996E-3,1.6E-2,6.7000000000000004E-2,1.4E-2,1.4999999999999999E-2,11.21,"06:14:24",1340,210,230,609,92,120,554,12,16,670,110,310]
["Output_1_90","Baclab2N4CII-90","04/12/2018 (3) 20:34:57.50","04/12/2018 (3)","20:34:57.500",23.585000000000001,"Baclab2N4CII-90",51,"Normal",1,0.498,1.7999999999999999E-2,2.3E-2,6.5110000000000001E-2,5.5000000000000003E-4,1E-3,0.18509,null,0.23588729999999999,5.5100000000000003E-2,2E-3,3.3E-3,7.9340999999999995E-2,2.1100000000000001E-2,9.3999999999999997E-4,2E-3,10.93,0.42,0.91,409,13,16,406.6,3.3,6.1,422,19,40,390,83,130,1070,690,60,39,115,73,361,14,112.6,3.9,21.08,0.82,3.218,3.7999999999999999E-2,15.35862,0.13,62,61,521000000000000,21000000000000,null,null,null,null,null,null,0.69099999999999995,2.9499999999999999E-3,1.9000000000000001E-4,2.5000000000000001E-4,106.3,1.5,4.6121000000000002E-2,3.0000000000000001E-5,3.3000000000000003E-5,3.9,1.5,1.7,59.28,0.89,0.95,60.2,0.84,"22:04:48",59.6,3.8,5,1.18E-2,4.4999999999999997E-3,-20.7,3.1,1,1,6.6000000000000003E-2,6.3E-2,6.8000000000000005E-2,9.3799999999999994E-3,5.1000000000000004E-4,5.5999999999999995E-4,0.97272999999999998,3.0999999999999999E-3,1.9E-3,2.5000000000000001E-3,1.9E-2,4.3999999999999997E-2,4.9000000000000002E-2,109.4,6.6,2300,260,290,45,63,67,60.2,3.3,3.6,63,38,50,0.40579999999999999,5.0099999999999999E-2,2.7000000000000001E-3,3.8E-3,6.18,0.21,7.1300000000000002E-2,2.8E-3,2.8E-3,960,78,78,952,35,36,961,27,30,988,53,72,1.6000000000000001E-3,2.5000000000000001E-3,5.5E-2,5.8999999999999997E-2,0.75,0.14000000000000001,1.92,0.65,0.67,0.1623,5.4999999999999997E-3,6.0000000000000001E-3,0.73331999999999997,8.8999999999999996E-2,5.0999999999999997E-2,7.0000000000000007E-2,9.1999999999999998E-2,2.3E-2,2.3E-2,6.18,"05:02:24",1670,330,330,1090,190,200,969,30,33,1650,940,1300]
["Output_1_91","Baclab2N4CII-91","04/12/2018 (3) 20:40:01.66","04/12/2018 (3)","20:40:01.660",9.9220000000000006,"Baclab2N4CII-91",21,"Normal",1,0.55500000000000005,2.8000000000000001E-2,2.5999999999999999E-2,6.6780000000000006E-2,9.1E-4,1.1999999999999999E-3,0.21393999999999999,null,0.2690843,5.9799999999999999E-2,2.8999999999999998E-3,3.5999999999999999E-3,4.7682000000000002E-2,2.6700000000000002E-2,1.1000000000000001E-3,2.7000000000000001E-3,15.54,0.7,1.2,448,18,17,416.7,5.5,7,532,21,52,580,100,130,40,150,2.2999999999999998,9.5,50,96,349,13,62.7,2.1,15.69,0.85,5.74,0.15,14.974539999999999,0.2,22,17,520000000000000,18000000000000,null,null,null,null,null,null,0.99812999999999996,3.15E-3,2.9999999999999997E-4,3.3E-4,105.8,2,4.6094999999999997E-2,1.2E-5,1.4E-5,2.59,0.65,0.71,59.3,1.1000000000000001,1.2,60.7,1.1000000000000001,1.2,63.6,6.1,6.6,2.76E-2,5.8999999999999999E-3,-28.8,3.3,1,1,-3.0000000000000001E-3,8.2000000000000003E-2,8.6999999999999994E-2,8.9300000000000004E-3,6.8999999999999997E-4,7.2999999999999996E-4,0.96955999999999998,-2.9999999999999997E-4,3.7000000000000002E-3,4.0000000000000001E-3,-7.5999999999999998E-2,8.7999999999999995E-2,9.6000000000000002E-2,122,12,2590,250,270,-50,95,100,57.3,4.4000000000000004,4.7,-8,75,82,0.56818000000000002,5.2670000000000002E-2,9.8999999999999999E-4,2.5000000000000001E-3,5.6260000000000003,9.1999999999999998E-2,7.6999999999999999E-2,1.6999999999999999E-3,1.9E-3,1114,43,48,1064,19,28,1057,16,20,1037,19,49,1.2999999999999999E-3,1.2999999999999999E-3,6.2E-2,3.5999999999999997E-2,0.84599999999999997,7.4999999999999997E-2,2.19,0.21,0.3,0.18079999999999999,3.0999999999999999E-3,4.0000000000000001E-3,0.63827,6.7000000000000004E-2,7.4000000000000003E-3,1.9E-2,9.0300000000000005E-2,8.0000000000000002E-3,8.8000000000000005E-3,5.548,"02:21:07.200",1440,160,180,1158,69,99,1071,17,22,1310,140,360]
["Output_1_92","Baclab2N4CII-92","04/12/2018 (3) 20:41:07.41","04/12/2018 (3)","20:41:07.410",14.081,"Baclab2N4CII-92",31,"Normal",1,0.52600000000000002,1.6E-2,2.1000000000000001E-2,6.6070000000000004E-2,7.3999999999999999E-4,1E-3,0.26596999999999998,null,0.22908220000000001,5.7700000000000001E-2,1.6999999999999999E-3,3.0999999999999999E-3,3.9423E-2,2.2919999999999999E-2,7.3999999999999999E-4,2E-3,15.4,0.81,1.2,428,11,14,412.4,4.4000000000000004,6.1,458,15,40,539,65,110,1700,2600,170,200,190,230,519,30,115,12,24.4,2.2000000000000002,4.63,0.21,15.13546,0.17,16,12,762000000000000,44000000000000,null,null,null,null,null,null,0.97914000000000001,3.0300000000000001E-3,2.0000000000000001E-4,2.5000000000000001E-4,107.5,2.2000000000000002,4.6122000000000003E-2,2.8E-5,3.1999999999999999E-5,4,1.5,1.6,58.6,1.2,1.3,60,1.2,1.3,61.1,3.9,5.0999999999999996,1.37E-2,4.1000000000000003E-3,-20.8,3,0.99,0.02,5.3999999999999999E-2,0.06,6.6000000000000003E-2,9.2099999999999994E-3,4.8000000000000001E-4,5.0000000000000001E-4,0.95186999999999999,2.7000000000000001E-3,1.8E-3,2.3E-3,1.4999999999999999E-2,4.2000000000000003E-2,4.8000000000000001E-2,110.9,6.1,2300,230,260,35,60,66,59.1,3,3.2,55,35,46,0.56193000000000004,4.9329999999999999E-2,9.7999999999999997E-4,2.3999999999999998E-3,6.12,0.11,7.0400000000000004E-2,2.2000000000000001E-3,2.3999999999999998E-3,956,64,68,952,25,33,977,16,20,973,19,46,5.3E-3,2.3E-3,-3.6999999999999998E-2,7.1999999999999995E-2,0.89700000000000002,7.6999999999999999E-2,1.93,0.38,0.49,0.16500000000000001,5.0000000000000001E-3,6.4000000000000003E-3,0.82769999999999999,6.2E-2,2.1000000000000001E-2,5.0999999999999997E-2,8.5000000000000006E-2,1.6E-2,1.6E-2,6.05,"04:19:12",1360,270,290,1030,150,200,984,28,35,1190,400,970]
["Output_1_93","Baclab2N4CII-93","04/12/2018 (3) 20:41:56.91","04/12/2018 (3)","20:41:56.910",11.706,"Baclab2N4CII-93",25,"Normal",1,1.7709999999999999,5.2999999999999999E-2,6.7000000000000004E-2,0.1719,2.2000000000000001E-3,3.3E-3,0.19006999999999999,null,0.1116766,7.4099999999999999E-2,2E-3,3.8999999999999998E-3,0.13149,4.82E-2,1.2999999999999999E-3,4.4999999999999997E-3,7.84,0.56999999999999995,0.65,1034,19,23,1022,12,18,952,25,87,1053,61,100,1700,3900,100,220,-23,37,286,34,135.19999999999999,5.2,62.5,3.2,2.1,0.18,5.8173360000000001,6.8000000000000005E-2,0.9,6,1170000000000000,130000000000000,null,null,null,null,null,null,0.99950000000000006,2.8400000000000001E-3,5.1000000000000004E-4,5.5999999999999995E-4,103.8,3,4.60869E-2,8.8999999999999995E-6,9.2E-6,2.17,0.46,0.48,60.4,1.6,1.6,61.9,1.7,1.7,57,10,11,2.9600000000000001E-2,8.9999999999999993E-3,-35.9,5.3,1,1,0.02,0.22,0.23,8.8999999999999999E-3,2E-3,2E-3,0.99085000000000001,1E-3,0.01,1.0999999999999999E-2,-0.09,0.7,0.72,118,95,3450,210,220,190,150,160,57,13,13,0,210,230,0.66293999999999997,1.993E-2,8.9999999999999998E-4,1.6999999999999999E-3,16.100000000000001,0.3,5.2069999999999998E-2,9.6000000000000002E-4,1E-3,281,43,45,371.5,8,9,388.9,6.8,8.1999999999999993,399,18,33,4.7000000000000002E-3,1.9E-3,-10,13,0.61,0.11,0.5,0.13,0.15,6.2399999999999997E-2,1.6000000000000001E-3,1.9E-3,0.75482000000000005,2.6200000000000001E-2,9.5999999999999992E-3,1.7999999999999999E-2,0.06,1.6E-2,1.6E-2,16.02,"09:36:00",1500,210,220,399,92,100,389.9,9.6999999999999993,12,510,190,350]
["Output_1_94","Baclab2N4CII-94","04/12/2018 (3) 20:43:04.63","04/12/2018 (3)","20:43:04.630",12.894,"Baclab2N4CII-94",28,"Normal",1,0.40400000000000003,2.1999999999999999E-2,2.3E-2,5.1700000000000003E-2,7.9000000000000001E-4,8.5999999999999998E-4,8.9982999999999994E-2,null,0.32174910000000001,5.7200000000000001E-2,3.2000000000000002E-3,4.0000000000000001E-3,0.16958000000000001,1.9699999999999999E-2,1E-3,1.8E-3,9.9600000000000009,0.56000000000000005,0.89,344,16,16,324.89999999999998,4.8,5.3,394,20,36,470,120,130,12400,8300,620,460,1280,950,287,14,85.8,1.5,16.04,0.84,3.33,0.11,19.342359999999999,0.28000000000000003,27,34,337000000000000,16000000000000,null,null,null,null,null,null,0.88124999999999998,3.0599999999999998E-3,1.6000000000000001E-4,2.3000000000000001E-4,102.4,1.8,4.6134000000000001E-2,3.3000000000000003E-5,3.8000000000000002E-5,4.5999999999999996,1.7,2,60.8,1.1000000000000001,1.2,62.7,1.1000000000000001,1.2,61.7,3.1,4.5999999999999996,4.1999999999999997E-3,3.3E-3,-19.7,3.1,1,1,4.9000000000000002E-2,4.8000000000000001E-2,5.5E-2,9.4699999999999993E-3,4.4999999999999999E-4,4.8000000000000001E-4,0.91022999999999998,2.3E-3,1.4E-3,2.0999999999999999E-3,2.4E-2,2.5999999999999999E-2,2.9000000000000001E-2,106.2,5,1990,380,430,48,43,49,60.7,2.9,3.1,47,29,43,0.89539999999999997,1.7299999999999999E-2,4.0000000000000001E-3,5.1999999999999998E-3,12.13,0.55000000000000004,5.6599999999999998E-2,1.5E-3,1.5E-3,472,60,61,508,23,24,514,22,23,346,79,100,1.4800000000000001E-2,5.4000000000000003E-3,-0.23,0.32,0.32,0.23,-0.01,0.68,0.7,7.7399999999999997E-2,6.6E-3,6.8999999999999999E-3,0.88449,-3.4000000000000002E-2,5.8999999999999997E-2,7.6999999999999999E-2,-2.3E-2,7.0000000000000007E-2,7.0999999999999994E-2,13,1.2,2100,370,370,370,460,480,480,40,41,-800,1200,1600]
["Output_1_95","Baclab2N4CII-95","04/12/2018 (3) 20:44:08.38","04/12/2018 (3)","20:44:08.380",11.706,"Baclab2N4CII-95",25,"Normal",1,0.83399999999999996,0.04,6.6000000000000003E-2,5.96E-2,1E-3,1.5E-3,0.30530000000000002,null,0.4222783,0.1016,4.4999999999999997E-3,7.6E-3,-5.5039999999999999E-2,2.3400000000000001E-2,1.4E-3,2.8E-3,3.86,0.19,0.32,615,22,34,372.9,6.3,9.1999999999999993,468,27,56,1641,76,120,76,44,8.3000000000000007,4.3,22,13,156.6,4.0999999999999996,115.7,7.1,26.8,1.7,1.37,5.3999999999999999E-2,16.77852,0.28999999999999998,77.3,1.1000000000000001,230000000000000,6000000000000,null,null,null,null,null,null,0.74912000000000001,2.98E-3,2.7E-4,3.1E-4,104.6,3.1,4.6113000000000001E-2,2.9E-5,3.1000000000000001E-5,3.5,1.5,1.6,59.7,2,2.1,61.7,1.9,1.9,60.2,5.5,6.2,1.2E-2,5.4999999999999997E-3,-22.8,3.4,0.97,3.4000000000000002E-2,-0.08,0.14000000000000001,0.15,8.0000000000000002E-3,1.1999999999999999E-3,1.1999999999999999E-3,0.97233999999999998,-1.4E-3,4.1000000000000003E-3,4.7000000000000002E-3,-0.26,0.44,0.47,155,67,2900,290,310,-130,160,170,51.4,7.6,7.8,-30,83,95,0.83179000000000003,2.9600000000000001E-2,7.0000000000000001E-3,8.0000000000000002E-3,11.95,0.27,5.7729999999999997E-2,7.6000000000000004E-4,8.4000000000000003E-4,535,27,30,512,11,14,520,11,13,590,140,160,1.8E-3,9.3000000000000005E-4,3.5999999999999997E-2,5.5E-2,0.86799999999999999,7.6999999999999999E-2,0.64,0.1,0.13,8.3900000000000002E-2,2.0999999999999999E-3,2.3999999999999998E-3,0.52090999999999998,-0.03,0.1,0.12,5.5E-2,8.0999999999999996E-3,8.8999999999999999E-3,11.99,"07:26:24",900,200,220,498,60,78,519,13,15,-1300,2400,2700]
["Output_1_96","Baclab2N4CII-96","04/12/2018 (3) 20:45:04.81","04/12/2018 (3)","20:45:04.810",15.268000000000001,"Baclab2N4CII-96",33,"Normal",1,0.84099999999999997,6.0999999999999999E-2,5.7000000000000002E-2,8.9300000000000004E-2,1.8E-3,1.8E-3,0.28369,null,0.2257198,6.6799999999999998E-2,4.7000000000000002E-3,5.1000000000000004E-3,-4.4010999999999998E-3,3.15E-2,1.6000000000000001E-3,3.0000000000000001E-3,5.27,0.28999999999999998,0.49,615,34,31,551,11,11,627,32,59,810,150,150,0,36,0.2,2.4,0.4,7.7,80.099999999999994,1.3,47.1,1,14.75,0.91,1.702,0.05,11.19821,0.23,40,31,173600000000000,4200000000000,null,null,null,null,null,null,0.82230999999999999,2.99E-3,5.0000000000000001E-4,5.5000000000000003E-4,106.8,2.4,4.6082499999999998E-2,6.3999999999999997E-6,6.9E-6,1.94,0.33,0.36,58.9,1.3,1.4,60.2,1.3,1.3,60,10,11,2.1999999999999999E-2,5.5999999999999999E-3,-36.299999999999997,4.3,0.8,0.11,-0.06,0.13,0.13,8.5000000000000006E-3,1.1000000000000001E-3,1.1000000000000001E-3,0.98094000000000003,-5.4000000000000003E-3,8.3000000000000001E-3,9.1000000000000004E-3,-0.17,0.22,0.24,137,32,2980,270,290,-30,110,120,54.3,6.7,7,-90,170,190,0.41322999999999999,5.7099999999999998E-2,2.5000000000000001E-3,4.4000000000000003E-3,5.16,0.12,7.7100000000000002E-2,1.5E-3,1.6000000000000001E-3,1120,39,40,1139,33,37,1145,25,28,1123,47,84,-5.9999999999999995E-4,1.4E-3,0,1.7999999999999999E-2,0.75,9.2999999999999999E-2,1.6,0.97,1.1000000000000001,0.19020000000000001,8.8999999999999999E-3,0.01,0.84545000000000003,4.4999999999999998E-2,3.5999999999999997E-2,6.4000000000000001E-2,5.1999999999999998E-2,0.04,4.2000000000000003E-2,5.28,"06:00:00",1650,390,410,1170,200,220,1121,49,55,800,740,1300]
["Output_1_97","Baclab2N4CII-97","04/12/2018 (3) 20:45:54.31","04/12/2018 (3)","20:45:54.310",12.3,"Baclab2N4CII-97",27,"Normal",1,1.6619999999999999,3.9E-2,5.8999999999999997E-2,0.1573,1.6000000000000001E-3,2.5000000000000001E-3,0.19611000000000001,null,0.1010375,7.6999999999999999E-2,1.8E-3,3.8999999999999998E-3,0.21825,5.7700000000000001E-2,2.5999999999999999E-3,5.1999999999999998E-3,13.54,0.56000000000000005,1.1000000000000001,993,15,23,941.6,9.1999999999999993,14,1134,49,99,1127,50,100,-9400,7600,-820,590,-750,600,290,9.9,61.9,1.6,34.5,1.2,4.6609999999999996,5.7000000000000002E-2,6.3572790000000001,7.0999999999999994E-2,15.6,3.9,1027000000000000,37000000000000,null,null,null,null,null,null,0.99087000000000003,3.0179999999999998E-3,8.2999999999999998E-5,1.7000000000000001E-4,106,1.5,4.6155000000000002E-2,3.4E-5,4.8000000000000001E-5,5.7,1.8,2.5,59.22,0.81,1,60.54,0.83,"21:50:24",60.9,1.7,3.5,1.01E-2,2.0999999999999999E-3,-14.6,2.8,1,1,0.05,1.6E-2,2.1000000000000001E-2,9.3299999999999998E-3,2.0000000000000001E-4,2.2000000000000001E-4,0.79271999999999998,2.7299999999999998E-3,4.0000000000000002E-4,8.4000000000000003E-4,3.7999999999999999E-2,1.2E-2,1.6E-2,107.5,2.2999999999999998,950,220,300,50,15,20,59.8,1.3,1.4,55,8.1,17,8.9305999999999996E-2,6.2100000000000002E-2,1.6000000000000001E-3,4.7000000000000002E-3,4.2060000000000004,5.3999999999999999E-2,8.3299999999999999E-2,1.6999999999999999E-3,1.9E-3,1272,39,43,1328,18,26,1376,16,22,1218,31,90,-3.2000000000000003E-4,6.4000000000000005E-4,4.7999999999999996E-3,9.5999999999999992E-3,0.5,1,2.48,0.45,0.67,0.2364,4.4999999999999997E-3,6.1999999999999998E-3,0.75209999999999999,5.3999999999999999E-2,1.4E-2,4.1000000000000002E-2,7.5999999999999998E-2,1.4E-2,1.4999999999999999E-2,4.2409999999999997,"01:59:31.200",1430,190,210,1250,140,210,1368,23,33,1050,280,790]
["Output_1_98","Baclab2N4CII-98","04/12/2018 (3) 20:46:53.12","04/12/2018 (3)","20:46:53.120",10.519,"Baclab2N4CII-98",23,"Normal",1,1.5680000000000001,7.0999999999999994E-2,6.6000000000000003E-2,0.15479999999999999,1.5E-3,2.5000000000000001E-3,0.1236,null,0.1043273,7.3300000000000004E-2,3.3999999999999998E-3,4.1000000000000003E-3,0.16002,5.1999999999999998E-2,1.2999999999999999E-2,4.7000000000000002E-3,11.66,0.65,0.95,955,28,26,927.5,8.4,14,1010,240,90,1005,91,110,-110,200,-7,14,-7,19,235.6,9.4,66.099999999999994,2.4,31.6,1.8,3.6019999999999999,3.7999999999999999E-2,6.4599479999999998,6.4000000000000001E-2,6.3,8.1,827000000000000,35000000000000,null,null,null,null,null,null,0.99629000000000001,2.8E-3,2.2000000000000001E-4,2.7E-4,107.7,2.2000000000000002,4.6136999999999997E-2,3.8000000000000002E-5,4.1999999999999998E-5,4.8,2,2.2000000000000002,58.2,1.2,1.3,59.4,1.2,1.3,56.5,4.4000000000000004,5.4,2.1499999999999998E-2,5.1000000000000004E-3,-21.3,3.4,1,1,2.9000000000000001E-2,4.9000000000000002E-2,5.2999999999999999E-2,9.0600000000000003E-3,4.2000000000000002E-4,4.4000000000000002E-4,0.90044000000000002,1.6999999999999999E-3,1.6000000000000001E-3,1.9E-3,8.0000000000000002E-3,4.2000000000000003E-2,4.5999999999999999E-2,112.6,5.3,2190,180,200,30,49,53,58.1,2.7,2.8,34,32,39,0.47789999999999999,2.0240000000000001E-2,6.4999999999999997E-4,1.6999999999999999E-3,13.72,0.23,5.2499999999999998E-2,1.1000000000000001E-3,1.1999999999999999E-3,297,51,52,428,15,17,453.4,7.1,9,405,13,34,1.8E-3,1.5E-3,-0.03,0.1,0.40400000000000003,8.8999999999999996E-2,0.23,0.32,0.36,7.0699999999999999E-2,2.8999999999999998E-3,3.7000000000000002E-3,0.92386000000000001,1.47E-2,6.1000000000000004E-3,1.6E-2,8.9999999999999993E-3,3.5999999999999997E-2,3.7999999999999999E-2,14.43,0.65,1770,290,300,390,180,200,440,18,23,290,120,320]
["Output_1_99","Baclab2N4CII-99","04/12/2018 (3) 20:47:55.69","04/12/2018 (3)","20:47:55.690",22.398,"Baclab2N4CII-99",48,"Normal",1,0.754,2.4E-2,3.3000000000000002E-2,6.7580000000000001E-2,8.8000000000000003E-4,1.1999999999999999E-3,0.29957,null,0.26275130000000002,7.9899999999999999E-2,2.3E-3,4.5999999999999999E-3,2.0088999999999999E-2,2.6100000000000002E-2,6.3000000000000003E-4,2.3E-3,4.2300000000000004,0.1,0.33,570,14,19,421.5,5.3,7.3,521,12,45,1192,60,110,-720,820,-49,56,-290,250,328,13,213.2,9.6999999999999993,54.9,2.2999999999999998,1.5369999999999999,1.2999999999999999E-2,14.797280000000001,0.19,62.6,3.1,538000000000000,22000000000000,null,null,null,null,null,null,0.99302999999999997,2.3E-3,7.5000000000000002E-4,7.6999999999999996E-4,106.1,4.2,4.6076899999999997E-2,2.7E-6,2.7999999999999999E-6,1.65,0.14000000000000001,0.15,59.5,2.2000000000000002,2.2000000000000002,61.2,2.4,2.4,46,15,16,1.7999999999999999E-2,1.0999999999999999E-2,-39.700000000000003,4.5,0.68,0.13,0.14000000000000001,0.35,0.36,1.01E-2,3.0000000000000001E-3,3.0999999999999999E-3,0.98580999999999996,8.9999999999999993E-3,1.2999999999999999E-2,1.2999999999999999E-2,0.17,0.25,0.26,86,45,3750,220,230,380,180,180,65,19,20,170,260,270,0.62021000000000004,5.5329999999999997E-2,9.7000000000000005E-4,2.2000000000000001E-3,5.4390000000000001,7.5999999999999998E-2,8.0100000000000005E-2,1.9E-3,2.0999999999999999E-3,1200,48,54,1127,20,27,1090,14,19,1088,19,42,1.2999999999999999E-3,1.2999999999999999E-3,9.7000000000000003E-2,3.5000000000000003E-2,0.88900000000000001,6.3E-2,1.7,0.4,0.55000000000000004,0.18179999999999999,3.8E-3,5.1000000000000004E-3,0.80162,3.3000000000000002E-2,2.3E-2,5.0999999999999997E-2,6.8000000000000005E-2,1.4999999999999999E-2,1.7000000000000001E-2,5.53,"02:52:48",1360,220,250,970,160,210,1076,20,28,760,480,1100]
["Output_1_100","Baclab2N4CII-100","04/12/2018 (3) 20:48:50.34","04/12/2018 (3)","20:48:50.340",5.7675999999999998,"Baclab2N4CII-100",12,"Normal",1,6.18,0.12,0.2,0.32529999999999998,4.3E-3,6.4999999999999997E-3,0.32856999999999997,null,6.1425010000000002E-2,0.1356,2.5999999999999999E-3,6.4000000000000003E-3,0.45346999999999998,5.7000000000000002E-2,5.2999999999999999E-2,6.4000000000000003E-3,4.63,0.14000000000000001,0.41,2002,17,32,1816,21,32,1100,1000,120,2170,34,83,-17000,14000,-2200,1900,-3600,3100,352.7,4.5999999999999996,304.8,8.1999999999999993,230,11,1.159,2.7E-2,3.0740850000000002,4.1000000000000002E-2,16.3,1.9,2984000000000000,50000000000000,null,null,null,null,null,null,0.99829999999999997,2.8999999999999998E-3,2.5000000000000001E-4,3.2000000000000003E-4,103.4,2.2999999999999998,4.6095900000000002E-2,8.1999999999999994E-6,8.6999999999999997E-6,2.64,0.43,0.46,60.9,1.4,1.4,62.4,1.4,1.5,58.5,5.0999999999999996,6.4,1.21E-2,5.3E-3,-24.4,3.1,1,1,0.115,9.6000000000000002E-2,0.1,1.034E-2,8.8999999999999995E-4,9.2000000000000003E-4,0.96762999999999999,4.4999999999999997E-3,3.2000000000000002E-3,4.1000000000000003E-3,4.5999999999999999E-2,5.7000000000000002E-2,6.0999999999999999E-2,100.7,9,2560,260,280,110,84,89,66.3,5.7,5.9,89,65,82,0.79444999999999999,4.6609999999999999E-2,8.3000000000000001E-4,1.9E-3,6.44,0.12,7.6899999999999996E-2,2.8E-3,2.8999999999999998E-3,1128,69,72,991,29,34,932,16,19,921,16,37,2.8999999999999998E-3,3.0000000000000001E-3,0.17699999999999999,5.0999999999999997E-2,0.97399999999999998,5.2999999999999999E-2,1.29,0.24,0.28000000000000003,0.15260000000000001,3.5999999999999999E-3,4.4000000000000003E-3,0.70396999999999998,2.7E-2,1.0999999999999999E-2,2.4E-2,6.0999999999999999E-2,1.0999999999999999E-2,1.0999999999999999E-2,6.57,"03:50:24",960,200,210,840,120,140,915,20,25,540,210,480]
[null,null,null,null,null,null,null,null,null,null,null,null,null,null,null,null,null,null,null,null,null,null,null,null,null,null,null,null,null,null,null,null,null,null,null,null,null,null,null,null,null,null,null,null,null,null,null,null,null,null,null,null,null,null,null,null,null,null,null,null,null,null,null,null,null,null,null,0.92093000000000003,2.96E-3,1.9000000000000001E-4,2.4000000000000001E-4,103.4,1.6,4.6129000000000003E-2,3.8999999999999999E-5,4.5000000000000003E-5,4.4000000000000004,2,2.2999999999999998,60.69,0.94,1.1000000000000001,61.9,0.96,1,59.8,3.8,4.9000000000000004,6.4000000000000003E-3,3.2000000000000002E-3,-21.4,3.2,0.96899999999999997,3.5000000000000003E-2,6.9000000000000006E-2,6.0999999999999999E-2,6.9000000000000006E-2,9.5700000000000004E-3,5.8E-4,6.2E-4,0.96011000000000002,2.8999999999999998E-3,2E-3,2.5000000000000001E-3,0.02,4.2999999999999997E-2,0.05,106.3,6.3,2230,230,270,49,60,68,62,3.6,3.9,58,40,51,0.66408,4.9200000000000001E-2,1.5E-3,2.3E-3,6.2,0.12,7.0599999999999996E-2,1.6999999999999999E-3,1.8E-3,955,43,46,961,23,28,965,18,21,971,29,45,2.8E-3,2.3999999999999998E-3,-1.7000000000000001E-2,5.6000000000000001E-2,0.82,0.1,1.56,0.42,0.52,0.1633,4.1000000000000003E-3,5.0000000000000001E-3,0.70875999999999995,4.3999999999999997E-2,2.9000000000000001E-2,4.4999999999999998E-2,6.9000000000000006E-2,1.7999999999999999E-2,1.9E-2,6.14,"03:50:24",1200,320,330,1010,130,170,975,23,28,820,560,870]
["Z_Plesovice_1","Ple_1","04/12/2018 (3) 18:37:21.00","04/12/2018 (3)","18:37:21",24.084,"Ple_1",52,"Normal",1,0.40820000000000001,8.5000000000000006E-3,1.4E-2,5.2990000000000002E-2,4.6999999999999999E-4,8.3000000000000001E-4,0.19031000000000001,null,0.29559039999999998,5.5599999999999997E-2,1.1999999999999999E-3,2.8E-3,0.17358000000000001,1.7090000000000001E-2,7.6999999999999996E-4,1.6000000000000001E-3,32.9,1.2,2.7,347.4,6.1,10,332.8,2.9,5.0999999999999996,342,15,32,426,46,110,-620,420,-32,23,-18,13,728,27,75.3,2.7,11.01,0.5,9.7810000000000006,6.5000000000000002E-2,18.871490000000001,0.17,20,15,844000000000000,34000000000000,null,null,null,null,null,null,0.86634,3.0200000000000001E-3,2.5999999999999998E-4,2.9E-4,102.7,2.9,4.6108999999999997E-2,2.5999999999999998E-5,2.6999999999999999E-5,3.3,1.3,1.4,60.2,1.8,1.9,62.7,1.7,1.7,61,5.2,5.9,6.4000000000000003E-3,6.0000000000000001E-3,-25.8,4.2,1,1,-0.04,0.17,0.18,8.6999999999999994E-3,1.6000000000000001E-3,1.6000000000000001E-3,0.98229999999999995,0,4.7999999999999996E-3,5.4999999999999997E-3,-0.11,0.17,0.18,131,31,3150,310,320,-100,190,200,55.7,9.9,10,-1,97,110,0.73807999999999996,2.75E-2,1.1999999999999999E-3,2.7000000000000001E-3,11.27,0.33,5.6399999999999999E-2,1.1999999999999999E-3,1.1999999999999999E-3,462,48,50,532,20,22,551,15,17,548,24,53,3.5999999999999999E-3,2.3E-3,-0.13,0.16,0.56000000000000005,0.12,0.71,0.38,0.42,8.8700000000000001E-2,4.8999999999999998E-3,5.4000000000000003E-3,0.84633000000000003,2.8000000000000001E-2,0.01,2.3E-2,4.8000000000000001E-2,3.2000000000000001E-2,3.3000000000000002E-2,11.27,"15:21:36",1740,270,270,600,230,260,547,29,32,550,200,450]
["Z_Plesovice_2","Ple_2","04/12/2018 (3) 18:38:21.00","04/12/2018 (3)","18:38:21",24.082999999999998,"Ple_2",52,"Normal",1,0.41270000000000001,9.9000000000000008E-3,1.4999999999999999E-2,5.3859999999999998E-2,4.6000000000000001E-4,8.3000000000000001E-4,0.29537000000000002,null,0.28611809999999999,5.5E-2,1.1999999999999999E-3,2.7000000000000001E-3,4.8514000000000002E-2,1.6230000000000001E-2,8.8999999999999995E-4,1.6000000000000001E-3,35.700000000000003,1.7,3.1,350.5,7.1,11,338.2,2.8,5.0999999999999996,325,18,32,427,51,110,260,180,14.3,9.5,4.9000000000000004,6.6,703,29,71.3,3,9.85,0.5,9.8940000000000001,7.4999999999999997E-2,18.566649999999999,0.16,5,15,826000000000000,35000000000000,null,null,null,null,null,null,0.72824999999999995,3.13E-3,1.4999999999999999E-4,2.1000000000000001E-4,104.2,1.8,4.6161000000000001E-2,4.8000000000000001E-5,5.3999999999999998E-5,6,2.5,2.8,60.2,1.1000000000000001,1.2,61.5,1,1.1000000000000001,63.2,3.1,4.2,4.7999999999999996E-3,3.3999999999999998E-3,-18.5,3.4,0.97,3.4000000000000002E-2,-3.5000000000000003E-2,7.2999999999999995E-2,0.08,8.7299999999999999E-3,6.4999999999999997E-4,6.8999999999999997E-4,0.97223000000000004,4.0000000000000002E-4,1.9E-3,2.5999999999999999E-3,-9.9000000000000005E-2,9.1999999999999998E-2,0.1,127,15,2060,380,430,-68,87,95,56,4.0999999999999996,4.4000000000000004,8,39,52,0.38358999999999999,2.3300000000000001E-2,2.2000000000000001E-3,2.7000000000000001E-3,13.48,0.27,5.4199999999999998E-2,1E-3,1E-3,386,46,48,439,13,15,462.5,8.9,11,466,43,53,1.6999999999999999E-3,1.6999999999999999E-3,-0.22,0.41,0.55000000000000004,0.13,0.47,0.49,0.55000000000000004,7.4200000000000002E-2,4.4000000000000003E-3,5.1999999999999998E-3,0.94220999999999999,1.2999999999999999E-2,4.7E-2,5.8000000000000003E-2,2.7E-2,5.6000000000000001E-2,5.7000000000000002E-2,13.84,"21:50:24",1910,310,320,670,170,200,461,26,31,90,990,1200]
["Z_Plesovice_3","Ple_3","04/12/2018 (3) 18:39:21.00","04/12/2018 (3)","18:39:21",24.084,"Ple_3",52,"Normal",1,0.40570000000000001,8.8999999999999999E-3,1.4999999999999999E-2,5.3830000000000003E-2,3.6000000000000002E-4,7.7999999999999999E-4,9.6195000000000003E-2,null,0.26918189999999997,5.4600000000000003E-2,1.2999999999999999E-3,2.8E-3,0.21840999999999999,1.721E-2,9.6000000000000002E-4,1.6999999999999999E-3,34,1.7,3,345.5,6.4,10,338,2.2000000000000002,4.8,345,19,34,391,54,120,0,160,-0.1,9,0,5.2,704,29,70.8,3,9.7899999999999991,0.46,9.9700000000000006,7.8E-2,18.577000000000002,0.13,-1,16,822000000000000,34000000000000,null,null,null,null,null,null,0.83925000000000005,3.0699999999999998E-3,1.6000000000000001E-4,2.2000000000000001E-4,104,1.6,4.6151999999999999E-2,3.6000000000000001E-5,4.1E-5,5.5,1.9,2.1,60.44,0.98,1.1000000000000001,61.73,0.9,"23:31:12",62,3.3,4.5,4.1000000000000003E-3,3.0999999999999999E-3,-19.100000000000001,3.5,1,1,6.9000000000000006E-2,2.9000000000000001E-2,3.3000000000000002E-2,9.5200000000000007E-3,2.7999999999999998E-4,2.9999999999999997E-4,0.82713000000000003,3.2399999999999998E-3,9.1E-4,1.1999999999999999E-3,2.9000000000000001E-2,1.4999999999999999E-2,1.7000000000000001E-2,104.7,3.1,1410,260,300,65,27,31,61.1,1.8,1.9,65,18,25,0.65812000000000004,3.934E-2,4.2999999999999999E-4,1.1999999999999999E-3,7.7009999999999996,8.3000000000000004E-2,6.8500000000000005E-2,1.5E-3,1.9E-3,895,41,53,808,15,27,787.6,8,13,779.9,8.4,24,-4.0000000000000002E-4,1.2999999999999999E-3,0.11600000000000001,4.1000000000000002E-2,1,1,1.222,8.4000000000000005E-2,0.15,0.1295,1.6000000000000001E-3,2.5999999999999999E-3,0.57523000000000002,3.9199999999999999E-2,3.8E-3,1.0999999999999999E-2,7.1099999999999997E-2,4.4999999999999997E-3,5.8999999999999999E-3,7.7320000000000002,"02:22:33.600",970,120,160,805,39,68,784.9,9.4,15,776,73,210]
["Z_Plesovice_4","Ple","04/12/2018 (3) 18:52:17.00","04/12/2018 (3)","18:52:17",24.084,"Ple",52,"Normal",1,0.38040000000000002,8.5000000000000006E-3,1.4E-2,5.3469999999999997E-2,3.2000000000000003E-4,7.6000000000000004E-4,5.1658999999999997E-2,null,0.26582339999999999,5.1299999999999998E-2,1.1999999999999999E-3,2.5999999999999999E-3,0.22467999999999999,1.7229999999999999E-2,8.8999999999999995E-4,1.6999999999999999E-3,32.1,1.5,2.8,327.10000000000002,6.3,10,335.8,2,4.7,345,18,34,253,54,120,-20,250,-5,12,1.1000000000000001,8.9,817,35,86.1,3.5,13.95,0.65,9.5579999999999998,6.3E-2,18.702079999999999,0.11,-22,77,950000000000000,40000000000000,null,null,null,null,null,null,0.78163000000000005,2.8800000000000002E-3,2.2000000000000001E-4,2.5999999999999998E-4,104.6,3.3,4.6108000000000003E-2,2.6999999999999999E-5,2.9E-5,3.3,1.4,1.5,60.2,1.7,1.8,61.8,1.8,1.9,58.2,4.4000000000000004,5.0999999999999996,9.9000000000000008E-3,5.5999999999999999E-3,-23.9,3.5,1,1,1.0999999999999999E-2,9.0999999999999998E-2,9.6000000000000002E-2,9.4699999999999993E-3,8.0999999999999996E-4,8.3000000000000001E-4,0.94686000000000003,8.9999999999999998E-4,3.3999999999999998E-3,4.0000000000000001E-3,-2.5999999999999999E-2,7.0000000000000007E-2,7.3999999999999996E-2,115,11,2550,300,320,0,97,100,60.8,5.2,5.3,17,68,80,0.20943000000000001,5.067E-2,9.5E-4,3.7000000000000002E-3,5.6719999999999997,5.1999999999999998E-2,7.5999999999999998E-2,1.6000000000000001E-3,1.8E-3,1089,43,48,1046,19,28,1047.4000000000001,8.9,15,999,18,70,-8.5999999999999998E-4,8.3000000000000001E-4,4.7E-2,0.03,0.73799999999999999,0.08,1.86,0.19,0.28000000000000003,0.1767,2.3999999999999998E-3,3.8999999999999998E-3,0.71086000000000005,5.1200000000000002E-2,5.0000000000000001E-3,1.9E-2,7.9399999999999998E-2,7.6E-3,8.6E-3,5.6689999999999996,"01:50:52.800",1340,130,150,1044,72,110,1049,13,22,1007,97,370]
["Z_Plesovice_5","Ple","04/12/2018 (3) 19:05:14.00","04/12/2018 (3)","19:05:14",24.084,"Ple",52,"Normal",1,0.38059999999999999,8.3000000000000001E-3,1.4E-2,5.3769999999999998E-2,3.6999999999999999E-4,7.9000000000000001E-4,3.6868999999999999E-2,null,0.27324169999999998,5.1400000000000001E-2,1.1999999999999999E-3,2.5999999999999999E-3,0.25951000000000002,1.7170000000000001E-2,7.5000000000000002E-4,1.6000000000000001E-3,30.06,0.95,2.4,327.3,6.1,10,337.6,2.2999999999999998,4.8,344,15,32,247,52,120,290,240,16,13,11.2,8.5,854,35,92.3,3.8,13.79,0.49,9.0909999999999993,5.6000000000000001E-2,18.597729999999999,0.13,-83,96,997500000000000,42000000000000,null,null,null,null,null,null,0.99987999999999999,2.99E-3,8.9999999999999998E-4,9.5E-4,104.6,4.7,4.6079799999999997E-2,7.1999999999999997E-6,7.5000000000000002E-6,1.79,0.37,0.39,61,2.5,2.6,62.5,2.7,2.7,60,18,19,0.05,0.01,-40.200000000000003,5.9,0.65,0.15,0,0.28999999999999998,0.3,9.1999999999999998E-3,2.5999999999999999E-3,2.5999999999999999E-3,0.98924000000000001,3.0000000000000001E-3,1.2999999999999999E-2,1.4E-2,-0.01,0.38,0.39,130,63,3480,230,240,20,250,260,59,16,17,40,260,280,0.52561000000000002,5.1700000000000003E-2,1.6000000000000001E-3,3.8E-3,5.64,0.1,7.3599999999999999E-2,1.6999999999999999E-3,1.8E-3,1038,53,55,1028,28,32,1051,19,23,1020,32,73,-8.0000000000000004E-4,1.6999999999999999E-3,2.9000000000000001E-2,4.3999999999999997E-2,0.71,0.09,1.59,0.6,0.68,0.17469999999999999,7.0000000000000001E-3,8.5000000000000006E-3,0.88085999999999998,4.3999999999999997E-2,2.1000000000000001E-2,4.9000000000000002E-2,6.3E-2,2.5000000000000001E-2,2.5999999999999999E-2,5.8,"05:45:36",1610,290,300,1050,190,210,1037,38,47,840,420,970]
["Z_Plesovice_6","Ple","04/12/2018 (3) 19:18:12.00","04/12/2018 (3)","19:18:12",24.085000000000001,"Ple",52,"Normal",1,0.40439999999999998,9.4000000000000004E-3,1.4999999999999999E-2,5.3370000000000001E-2,4.4000000000000002E-4,8.1999999999999998E-4,0.22978999999999999,null,0.28788530000000001,5.4699999999999999E-2,1.1999999999999999E-3,2.8E-3,0.15354999999999999,1.7129999999999999E-2,9.7999999999999997E-4,1.6999999999999999E-3,31.1,1.6,2.8,344.6,6.8,11,335.2,2.7,5,343,19,35,389,51,110,-50,310,-2,17,1,10,819,32,88.4,3.5,14.95,0.83,9.2989999999999995,5.8999999999999997E-2,18.737120000000001,0.15,4,14,951000000000000,39000000000000,null,null,null,null,null,null,0.99950000000000006,3.14E-3,6.0999999999999997E-4,6.7000000000000002E-4,108,5,4.6080900000000001E-2,4.3000000000000003E-6,4.5000000000000001E-6,1.86,0.23,0.23,59.3,2.8,2.9,60.7,3,3,63,12,13,6.6000000000000003E-2,1.4999999999999999E-2,-36.4,4.8,1,1,0.21,0.21,0.22,1.0800000000000001E-2,1.9E-3,1.9E-3,0.97768999999999995,8.6999999999999994E-3,7.4999999999999997E-3,8.3000000000000001E-3,0.23,0.76,0.78,90,110,3530,240,240,210,160,170,69,12,12,170,150,170,0.77224000000000004,4.3459999999999999E-2,8.8000000000000003E-4,2.0999999999999999E-3,6.97,0.14000000000000001,7.2099999999999997E-2,1.1999999999999999E-3,1.4E-3,988,33,40,901,14,21,865,16,19,860,17,41,4.8000000000000001E-4,5.5999999999999995E-4,0.11799999999999999,3.3000000000000002E-2,1,1,1.35,0.1,0.16,0.14199999999999999,2.5999999999999999E-3,3.0999999999999999E-3,0.44596999999999998,3.1E-2,1.7000000000000001E-2,0.04,7.1999999999999995E-2,5.4000000000000003E-3,6.4999999999999997E-3,7.02,"03:21:36",1010,140,170,863,47,70,856,15,17,610,330,790]
["Z_Plesovice_7","Ple","04/12/2018 (3) 19:32:09.00","04/12/2018 (3)","19:32:09",24.084,"Ple",52,"Normal",1,0.39700000000000002,1.0999999999999999E-2,1.4999999999999999E-2,5.3740000000000003E-2,3.8000000000000002E-4,8.0000000000000004E-4,0.31609999999999999,null,0.27700950000000002,5.4199999999999998E-2,1.4E-3,2.8999999999999998E-3,-3.5793999999999999E-2,1.7680000000000001E-2,9.1E-4,1.6999999999999999E-3,31,1.4,2.7,340.3,7.6,11,337.5,2.2999999999999998,4.9000000000000004,354,18,34,368,57,120,1410,700,79,40,44,23,743,31,78.599999999999994,3.2,13.01,0.71,9.5449999999999999,0.08,18.60811,0.13,12,81,867000000000000,38000000000000,null,null,null,null,null,null,0.99883,3.2799999999999999E-3,3.6000000000000002E-4,4.0000000000000002E-4,103.3,3.9,4.6095999999999998E-2,1.5999999999999999E-5,1.5999999999999999E-5,2.64,0.82,0.84,61.2,2.4,2.5,62.6,2.6,2.6,66.099999999999994,7.3,8,1.2E-2,8.6E-3,-26.1,6.2,1,1,-0.02,0.1,0.1,8.7600000000000004E-3,8.1999999999999998E-4,8.3000000000000001E-4,0.91691999999999996,8.0000000000000004E-4,2.7000000000000001E-3,2.8999999999999998E-3,-4.4999999999999998E-2,8.1000000000000003E-2,8.3000000000000004E-2,113.5,9.6,2090,480,490,-50,110,110,56.2,5.2,5.3,16,54,59]
["Z_Plesovice_8","Ple","04/12/2018 (3) 19:45:06.00","04/12/2018 (3)","19:45:06",24.084,"Ple",52,"Normal",1,0.39700000000000002,9.2999999999999992E-3,1.4999999999999999E-2,5.3370000000000001E-2,3.8000000000000002E-4,7.9000000000000001E-4,0.13968,null,0.27735290000000001,5.3800000000000001E-2,1.2999999999999999E-3,2.8E-3,0.15418999999999999,1.6410000000000001E-2,8.3000000000000001E-4,1.6000000000000001E-3,31.1,1.2,2.6,339.2,6.7,11,335.2,2.2999999999999998,4.8,329,17,32,352,54,120,1200,780,58,40,34,23,829,32,88.2,3.5,14.2,0.64,9.3350000000000009,6.8000000000000005E-2,18.737120000000001,0.13,-26,30,963000000000000,39000000000000,null,null,null,null,null,null,0.88371999999999995,2.99E-3,3.5E-4,3.8000000000000002E-4,101.5,3.9,4.6116999999999998E-2,4.1999999999999998E-5,4.3999999999999999E-5,3.8,2.2000000000000002,2.2999999999999998,61.9,2.2999999999999998,2.4,62.9,2.4,2.4,60.4,7.1,7.6,2.2100000000000002E-2,8.3999999999999995E-3,-28.4,6.8,1,1,-0.15,0.19,0.2,7.9000000000000008E-3,1.6000000000000001E-3,1.6999999999999999E-3,0.96926999999999996,-3.0000000000000001E-3,6.3E-3,6.7999999999999996E-3,-0.1,1,1,130,130,2980,320,330,-160,210,220,51,10,11,-60,130,140,0.32218000000000002,1.677E-2,6.7000000000000002E-4,1.2999999999999999E-3,17.850000000000001,0.24,5.2440000000000001E-2,6.8999999999999997E-4,7.6999999999999996E-4,301,30,34,342.4,5,7.5,351.3,4.8,6.6,336,13,27,3.6000000000000002E-4,5.9999999999999995E-4,-4.9000000000000002E-2,8.2000000000000003E-2,0.67600000000000005,9.1999999999999998E-2,0.36899999999999999,7.0999999999999994E-2,0.11,5.5899999999999998E-2,1.1999999999999999E-3,1.6000000000000001E-3,0.70037000000000005,1.0999999999999999E-2,1.0999999999999999E-2,2.1999999999999999E-2,5.0799999999999998E-2,9.2999999999999992E-3,0.01,17.920000000000002,"08:52:48",900,220,240,318,56,84,350.7,7.2,10,220,220,440]
["Z_Plesovice_9","Ple","04/12/2018 (3) 19:58:04.00","04/12/2018 (3)","19:58:04",24.082999999999998,"Ple",52,"Normal",1,0.375,7.0000000000000001E-3,1.2999999999999999E-2,5.3170000000000002E-2,3.4000000000000002E-4,7.6999999999999996E-4,0.14512,null,0.27236880000000002,5.0900000000000001E-2,1E-3,2.5999999999999999E-3,0.17291000000000001,1.6400000000000001E-2,9.3000000000000005E-4,1.6999999999999999E-3,34.4,1.6,3,323.2,5.2,9.4,334,2.1,4.7,329,19,33,230,45,110,1900,1100,130,62,72,37,841,35,88.9,3.7,11.64,0.56000000000000005,9.4930000000000003,6.0999999999999999E-2,18.807600000000001,0.12,-100,140,971000000000000,41000000000000,null,null,null,null,null,null,1,3.6099999999999999E-3,5.4000000000000001E-4,5.9000000000000003E-4,105.6,4.2,4.6080299999999998E-2,3.1999999999999999E-6,3.3000000000000002E-6,1.82,0.17,0.17,58.7,2.2999999999999998,2.4,60.1,2.4,2.5,73,11,12,5.6000000000000001E-2,0.01,-36,4.3,1,1,-0.18,0.2,0.21,7.9000000000000008E-3,1.6000000000000001E-3,1.6000000000000001E-3,0.98536999999999997,-7.1000000000000004E-3,8.8999999999999999E-3,9.5999999999999992E-3,0.05,0.31,0.32,102,39,3110,210,220,10,150,160,50,10,10,-160,180,200,0.32224999999999998,1.7219999999999999E-2,5.5999999999999995E-4,1.1000000000000001E-3,17.489999999999998,0.19,5.2130000000000003E-2,5.6999999999999998E-4,6.0999999999999997E-4,293,24,26,342.7,7.2,9.6,358.9,3.9,5.9,345,11,22,6.0000000000000002E-5,3.6999999999999999E-4,-0.18,0.19,0.67300000000000004,6.7000000000000004E-2,0.35099999999999998,7.8E-2,0.1,5.6770000000000001E-2,8.8999999999999995E-4,1.4E-3,0.78193000000000001,1.2E-2,1.2999999999999999E-2,2.5999999999999999E-2,0.05,0.01,1.0999999999999999E-2,17.670000000000002,"06:43:12",980,210,220,313,61,82,355.9,5.4,8.3000000000000007,230,270,520]
["Z_Plesovice_10","Ple","04/12/2018 (3) 20:12:01.00","04/12/2018 (3)","20:12:01",24.085000000000001,"Ple",52,"Normal",1,0.40139999999999998,8.9999999999999993E-3,1.4999999999999999E-2,5.2830000000000002E-2,3.8000000000000002E-4,7.7999999999999999E-4,-0.23254,null,0.27946880000000002,5.4899999999999997E-2,1.4E-3,2.8999999999999998E-3,0.50507000000000002,1.525E-2,8.7000000000000001E-4,1.5E-3,35.6,1.9,3.3,342.4,6.6,11,331.9,2.2999999999999998,4.8,306,17,31,404,55,120,2600,1400,129,72,60,36,788,31,79.900000000000006,3,10.14,0.62,9.9550000000000001,9.1999999999999998E-2,18.928640000000001,0.14000000000000001,3,28,898000000000000,35000000000000,null,null,null,null,null,null,0.99768000000000001,3.13E-3,5.1999999999999995E-4,5.5999999999999995E-4,100.2,3.8,4.6108999999999997E-2,4.3000000000000002E-5,4.3999999999999999E-5,3.3,2.2000000000000002,2.2999999999999998,63.1,2.2999999999999998,2.2999999999999998,64.599999999999994,2.4,2.4,63,10,11,2.5000000000000001E-2,1.2E-2,-32.700000000000003,7.4,0.98,0.04,-0.01,0.16,0.16,9.2999999999999992E-3,1.6000000000000001E-3,1.6000000000000001E-3,0.97914999999999996,5.9999999999999995E-4,5.3E-3,5.5999999999999999E-3,-0.02,0.23,0.23,109,31,2900,310,320,-10,140,150,59.7,9.9,10,10,110,110,0.42769000000000001,1.8010000000000002E-2,7.7999999999999999E-4,1.6000000000000001E-3,17.54,0.23,5.2580000000000002E-2,5.0000000000000001E-4,5.5000000000000003E-4,312,23,25,344.2,6,8.1,356.5,4.2,6.1,361,16,32,-4.0000000000000003E-5,4.8999999999999998E-4,-6.4000000000000001E-2,7.5999999999999998E-2,0.65700000000000003,9.0999999999999998E-2,0.38700000000000001,9.2999999999999999E-2,0.13,5.6500000000000002E-2,1E-3,1.5E-3,0.78871999999999998,1.0999999999999999E-2,1.6E-2,3.2000000000000001E-2,0.05,1.2E-2,1.2999999999999999E-2,17.670000000000002,"08:24:00",1160,230,250,302,71,96,354.1,6.4,9.1999999999999993,240,330,670]
["Z_Plesovice_11","Ple","04/12/2018 (3) 20:24:58.00","04/12/2018 (3)","20:24:58",24.085999999999999,"Ple",52,"Normal",1,0.37509999999999999,8.3000000000000001E-3,1.2999999999999999E-2,5.3220000000000003E-2,3.1E-4,7.6000000000000004E-4,0.18331,null,0.26832669999999997,5.0999999999999997E-2,1.1000000000000001E-3,2.5999999999999999E-3,7.6763999999999999E-2,1.6809999999999999E-2,6.7000000000000002E-4,1.6000000000000001E-3,24.87,0.63,1.9,325.10000000000002,5.7,9.4,334.3,1.9,4.5999999999999996,337,13,31,240,49,110,-100,190,-5,10,-4.4000000000000004,8.3000000000000007,968,27,134.6,2.5,25.4,0.77,7.0609999999999999,8.7999999999999995E-2,18.789929999999998,0.11,-41,53,1128000000000000,33000000000000,null,null,null,null,null,null,1,2.4099999999999998E-3,7.6000000000000004E-4,7.9000000000000001E-4,107.9,6.8,4.6080700000000002E-2,5.5999999999999997E-6,5.8000000000000004E-6,1.84,0.28999999999999998,0.3,59.1,3.8,3.9,60.5,4,4,49,15,16,6.4000000000000001E-2,1.4999999999999999E-2,-37.6,6.5,1,1,0.26,0.44,0.45,1.12E-2,3.5999999999999999E-3,3.5999999999999999E-3,0.98987999999999998,8.9999999999999993E-3,1.7000000000000001E-2,1.7000000000000001E-2,1.7,2.1,2.2000000000000002,-120,330,4110,160,160,370,250,250,71,23,23,170,340,350,0.56369000000000002,1.4999999999999999E-2,1.2999999999999999E-3,2.0999999999999999E-3,19.04,0.24,5.2600000000000001E-2,5.1000000000000004E-4,5.6999999999999998E-4,310,22,25,327.8,4.9000000000000004,7.1,330.6,4,5.8,301,25,41,3.5000000000000001E-3,1.1000000000000001E-3,-0.35,0.42,0.54,0.11,0.46300000000000002,8.5000000000000006E-2,0.12,5.339E-2,9.8999999999999999E-4,1.4E-3,0.73021000000000003,0.03,1.4999999999999999E-2,2.4E-2,0.06,1.0999999999999999E-2,1.2E-2,18.809999999999999,0.36,1180,180,200,362,65,95,335.3,6.1,8.6999999999999993,570,290,480]
["Z_Plesovice_12","Ple","04/12/2018 (3) 20:37:55.00","04/12/2018 (3)","20:37:55",24.082999999999998,"Ple",52,"Normal",1,0.38500000000000001,0.01,1.4999999999999999E-2,5.3490000000000003E-2,3.8000000000000002E-4,7.9000000000000001E-4,-5.2378000000000001E-2,null,0.27610980000000002,5.1700000000000003E-2,1.5E-3,2.8E-3,0.30930000000000002,1.678E-2,8.9999999999999998E-4,1.6999999999999999E-3,32.799999999999997,1.4,2.8,330.2,7.6,11,335.9,2.2999999999999998,4.8,336,18,33,278,62,120,-30,170,-1.5,9.3000000000000007,-1.3,6,784,28,87.4,2.7,12.96,0.56999999999999995,9.0389999999999997,8.5999999999999993E-2,18.695080000000001,0.13,9,79,914000000000000,33000000000000,null,null,null,null,null,null,0.55686000000000002,3.0599999999999998E-3,1.9000000000000001E-4,2.4000000000000001E-4,104.7,1.8,4.6124999999999999E-2,3.4E-5,3.6000000000000001E-5,4.2,1.7,1.9,60,1.1000000000000001,1.1000000000000001,61.4,1.1000000000000001,1.1000000000000001,61.8,3.7,4.9000000000000004,5.5999999999999999E-3,4.3E-3,-19.8,3.3,1,1,-5.0000000000000001E-3,6.4000000000000001E-2,6.9000000000000006E-2,8.9899999999999997E-3,5.6999999999999998E-4,6.2E-4,0.95576000000000005,1.6000000000000001E-3,1.4E-3,1.9E-3,-2.5000000000000001E-2,4.8000000000000001E-2,5.1999999999999998E-2,114.8,7.7,1740,320,350,-21,67,72,57.7,3.6,3.9,32,29,38,0.67627999999999999,1.5740000000000001E-2,6.4999999999999997E-4,1.6000000000000001E-3,18.690000000000001,0.22,5.2420000000000001E-2,5.0000000000000001E-4,5.6999999999999998E-4,302,22,25,329.6,5.5,8,333.8,4.2,6,316,13,32,1.4400000000000001E-3,8.0000000000000004E-4,-0.19,0.25,0.59,0.1,0.36499999999999999,5.8999999999999997E-2,8.5999999999999993E-2,5.2929999999999998E-2,8.1999999999999998E-4,1.1999999999999999E-3,0.60177000000000003,1.3899999999999999E-2,6.3E-3,1.4999999999999999E-2,5.2499999999999998E-2,7.7999999999999996E-3,8.8999999999999999E-3,18.86,"06:43:12",900,170,190,324,46,67,332.5,5,7.2,290,130,320]
["Z_Plesovice_13","Ple","04/12/2018 (3) 20:49:52.00","04/12/2018 (3)","20:49:52",24.082999999999998,"Ple",52,"Normal",1,0.42799999999999999,1.0999999999999999E-2,1.6E-2,5.3499999999999999E-2,3.6999999999999999E-4,7.7999999999999999E-4,-0.26238,null,0.2725129,5.7599999999999998E-2,1.5E-3,3.0999999999999999E-3,0.50236999999999998,1.78E-2,1.1999999999999999E-3,1.9E-3,30.7,1.9,3,361.4,7.7,12,336,2.2000000000000002,4.8,357,23,38,511,60,120,-1500,1300,-96,75,-35,35,727,29,77.7,3.1,13.34,0.62,9.4190000000000005,6.7000000000000004E-2,18.691590000000001,0.13,19,14,847000000000000,37000000000000,null,null,null,null,null,null,0.91022999999999998,2.9199999999999999E-3,2.7E-4,2.9999999999999997E-4,114.2,2.8,4.6210000000000001E-2,1E-4,1.1E-4,8.6999999999999993,5.4,5.8,56.6,1.8,1.9,56.4,1.3,1.4,58.9,5.4,6.1,5.4999999999999997E-3,5.1999999999999998E-3,-16.7,5.0999999999999996,0.94199999999999995,6.4000000000000001E-2,3.9E-2,7.6999999999999999E-2,8.1000000000000003E-2,8.6400000000000001E-3,7.1000000000000002E-4,7.2999999999999996E-4,0.92666000000000004,2.2000000000000001E-3,2.8999999999999998E-3,3.2000000000000002E-3,2.8000000000000001E-2,4.9000000000000002E-2,5.2999999999999999E-2,117.2,9.4,2080,400,430,24,78,82,55.5,4.5,4.7,57,54,61,0.57199999999999995,1.6250000000000001E-2,6.4999999999999997E-4,1.5E-3,19.28,0.22,5.2089999999999997E-2,4.4999999999999999E-4,5.1999999999999995E-4,294,20,23,325.2,5.7,8.8000000000000007,325.7,3.5,5.4,326,13,30,2.7E-4,4.8000000000000001E-4,1.4999999999999999E-2,3.6999999999999998E-2,0.57399999999999995,8.1000000000000003E-2,0.38400000000000001,6.4000000000000001E-2,9.9000000000000005E-2,5.2170000000000001E-2,8.9999999999999998E-4,1.4E-3,0.67117000000000004,1.67E-2,7.4999999999999997E-3,1.7000000000000001E-2,5.1900000000000002E-2,8.5000000000000006E-3,9.7999999999999997E-3,19.18,"07:40:48",930,170,200,324,47,72,327.8,5.5,8.5,330,150,340]
[null,null,null,null,null,null,null,null,null,null,null,null,null,null,null,null,null,null,null,null,null,null,null,null,null,null,null,null,null,null,null,null,null,null,null,null,null,null,null,null,null,null,null,null,null,null,null,null,null,null,null,null,null,null,null,null,null,null,null,null,null,null,null,null,null,null,null,0.99331000000000003,2.99E-3,6.9999999999999999E-4,7.3999999999999999E-4,100.7,5,4.6079799999999997E-2,5.5999999999999997E-6,5.8000000000000004E-6,1.8,0.28999999999999998,0.3,62.8,3,3.1,64.599999999999994,3.1,3.1,60,14,15,6.9000000000000006E-2,1.6E-2,-42.6,5.2,0.76,0.13,0.24,0.39,0.39,1.15E-2,3.3999999999999998E-3,3.3999999999999998E-3,0.99058999999999997,1.2999999999999999E-2,1.4999999999999999E-2,1.6E-2,0.42,0.56999999999999995,0.59,52,71,3780,220,220,450,190,200,73,22,22,230,300,310,0.54956000000000005,1.6559999999999998E-2,6.9999999999999999E-4,1.6000000000000001E-3,18.38,0.27,5.2260000000000001E-2,5.5999999999999995E-4,6.0999999999999997E-4,295,25,27,331.6,5.4,7.6,342.3,4.9000000000000004,6.5,332,14,32,1.1000000000000001E-3,1E-3,-0.14000000000000001,0.15,0.59299999999999997,9.6000000000000002E-2,0.36299999999999999,6.0999999999999999E-2,8.6999999999999994E-2,5.4010000000000002E-2,9.3999999999999997E-4,1.2999999999999999E-3,0.60518000000000005,1.14E-2,7.1999999999999998E-3,1.7000000000000001E-2,4.8500000000000001E-2,8.0999999999999996E-3,8.6999999999999994E-3,18.47,"07:12:00",790,180,190,301,47,67,339,5.8,7.7,220,140,330]
["Z_91500_1","91500_1","04/12/2018 (3) 18:32:23.00","04/12/2018 (3)","18:32:23",23.085000000000001,"91500_1",50,"Normal",1,1.841,5.3999999999999999E-2,7.4999999999999997E-2,0.17929999999999999,2.5000000000000001E-3,3.3999999999999998E-3,6.837E-2,null,0.1057592,7.4700000000000003E-2,2.3E-3,4.1000000000000003E-3,0.31029000000000001,5.3499999999999999E-2,1.8E-3,4.7999999999999996E-3,9.34,0.28000000000000003,0.74,1058,19,27,1063,14,19,1053,34,93,1068,66,120,63,95,2.9,7.1,6,10,78.900000000000006,3.2,29.5,1.1000000000000001,15.01,0.5,2.6779999999999999,3.5999999999999997E-2,5.5772449999999996,7.9000000000000001E-2,-27,34,332000000000000,14000000000000,null,null,null,null,null,null,0.99995000000000001,2.99E-3,1.7000000000000001E-4,2.1000000000000001E-4,111.5,5.8,4.6108999999999997E-2,1.5999999999999999E-5,1.5999999999999999E-5,3.31,0.82,0.86,55.6,2.4,2.4,56.8,2.5,2.5,60.3,3.4,4.2,6.4000000000000001E-2,1.0999999999999999E-2,-18.399999999999999,4,1,1,0.08,0.18,0.18,9.2999999999999992E-3,1.4E-3,1.4E-3,0.96384999999999998,3.8E-3,1.1999999999999999E-3,1.5E-3,0.05,0.39,0.41,106,51,2700,320,340,140,110,110,59.9,8.8000000000000007,8.8000000000000007,76,24,30,0.32999000000000001,1.6199999999999999E-2,1E-3,2.3E-3,19.02,0.19,5.1839999999999997E-2,6.6E-4,6.9999999999999999E-4,280,28,30,324.2,5.4,7,330.1,3.1,5.2,324,20,46,2.7000000000000001E-3,1.1999999999999999E-3,-0.6,1.1000000000000001,0.47199999999999998,9.7000000000000003E-2,0.33500000000000002,5.6000000000000001E-2,7.2999999999999995E-2,5.1920000000000001E-2,7.7999999999999999E-4,1.2999999999999999E-3,0.74234999999999995,1.0500000000000001E-2,6.3E-3,1.4E-2,4.4400000000000002E-2,7.3000000000000001E-3,7.7999999999999996E-3,19.22,"07:26:24",640,160,170,281,44,58,326.3,4.8,8,210,130,290]
["Z_91500_2","91500_2","04/12/2018 (3) 18:33:24.00","04/12/2018 (3)","18:33:24",23.084,"91500_2",50,"Normal",1,1.89,5.8999999999999997E-2,0.08,0.18,2E-3,3.0999999999999999E-3,-2.4597999999999998E-2,null,9.5679009999999995E-2,7.5899999999999995E-2,2.5000000000000001E-3,4.3E-3,0.33909,5.3999999999999999E-2,2.3E-3,5.1000000000000004E-3,9.59,0.44,0.84,1075,21,28,1067,11,17,1063,44,97,1075,67,120,-60,110,-4.9000000000000004,8.5,-7,12,79.400000000000006,3.1,30,1.3,14.84,0.73,2.6429999999999998,2.7E-2,5.5555560000000002,6.3E-2,-4.5,8.3000000000000007,335000000000000,13000000000000,null,null,null,null,null,null,0.99992999999999999,3.0799999999999998E-3,6.4000000000000005E-4,6.8000000000000005E-4,105.3,3.7,4.6080500000000003E-2,3.0000000000000001E-6,3.1E-6,1.83,0.16,0.16,59.6,2,2.1,61.1,2.1,2.2000000000000002,62,13,14,2.5000000000000001E-2,1.0999999999999999E-2,-34.4,3.8,0.72,0.13,0.02,0.24,0.24,8.9999999999999993E-3,2E-3,2.0999999999999999E-3,0.99226999999999999,1E-3,1.0999999999999999E-2,1.2E-2,0.15,0.38,0.39,135,61,3500,270,280,20,250,260,58,13,13,10,230,250,0.41666999999999998,1.5939999999999999E-2,7.9000000000000001E-4,1.6999999999999999E-3,18.649999999999999,0.23,5.2049999999999999E-2,5.1000000000000004E-4,5.5000000000000003E-4,289,23,25,329.2,5.9,8,337.3,4.2,6,320,16,34,8.7000000000000001E-4,8.0999999999999996E-4,-0.09,0.14000000000000001,0.5,9.1999999999999998E-2,0.34599999999999997,6.2E-2,8.4000000000000005E-2,5.3420000000000002E-2,8.5999999999999998E-4,1.1999999999999999E-3,0.67061999999999999,1.09E-2,6.8999999999999999E-3,1.4999999999999999E-2,4.5199999999999997E-2,8.2000000000000007E-3,8.8999999999999999E-3,18.78,"07:12:00",780,160,170,287,50,68,335.5,5.2,7.4,210,140,300]
["Z_91500_3","91500_3","04/12/2018 (3) 18:34:23.00","04/12/2018 (3)","18:34:23",23.084,"91500_3",50,"Normal",1,1.823,0.06,7.9000000000000001E-2,0.17760000000000001,2E-3,3.0000000000000001E-3,-9.2515E-2,null,9.5112000000000002E-2,7.3999999999999996E-2,2.5999999999999999E-3,4.3E-3,0.34588999999999998,5.5199999999999999E-2,2.2000000000000001E-3,5.1000000000000004E-3,9.15,0.31,0.74,1051,21,28,1054,11,17,1086,41,98,1022,73,120,-150,110,-10.3,7.6,-18,11,81.599999999999994,3.1,30.4,1.2,15.37,0.7,2.6749999999999998,2.5000000000000001E-2,5.6306310000000002,6.2E-2,-7.1,8.4,337000000000000,13000000000000,null,null,null,null,null,null,0.99306000000000005,3.16E-3,1.3999999999999999E-4,1.9000000000000001E-4,104,2.5,4.6122000000000003E-2,2.0000000000000002E-5,2.0999999999999999E-5,4,1,1.1000000000000001,60.6,1.5,1.6,61.9,1.5,1.6,63.9,2.9,3.9,1.5599999999999999E-2,6.0000000000000001E-3,-16.399999999999999,3.4,1,1,-2.3E-2,7.6999999999999999E-2,8.1000000000000003E-2,9.0799999999999995E-3,7.6000000000000004E-4,7.9000000000000001E-4,0.94986999999999999,2.2000000000000001E-3,1.2999999999999999E-3,1.6999999999999999E-3,-1.7000000000000001E-2,6.4000000000000001E-2,6.8000000000000005E-2,112.3,9.5,1480,360,390,-24,87,92,58.2,4.8,5,45,26,35,0.52754999999999996,1.5339999999999999E-2,9.7999999999999997E-4,2.0999999999999999E-3,18.87,0.25,5.2720000000000003E-2,4.8000000000000001E-4,5.2999999999999998E-4,315,21,23,329.4,5.6,7.9,333.6,4.4000000000000004,6.1,308,19,43,3.3E-3,1.1999999999999999E-3,-0.17,0.21,0.51,0.11,0.39,0.06,8.5000000000000006E-2,5.2909999999999999E-2,8.9999999999999998E-4,1.1999999999999999E-3,0.66244999999999998,1.5599999999999999E-2,6.7000000000000002E-3,1.4999999999999999E-2,5.2999999999999999E-2,7.4999999999999997E-3,8.2000000000000007E-3,18.97,"07:40:48",970,140,160,329,44,63,332.4,5.5,7.6,310,130,290]
["Z_91500_4","91500_4","04/12/2018 (3) 18:35:23.00","04/12/2018 (3)","18:35:23",23.085999999999999,"91500_4",50,"Normal",1,1.857,6.9000000000000006E-2,8.6999999999999994E-2,0.17810000000000001,2.0999999999999999E-3,3.0999999999999999E-3,-0.19361,null,9.773134E-2,7.5399999999999995E-2,3.0999999999999999E-3,4.5999999999999999E-3,0.44869999999999999,5.21E-2,1.9E-3,4.7999999999999996E-3,9.5299999999999994,0.32,0.77,1062,24,31,1056,11,17,1033,39,95,1053,81,120,-170,130,-12.5,9.8000000000000007,-17,13,81.400000000000006,3.3,30.3,1.2,14.77,0.56000000000000005,2.681,3.1E-2,5.6148230000000003,6.6000000000000003E-2,-1.2,8.1,338000000000000,14000000000000,null,null,null,null,null,null,0.98218000000000005,2.9499999999999999E-3,2.2000000000000001E-4,2.5999999999999998E-4,106.4,2.8,4.6149000000000003E-2,5.3999999999999998E-5,5.7000000000000003E-5,5.4,2.8,3,59.5,1.6,1.6,60,1.4,1.5,59.5,4.5,5.2,1.9900000000000001E-2,7.1999999999999998E-3,-19.600000000000001,3.8,1,1,0.12,0.14000000000000001,0.15,9.7000000000000003E-3,1.4E-3,1.4E-3,0.98543999999999998,4.5999999999999999E-3,3.3E-3,3.8E-3,-0.05,0.17,0.18,120,23,2980,290,310,90,130,130,62.1,8.6999999999999993,8.9,91,66,76,0.64903,1.584E-2,9.8999999999999999E-4,2.0999999999999999E-3,18.7,0.23,5.2589999999999998E-2,5.9999999999999995E-4,6.7000000000000002E-4,309,26,29,331.5,5.4,7.9,336.5,4,5.9,317,20,41,3.0000000000000001E-3,1.4E-3,-0.1,0.14000000000000001,0.55000000000000004,0.11,0.39900000000000002,0.06,8.7999999999999995E-2,5.3260000000000002E-2,8.9999999999999998E-4,1.2999999999999999E-3,0.62141999999999997,1.78E-2,6.7999999999999996E-3,1.4E-2,5.3600000000000002E-2,7.4999999999999997E-3,8.3999999999999995E-3,18.75,"07:12:00",810,150,160,344,43,62,334.5,5.5,8.1,350,130,280]
["Z_91500_5","91500_5","04/12/2018 (3) 18:36:22.00","04/12/2018 (3)","18:36:22",23.084,"91500_5",50,"Normal",1,1.84,5.7000000000000002E-2,7.6999999999999999E-2,0.1787,1.9E-3,3.0000000000000001E-3,9.2749999999999999E-2,null,9.3944669999999994E-2,7.4499999999999997E-2,2.3999999999999998E-3,4.1999999999999997E-3,0.23809,5.4600000000000003E-2,2.3999999999999998E-3,5.1999999999999998E-3,9.25,0.4,0.79,1065,22,29,1060,10,16,1074,46,99,1047,66,110,-60,100,-4.2,7.5,-4,11,78.900000000000006,3,29.9,1.2,15.11,0.65,2.6680000000000001,0.03,5.5959709999999996,5.8999999999999997E-2,-2.2999999999999998,6.5,332000000000000,13000000000000,null,null,null,null,null,null,1,2.5000000000000001E-3,1.2999999999999999E-3,1.2999999999999999E-3,108.6,6.9,4.6072700000000001E-2,1.9E-6,1.9E-6,1.4219999999999999,9.7000000000000003E-2,0.1,59.7,3.7,3.8,61.2,3.8,3.9,51,26,27,9.8000000000000004E-2,0.02,-42.3,5,0.48,0.15,-0.36,0.43,0.45,5.4999999999999997E-3,3.5999999999999999E-3,3.5999999999999999E-3,0.98741000000000001,-1.2999999999999999E-2,1.7999999999999999E-2,1.9E-2,1.2,1.2,1.2,-90,150,3920,230,240,440,240,240,38,24,24,-240,360,380,0.63136000000000003,1.6240000000000001E-2,8.4999999999999995E-4,2E-3,18.559999999999999,0.28000000000000003,5.1799999999999999E-2,6.2E-4,6.7000000000000002E-4,274,28,30,327.9,5.7,7.8,338.6,5,6.6,325,17,39,2.8E-3,1.1999999999999999E-3,-0.56000000000000005,0.59,0.54,0.1,0.374,0.06,8.2000000000000003E-2,5.3809999999999997E-2,9.1E-4,1.1999999999999999E-3,0.62356999999999996,1.4999999999999999E-2,6.7999999999999996E-3,1.6E-2,5.11E-2,7.4999999999999997E-3,8.0999999999999996E-3,18.600000000000001,"07:55:12",790,190,210,318,43,59,337.8,5.6,7.3,320,130,300]
["Z_91500_6",91500,"04/12/2018 (3) 18:50:18.00","04/12/2018 (3)","18:50:18",23.084,91500,50,"Normal",1,1.847,7.4999999999999997E-2,9.0999999999999998E-2,0.17799999999999999,2.3999999999999998E-3,3.3E-3,-3.0981000000000002E-2,null,0.1041535,7.4499999999999997E-2,3.0000000000000001E-3,4.5999999999999999E-3,0.30859999999999999,5.2699999999999997E-2,2.0999999999999999E-3,4.8999999999999998E-3,9.39,0.34,0.77,1058,26,32,1056,13,18,1037,41,94,1043,83,130,130,110,11.4,8.9,18,14,82.2,3.4,31,1.3,15.01,0.66,2.6629999999999998,3.3000000000000002E-2,5.6179779999999999,7.0999999999999994E-2,-9,10,343000000000000,15000000000000,null,null,null,null,null,null,0.91735,3.0599999999999998E-3,2.3000000000000001E-4,2.5000000000000001E-4,106.2,1.8,4.6110999999999999E-2,2.3E-5,2.5000000000000001E-5,3.4,1.2,1.3,59.2,0.97,1,60.6,1.1000000000000001,1.1000000000000001,61.8,4.5999999999999996,5,2.2800000000000001E-2,6.4000000000000003E-3,-21.6,3.6,1,1,-1E-3,7.0999999999999994E-2,7.4999999999999997E-2,8.9300000000000004E-3,6.2E-4,6.7000000000000002E-4,0.96936,1E-3,2.2000000000000001E-3,2.3E-3,-0.01,5.6000000000000001E-2,0.06,113.3,7.8,1860,330,350,0,70,74,57.3,3.9,4.3,28,42,45,0.36334,1.4800000000000001E-2,1.1999999999999999E-3,2.2000000000000001E-3,18.77,0.2,5.203E-2,5.5000000000000003E-4,5.9000000000000003E-4,284,24,26,328.6,5.3,7.2,334.6,3.5,5.4,297,24,43,1.9499999999999999E-3,9.7000000000000005E-4,-0.28999999999999998,0.42,0.46,0.11,0.30499999999999999,9.6000000000000002E-2,0.13,5.2839999999999998E-2,8.3000000000000001E-4,1.2999999999999999E-3,0.69325000000000003,4.0000000000000001E-3,1.6E-2,2.8000000000000001E-2,0.04,1.2999999999999999E-2,1.4E-2,18.98,"07:12:00",1090,170,190,271,76,100,331.9,5.0999999999999996,7.9,100,310,550]
["Z_91500_7",91500,"04/12/2018 (3) 18:51:19.00","04/12/2018 (3)","18:51:19",23.084,91500,50,"Normal",1,1.8560000000000001,7.0999999999999994E-2,8.7999999999999995E-2,0.17879999999999999,1.6000000000000001E-3,2.8E-3,3.9317999999999999E-2,null,8.7583640000000004E-2,7.5200000000000003E-2,3.0000000000000001E-3,4.5999999999999999E-3,0.24221999999999999,5.5199999999999999E-2,2.3E-3,5.1999999999999998E-3,9.3000000000000007,0.38,0.78,1062,25,32,1060.3,8.9,15,1085,45,99,1049,81,130,50,150,-0.6,9.6999999999999993,4,16,78.3,3.3,29.4,1.3,14.97,0.78,2.6549999999999998,2.9000000000000001E-2,5.592841,5.3999999999999999E-2,-11,12,329000000000000,14000000000000,null,null,null,null,null,null,0.69281999999999999,2.7299999999999998E-3,1.7000000000000001E-4,2.0000000000000001E-4,106.1,2.4,4.6122000000000003E-2,2.8E-5,2.9E-5,4,1.4,1.5,59.3,1.4,1.4,60.7,1.3,1.3,55.1,3.4,4,0.02,7.3000000000000001E-3,-21.5,2.6,1,1,2.5000000000000001E-2,7.0000000000000007E-2,7.1999999999999995E-2,8.8299999999999993E-3,7.2000000000000005E-4,7.5000000000000002E-4,0.95447000000000004,2E-3,1.5E-3,1.8E-3,-7.0999999999999994E-2,9.6000000000000002E-2,0.1,123,14,2190,320,330,3,72,75,56.6,4.5999999999999996,4.8,39,31,37,0.40953000000000001,1.719E-2,6.8999999999999997E-4,1.4E-3,17.62,0.18,5.2409999999999998E-2,5.1000000000000004E-4,5.6999999999999998E-4,301,22,25,340.1,5.7,7.9,355.7,3.5,5.6,344,14,27,1.7000000000000001E-4,4.6000000000000001E-4,-0.26,0.33,0.69399999999999995,7.0000000000000007E-2,0.34899999999999998,8.7999999999999995E-2,0.12,5.6300000000000003E-2,1E-3,1.6999999999999999E-3,0.88287000000000004,1.2E-2,1.4E-2,2.7E-2,4.4999999999999998E-2,1.2E-2,1.2999999999999999E-2,17.7,"07:55:12",1100,180,200,272,74,100,353.3,6.3,10,210,270,550]
["Z_91500_8",91500,"04/12/2018 (3) 19:03:15.00","04/12/2018 (3)","19:03:15",23.085000000000001,91500,50,"Normal",1,1.863,5.3999999999999999E-2,7.4999999999999997E-2,0.17730000000000001,2.2000000000000001E-3,3.2000000000000002E-3,0.14860000000000001,null,0.1017964,7.6399999999999996E-2,2.3999999999999998E-3,4.3E-3,0.21367,5.5599999999999997E-2,2.8999999999999998E-3,5.4999999999999997E-3,9.3000000000000007,0.45,0.82,1066,19,27,1052,12,17,1093,55,110,1114,62,110,19,61,3.7,5,2.8,6,77.7,3.2,28.2,1.2,14.99,0.77,2.7429999999999999,3.1E-2,5.6401579999999996,7.0000000000000007E-2,-1.6,8.6999999999999993,324000000000000,14000000000000,null,null,null,null,null,null,0.99992000000000003,2.9299999999999999E-3,1.9000000000000001E-4,2.1000000000000001E-4,99.7,5,4.6101000000000003E-2,1.0000000000000001E-5,1.0000000000000001E-5,2.89,0.52,0.54,62.3,3.3,3.4,63.8,3.5,3.5,59.1,3.7,4.2,2.0500000000000001E-2,8.0999999999999996E-3,-23.6,4.4000000000000004,1,1,0,0.15,0.16,9.4000000000000004E-3,1.5E-3,1.5E-3,0.94098000000000004,2.3E-3,1.8E-3,2E-3,-0.01,0.11,0.12,109,18,2390,450,470,10,140,140,60.4,9.6,9.6999999999999993,45,36,41,0.44114999999999999,1.6490000000000001E-2,6.9999999999999999E-4,1.4E-3,18.079999999999998,0.18,5.1990000000000001E-2,5.4000000000000001E-4,5.9000000000000003E-4,283,24,26,332.7,6.4,8.4,347.5,3.4,5.5,330,14,28,5.1000000000000004E-4,4.6999999999999999E-4,-0.16,0.17,0.62,8.6999999999999994E-2,0.32800000000000001,7.8E-2,0.1,5.4739999999999997E-2,9.1E-4,1.5E-3,0.84211999999999998,8.9999999999999993E-3,0.01,2.1000000000000001E-2,4.2999999999999997E-2,1.0999999999999999E-2,1.2E-2,18.27,"06:57:36",1030,170,180,264,65,85,343.5,5.5,8.9,170,210,420]
["Z_91500_9",91500,"04/12/2018 (3) 19:04:16.00","04/12/2018 (3)","19:04:16",23.084,91500,50,"Normal",1,1.8260000000000001,7.0000000000000007E-2,8.6999999999999994E-2,0.18049999999999999,2.2000000000000001E-3,3.2000000000000002E-3,0.26071,null,9.8219009999999995E-2,7.2800000000000004E-2,2.8E-3,4.4000000000000003E-3,0.14016999999999999,5.2200000000000003E-2,2.3999999999999998E-3,5.0000000000000001E-3,9.44,0.44,0.82,1051,25,31,1072,13,18,1028,47,96,985,79,120,150,110,9.8000000000000007,8.3000000000000007,13,11,82.3,3.3,31.7,1.3,15.01,0.77,2.5870000000000002,3.4000000000000002E-2,5.5401660000000001,7.0000000000000007E-2,-12.7,9.4,350000000000000,15000000000000,null,null,null,null,null,null,0.79381000000000002,3.0799999999999998E-3,1.2999999999999999E-4,2.1000000000000001E-4,103.3,1.5,4.6129000000000003E-2,2.5000000000000001E-5,2.8E-5,4.4000000000000004,1.3,1.5,60.4,1,1.1000000000000001,62.18,0.92,"23:45:36",62.1,2.6,4.0999999999999996,4.3E-3,3.8E-3,-15.7,3.8,0.97699999999999998,4.4999999999999998E-2,5.8000000000000003E-2,7.0000000000000007E-2,7.5999999999999998E-2,9.4400000000000005E-3,6.9999999999999999E-4,7.5000000000000002E-4,0.97360000000000002,2.8999999999999998E-3,1.1000000000000001E-3,1.6999999999999999E-3,2.5000000000000001E-2,0.05,5.5E-2,106.7,7.7,2030,350,390,47,69,75,60.5,4.5,4.8,59,22,35]
["Z_91500_10",91500,"04/12/2018 (3) 19:16:13.00","04/12/2018 (3)","19:16:13",23.085000000000001,91500,50,"Normal",1,1.845,4.5999999999999999E-2,7.0000000000000007E-2,0.1802,1.9E-3,3.0000000000000001E-3,-0.11848,null,9.2387170000000005E-2,7.4800000000000005E-2,2.0999999999999999E-3,4.0000000000000001E-3,0.50248000000000004,5.4899999999999997E-2,3.0000000000000001E-3,5.4999999999999997E-3,9.15,0.43,0.8,1066,15,23,1068,10,16,1080,57,100,1070,58,110,33,83,1.4,6,3.2,9.3000000000000007,79.8,3.1,30.1,1.2,15.08,0.78,2.6539999999999999,2.3E-2,5.5493899999999998,5.6000000000000001E-2,-5.4,8.1,336000000000000,14000000000000,null,null,null,null,null,null,0.93586000000000003,3.0200000000000001E-3,3.8000000000000002E-4,4.2999999999999999E-4,101.4,3.4,4.6085399999999999E-2,5.5999999999999997E-6,6.0000000000000002E-6,2.09,0.3,0.31,61.8,2,2.1,63.4,2,2.1,61,7.7,8.6999999999999993,3.09E-2,7.1999999999999998E-3,-35.6,4.5,0.98899999999999999,2.1000000000000001E-2,-0.09,0.14000000000000001,0.15,8.6999999999999994E-3,1.1999999999999999E-3,1.1999999999999999E-3,0.97931000000000001,-1.1000000000000001E-3,4.8999999999999998E-3,5.4999999999999997E-3,-0.13,0.17,0.18,126,24,3100,340,360,-30,160,170,56.1,7.6,7.7,-24,99,110,0.35736000000000001,5.1799999999999999E-2,1.9E-3,3.8999999999999998E-3,5.56,0.1,7.2400000000000006E-2,1.1999999999999999E-3,1.2999999999999999E-3,997,35,37,1036,20,25,1062,17,21,1020,37,75,0,7.6999999999999996E-4,8.0000000000000002E-3,1.0999999999999999E-2,0.625,6.0999999999999999E-2,1.19,0.65,0.79,0.1736,6.8999999999999999E-3,8.3999999999999995E-3,0.89320999999999995,2.8000000000000001E-2,2.8000000000000001E-2,5.7000000000000002E-2,4.5999999999999999E-2,2.7E-2,2.8000000000000001E-2,5.76,"05:31:12",1550,300,310,1000,200,240,1031,38,46,540,580,1200]
["Z_91500_11",91500,"04/12/2018 (3) 19:17:13.00","04/12/2018 (3)","19:17:13",23.082000000000001,91500,50,"Normal",1,1.863,0.08,9.6000000000000002E-2,0.18060000000000001,1.9E-3,3.0000000000000001E-3,0.10348,null,9.1978379999999998E-2,7.5200000000000003E-2,3.3999999999999998E-3,4.7999999999999996E-3,0.22170999999999999,5.2999999999999999E-2,2.7000000000000001E-3,5.1999999999999998E-3,9.56,0.43,0.82,1068,27,33,1070,10,17,1043,52,100,1054,92,130,38,84,3.8,6.8,4.4000000000000004,9,78.099999999999994,3.5,28.5,1.3,14.84,0.56999999999999995,2.7029999999999998,3.5000000000000003E-2,5.5370990000000004,6.0999999999999999E-2,-9.3000000000000007,9.8000000000000007,325000000000000,14000000000000,null,null,null,null,null,null,0.99982000000000004,3.14E-3,4.0999999999999999E-4,4.8999999999999998E-4,108.8,2.5,4.6096999999999999E-2,1.2999999999999999E-5,1.4E-5,2.68,0.68,0.71,57.5,1.4,1.5,58.8,1.5,1.6,63.4,8.3000000000000007,9.8000000000000007,1.47E-2,6.8999999999999999E-3,-28.1,4.4000000000000004,1,1,-0.14000000000000001,0.17,0.17,7.4000000000000003E-3,1.5E-3,1.5E-3,0.98943000000000003,-5.4999999999999997E-3,7.4999999999999997E-3,8.8000000000000005E-3,-0.27,0.2,0.21,187,57,2960,370,390,-160,180,190,47.3,9.5,9.9,-120,150,180,0.62694000000000005,5.3100000000000001E-2,1.5E-3,3.3E-3,5.6059999999999999,8.7999999999999995E-2,7.1900000000000006E-2,1.6000000000000001E-3,1.6999999999999999E-3,985,41,43,1025,23,28,1058,16,20,1046,29,64,1.6000000000000001E-3,1.2999999999999999E-3,0.02,3.5000000000000003E-2,0.72099999999999997,7.0000000000000007E-2,1.1599999999999999,0.84,0.99,0.17380000000000001,7.1999999999999998E-3,9.2999999999999992E-3,0.93761000000000005,2.1000000000000001E-2,3.7999999999999999E-2,8.4000000000000005E-2,4.2000000000000003E-2,3.4000000000000002E-2,3.5000000000000003E-2,5.85,"06:14:24",2300,240,250,1020,260,300,1032,39,51,480,760,1600]
["Z_91500_12",91500,"04/12/2018 (3) 19:30:10.00","04/12/2018 (3)","19:30:10",23.084,91500,50,"Normal",1,1.8460000000000001,6.6000000000000003E-2,8.4000000000000005E-2,0.18149999999999999,2.0999999999999999E-3,3.0999999999999999E-3,-5.6619999999999997E-2,null,9.4104080000000007E-2,7.4300000000000005E-2,2.8E-3,4.4000000000000003E-3,0.37739,5.4600000000000003E-2,2E-3,5.0000000000000001E-3,9.3000000000000007,0.35,0.77,1062,24,31,1075,11,17,1075,39,96,1025,77,120,200,170,11,12,20,18,83.3,3.5,31.7,1.3,15.05,0.59,2.6669999999999998,2.7E-2,5.5096420000000004,5.8999999999999997E-2,-8,9.1999999999999993,354000000000000,15000000000000,null,null,null,null,null,null,0.98802999999999996,2.6900000000000001E-3,4.0000000000000002E-4,4.2999999999999999E-4,110.7,3.8,4.6093000000000002E-2,9.5999999999999996E-6,1.0000000000000001E-5,2.48,0.5,0.53,56.8,1.8,1.9,58.3,1.9,1.9,54.2,8,8.8000000000000007,2.8500000000000001E-2,6.8999999999999999E-3,-25.1,3.3,0.98799999999999999,2.3E-2,-0.11,0.12,0.13,7.6E-3,1.1000000000000001E-3,1.1000000000000001E-3,0.96899999999999997,-3.0000000000000001E-3,4.1999999999999997E-3,4.5999999999999999E-3,-0.19,0.21,0.23,144,30,2930,230,240,-120,140,150,49,6.9,7,-64,85,93,0.58547000000000005,5.3100000000000001E-2,1.6000000000000001E-3,3.5000000000000001E-3,5.5629999999999997,9.1999999999999998E-2,7.2300000000000003E-2,1.2999999999999999E-3,1.2999999999999999E-3,1003,36,38,1043,27,33,1069,16,20,1046,30,68,1.8E-3,1.5E-3,0.01,2.3E-2,0.67300000000000004,6.7000000000000004E-2,0.78,0.53,0.63,0.17130000000000001,4.3E-3,5.4000000000000003E-3,0.80432000000000003,0,2.3E-2,5.1999999999999998E-2,3.2000000000000001E-2,2.1999999999999999E-2,2.3E-2,5.88,"03:36:00",1050,340,350,760,180,220,1019,24,30,10,490,1100]
["Z_91500_13",91500,"04/12/2018 (3) 19:31:10.00","04/12/2018 (3)","19:31:10",23.084,91500,50,"Normal",1,1.859,6.5000000000000002E-2,8.4000000000000005E-2,0.1777,1.6999999999999999E-3,2.8999999999999998E-3,0.23729,null,9.1838149999999993E-2,7.5499999999999998E-2,2.3999999999999998E-3,4.3E-3,1.6965999999999998E-2,5.1999999999999998E-2,2.5999999999999999E-3,5.1000000000000004E-3,9.42,0.42,0.81,1063,23,30,1054.5,9.5,16,1025,49,97,1078,67,120,520,260,37,20,54,29,80.8,3.4,31.1,1.4,14.91,0.81,2.6549999999999998,2.7E-2,5.6274620000000004,5.7000000000000002E-2,-1.4,7,338000000000000,15000000000000,null,null,null,null,null,null,0.99780000000000002,2.96E-3,2.5999999999999998E-4,2.9E-4,106.5,2.4,4.6105E-2,1.4E-5,1.4E-5,3.13,0.71,0.74,58,1.3,1.3,59.3,1.3,1.4,59.8,5.2,5.9,9.4000000000000004E-3,6.0000000000000001E-3,-22,3.7,1,1,0.08,0.12,0.13,9.4999999999999998E-3,1E-3,1.1000000000000001E-3,0.98568999999999996,3.3999999999999998E-3,3.0999999999999999E-3,3.5000000000000001E-3,-0.02,0.12,0.12,115,15,2570,300,320,60,120,130,61.2,6.6,6.8,69,62,71,0.45595999999999998,5.2299999999999999E-2,1.9E-3,3.5999999999999999E-3,5.5540000000000003,8.5000000000000006E-2,7.3599999999999999E-2,1.5E-3,1.5E-3,1056,47,48,1054,25,29,1067,14,19,1030,36,70,5.9999999999999995E-4,1.6000000000000001E-3,5.0999999999999997E-2,2.5999999999999999E-2,0.69,6.9000000000000006E-2,1.72,0.85,0.99,0.17829999999999999,7.4999999999999997E-3,9.7999999999999997E-3,0.93176999999999999,4.3999999999999997E-2,3.9E-2,7.6999999999999999E-2,5.2999999999999999E-2,3.5999999999999997E-2,3.6999999999999998E-2,5.7,"06:14:24",2190,200,210,1420,160,180,1056,41,54,690,790,1600]
["Z_91500_14",91500,"04/12/2018 (3) 19:43:08.00","04/12/2018 (3)","19:43:08",23.084,91500,50,"Normal",1,1.8080000000000001,6.9000000000000006E-2,8.5999999999999993E-2,0.17979999999999999,2.3E-3,3.3E-3,0.20105999999999999,null,0.10207860000000001,7.3700000000000002E-2,2.7000000000000001E-3,4.3E-3,0.11434999999999999,5.4100000000000002E-2,2.7000000000000001E-3,5.3E-3,9.2799999999999994,0.42,0.8,1048,25,32,1066,13,18,1064,53,100,1034,74,120,-36,99,3,11,1,14,79.099999999999994,3.4,29.3,1.2,15,0.83,2.677,2.1999999999999999E-2,5.5617349999999997,7.3999999999999996E-2,-6.8,8.1,329000000000000,15000000000000,null,null,null,null,null,null,0.99985000000000002,3.3600000000000001E-3,6.3000000000000003E-4,6.8000000000000005E-4,106.2,4.0999999999999996,4.6081999999999998E-2,4.7999999999999998E-6,5.0000000000000004E-6,1.91,0.25,0.26,59.2,2.2000000000000002,2.2000000000000002,60.6,2.2999999999999998,2.2999999999999998,68,13,14,3.7999999999999999E-2,0.01,-35.9,4.4000000000000004,1,1,0.05,0.17,0.18,9.4000000000000004E-3,1.5E-3,1.5E-3,0.97975000000000001,2.8999999999999998E-3,7.1000000000000004E-3,7.7000000000000002E-3,0,0.19,0.2,111,25,3340,260,270,20,160,160,60.1,9.3000000000000007,9.4,50,140,150,0.61548999999999998,5.0900000000000001E-2,2.2000000000000001E-3,4.5999999999999999E-3,5.5830000000000002,8.8999999999999996E-2,7.3700000000000002E-2,1.2999999999999999E-3,1.4E-3,1052,38,40,1059,22,27,1060,16,22,1004,42,89,2.2000000000000001E-3,1.9E-3,1.6E-2,3.9E-2,0.76500000000000001,7.1999999999999995E-2,1.46,0.65,0.82,0.1734,6.0000000000000001E-3,8.0000000000000002E-3,0.90354000000000001,0.03,0.03,6.4000000000000001E-2,5.0999999999999997E-2,2.7E-2,2.8000000000000001E-2,5.76,"04:33:36",1720,320,340,960,250,310,1030,33,44,490,600,1300]
["Z_91500_15",91500,"04/12/2018 (3) 19:44:08.00","04/12/2018 (3)","19:44:08",23.082999999999998,91500,50,"Normal",1,1.895,0.08,9.6000000000000002E-2,0.18090000000000001,1.9E-3,3.0000000000000001E-3,0.14413999999999999,null,9.1673569999999996E-2,7.6100000000000001E-2,3.3E-3,4.7999999999999996E-3,9.3992999999999993E-2,5.2499999999999998E-2,2.3999999999999998E-3,5.0000000000000001E-3,9.44,0.41,0.81,1075,28,34,1072,10,17,1034,45,96,1097,85,120,220,200,12,13,19,21,78.3,3.3,29.2,1.1000000000000001,15,0.81,2.6539999999999999,3.2000000000000001E-2,5.5279160000000003,0.06,-5.8,9.1999999999999993,329000000000000,14000000000000,null,null,null,null,null,null,0.84884999999999999,2.2000000000000001E-3,2.3999999999999998E-3,2.3999999999999998E-3,117,13,4.60734E-2,2.0999999999999998E-6,2.0999999999999998E-6,1.46,0.11,0.11,58.9,6.5,6.5,57.5,6.8,6.8,45,48,49,0.27,4.3999999999999997E-2,-40.9,4.8,0.27,0.16,-0.51,0.59,0.59,4.8999999999999998E-3,5.1000000000000004E-3,5.1000000000000004E-3,0.98468999999999995,-2.5000000000000001E-2,2.5000000000000001E-2,2.5999999999999999E-2,0.47,0.33,0.33,57,53,3760,300,310,-10,340,350,31,33,33,-550,540,550,0.50478000000000001,5.4600000000000003E-2,1.9E-3,4.0000000000000001E-3,5.6130000000000004,9.8000000000000004E-2,7.22E-2,1.6000000000000001E-3,1.6999999999999999E-3,989,44,46,1029,27,31,1058,17,21,1074,37,77,1.6000000000000001E-3,1.1999999999999999E-3,-1.2E-2,3.5000000000000003E-2,0.67,6.8000000000000005E-2,1.59,0.8,0.92,0.1762,7.3000000000000001E-3,9.1999999999999998E-3,0.93789999999999996,4.2000000000000003E-2,3.5999999999999997E-2,7.3999999999999996E-2,0.05,3.4000000000000002E-2,3.5999999999999997E-2,5.81,"06:14:24",1730,340,350,1200,180,200,1045,40,51,670,720,1500]
["Z_91500_16",91500,"04/12/2018 (3) 19:56:05.00","04/12/2018 (3)","19:56:05",23.082999999999998,91500,50,"Normal",1,1.8460000000000001,6.6000000000000003E-2,8.4000000000000005E-2,0.17860000000000001,2.0999999999999999E-3,3.0999999999999999E-3,5.7506000000000002E-2,null,9.7184900000000005E-2,7.4499999999999997E-2,2.7000000000000001E-3,4.4000000000000003E-3,0.26240000000000002,5.3800000000000001E-2,2E-3,4.8999999999999998E-3,9.6300000000000008,0.4,0.82,1063,23,29,1059,11,17,1058,39,95,1061,67,110,-70,55,-5.7,4.2,-8.4,6.3,80.400000000000006,3.2,30.2,1.2,14.92,0.8,2.6760000000000002,2.9000000000000001E-2,5.5991039999999996,6.2E-2,-7.2,9.4,334000000000000,13000000000000,null,null,null,null,null,null,0.99950000000000006,3.0599999999999998E-3,5.5000000000000003E-4,5.6999999999999998E-4,110.6,4.0999999999999996,4.6096999999999999E-2,2.0999999999999999E-5,2.1999999999999999E-5,2.7,1.1000000000000001,1.1000000000000001,56.9,2.2000000000000002,2.2999999999999998,58.2,2.2999999999999998,2.4,62,11,11,2.92E-2,9.4000000000000004E-3,-27.4,5,1,1,0,0.23,0.24,8.6999999999999994E-3,2.0999999999999999E-3,2.0999999999999999E-3,0.98653000000000002,5.9999999999999995E-4,8.0999999999999996E-3,8.5000000000000006E-3,-0.15,0.31,0.32,132,42,3200,270,280,-70,250,260,56,13,14,10,160,170,0.53900000000000003,5.2400000000000002E-2,3.0000000000000001E-3,4.7000000000000002E-3,5.58,0.11,7.1199999999999999E-2,1.5E-3,1.5E-3,955,43,44,1024,26,31,1060,17,22,1031,57,90,2.3E-3,1.6000000000000001E-3,-0.08,0.12,0.57399999999999995,8.1000000000000003E-2,1.52,0.7,0.82,0.17560000000000001,5.4000000000000003E-3,6.7999999999999996E-3,0.86502000000000001,3.6999999999999998E-2,3.2000000000000001E-2,5.0999999999999997E-2,5.0999999999999997E-2,0.03,3.1E-2,5.71,"04:33:36",1670,270,280,1250,130,150,1042,29,37,700,680,1100]
["Z_91500_17",91500,"04/12/2018 (3) 19:57:06.00","04/12/2018 (3)","19:57:06",23.082999999999998,91500,50,"Normal",1,1.86,6.2E-2,8.1000000000000003E-2,0.1817,2E-3,3.0999999999999999E-3,0.20369000000000001,null,9.3897030000000006E-2,7.5399999999999995E-2,2.3999999999999998E-3,4.1999999999999997E-3,0.16528000000000001,5.74E-2,2.5999999999999999E-3,5.4999999999999997E-3,9.11,0.34,0.75,1068,21,28,1076,11,17,1128,50,100,1073,67,120,130,220,11,17,39,36,80.3,3.3,30.3,1.3,15.17,0.64,2.657,2.9000000000000001E-2,5.5035769999999999,6.3E-2,-9,11,341000000000000,14000000000000,null,null,null,null,null,null,0.99995999999999996,2.5699999999999998E-3,4.6999999999999999E-4,5.1999999999999995E-4,110,3.8,4.6084800000000002E-2,5.3000000000000001E-6,5.4999999999999999E-6,2.06,0.27,0.28999999999999998,57.7,2,2.1,59.1,2.1,2.1,51.8,9.5,10,2.92E-2,8.0000000000000002E-3,-29.1,3,1,1,-0.17,0.18,0.19,7.1999999999999998E-3,1.6000000000000001E-3,1.6000000000000001E-3,0.97699000000000003,-1.0999999999999999E-2,0.01,1.0999999999999999E-2,-0.48,0.95,0.99,200,170,3180,290,310,-130,190,190,46,10,10,-220,200,220,0.44087999999999999,5.2499999999999998E-2,1.9E-3,3.5000000000000001E-3,5.58,9.5000000000000001E-2,7.3300000000000004E-2,1.1000000000000001E-3,1.1000000000000001E-3,1024,29,30,1050,18,23,1063,17,22,1034,36,67,1.1000000000000001E-3,1.1999999999999999E-3,1.0999999999999999E-2,1.0999999999999999E-2,0.66,6.5000000000000002E-2,1.5,0.75,0.97,0.17530000000000001,7.0000000000000001E-3,8.8999999999999999E-3,0.91225000000000001,3.6999999999999998E-2,3.5000000000000003E-2,6.5000000000000002E-2,4.8000000000000001E-2,2.9000000000000001E-2,3.1E-2,5.82,"05:31:12",1830,320,340,1100,240,310,1040,38,49,590,670,1300]
["Z_91500_18",91500,"04/12/2018 (3) 20:10:02.00","04/12/2018 (3)","20:10:02",23.082999999999998,91500,50,"Normal",1,1.859,7.0000000000000007E-2,8.7999999999999995E-2,0.17760000000000001,1.8E-3,2.8999999999999998E-3,-7.5823000000000002E-2,null,9.1941599999999998E-2,7.5999999999999998E-2,3.0999999999999999E-3,4.7000000000000002E-3,0.33162999999999998,5.1400000000000001E-2,2.0999999999999999E-3,4.7999999999999996E-3,9.5500000000000007,0.38,0.8,1067,24,30,1053.5,9.9,16,1013,41,92,1093,84,130,380,380,26,26,39,38,79,2.4,29.82,0.75,15.06,0.6,2.6930000000000001,3.2000000000000001E-2,5.6306310000000002,0.06,1,8.1999999999999993,327000000000000,11000000000000,null,null,null,null,null,null,0.99029,2.97E-3,1.6000000000000001E-4,2.1000000000000001E-4,106.5,2.2999999999999998,4.6119E-2,2.1999999999999999E-5,2.4000000000000001E-5,3.8,1.1000000000000001,1.3,58.9,1.4,1.5,59.9,1.3,1.3,60,3.2,4.2,2.4799999999999999E-2,4.8999999999999998E-3,-19.5,4.4000000000000004,1,1,4.8000000000000001E-2,4.9000000000000002E-2,5.3999999999999999E-2,9.2800000000000001E-3,4.8000000000000001E-4,4.8999999999999998E-4,0.92613000000000001,2.8E-3,8.1999999999999998E-4,1.1000000000000001E-3,3.5999999999999997E-2,3.5999999999999997E-2,0.04,106.6,4.5999999999999996,1840,300,330,51,45,49,59.5,3,3.2,57,17,22,0.49247999999999997,5.0599999999999999E-2,1.4E-3,2.8999999999999998E-3,5.6029999999999998,9.6000000000000002E-2,7.4099999999999999E-2,2E-3,2.2000000000000001E-3,1059,52,55,1052,25,31,1062,17,21,998,27,56,1.8E-3,1.6999999999999999E-3,3.3000000000000002E-2,4.4999999999999998E-2,0.73,7.0999999999999994E-2,2.0499999999999998,0.59,0.73,0.17710000000000001,5.7999999999999996E-3,7.1999999999999998E-3,0.87980000000000003,4.7E-2,0.03,6.0999999999999999E-2,7.8E-2,2.3E-2,2.4E-2,5.63,"04:19:12",1730,290,300,1080,200,250,1050,32,40,1120,540,1100]
["Z_91500_19",91500,"04/12/2018 (3) 20:11:03.00","04/12/2018 (3)","20:11:03",23.082999999999998,91500,50,"Normal",1,1.831,6.9000000000000006E-2,8.6999999999999994E-2,0.18049999999999999,2.3E-3,3.2000000000000002E-3,6.6000000000000003E-2,null,9.8219009999999995E-2,7.3400000000000007E-2,2.8999999999999998E-3,4.4999999999999997E-3,0.23003999999999999,5.28E-2,2.5999999999999999E-3,5.1000000000000004E-3,9.16,0.43,0.8,1057,26,32,1069,12,18,1039,50,99,1013,86,130,40,170,3,13,3,17,83.2,3.6,31.8,1.4,15.08,0.9,2.625,3.1E-2,5.5401660000000001,6.9000000000000006E-2,-5,37,350000000000000,16000000000000,null,null,null,null,null,null,0.99839,3.16E-3,2.9999999999999997E-4,3.4000000000000002E-4,105.7,4.5,4.6092300000000003E-2,8.4999999999999999E-6,8.8000000000000004E-6,2.4500000000000002,0.44,0.46,58.5,1.9,1.9,59.8,1.9,2,63.8,6.1,6.8,2.64E-2,8.3999999999999995E-3,-25.9,3.1,1,1,-0.03,0.14000000000000001,0.15,8.6E-3,1.1000000000000001E-3,1.1000000000000001E-3,0.96282999999999996,1.5E-3,3.2000000000000002E-3,3.5999999999999999E-3,-0.12,0.16,0.16,121,13,2720,500,520,-60,150,150,55.4,6.9,7,29,64,72,0.41286,5.4199999999999998E-2,1.4E-3,3.8E-3,5.57,0.1,7.4899999999999994E-2,1.4E-3,1.5E-3,1068,36,38,1049,21,26,1060,19,23,1066,28,74,0,1.1999999999999999E-3,6.0999999999999999E-2,2.7E-2,0.7,7.0000000000000007E-2,1.69,0.63,0.81,0.1777,6.1000000000000004E-3,7.4000000000000003E-3,0.80149000000000004,4.1000000000000002E-2,2.9000000000000001E-2,7.8E-2,6.4000000000000001E-2,2.4E-2,2.5999999999999999E-2,5.71,"04:48:00",1700,280,300,1080,200,260,1053,33,40,700,580,1600]
["Z_91500_20",91500,"04/12/2018 (3) 20:22:59.00","04/12/2018 (3)","20:22:59",23.082999999999998,91500,50,"Normal",1,1.8740000000000001,6.8000000000000005E-2,8.5999999999999993E-2,0.17860000000000001,2.2000000000000001E-3,3.2000000000000002E-3,-2.1402000000000001E-2,null,0.1003199,7.6799999999999993E-2,2.8999999999999998E-3,4.5999999999999999E-3,0.33034000000000002,5.4899999999999997E-2,3.0000000000000001E-3,5.4999999999999997E-3,9.1300000000000008,0.51,0.84,1077,22,28,1059,12,17,1079,57,110,1104,76,120,330,280,28,22,37,31,83.1,3.6,31.2,1.3,15.2,1.1000000000000001,2.6259999999999999,3.1E-2,5.5991039999999996,6.9000000000000006E-2,-0.1,7.4,343000000000000,14000000000000,null,null,null,null,null,null,0.99995999999999996,2.9199999999999999E-3,4.6000000000000001E-4,4.8999999999999998E-4,110.1,4.5999999999999996,4.6084100000000003E-2,3.5999999999999998E-6,3.7000000000000002E-6,2.02,0.19,0.19,57.2,2.2000000000000002,2.2000000000000002,58.5,2.2999999999999998,2.2999999999999998,58.9,9.3000000000000007,9.9,2.9000000000000001E-2,0.01,-27.4,2.2000000000000002,1,1,0.3,0.24,0.24,1.06E-2,2.3E-3,2.3E-3,0.98565000000000003,1.12E-2,8.0000000000000002E-3,8.5000000000000006E-3,0.17,0.27,0.27,96,36,3600,280,290,180,200,200,68,15,15,220,160,170,0.38202999999999998,5.3900000000000003E-2,1.6000000000000001E-3,3.3E-3,5.5730000000000004,7.3999999999999996E-2,7.1900000000000006E-2,1.5E-3,1.6999999999999999E-3,990,44,47,1046,21,26,1061,13,18,1060,30,64,4.0000000000000002E-4,7.3999999999999999E-4,2.5000000000000001E-2,2.1999999999999999E-2,0.63900000000000001,6.2E-2,1.94,0.72,0.92,0.1792,6.7000000000000002E-3,9.2999999999999992E-3,0.91701999999999995,6.0999999999999999E-2,3.5000000000000003E-2,7.4999999999999997E-2,7.0000000000000007E-2,2.8000000000000001E-2,0.03,5.59,"05:16:48",2000,200,220,1240,200,250,1061,37,51,1160,660,1400]
["Z_91500_21",91500,"04/12/2018 (3) 20:24:00.00","04/12/2018 (3)","20:24:00",23.085000000000001,91500,50,"Normal",1,1.8260000000000001,7.0999999999999994E-2,8.6999999999999994E-2,0.18160000000000001,2E-3,3.0999999999999999E-3,2.6010999999999999E-3,null,9.4000470000000003E-2,7.2999999999999995E-2,3.0000000000000001E-3,4.4999999999999997E-3,0.30991999999999997,5.5500000000000001E-2,3.5999999999999999E-3,5.8999999999999999E-3,9.7100000000000009,0.66,0.98,1055,26,32,1076,11,17,1091,69,110,997,86,130,890,360,62,26,84,37,74.8,3.4,26.5,1.4,14.82,0.86,2.78,3.9E-2,5.5066079999999999,0.06,-14,11,312000000000000,15000000000000,null,null,null,null,null,null,0.99643999999999999,3.0500000000000002E-3,1.6000000000000001E-4,2.1000000000000001E-4,101.7,2.1,4.6150999999999998E-2,4.1999999999999998E-5,5.0000000000000002E-5,5.5,2.2000000000000002,2.6,61.6,1.3,1.5,62.9,1.3,1.4,61.6,3.2,4.3,1.2E-2,3.2000000000000002E-3,-19.2,3.5,1,1,4.9000000000000002E-2,5.2999999999999999E-2,6.0999999999999999E-2,9.7300000000000008E-3,4.6999999999999999E-4,4.8999999999999998E-4,0.91261000000000003,2.5999999999999999E-3,1.6000000000000001E-3,2.0999999999999999E-3,2.4E-2,0.04,4.8000000000000001E-2,105.9,5.7,1900,270,320,33,54,63,62.4,3,3.1,53,32,42,0.45432,5.3100000000000001E-2,1.9E-3,3.8E-3,5.57,0.1,7.3700000000000002E-2,1.6999999999999999E-3,1.8E-3,1024,46,48,1039,27,31,1063,17,21,1044,36,72,8.0000000000000004E-4,1.1999999999999999E-3,3.4000000000000002E-2,3.4000000000000002E-2,0.68300000000000005,6.7000000000000004E-2,0.94,0.53,0.62,0.17280000000000001,5.4000000000000003E-3,6.7000000000000002E-3,0.82970999999999995,8.0000000000000002E-3,2.5000000000000001E-2,0.05,3.9E-2,2.4E-2,2.5000000000000001E-2,5.81,"04:33:36",1460,320,330,890,200,230,1027,30,37,240,530,1100]
["Z_91500_22",91500,"04/12/2018 (3) 20:35:57.00","04/12/2018 (3)","20:35:57",23.084,91500,50,"Normal",1,1.851,6.7000000000000004E-2,8.5000000000000006E-2,0.17799999999999999,1.6000000000000001E-3,2.8E-3,6.2980999999999995E-2,null,8.8372679999999995E-2,7.4999999999999997E-2,2.8E-3,4.4999999999999997E-3,0.16594,5.21E-2,2.3999999999999998E-3,5.0000000000000001E-3,9.74,0.48,0.87,1065,25,32,1057.2,8.6,15,1025,46,96,1060,74,120,280,360,22,28,24,33,85.2,3.5,32.4,1.3,15.06,0.86,2.6469999999999998,3.3000000000000002E-2,5.6179779999999999,4.8000000000000001E-2,-4.5999999999999996,9.3000000000000007,354000000000000,15000000000000,null,null,null,null,null,null,0.99722,2.97E-3,2.9E-4,3.8000000000000002E-4,103.3,2.5,4.6127000000000001E-2,3.3000000000000003E-5,3.4999999999999997E-5,4.3,1.7,1.8,61,1.4,1.5,62.4,1.5,1.5,60,5.8,7.6,3.3399999999999999E-2,8.3000000000000001E-3,-21.4,4,1,1,0.04,0.12,0.12,9.4999999999999998E-3,1.1000000000000001E-3,1.1000000000000001E-3,0.97711000000000003,2.5000000000000001E-3,2.8999999999999998E-3,3.8999999999999998E-3,-0.01,0.1,0.11,111,15,2560,330,350,40,110,120,60.7,6.8,7,50,59,79,0.34276000000000001,5.3900000000000003E-2,2E-3,3.8999999999999998E-3,5.577,9.4E-2,7.2700000000000001E-2,1.6999999999999999E-3,1.8E-3,1004,50,52,1038,25,29,1064,17,22,1060,38,74,1.4E-3,1.2999999999999999E-3,0.04,3.1E-2,0.73099999999999998,7.0000000000000007E-2,1.86,0.45,0.53,0.17780000000000001,5.4000000000000003E-3,6.7000000000000002E-3,0.79051000000000005,6.0999999999999999E-2,2.1000000000000001E-2,0.04,7.5999999999999998E-2,1.6E-2,1.7000000000000001E-2,5.64,0.17,1590,250,260,1020,170,190,1054,29,37,1160,390,760]
["Z_91500_23",91500,"04/12/2018 (3) 20:36:57.00","04/12/2018 (3)","20:36:57",23.085000000000001,91500,50,"Normal",1,1.857,8.2000000000000003E-2,9.8000000000000004E-2,0.1789,2E-3,3.0999999999999999E-3,0.21548,null,9.6859230000000004E-2,7.5200000000000003E-2,3.0999999999999999E-3,4.5999999999999999E-3,7.9058000000000003E-2,5.7500000000000002E-2,2.5999999999999999E-3,5.4999999999999997E-3,9.07,0.39,0.78,1069,29,35,1061,11,17,1130,49,100,1087,80,120,520,470,60,40,43,46,77,3.2,29.1,1.3,14.97,0.66,2.6659999999999999,2.5999999999999999E-2,5.589715,6.4000000000000001E-2,-4.9000000000000004,8.9,323000000000000,15000000000000,null,null,null,null,null,null,0.99999000000000005,1.65E-3,2.1000000000000001E-4,2.2000000000000001E-4,105.3,2.6,4.6077800000000002E-2,3.3000000000000002E-6,3.7000000000000002E-6,1.69,0.18,0.19,59.7,1.4,1.5,61.1,1.5,1.5,33.200000000000003,4.2,4.3,2.24E-2,5.0000000000000001E-3,-38.1,6,1,1,3.0000000000000001E-3,5.1999999999999998E-2,5.6000000000000001E-2,9.0799999999999995E-3,5.5000000000000003E-4,5.6999999999999998E-4,0.91410999999999998,1.34E-3,9.3000000000000005E-4,9.6000000000000002E-4,-2E-3,4.4999999999999998E-2,0.05,109.2,6.4,1440,610,670,-5,53,58,58.3,3.5,3.6,27,19,19,0.61609000000000003,5.1400000000000001E-2,1.8E-3,4.1000000000000003E-3,5.63,0.11,7.3899999999999993E-2,1.8E-3,1.9E-3,1038,50,53,1060,24,30,1059,19,23,1013,35,79,5.9999999999999995E-4,1.1000000000000001E-3,2.1000000000000001E-2,0.04,0.67600000000000005,6.8000000000000005E-2,1.81,0.64,0.8,0.17760000000000001,5.7999999999999996E-3,6.8999999999999999E-3,0.80740999999999996,5.5E-2,2.9000000000000001E-2,6.5000000000000002E-2,7.0000000000000007E-2,2.3E-2,2.5000000000000001E-2,5.68,0.19,1750,320,350,1140,170,220,1053,31,38,990,550,1300]
["Z_91500_24",91500,"04/12/2018 (3) 20:50:55.00","04/12/2018 (3)","20:50:55",23.084,91500,50,"Normal",1,1.82,5.8999999999999997E-2,7.8E-2,0.17829999999999999,2.2000000000000001E-3,3.2000000000000002E-3,5.7229000000000002E-2,null,0.10065780000000001,7.3099999999999998E-2,2.5999999999999999E-3,4.1999999999999997E-3,0.32443,5.1700000000000003E-2,2.3E-3,4.8999999999999998E-3,9.5299999999999994,0.41,0.81,1053,21,28,1058,12,17,1018,44,94,1018,68,110,-110,200,-7,12,-19,26,80.2,3.3,30.4,1.3,14.99,0.77,2.6459999999999999,2.7E-2,5.6085250000000002,6.8000000000000005E-2,-10.199999999999999,8.8000000000000007,337000000000000,14000000000000,null,null,null,null,null,null,0.99985000000000002,1.8E-3,5.8E-4,5.9999999999999995E-4,110.9,6,4.6089999999999999E-2,1.5E-5,1.5999999999999999E-5,2.34,0.8,0.82,56.5,3.1,3.1,57.8,3.2,3.2,36,12,12,0.1,0.02,-36,6.1,0.8,0.13,0,0.49,0.5,8.6999999999999994E-3,4.3E-3,4.3E-3,0.99543999999999999,1E-3,1.0999999999999999E-2,1.0999999999999999E-2,-0.04,0.85,0.87,110,110,3850,240,250,410,240,250,61,25,26,0,220,220,0.37343999999999999,5.1999999999999998E-2,1.9E-3,3.7000000000000002E-3,5.5940000000000003,9.5000000000000001E-2,7.2800000000000004E-2,1.6000000000000001E-3,1.6999999999999999E-3,1009,43,45,1050,18,22,1061,17,22,1024,38,72,2.0999999999999999E-3,1.5E-3,3.3000000000000002E-2,3.4000000000000002E-2,0.69199999999999995,6.8000000000000005E-2,1.9,0.69,0.84,0.1799,6.7999999999999996E-3,8.6E-3,0.90580000000000005,6.0999999999999999E-2,3.1E-2,0.06,6.9000000000000006E-2,2.5999999999999999E-2,2.7E-2,5.63,0.22,2070,170,180,1170,200,240,1065,37,47,1080,620,1200]
["Z_91500_25",91500,"04/12/2018 (3) 20:51:55.00","04/12/2018 (3)","20:51:55",23.084,91500,50,"Normal",1,1.885,6.7000000000000004E-2,8.5999999999999993E-2,0.1772,2.3E-3,3.2000000000000002E-3,7.4633000000000005E-2,null,0.1019113,7.6600000000000001E-2,2.7000000000000001E-3,4.4999999999999997E-3,0.29070000000000001,5.45E-2,2E-3,5.0000000000000001E-3,9.2200000000000006,0.39,0.78,1076,24,31,1054,13,18,1072,39,96,1118,70,110,-260,280,-13,17,-33,31,79.7,3.1,29.6,1.2,15.02,0.82,2.6909999999999998,2.9000000000000001E-2,5.6433410000000004,7.6999999999999999E-2,-9,17,327000000000000,14000000000000,null,null,null,null,null,null,0.99985000000000002,2.7799999999999999E-3,4.6000000000000001E-4,4.6999999999999999E-4,126.4,9,4.6093000000000002E-2,1.1E-5,1.1E-5,2.4900000000000002,0.59,0.6,51,3.2,3.3,52,3.4,3.4,56,9.1999999999999993,9.5,8.5000000000000006E-2,2.3E-2,-23.4,4.2,1,1,0.55000000000000004,0.34,0.34,1.23E-2,2.7000000000000001E-3,2.7000000000000001E-3,0.98643000000000003,1.44E-2,7.6E-3,7.7999999999999996E-3,0.28999999999999998,0.48,0.49,81,68,3990,210,220,460,200,210,79,17,17,280,150,160,0.61189000000000004,5.6000000000000001E-2,1.9E-3,3.5000000000000001E-3,5.5949999999999998,9.8000000000000004E-2,7.2800000000000004E-2,1.2999999999999999E-3,1.4E-3,1002,37,39,1050,23,27,1061,18,22,1119,42,79,1.8E-3,1.9E-3,-1.9E-2,4.2000000000000003E-2,0.68,6.9000000000000006E-2,1.32,0.77,0.9,0.17460000000000001,7.3000000000000001E-3,9.1999999999999998E-3,0.91000999999999999,2.5999999999999999E-2,3.9E-2,7.3999999999999996E-2,3.7999999999999999E-2,3.4000000000000002E-2,3.5999999999999997E-2,5.72,0.22,2090,190,200,990,240,280,1036,40,50,470,760,1400]
[null,null,null,null,null,null,null,null,null,null,null,null,null,null,null,null,null,null,null,null,null,null,null,null,null,null,null,null,null,null,null,null,null,null,null,null,null,null,null,null,null,null,null,null,null,null,null,null,null,null,null,null,null,null,null,null,null,null,null,null,null,null,null,null,null,null,null,1,2.8800000000000002E-3,5.1000000000000004E-4,5.2999999999999998E-4,116.9,8.3000000000000007,4.6082999999999999E-2,4.5000000000000001E-6,4.6E-6,1.96,0.24,0.24,54.2,3.8,3.8,55.5,3.9,3.9,58,10,11,0.124,2.9000000000000001E-2,-31.9,4.9000000000000004,1,1,-0.11,0.43,0.44,7.3000000000000001E-3,3.8E-3,3.8999999999999998E-3,0.99094000000000004,0,8.5000000000000006E-3,8.8999999999999999E-3,0.41,0.4,0.41,56,65,3970,240,240,270,230,230,46,25,25,-10,170,180,0.20336000000000001,5.1999999999999998E-2,2.7000000000000001E-3,5.0000000000000001E-3,5.6159999999999997,9.9000000000000005E-2,7.2499999999999995E-2,1.5E-3,1.6000000000000001E-3,994,43,44,1061,27,31,1060,17,22,1024,52,96,2.9999999999999997E-4,1.6999999999999999E-3,2.7E-2,2.1999999999999999E-2,0.55600000000000005,8.2000000000000003E-2,1.36,0.56000000000000005,0.65,0.17530000000000001,6.4000000000000003E-3,8.2000000000000007E-3,0.86436999999999997,3.2000000000000001E-2,2.7E-2,0.05,5.3999999999999999E-2,2.1999999999999999E-2,2.1999999999999999E-2,5.66,0.2,1450,310,310,1070,150,170,1040,35,45,640,510,940]
[null,null,null,null,null,null,null,null,null,null,null,null,null,null,null,null,null,null,null,null,null,null,null,null,null,null,null,null,null,null,null,null,null,null,null,null,null,null,null,null,null,null,null,null,null,null,null,null,null,null,null,null,null,null,null,null,null,null,null,null,null,null,null,null,null,null,null,0.99992000000000003,2.7499999999999998E-3,6.8999999999999997E-4,7.5000000000000002E-4,109.9,6.2,4.6079200000000001E-2,5.3000000000000001E-6,5.5999999999999997E-6,1.76,0.28000000000000003,0.28999999999999998,57.3,3.1,3.2,58.7,3.2,3.3,56,14,15,0.13700000000000001,1.7000000000000001E-2,-39.9,5,0.76,0.13,0.42,0.28999999999999998,0.3,1.23E-2,2.5000000000000001E-3,2.5000000000000001E-3,0.98246,1.5599999999999999E-2,8.5000000000000006E-3,9.1999999999999998E-3,0.49,0.26,0.27,45,37,3850,170,180,430,160,160,79,16,16,310,170,180,0.38190000000000002,5.3499999999999999E-2,1.9E-3,4.1000000000000003E-3,5.633,9.9000000000000005E-2,7.2999999999999995E-2,1.5E-3,1.5E-3,1014,42,44,1035,19,24,1057,17,21,1053,37,78,3.5000000000000001E-3,1.6999999999999999E-3,1.4E-2,3.9E-2,0.70599999999999996,7.0000000000000007E-2,1.31,0.66,0.83,0.17469999999999999,6.4000000000000003E-3,8.0999999999999996E-3,0.89390000000000003,3.5000000000000003E-2,3.2000000000000001E-2,6.6000000000000003E-2,4.5999999999999999E-2,2.7E-2,2.8000000000000001E-2,5.76,0.21,1690,360,380,1050,220,270,1037,35,45,570,620,1300]
[null,null,null,null,null,null,null,null,null,null,null,null,null,null,null,null,null,null,null,null,null,null,null,null,null,null,null,null,null,null,null,null,null,null,null,null,null,null,null,null,null,null,null,null,null,null,null,null,null,null,null,null,null,null,null,null,null,null,null,null,null,null,null,null,null,null,null,0.999,2.8900000000000002E-3,6.7000000000000002E-4,7.1000000000000002E-4,108.4,4.5,4.6103999999999999E-2,3.1000000000000001E-5,3.3000000000000003E-5,3,1.6,1.7,57.8,2.5,2.6,59.1,2.6,2.6,58,13,14,0.156,1.7999999999999999E-2,-35.6,6.4,1,1,0.08,0.39,0.41,8.8999999999999999E-3,3.0999999999999999E-3,3.2000000000000002E-3,0.99333000000000005,4.0000000000000001E-3,1.0999999999999999E-2,1.2E-2,0.42,0.64,0.67,53,85,3830,250,270,120,340,360,61,21,21,60,220,230,0.44542999999999999,5.3400000000000003E-2,1.6000000000000001E-3,3.5000000000000001E-3,5.59,0.1,7.1999999999999995E-2,1.1999999999999999E-3,1.2999999999999999E-3,986,36,38,1041,21,25,1059,18,22,1052,31,67,4.0000000000000002E-4,1.4E-3,1.0999999999999999E-2,2.5999999999999999E-2,0.64300000000000002,6.5000000000000002E-2,1.1599999999999999,0.53,0.63,0.17119999999999999,5.0000000000000001E-3,6.1999999999999998E-3,0.81874999999999998,2.1999999999999999E-2,2.4E-2,5.1999999999999998E-2,4.2999999999999997E-2,2.1000000000000001E-2,2.1999999999999999E-2,5.88,0.18,1850,220,230,800,230,280,1018,28,34,370,480,1000]
[null,null,null,null,null,null,null,null,null,null,null,null,null,null,null,null,null,null,null,null,null,null,null,null,null,null,null,null,null,null,null,null,null,null,null,null,null,null,null,null,null,null,null,null,null,null,null,null,null,null,null,null,null,null,null,null,null,null,null,null,null,null,null,null,null,null,null,1,2.8999999999999998E-3,1.4E-3,1.4E-3,110.3,7.6,4.6073799999999998E-2,3.0000000000000001E-6,3.1E-6,1.48,0.16,0.16,57.9,3.7,3.8,59.3,3.9,3.9,58,28,29,0.25,2.7E-2,-41.6,4.2,0.53,0.19,0.2,0.57999999999999996,0.6,1.06E-2,4.7000000000000002E-3,4.7999999999999996E-3,0.99489000000000005,0.01,1.7999999999999999E-2,1.9E-2,0.42,0.27,0.28000000000000003,62,37,4150,230,240,470,300,300,67,30,31,190,360,370,0.33581,5.2900000000000003E-2,1.8E-3,3.7000000000000002E-3,5.5970000000000004,9.6000000000000002E-2,7.1999999999999995E-2,1.1999999999999999E-3,1.1999999999999999E-3,982,33,34,1031,24,28,1058,18,22,1042,35,71,1.4E-3,1.4E-3,6.0000000000000001E-3,1.2E-2,0.63500000000000001,6.2E-2,1.71,0.61,0.73,0.17829999999999999,6.0000000000000001E-3,7.4000000000000003E-3,0.84523999999999999,5.2999999999999999E-2,2.9000000000000001E-2,5.8999999999999997E-2,6.8000000000000005E-2,2.4E-2,2.5000000000000001E-2,5.63,0.18,1920,210,220,1080,220,260,1057,33,41,940,560,1100]
[null,null,null,null,null,null,null,null,null,null,null,null,null,null,null,null,null,null,null,null,null,null,null,null,null,null,null,null,null,null,null,null,null,null,null,null,null,null,null,null,null,null,null,null,null,null,null,null,null,null,null,null,null,null,null,null,null,null,null,null,null,null,null,null,null,null,null,0.99948000000000004,2.99E-3,7.9000000000000001E-4,8.1999999999999998E-4,116.9,7.9,4.6115999999999997E-2,3.8999999999999999E-5,4.0000000000000003E-5,3.7,2,2.1,56.2,3.7,3.8,57.4,3.9,3.9,60,16,17,9.9000000000000005E-2,1.9E-2,-31,6.7,0.78,0.13,0.71,0.55000000000000004,0.56999999999999995,1.44E-2,4.5999999999999999E-3,4.7000000000000002E-3,0.99268999999999996,2.5999999999999999E-2,1.6E-2,1.6E-2,0.6,0.32,0.33,35,43,4310,150,150,520,310,320,92,30,30,500,300,310,0.21962999999999999,5.0799999999999998E-2,2.5000000000000001E-3,4.1999999999999997E-3,5.61,0.1,7.1999999999999995E-2,1.9E-3,1.9E-3,1001,46,48,1041,23,27,1057,19,23,1010,51,85,-1E-4,1.1999999999999999E-3,4.5999999999999999E-2,2.5999999999999999E-2,0.64,6.4000000000000001E-2,1.75,0.95,1.1000000000000001,0.1807,8.3000000000000001E-3,0.01,0.93518000000000001,5.3999999999999999E-2,4.3999999999999997E-2,7.2999999999999995E-2,5.3999999999999999E-2,0.04,4.1000000000000002E-2,5.7,0.28999999999999998,2360,160,170,1480,160,180,1069,45,56,830,880,1500]
[null,null,null,null,null,null,null,null,null,null,null,null,null,null,null,null,null,null,null,null,null,null,null,null,null,null,null,null,null,null,null,null,null,null,null,null,null,null,null,null,null,null,null,null,null,null,null,null,null,null,null,null,null,null,null,null,null,null,null,null,null,null,null,null,null,null,null,0.99992000000000003,2.9199999999999999E-3,2.3000000000000001E-4,2.5999999999999998E-4,112.7,4.5999999999999996,4.6099399999999999E-2,8.1999999999999994E-6,8.4999999999999999E-6,2.82,0.43,0.44,56.6,2.2999999999999998,2.2999999999999998,57.9,2.4,2.4,59,4.5999999999999996,5.2,0.06,1.2999999999999999E-2,-21.1,2.6,1,1,-0.11,0.21,0.21,7.1000000000000004E-3,1.8E-3,1.8E-3,0.97519999999999996,-2.2000000000000001E-3,4.4000000000000003E-3,4.8999999999999998E-3,0.5,1.2,1.2,60,160,3460,290,300,-100,220,230,46,12,12,-45,89,100,0.24024999999999999,5.2299999999999999E-2,2.2000000000000001E-3,4.0000000000000001E-3,5.601,9.7000000000000003E-2,7.1900000000000006E-2,1.5E-3,1.5E-3,976,42,43,1021,25,29,1057,17,21,1029,42,77,2.5000000000000001E-3,2.0999999999999999E-3,1.7999999999999999E-2,3.4000000000000002E-2,0.71,7.0999999999999994E-2,1.79,0.67,0.8,0.17749999999999999,6.3E-3,8.0999999999999996E-3,0.90598000000000001,5.8000000000000003E-2,3.1E-2,5.6000000000000001E-2,7.0999999999999994E-2,2.5999999999999999E-2,2.7E-2,5.62,0.2,2160,170,170,1050,260,310,1058,34,43,1130,610,1100]
[null,null,null,null,null,null,null,null,null,null,null,null,null,null,null,null,null,null,null,null,null,null,null,null,null,null,null,null,null,null,null,null,null,null,null,null,null,null,null,null,null,null,null,null,null,null,null,null,null,null,null,null,null,null,null,null,null,null,null,null,null,null,null,null,null,null,null,0.99997999999999998,3.3E-3,3.6000000000000002E-4,4.0000000000000002E-4,114,5.7,4.60898E-2,7.5000000000000002E-6,7.9000000000000006E-6,2.3199999999999998,0.39,0.41,56.3,2.7,2.8,57.6,2.8,2.8,66.5,7.2,8.1,5.5E-2,0.01,-27,4.8,1,1,0.28999999999999998,0.32,0.33,1.0800000000000001E-2,2.7000000000000001E-3,2.7000000000000001E-3,0.98765999999999998,7.6E-3,6.1999999999999998E-3,6.8999999999999999E-3,-0.08,0.55000000000000004,0.57999999999999996,135,81,3850,200,210,180,270,280,69,17,17,150,120,140,0.36,5.2400000000000002E-2,2.3E-3,4.1999999999999997E-3,5.56,9.5000000000000001E-2,7.2800000000000004E-2,1.5E-3,1.6000000000000001E-3,1009,44,46,1042,23,29,1059,17,21,1040,46,86,-1E-4,1.6000000000000001E-3,2.5999999999999999E-2,2.1999999999999999E-2,0.68,6.9000000000000006E-2,1.83,0.64,0.8,0.17929999999999999,5.7000000000000002E-3,7.1999999999999998E-3,0.84867000000000004,5.2999999999999999E-2,0.03,5.6000000000000001E-2,7.0000000000000007E-2,2.5999999999999999E-2,2.7E-2,5.66,0.2,1980,210,220,1220,150,190,1062,31,40,940,600,1100]
[null,null,null,null,null,null,null,null,null,null,null,null,null,null,null,null,null,null,null,null,null,null,null,null,null,null,null,null,null,null,null,null,null,null,null,null,null,null,null,null,null,null,null,null,null,null,null,null,null,null,null,null,null,null,null,null,null,null,null,null,null,null,null,null,null,null,null,1,3.3600000000000001E-3,8.8000000000000003E-4,9.1E-4,107.8,7,4.6078899999999999E-2,4.0999999999999997E-6,4.1999999999999996E-6,1.75,0.21,0.22,59,3.8,3.8,60.5,4,4,68,18,18,0.108,2.1999999999999999E-2,-36,6.1,0.74,0.17,0.18,0.37,0.38,9.7999999999999997E-3,3.0000000000000001E-3,3.0000000000000001E-3,0.98485,6.3E-3,8.6E-3,8.8999999999999999E-3,-1.1000000000000001,1.3,1.3,260,180,3720,270,280,-270,540,550,62,19,19,120,170,180,0.53796999999999995,5.2200000000000003E-2,2.2000000000000001E-3,4.0000000000000001E-3,5.6120000000000001,9.5000000000000001E-2,7.4399999999999994E-2,1.8E-3,1.8E-3,1060,50,52,1054,27,31,1060,16,21,1028,42,78,1.8E-3,2.2000000000000001E-3,3.1E-2,3.5000000000000003E-2,0.63,8.7999999999999995E-2,2.35,0.7,0.8,0.18010000000000001,6.0000000000000001E-3,7.7999999999999996E-3,0.90286,7.9000000000000001E-2,0.03,5.6000000000000001E-2,8.4000000000000005E-2,2.7E-2,2.8000000000000001E-2,5.58,0.2,2190,180,190,1300,150,170,1072,34,44,1430,590,1100]
[null,null,null,null,null,null,null,null,null,null,null,null,null,null,null,null,null,null,null,null,null,null,null,null,null,null,null,null,null,null,null,null,null,null,null,null,null,null,null,null,null,null,null,null,null,null,null,null,null,null,null,null,null,null,null,null,null,null,null,null,null,null,null,null,null,null,null,0.99927999999999995,2.6800000000000001E-3,9.1E-4,9.6000000000000002E-4,111.9,6.9,4.60775E-2,4.6999999999999999E-6,4.7999999999999998E-6,1.68,0.24,0.25,56.5,3.6,3.7,57.1,3.6,3.6,54,18,19,0.122,2.1000000000000001E-2,-38.799999999999997,5.8,0.74,0.15,0.38,0.5,0.52,1.1900000000000001E-2,4.3E-3,4.3E-3,0.99192000000000002,7.0000000000000001E-3,1.4E-2,1.4999999999999999E-2,0.12,0.35,0.36,80,49,4300,150,150,200,330,340,76,27,28,180,270,280,0.41822999999999999,5.1299999999999998E-2,2.5999999999999999E-3,4.8999999999999998E-3,5.5919999999999996,9.2999999999999999E-2,7.2400000000000006E-2,1.4E-3,1.5E-3,998,43,45,1034,26,30,1056,15,20,1011,50,95,1.8E-3,1.8E-3,-4.0000000000000001E-3,0.04,0.61099999999999999,8.5999999999999993E-2,1.08,0.57999999999999996,0.66,0.1716,5.1000000000000004E-3,6.7000000000000002E-3,0.83862999999999999,2.1999999999999999E-2,2.8000000000000001E-2,5.2999999999999999E-2,4.4999999999999998E-2,2.4E-2,2.4E-2,5.82,0.18,1690,300,310,830,250,280,1020,28,37,330,550,1100]
[null,null,null,null,null,null,null,null,null,null,null,null,null,null,null,null,null,null,null,null,null,null,null,null,null,null,null,null,null,null,null,null,null,null,null,null,null,null,null,null,null,null,null,null,null,null,null,null,null,null,null,null,null,null,null,null,null,null,null,null,null,null,null,null,null,null,null,0.99997000000000003,2.8900000000000002E-3,8.3000000000000001E-4,8.9999999999999998E-4,111.8,7.5,4.6079299999999997E-2,4.4000000000000002E-6,4.6E-6,1.77,0.23,0.24,56.8,3.3,3.4,58.1,3.4,3.5,58,17,18,0.151,0.02,-37.1,5,0.7,0.13,-0.14000000000000001,0.57999999999999996,0.6,7.7999999999999996E-3,4.7000000000000002E-3,4.7999999999999996E-3,0.99085999999999996,-2E-3,1.7999999999999999E-2,1.9E-2,0.38,0.78,0.81,52,74,4370,140,150,330,300,310,49,30,30,-90,370,400,0.43147999999999997,5.3900000000000003E-2,2.3999999999999998E-3,4.4000000000000003E-3,5.5570000000000004,8.4000000000000005E-2,7.1900000000000006E-2,1.5E-3,1.6000000000000001E-3,976,44,45,1037,22,26,1066,14,19,1060,45,85,2.8E-3,1.6999999999999999E-3,-3.0000000000000001E-3,0.04,0.66300000000000003,6.8000000000000005E-2,1.76,0.77,0.9,0.17860000000000001,6.1000000000000004E-3,8.0000000000000002E-3,0.90351000000000004,5.0999999999999997E-2,3.5999999999999997E-2,6.7000000000000004E-2,6.4000000000000001E-2,2.9000000000000001E-2,0.03,5.66,0.2,2130,220,230,1230,190,230,1058,33,44,860,700,1300]
[null,null,null,null,null,null,null,null,null,null,null,null,null,null,null,null,null,null,null,null,null,null,null,null,null,null,null,null,null,null,null,null,null,null,null,null,null,null,null,null,null,null,null,null,null,null,null,null,null,null,null,null,null,null,null,null,null,null,null,null,null,null,null,null,null,null,null,0.99950000000000006,3.0000000000000001E-3,3.2000000000000003E-4,3.5E-4,112.1,5,4.6094000000000003E-2,1.2999999999999999E-5,1.2999999999999999E-5,2.54,0.67,0.7,56,2.2999999999999998,2.4,57.2,2.4,2.5,60.5,6.4,7,8.8999999999999996E-2,1.4E-2,-24.8,3.5,1,1,0.25,0.28999999999999998,0.3,1.0699999999999999E-2,2.3E-3,2.3E-3,0.99063000000000001,7.0000000000000001E-3,6.0000000000000001E-3,6.6E-3,0.34,0.67,0.7,56,85,3830,200,210,360,190,190,68,15,15,140,120,130]
[null,null,null,null,null,null,null,null,null,null,null,null,null,null,null,null,null,null,null,null,null,null,null,null,null,null,null,null,null,null,null,null,null,null,null,null,null,null,null,null,null,null,null,null,null,null,null,null,null,null,null,null,null,null,null,null,null,null,null,null,null,null,null,null,null,null,null,1,3.3E-3,1.2999999999999999E-3,1.4E-3,106.3,7.3,4.6072399999999999E-2,1.7E-6,1.7999999999999999E-6,1.407,8.8999999999999996E-2,9.1999999999999998E-2,61.1,4.3,4.4000000000000004,62.7,4.5,4.5,66,27,29,0.214,2.8000000000000001E-2,-46.5,3.1,0.39,0.15,0.3,0.75,0.77,1.1900000000000001E-2,6.1999999999999998E-3,6.1999999999999998E-3,0.99546999999999997,1.6E-2,2.5000000000000001E-2,2.7E-2,0.73,0.27,0.28000000000000003,18,33,4340,150,160,790,290,300,75,39,40,260,510,550]
[null,null,null,null,null,null,null,null,null,null,null,null,null,null,null,null,null,null,null,null,null,null,null,null,null,null,null,null,null,null,null,null,null,null,null,null,null,null,null,null,null,null,null,null,null,null,null,null,null,null,null,null,null,null,null,null,null,null,null,null,null,null,null,null,null,null,null,1,2.2699999999999999E-3,7.3999999999999999E-4,8.0000000000000004E-4,121.5,7,4.6077600000000003E-2,3.0000000000000001E-6,3.1E-6,1.68,0.16,0.16,52.7,3,3.1,53.8,3.1,3.2,46,15,16,0.152,2.4E-2,-31.1,4.3,0.71,0.14000000000000001,-0.13,0.54,0.55000000000000004,6.7000000000000002E-3,4.4999999999999997E-3,4.5999999999999999E-3,0.99494000000000005,-2E-3,1.2E-2,1.2999999999999999E-2,0.71,0.26,0.27,5,42,4090,200,200,560,220,230,43,29,29,-50,240,260]
[null,null,null,null,null,null,null,null,null,null,null,null,null,null,null,null,null,null,null,null,null,null,null,null,null,null,null,null,null,null,null,null,null,null,null,null,null,null,null,null,null,null,null,null,null,null,null,null,null,null,null,null,null,null,null,null,null,null,null,null,null,null,null,null,null,null,null,0.99919000000000002,2.9299999999999999E-3,3.8999999999999999E-4,4.0999999999999999E-4,112.5,6.2,4.6094999999999997E-2,1.2E-5,1.2999999999999999E-5,2.57,0.64,0.66,56,3,3.1,57.2,3.1,3.2,59.1,7.8,8.3000000000000007,6.7000000000000004E-2,1.4999999999999999E-2,-25.3,3.9,1,1,0.27,0.22,0.23,1.09E-2,2E-3,2E-3,0.98238999999999999,6.7000000000000002E-3,5.1999999999999998E-3,5.4999999999999997E-3,0.21,0.27,0.28000000000000003,88,40,3640,220,230,310,150,160,70,13,13,130,100,110]
[null,null,null,null,null,null,null,null,null,null,null,null,null,null,null,null,null,null,null,null,null,null,null,null,null,null,null,null,null,null,null,null,null,null,null,null,null,null,null,null,null,null,null,null,null,null,null,null,null,null,null,null,null,null,null,null,null,null,null,null,null,null,null,null,null,null,null,0.96750999999999998,4.1999999999999997E-3,1.4E-3,1.6000000000000001E-3,126,15,4.6074299999999999E-2,2.0999999999999998E-6,2.2000000000000001E-6,1.51,0.11,0.11,55.5,6.1,6.4,56,6.4,6.4,84,29,31,0.36799999999999999,3.7999999999999999E-2,-36,4.0999999999999996,0.49,0.15,0.2,0.83,0.88,1.0500000000000001E-2,6.7000000000000002E-3,6.7000000000000002E-3,0.98941000000000001,7.0000000000000001E-3,2.4E-2,2.5999999999999999E-2,0.81,0.22,0.23,14,30,4480,140,150,860,290,300,65,43,43,150,490,530]
[null,null,null,null,null,null,null,null,null,null,null,null,null,null,null,null,null,null,null,null,null,null,null,null,null,null,null,null,null,null,null,null,null,null,null,null,null,null,null,null,null,null,null,null,null,null,null,null,null,null,null,null,null,null,null,null,null,null,null,null,null,null,null,null,null,null,null,0.99973999999999996,3.5999999999999999E-3,1.2999999999999999E-3,1.5E-3,113.8,9.8000000000000007,4.6074200000000003E-2,3.0000000000000001E-6,3.1999999999999999E-6,1.5,0.16,0.16,57.2,4.5999999999999996,4.8,58.5,4.8,4.8,72,26,29,0.16900000000000001,2.1000000000000001E-2,-40.799999999999997,5.3,0.56999999999999995,0.17,-0.36,0.66,0.68,5.7000000000000002E-3,5.5999999999999999E-3,5.5999999999999999E-3,0.99414999999999998,-1.2E-2,2.4E-2,2.7E-2,0.65,0.23,0.24,27,30,4040,200,210,440,250,260,36,36,36,-290,510,560]
[null,null,null,null,null,null,null,null,null,null,null,null,null,null,null,null,null,null,null,null,null,null,null,null,null,null,null,null,null,null,null,null,null,null,null,null,null,null,null,null,null,null,null,null,null,null,null,null,null,null,null,null,null,null,null,null,null,null,null,null,null,null,null,null,null,null,null,0.99960000000000004,2.7000000000000001E-3,1.9E-3,2E-3,108.8,6.7,4.6079799999999997E-2,7.6000000000000001E-6,7.7999999999999999E-6,1.8,0.4,0.41,58.1,3.8,3.9,59.4,3.9,4,54,39,39,0.08,1.6E-2,-38.1,5.6,0.3,0.16,0.18,0.38,0.39,1.04E-2,3.3999999999999998E-3,3.3999999999999998E-3,0.99124999999999996,1.2999999999999999E-2,0.05,5.0999999999999997E-2,0.6,0.43,0.45,69,36,3830,220,230,440,190,200,66,21,22,100,1100,1100]
[null,null,null,null,null,null,null,null,null,null,null,null,null,null,null,null,null,null,null,null,null,null,null,null,null,null,null,null,null,null,null,null,null,null,null,null,null,null,null,null,null,null,null,null,null,null,null,null,null,null,null,null,null,null,null,null,null,null,null,null,null,null,null,null,null,null,null,0.96030000000000004,2.7520000000000001E-3,7.7999999999999999E-5,1.2999999999999999E-4,110.3,3.2,4.6143000000000003E-2,4.6999999999999997E-5,5.1E-5,5.0999999999999996,2.4,2.6,56.5,1.8,1.9,57.8,1.8,1.8,55.5,1.6,2.7,2.1299999999999999E-2,5.7000000000000002E-3,-15.3,3.4,1,1,0.03,8.5999999999999993E-2,9.2999999999999999E-2,8.5500000000000003E-3,8.8000000000000003E-4,8.9999999999999998E-4,0.97570000000000001,2.7499999999999998E-3,5.2999999999999998E-4,8.9999999999999998E-4,8.0000000000000002E-3,8.3000000000000004E-2,0.09,118,13,2210,280,300,44,87,94,54.9,5.6,5.7,56,11,18]
[null,null,null,null,null,null,null,null,null,null,null,null,null,null,null,null,null,null,null,null,null,null,null,null,null,null,null,null,null,null,null,null,null,null,null,null,null,null,null,null,null,null,null,null,null,null,null,null,null,null,null,null,null,null,null,null,null,null,null,null,null,null,null,null,null,null,null,1,2.6700000000000001E-3,5.2999999999999998E-4,5.9000000000000003E-4,112,5.5,4.6080400000000001E-2,4.0999999999999997E-6,4.3000000000000003E-6,1.83,0.21,0.23,57.2,2.6,2.7,58.1,2.8,2.8,54,11,12,0.115,1.4E-2,-33.299999999999997,4.7,1,1,-0.16,0.39,0.41,7.1999999999999998E-3,3.3E-3,3.3E-3,0.99314999999999998,-2.2000000000000001E-3,9.4000000000000004E-3,1.0999999999999999E-2,0.77,0.48,0.51,15,60,3850,200,210,370,220,230,46,21,21,-50,190,210]
[]
[null,null,null,null,null,null,null,null,null,null,null,null,null,null,null,null,null,null,null,null,null,null,null,null,null,null,null,null,null,null,null,null,null,null,null,null,null,null,null,null,null,null,null,null,null,null,null,null,null,null,null,null,null,null,null,null,null,null,null,null,null,null,null,null,null,null,null,0.38463000000000003,1.6469999999999999E-2,8.4999999999999995E-4,1E-3,18.57,0.19,5.2040000000000003E-2,5.5999999999999995E-4,8.4000000000000003E-4,285,25,37,333.1,6,8.3000000000000007,337.9,3.3,3.8,330,17,21,2.1000000000000001E-4,5.4000000000000001E-4,0.01,3.5999999999999997E-2,0.57699999999999996,8.7999999999999995E-2,0.377,7.2999999999999995E-2,0.1,5.3690000000000002E-2,7.2999999999999996E-4,8.4000000000000003E-4,0.77766999999999997,1.0999999999999999E-2,1.4999999999999999E-2,1.7999999999999999E-2,4.9599999999999998E-2,9.7000000000000003E-3,1.4E-2,18.579999999999998,0.27,1060,130,200,316,56,78,337.1,4.4000000000000004,5.0999999999999996,190,310,370]
[null,null,null,null,null,null,null,null,null,null,null,null,null,null,null,null,null,null,null,null,null,null,null,null,null,null,null,null,null,null,null,null,null,null,null,null,null,null,null,null,null,null,null,null,null,null,null,null,null,null,null,null,null,null,null,null,null,null,null,null,null,null,null,null,null,null,null,0.26029999999999998,1.4500000000000001E-2,1.4E-3,1.6999999999999999E-3,18.670000000000002,0.2,5.237E-2,5.1000000000000004E-4,7.7999999999999999E-4,300,22,34,329.7,4.2,6.5,335.7,3.5,4.0999999999999996,290,29,34,1.91E-3,9.7000000000000005E-4,-0.15,0.26,0.5,0.11,0.45500000000000002,6.6000000000000003E-2,0.1,5.3940000000000002E-2,8.1999999999999998E-4,9.5E-4,0.72401000000000004,2.9000000000000001E-2,1.2999999999999999E-2,1.6E-2,6.0400000000000002E-2,8.3999999999999995E-3,1.2999999999999999E-2,18.59,0.28000000000000003,1230,150,230,368,47,72,338.6,5,5.8,550,260,310]
[null,null,null,null,null,null,null,null,null,null,null,null,null,null,null,null,null,null,null,null,null,null,null,null,null,null,null,null,null,null,null,null,null,null,null,null,null,null,null,null,null,null,null,null,null,null,null,null,null,null,null,null,null,null,null,null,null,null,null,null,null,null,null,null,null,null,null,0.33095000000000002,1.6799999999999999E-2,1.2999999999999999E-3,1.5E-3,18.350000000000001,0.15,5.1130000000000002E-2,5.9999999999999995E-4,8.8999999999999995E-4,248,26,39,332.9,5.5,7.6,342.2,2.8,3.4,337,25,30,2.5999999999999998E-4,5.4000000000000001E-4,-0.14000000000000001,0.16,0.52900000000000003,0.08,0.40500000000000003,6.9000000000000006E-2,9.6000000000000002E-2,5.4640000000000001E-2,8.0000000000000004E-4,1E-3,0.85665999999999998,1.7000000000000001E-2,1.4999999999999999E-2,1.7999999999999999E-2,4.7800000000000002E-2,9.4000000000000004E-3,1.4E-2,18.350000000000001,0.27,1040,170,250,331,52,72,342.9,4.9000000000000004,6.1,370,280,340]
[null,null,null,null,null,null,null,null,null,null,null,null,null,null,null,null,null,null,null,null,null,null,null,null,null,null,null,null,null,null,null,null,null,null,null,null,null,null,null,null,null,null,null,null,null,null,null,null,null,null,null,null,null,null,null,null,null,null,null,null,null,null,null,null,null,null,null,9.8752999999999994E-2,1.61E-2,1.4E-3,1.6000000000000001E-3,18.649999999999999,0.19,5.2010000000000001E-2,4.6999999999999999E-4,6.8000000000000005E-4,293,20,29,327.5,6,8.6,337.1,3.3,3.9,322,27,32,1.2199999999999999E-3,8.8999999999999995E-4,-1E-3,3.7999999999999999E-2,0.51,8.8999999999999996E-2,0.44400000000000001,6.3E-2,9.0999999999999998E-2,5.425E-2,5.5000000000000003E-4,6.4000000000000005E-4,0.63395999999999997,2.8000000000000001E-2,1.2E-2,1.4E-2,5.8900000000000001E-2,8.3000000000000001E-3,1.2E-2,18.46,0.19,1150,150,220,361,45,65,340.5,3.4,3.9,550,240,280]
[null,null,null,null,null,null,null,null,null,null,null,null,null,null,null,null,null,null,null,null,null,null,null,null,null,null,null,null,null,null,null,null,null,null,null,null,null,null,null,null,null,null,null,null,null,null,null,null,null,null,null,null,null,null,null,null,null,null,null,null,null,null,null,null,null,null,null,0.44779999999999998,1.47E-2,1.8E-3,2.0999999999999999E-3,18.18,0.18,5.2449999999999997E-2,5.5999999999999995E-4,8.3000000000000001E-4,307,25,37,338.2,5.2,7.7,345.6,3.3,3.9,295,35,41,1.6999999999999999E-3,1.1000000000000001E-3,-5.3999999999999999E-2,9.0999999999999998E-2,0.49,0.1,0.437,7.1999999999999995E-2,0.11,5.5160000000000001E-2,8.4999999999999995E-4,1E-3,0.79505999999999999,2.1999999999999999E-2,1.4E-2,1.7000000000000001E-2,5.5899999999999998E-2,8.9999999999999993E-3,1.2999999999999999E-2,18.18,0.28999999999999998,960,190,280,351,53,79,346.1,5.2,6.1,410,290,340]
[null,null,null,null,null,null,null,null,null,null,null,null,null,null,null,null,null,null,null,null,null,null,null,null,null,null,null,null,null,null,null,null,null,null,null,null,null,null,null,null,null,null,null,null,null,null,null,null,null,null,null,null,null,null,null,null,null,null,null,null,null,null,null,null,null,null,null,0.41715999999999998,1.7420000000000001E-2,8.4999999999999995E-4,1E-3,18.54,0.17,5.2420000000000001E-2,4.4000000000000002E-4,8.4000000000000003E-4,306,20,38,337.3,5.0999999999999996,8.6999999999999993,337.9,2.7,3.4,349,17,21,-2.0000000000000002E-5,4.6000000000000001E-4,1E-3,4.9000000000000002E-2,0.57699999999999996,8.4000000000000005E-2,0.43,5.7000000000000002E-2,9.6000000000000002E-2,5.398E-2,7.6000000000000004E-4,9.2000000000000003E-4,0.73131000000000002,2.4E-2,1.0999999999999999E-2,1.2999999999999999E-2,5.5399999999999998E-2,7.3000000000000001E-3,1.4E-2,18.53,0.25,830,170,330,353,41,70,338.9,4.5999999999999996,5.7,470,210,260]
[null,null,null,null,null,null,null,null,null,null,null,null,null,null,null,null,null,null,null,null,null,null,null,null,null,null,null,null,null,null,null,null,null,null,null,null,null,null,null,null,null,null,null,null,null,null,null,null,null,null,null,null,null,null,null,null,null,null,null,null,null,null,null,null,null,null,null,0.44934000000000002,1.5699999999999999E-2,1E-3,1.2999999999999999E-3,18.55,0.17,5.1900000000000002E-2,5.5999999999999995E-4,9.3000000000000005E-4,279,25,42,330.4,5.2,7.8,338.8,3.1,3.7,314,21,25,7.6999999999999996E-4,6.0999999999999997E-4,-1.2E-2,3.9E-2,0.54800000000000004,8.7999999999999995E-2,0.36599999999999999,6.3E-2,9.6000000000000002E-2,5.3659999999999999E-2,8.4000000000000003E-4,9.8999999999999999E-4,0.77861999999999998,1.2999999999999999E-2,1.2999999999999999E-2,1.6E-2,4.82E-2,8.3000000000000001E-3,1.4E-2,18.600000000000001,0.28999999999999998,990,150,240,310,49,74,336.9,5.0999999999999996,6.1,240,250,310]
[null,null,null,null,null,null,null,null,null,null,null,null,null,null,null,null,null,null,null,null,null,null,null,null,null,null,null,null,null,null,null,null,null,null,null,null,null,null,null,null,null,null,null,null,null,null,null,null,null,null,null,null,null,null,null,null,null,null,null,null,null,null,null,null,null,null,null,0.45859,1.5900000000000001E-2,1.1999999999999999E-3,1.5E-3,18.559999999999999,0.13,5.2060000000000002E-2,4.2999999999999999E-4,6.4000000000000005E-4,290,20,30,332.2,5.6,7.7,338.6,2.4,3.1,318,24,29,1.1000000000000001E-3,7.6999999999999996E-4,1.6E-2,1.7000000000000001E-2,0.47099999999999997,8.4000000000000005E-2,0.35899999999999999,6.3E-2,8.6999999999999994E-2,5.357E-2,7.2000000000000005E-4,9.5E-4,0.85119,1.4E-2,1.2999999999999999E-2,1.6E-2,4.9299999999999997E-2,8.3000000000000001E-3,1.2E-2,18.63,0.26,880,180,270,320,48,67,336.4,4.4000000000000004,5.8,260,260,320]
[null,null,null,null,null,null,null,null,null,null,null,null,null,null,null,null,null,null,null,null,null,null,null,null,null,null,null,null,null,null,null,null,null,null,null,null,null,null,null,null,null,null,null,null,null,null,null,null,null,null,null,null,null,null,null,null,null,null,null,null,null,null,null,null,null,null,null,0.40590999999999999,1.54E-2,1.1999999999999999E-3,1.4E-3,18.66,0.16,5.2069999999999998E-2,4.6999999999999999E-4,7.2999999999999996E-4,287,21,32,331.6,5,7.4,336.8,2.8,3.4,309,24,28,1.6000000000000001E-3,7.9000000000000001E-4,0,3.2000000000000001E-2,0.54800000000000004,9.1999999999999998E-2,0.39200000000000002,6.0999999999999999E-2,0.09,5.3690000000000002E-2,6.3000000000000003E-4,7.7999999999999999E-4,0.69672999999999996,1.4E-2,1.0999999999999999E-2,1.2999999999999999E-2,5.2600000000000001E-2,7.4000000000000003E-3,1.0999999999999999E-2,18.62,0.23,950,190,290,331,43,64,337.1,3.9,4.8,260,220,260]
[null,null,null,null,null,null,null,null,null,null,null,null,null,null,null,null,null,null,null,null,null,null,null,null,null,null,null,null,null,null,null,null,null,null,null,null,null,null,null,null,null,null,null,null,null,null,null,null,null,null,null,null,null,null,null,null,null,null,null,null,null,null,null,null,null,null,null,0.54086000000000001,1.38E-2,1.6000000000000001E-3,1.9E-3,18.63,0.17,5.2650000000000002E-2,3.8999999999999999E-4,5.9000000000000003E-4,316,16,24,335.4,5.0999999999999996,7.6,336.4,2.9,3.6,276,31,38,2.5999999999999999E-3,1.1999999999999999E-3,4.0000000000000001E-3,3.5999999999999997E-2,0.45,0.11,0.45200000000000001,5.3999999999999999E-2,0.08,5.4100000000000002E-2,6.0999999999999997E-4,7.5000000000000002E-4,0.76368000000000003,2.4E-2,0.01,1.2E-2,5.8999999999999997E-2,6.4999999999999997E-3,9.9000000000000008E-3,18.47,0.2,990,140,210,370,38,57,339.6,3.7,4.5999999999999996,460,200,250]
[null,null,null,null,null,null,null,null,null,null,null,null,null,null,null,null,null,null,null,null,null,null,null,null,null,null,null,null,null,null,null,null,null,null,null,null,null,null,null,null,null,null,null,null,null,null,null,null,null,null,null,null,null,null,null,null,null,null,null,null,null,null,null,null,null,null,null,0.19666,1.67E-2,1.1999999999999999E-3,1.4E-3,18.7,0.18,5.1450000000000003E-2,6.8000000000000005E-4,9.6000000000000002E-4,262,30,42,329.6,6.4,8.6999999999999993,334.7,3.2,3.9,335,23,28,8.4999999999999995E-4,7.6999999999999996E-4,-4.3999999999999997E-2,8.8999999999999996E-2,0.55800000000000005,0.09,0.41699999999999998,7.8E-2,0.11,5.3920000000000003E-2,8.1999999999999998E-4,9.7999999999999997E-4,0.83562999999999998,2.1999999999999999E-2,1.6E-2,1.9E-2,5.3999999999999999E-2,0.01,1.4E-2,18.600000000000001,0.3,1120,200,280,334,59,80,338.5,5,6,410,310,380]
[null,null,null,null,null,null,null,null,null,null,null,null,null,null,null,null,null,null,null,null,null,null,null,null,null,null,null,null,null,null,null,null,null,null,null,null,null,null,null,null,null,null,null,null,null,null,null,null,null,null,null,null,null,null,null,null,null,null,null,null,null,null,null,null,null,null,null,0.52207000000000003,1.55E-2,1.4E-3,1.6000000000000001E-3,18.329999999999998,0.19,5.2589999999999998E-2,6.3000000000000003E-4,1E-3,308,27,45,343.5,6,9.6999999999999993,342.9,3.4,3.9,311,28,33,1.7899999999999999E-3,8.9999999999999998E-4,4.0000000000000001E-3,0.05,0.59,0.1,0.40600000000000003,7.0000000000000007E-2,0.11,5.4730000000000001E-2,7.2999999999999996E-4,8.4999999999999995E-4,0.76954999999999996,0.02,1.4E-2,1.7000000000000001E-2,5.1799999999999999E-2,9.1000000000000004E-3,1.4999999999999999E-2,18.309999999999999,0.24,1090,150,250,347,51,83,343.5,4.5,5.2,380,290,330]
[null,null,null,null,null,null,null,null,null,null,null,null,null,null,null,null,null,null,null,null,null,null,null,null,null,null,null,null,null,null,null,null,null,null,null,null,null,null,null,null,null,null,null,null,null,null,null,null,null,null,null,null,null,null,null,null,null,null,null,null,null,null,null,null,null,null,null,0.25453999999999999,1.5100000000000001E-2,1.1999999999999999E-3,1.4E-3,18.54,0.2,5.2049999999999999E-2,6.4999999999999997E-4,8.7000000000000001E-4,289,29,39,329.3,5.8,7.7,339,3.5,4.0999999999999996,303,25,28,1.9E-3,1.1000000000000001E-3,-0.2,0.23,0.55000000000000004,0.1,0.36199999999999999,8.1000000000000003E-2,0.11,5.3600000000000002E-2,1E-3,1.1999999999999999E-3,0.82616000000000001,6.0000000000000001E-3,1.7000000000000001E-2,0.02,4.8000000000000001E-2,0.01,1.4E-2,18.64,0.35,1120,190,250,300,63,84,336.4,6.2,7.2,130,360,420]
[null,null,null,null,null,null,null,null,null,null,null,null,null,null,null,null,null,null,null,null,null,null,null,null,null,null,null,null,null,null,null,null,null,null,null,null,null,null,null,null,null,null,null,null,null,null,null,null,null,null,null,null,null,null,null,null,null,null,null,null,null,null,null,null,null,null,null,0.42199999999999999,1.6199999999999999E-2,1.2999999999999999E-3,1.5E-3,18.45,0.22,5.1580000000000001E-2,5.5999999999999995E-4,7.6999999999999996E-4,265,25,34,325.89999999999998,7.1,9,340.7,3.9,4.4000000000000004,325,26,30,1.23E-3,9.5E-4,-0.09,0.12,0.55800000000000005,0.09,0.42199999999999999,9.1999999999999998E-2,0.12,5.4330000000000003E-2,8.4999999999999995E-4,9.7000000000000005E-4,0.74043999999999999,2.1000000000000001E-2,1.7999999999999999E-2,2.1000000000000001E-2,5.0999999999999997E-2,1.2E-2,1.6E-2,18.46,0.3,1150,220,300,330,70,90,341,5.2,5.9,430,370,430]
[null,null,null,null,null,null,null,null,null,null,null,null,null,null,null,null,null,null,null,null,null,null,null,null,null,null,null,null,null,null,null,null,null,null,null,null,null,null,null,null,null,null,null,null,null,null,null,null,null,null,null,null,null,null,null,null,null,null,null,null,null,null,null,null,null,null,null,0.20233999999999999,1.6400000000000001E-2,1.6000000000000001E-3,2E-3,18.52,0.25,5.203E-2,4.2000000000000002E-4,5.6999999999999998E-4,285,19,26,332.4,7.1,9.1999999999999993,339.8,4.5,4.9000000000000004,336,29,37,1.1900000000000001E-3,7.6999999999999996E-4,-3.5999999999999997E-2,6.5000000000000002E-2,0.45200000000000001,8.7999999999999995E-2,0.40600000000000003,8.1000000000000003E-2,0.11,5.3800000000000001E-2,1.1999999999999999E-3,1.2999999999999999E-3,0.81061000000000005,2.5000000000000001E-2,1.4999999999999999E-2,1.9E-2,5.1999999999999998E-2,1.0999999999999999E-2,1.4E-2,18.690000000000001,0.43,1140,140,190,277,91,120,338,7.4,8.1,470,300,370]
[null,null,null,null,null,null,null,null,null,null,null,null,null,null,null,null,null,null,null,null,null,null,null,null,null,null,null,null,null,null,null,null,null,null,null,null,null,null,null,null,null,null,null,null,null,null,null,null,null,null,null,null,null,null,null,null,null,null,null,null,null,null,null,null,null,null,null,0.42581999999999998,1.46E-2,1.5E-3,1.6999999999999999E-3,18.62,0.22,5.1569999999999998E-2,6.2E-4,8.7000000000000001E-4,264,28,39,321.60000000000002,5.9,8,337.1,3.8,4.2,292,29,34,1.23E-3,7.1000000000000002E-4,-0.09,0.14000000000000001,0.46200000000000002,9.5000000000000001E-2,0.34200000000000003,9.7000000000000003E-2,0.13,5.3400000000000003E-2,1.1999999999999999E-3,1.4E-3,0.83681000000000005,7.0000000000000001E-3,0.02,2.4E-2,4.3999999999999997E-2,1.2999999999999999E-2,1.7999999999999999E-2,18.760000000000002,0.41,1200,180,260,305,68,92,335.5,7.4,8.3000000000000007,80,420,490]
[null,null,null,null,null,null,null,null,null,null,null,null,null,null,null,null,null,null,null,null,null,null,null,null,null,null,null,null,null,null,null,null,null,null,null,null,null,null,null,null,null,null,null,null,null,null,null,null,null,null,null,null,null,null,null,null,null,null,null,null,null,null,null,null,null,null,null,0.41883999999999999,1.24E-2,2E-3,2.3999999999999998E-3,18.579999999999998,0.19,5.237E-2,4.6000000000000001E-4,5.9999999999999995E-4,300,20,27,328.1,5.0999999999999996,6.8,337.8,3.6,4.0999999999999996,248,41,48,3.5999999999999999E-3,1.6000000000000001E-3,-0.38,0.7,0.4,0.11,0.37,0.1,0.14000000000000001,5.3499999999999999E-2,1E-3,1.1999999999999999E-3,0.82501999999999998,1.4E-2,2.1000000000000001E-2,2.5000000000000001E-2,0.05,1.2999999999999999E-2,1.7000000000000001E-2,18.79,0.37,1210,220,280,311,75,100,335.7,6.4,7.3,220,430,510]
[null,null,null,null,null,null,null,null,null,null,null,null,null,null,null,null,null,null,null,null,null,null,null,null,null,null,null,null,null,null,null,null,null,null,null,null,null,null,null,null,null,null,null,null,null,null,null,null,null,null,null,null,null,null,null,null,null,null,null,null,null,null,null,null,null,null,null,7.7312000000000006E-2,1.66E-2,1.1000000000000001E-3,1.1999999999999999E-3,18.47,0.18,5.1639999999999998E-2,5.2999999999999998E-4,6.9999999999999999E-4,267,24,32,330.1,7.8,10,340.3,3.3,3.8,333,21,24,4.2000000000000002E-4,4.0000000000000002E-4,1E-3,2.3E-2,0.628,6.4000000000000001E-2,0.36,0.1,0.14000000000000001,5.4100000000000002E-2,1E-3,1.1999999999999999E-3,0.83930000000000005,1.4999999999999999E-2,2.1000000000000001E-2,2.4E-2,0.05,1.2999999999999999E-2,1.7000000000000001E-2,18.579999999999998,0.36,1180,210,280,291,82,110,339.3,6.3,7.3,260,410,470]
[]
[null,null,null,null,null,null,null,null,null,null,null,null,null,null,null,null,null,null,null,null,null,null,null,null,null,null,null,null,null,null,null,null,null,null,null,null,null,null,null,null,null,null,null,null,null,null,null,null,null,null,null,null,null,null,null,null,null,null,null,null,null,null,null,null,null,null,null,0.15125,5.2600000000000001E-2,2.0999999999999999E-3,2.8E-3,5.593,8.8999999999999996E-2,7.1999999999999995E-2,1.1000000000000001E-3,1.5E-3,982,32,43,1031,18,24,1058,15,16,1035,40,53,2.9E-4,6.0999999999999997E-4,7.0000000000000001E-3,1.9E-2,0.59,5.5E-2,2.04,0.4,0.52,0.18090000000000001,4.4999999999999997E-3,4.8999999999999998E-3,0.81903999999999999,6.6000000000000003E-2,1.9E-2,2.5000000000000001E-2,7.9000000000000001E-2,1.4999999999999999E-2,2.1000000000000001E-2,5.57,0.14000000000000001,1600,200,280,1130,120,160,1071,25,27,1240,370,490]
[null,null,null,null,null,null,null,null,null,null,null,null,null,null,null,null,null,null,null,null,null,null,null,null,null,null,null,null,null,null,null,null,null,null,null,null,null,null,null,null,null,null,null,null,null,null,null,null,null,null,null,null,null,null,null,null,null,null,null,null,null,null,null,null,null,null,null,0.30947000000000002,5.2900000000000003E-2,1.6999999999999999E-3,2.2000000000000001E-3,5.61,6.6000000000000003E-2,7.46E-2,1.4E-3,1.8E-3,1053,37,49,1053,21,27,1059,12,13,1041,32,43,5.0000000000000001E-4,1E-3,2.7E-2,2.3E-2,0.69599999999999995,6.9000000000000006E-2,1.89,0.45,0.56999999999999995,0.1779,4.3E-3,4.7999999999999996E-3,0.85575999999999997,5.5E-2,2.3E-2,3.1E-2,7.2999999999999995E-2,1.7999999999999999E-2,2.3E-2,5.66,0.14000000000000001,1720,180,240,1050,160,200,1055,24,27,1030,450,600]
[null,null,null,null,null,null,null,null,null,null,null,null,null,null,null,null,null,null,null,null,null,null,null,null,null,null,null,null,null,null,null,null,null,null,null,null,null,null,null,null,null,null,null,null,null,null,null,null,null,null,null,null,null,null,null,null,null,null,null,null,null,null,null,null,null,null,null,0.33502999999999999,5.2900000000000003E-2,1.2999999999999999E-3,1.9E-3,5.5590000000000002,6.6000000000000003E-2,7.3400000000000007E-2,1.5E-3,2.0999999999999999E-3,1025,39,56,1058,21,28,1068,12,13,1042,26,37,-3.5E-4,8.0000000000000004E-4,3.6999999999999998E-2,2.9000000000000001E-2,0.69599999999999995,6.9000000000000006E-2,1.51,0.46,0.61,0.17580000000000001,4.3E-3,4.7999999999999996E-3,0.87195999999999996,3.5000000000000003E-2,2.1999999999999999E-2,3.1E-2,6.3E-2,1.7000000000000001E-2,2.5000000000000001E-2,5.66,0.13,1470,290,410,960,160,220,1047,23,25,710,440,630]
[null,null,null,null,null,null,null,null,null,null,null,null,null,null,null,null,null,null,null,null,null,null,null,null,null,null,null,null,null,null,null,null,null,null,null,null,null,null,null,null,null,null,null,null,null,null,null,null,null,null,null,null,null,null,null,null,null,null,null,null,null,null,null,null,null,null,null,0.68593999999999999,5.3400000000000003E-2,2E-3,2.5999999999999999E-3,5.5759999999999996,8.5999999999999993E-2,7.2900000000000006E-2,1.1999999999999999E-3,1.6999999999999999E-3,1012,35,48,1049,21,27,1066,15,16,1051,38,50,4.0000000000000003E-5,9.5E-4,0.02,1.7000000000000001E-2,0.64300000000000002,6.5000000000000002E-2,1.67,0.48,0.61,0.17810000000000001,4.7000000000000002E-3,5.1000000000000004E-3,0.66588999999999998,4.4999999999999998E-2,2.3E-2,3.1E-2,6.7000000000000004E-2,1.7999999999999999E-2,2.4E-2,5.66,0.15,1280,280,380,1010,150,190,1056,26,28,900,440,580]
[null,null,null,null,null,null,null,null,null,null,null,null,null,null,null,null,null,null,null,null,null,null,null,null,null,null,null,null,null,null,null,null,null,null,null,null,null,null,null,null,null,null,null,null,null,null,null,null,null,null,null,null,null,null,null,null,null,null,null,null,null,null,null,null,null,null,null,0.34050999999999998,5.4300000000000001E-2,1.6999999999999999E-3,2.3999999999999998E-3,5.6180000000000003,6.2E-2,7.2639999999999996E-2,9.1E-4,1.2999999999999999E-3,1002,25,35,1042,17,24,1056,10,12,1068,32,46,5.9999999999999995E-4,6.8000000000000005E-4,-2.5999999999999999E-3,5.7000000000000002E-3,0.59799999999999998,5.6000000000000001E-2,1.4,0.52,0.72,0.17510000000000001,4.5999999999999999E-3,5.3E-3,0.93547000000000002,0.04,2.4E-2,3.4000000000000002E-2,5.6000000000000001E-2,0.02,2.8000000000000001E-2,5.73,0.17,1400,280,390,990,160,220,1040,25,29,730,470,670]
[null,null,null,null,null,null,null,null,null,null,null,null,null,null,null,null,null,null,null,null,null,null,null,null,null,null,null,null,null,null,null,null,null,null,null,null,null,null,null,null,null,null,null,null,null,null,null,null,null,null,null,null,null,null,null,null,null,null,null,null,null,null,null,null,null,null,null,0.41193999999999997,5.21E-2,2E-3,2.5999999999999999E-3,5.5659999999999998,7.8E-2,7.3209999999999997E-2,9.3000000000000005E-4,1.2999999999999999E-3,1017,26,35,1048,21,27,1065,13,14,1027,38,50,5.9999999999999995E-4,1.1999999999999999E-3,3.0000000000000001E-3,1.0999999999999999E-2,0.60399999999999998,5.8999999999999997E-2,1.88,0.49,0.63,0.1784,4.4999999999999997E-3,5.0000000000000001E-3,0.86509999999999998,6.0999999999999999E-2,2.3E-2,0.03,8.3000000000000004E-2,1.7000000000000001E-2,2.3E-2,5.61,0.14000000000000001,1840,190,260,1040,180,230,1058,25,27,1140,450,590]
[null,null,null,null,null,null,null,null,null,null,null,null,null,null,null,null,null,null,null,null,null,null,null,null,null,null,null,null,null,null,null,null,null,null,null,null,null,null,null,null,null,null,null,null,null,null,null,null,null,null,null,null,null,null,null,null,null,null,null,null,null,null,null,null,null,null,null,0.40958,5.3699999999999998E-2,1.9E-3,2.5000000000000001E-3,5.5709999999999997,7.1999999999999995E-2,7.3200000000000001E-2,1.2999999999999999E-3,1.8E-3,1022,39,53,1056,19,25,1066,13,14,1057,37,49,1.9E-3,1.5E-3,2.3E-2,1.4E-2,0.70199999999999996,7.1999999999999995E-2,1.62,0.51,0.66,0.1782,5.0000000000000001E-3,5.5999999999999999E-3,0.90034999999999998,4.1000000000000002E-2,2.4E-2,3.2000000000000001E-2,0.06,0.02,2.7E-2,5.67,0.16,1500,290,400,1020,170,210,1057,27,30,750,470,630]
[null,null,null,null,null,null,null,null,null,null,null,null,null,null,null,null,null,null,null,null,null,null,null,null,null,null,null,null,null,null,null,null,null,null,null,null,null,null,null,null,null,null,null,null,null,null,null,null,null,null,null,null,null,null,null,null,null,null,null,null,null,null,null,null,null,null,null,0.40637000000000001,5.21E-2,1.6999999999999999E-3,2.2000000000000001E-3,5.6680000000000001,6.6000000000000003E-2,7.3300000000000004E-2,1.8E-3,2.5000000000000001E-3,1021,48,66,1045,22,28,1049,11,13,1027,33,42,2E-3,1.5E-3,4.1000000000000002E-2,0.03,0.71399999999999997,7.0999999999999994E-2,2.17,0.47,0.6,0.17879999999999999,4.1999999999999997E-3,4.7000000000000002E-3,0.86778,6.6000000000000003E-2,2.4E-2,3.1E-2,8.6999999999999994E-2,1.7000000000000001E-2,2.3E-2,5.61,0.13,1880,160,220,1130,160,200,1060,23,26,1310,450,570]
[null,null,null,null,null,null,null,null,null,null,null,null,null,null,null,null,null,null,null,null,null,null,null,null,null,null,null,null,null,null,null,null,null,null,null,null,null,null,null,null,null,null,null,null,null,null,null,null,null,null,null,null,null,null,null,null,null,null,null,null,null,null,null,null,null,null,null,0.39199000000000001,5.2600000000000001E-2,2.3999999999999998E-3,3.0000000000000001E-3,5.56,8.4000000000000005E-2,7.4499999999999997E-2,1.2999999999999999E-3,1.8E-3,1057,38,50,1051,18,24,1066,15,16,1036,46,57,1.9E-3,1.8E-3,4.7E-2,2.8000000000000001E-2,0.72299999999999998,7.2999999999999995E-2,1.93,0.51,0.67,0.1825,4.7000000000000002E-3,5.0000000000000001E-3,0.86011000000000004,5.3999999999999999E-2,2.3E-2,2.9000000000000001E-2,7.6999999999999999E-2,1.9E-2,2.5000000000000001E-2,5.49,0.14000000000000001,1740,190,250,1170,160,220,1080,26,28,1070,470,580]
[null,null,null,null,null,null,null,null,null,null,null,null,null,null,null,null,null,null,null,null,null,null,null,null,null,null,null,null,null,null,null,null,null,null,null,null,null,null,null,null,null,null,null,null,null,null,null,null,null,null,null,null,null,null,null,null,null,null,null,null,null,null,null,null,null,null,null,0.29015999999999997,5.4600000000000003E-2,1.5E-3,2.3E-3,5.5810000000000004,8.5999999999999993E-2,7.3700000000000002E-2,1.4E-3,2E-3,1029,38,55,1053,19,28,1063,15,16,1073,29,43,2.0999999999999999E-3,1.2999999999999999E-3,3.5000000000000003E-2,2.9000000000000001E-2,0.74,7.0999999999999994E-2,2.3199999999999998,0.43,0.61,0.18279999999999999,4.5999999999999999E-3,5.0000000000000001E-3,0.83975,7.2999999999999995E-2,2.1000000000000001E-2,3.1E-2,8.6999999999999994E-2,1.6E-2,2.3E-2,5.52,0.15,1710,190,270,1180,140,210,1082,25,27,1370,400,600]
[null,null,null,null,null,null,null,null,null,null,null,null,null,null,null,null,null,null,null,null,null,null,null,null,null,null,null,null,null,null,null,null,null,null,null,null,null,null,null,null,null,null,null,null,null,null,null,null,null,null,null,null,null,null,null,null,null,null,null,null,null,null,null,null,null,null,null,0.42981000000000003,5.2999999999999999E-2,1.8E-3,2.3999999999999998E-3,5.55,8.5999999999999993E-2,7.5200000000000003E-2,1.5E-3,2.0999999999999999E-3,1074,41,58,1063,22,30,1070,15,16,1043,34,46,-1E-4,1.2999999999999999E-3,6.4000000000000001E-2,3.1E-2,0.69,6.9000000000000006E-2,2.5,0.45,0.63,0.18429999999999999,4.4000000000000003E-3,4.7000000000000002E-3,0.80628999999999995,8.5999999999999993E-2,2.1999999999999999E-2,0.03,0.1,1.6E-2,2.1999999999999999E-2,5.44,0.14000000000000001,1790,200,290,1260,130,190,1090,24,26,1690,400,540]
[null,null,null,null,null,null,null,null,null,null,null,null,null,null,null,null,null,null,null,null,null,null,null,null,null,null,null,null,null,null,null,null,null,null,null,null,null,null,null,null,null,null,null,null,null,null,null,null,null,null,null,null,null,null,null,null,null,null,null,null,null,null,null,null,null,null,null,0.43675999999999998,5.33E-2,1.4E-3,2.2000000000000001E-3,5.5519999999999996,6.2E-2,7.2599999999999998E-2,1E-3,1.2999999999999999E-3,999,28,37,1051,22,28,1069,11,12,1049,27,42,6.4999999999999997E-4,8.4000000000000003E-4,1.7999999999999999E-2,1.7000000000000001E-2,0.64700000000000002,6.4000000000000001E-2,1.81,0.52,0.65,0.17730000000000001,4.4999999999999997E-3,5.1000000000000004E-3,0.88217000000000001,5.1999999999999998E-2,2.5000000000000001E-2,3.7999999999999999E-2,6.8000000000000005E-2,0.02,2.5999999999999999E-2,5.64,0.15,1840,220,290,1150,160,200,1052,25,28,950,490,740]
[null,null,null,null,null,null,null,null,null,null,null,null,null,null,null,null,null,null,null,null,null,null,null,null,null,null,null,null,null,null,null,null,null,null,null,null,null,null,null,null,null,null,null,null,null,null,null,null,null,null,null,null,null,null,null,null,null,null,null,null,null,null,null,null,null,null,null,0.37769000000000003,5.2699999999999997E-2,1.5E-3,2E-3,5.585,7.9000000000000001E-2,7.4200000000000002E-2,1.6000000000000001E-3,2.2000000000000001E-3,1048,42,56,1061,22,28,1062,13,15,1038,29,38,8.0000000000000004E-4,1.1999999999999999E-3,4.2999999999999997E-2,3.4000000000000002E-2,0.67600000000000005,6.8000000000000005E-2,2.46,0.5,0.62,0.185,4.1000000000000003E-3,4.4999999999999997E-3,0.84604999999999997,7.8E-2,2.5000000000000001E-2,3.3000000000000002E-2,9.1999999999999998E-2,1.9E-2,2.5000000000000001E-2,5.44,0.13,1840,230,310,1250,140,170,1094,22,24,1530,460,610]
[null,null,null,null,null,null,null,null,null,null,null,null,null,null,null,null,null,null,null,null,null,null,null,null,null,null,null,null,null,null,null,null,null,null,null,null,null,null,null,null,null,null,null,null,null,null,null,null,null,null,null,null,null,null,null,null,null,null,null,null,null,null,null,null,null,null,null,0.29527999999999999,5.3900000000000003E-2,2.2000000000000001E-3,2.8E-3,5.6550000000000002,9.2999999999999999E-2,7.1429999999999993E-2,9.8999999999999999E-4,1.4E-3,973,27,38,1031,21,27,1053,16,17,1060,42,55,3.6999999999999999E-4,8.0000000000000004E-4,1.4999999999999999E-2,1.7000000000000001E-2,0.59,5.5E-2,1.81,0.59,0.75,0.17879999999999999,5.7000000000000002E-3,6.1000000000000004E-3,0.89925999999999995,0.05,2.9000000000000001E-2,3.6999999999999998E-2,6.5000000000000002E-2,2.3E-2,3.3000000000000002E-2,5.67,0.19,1600,290,410,1140,160,210,1059,31,33,890,570,740]
[null,null,null,null,null,null,null,null,null,null,null,null,null,null,null,null,null,null,null,null,null,null,null,null,null,null,null,null,null,null,null,null,null,null,null,null,null,null,null,null,null,null,null,null,null,null,null,null,null,null,null,null,null,null,null,null,null,null,null,null,null,null,null,null,null,null,null,0.42769000000000001,5.3400000000000003E-2,1.6000000000000001E-3,2.3E-3,5.5990000000000002,7.4999999999999997E-2,7.3099999999999998E-2,1.1000000000000001E-3,1.5E-3,1014,31,41,1062,21,28,1061,13,14,1051,31,44,1E-3,1.5E-3,1.4999999999999999E-2,2.1999999999999999E-2,0.68799999999999994,7.0999999999999994E-2,2.02,0.49,0.64,0.1807,4.5999999999999999E-3,5.0000000000000001E-3,0.88254999999999995,5.6000000000000001E-2,2.5000000000000001E-2,3.5999999999999997E-2,7.4999999999999997E-2,1.7999999999999999E-2,2.4E-2,5.58,0.14000000000000001,1650,230,310,1110,160,210,1070,25,28,1120,470,670]
[null,null,null,null,null,null,null,null,null,null,null,null,null,null,null,null,null,null,null,null,null,null,null,null,null,null,null,null,null,null,null,null,null,null,null,null,null,null,null,null,null,null,null,null,null,null,null,null,null,null,null,null,null,null,null,null,null,null,null,null,null,null,null,null,null,null,null,0.28076000000000001,5.5E-2,1.8E-3,2.5000000000000001E-3,5.6120000000000001,5.8999999999999997E-2,7.2599999999999998E-2,1.1000000000000001E-3,1.5E-3,1006,33,43,1041,19,24,1057,11,12,1083,34,48,1.16E-3,9.2000000000000003E-4,1.4999999999999999E-2,1.2999999999999999E-2,0.64700000000000002,6.4000000000000001E-2,2.21,0.45,0.57999999999999996,0.18049999999999999,4.1000000000000003E-3,4.7000000000000002E-3,0.92015000000000002,7.2999999999999995E-2,2.1999999999999999E-2,3.1E-2,8.4000000000000005E-2,1.7000000000000001E-2,2.1999999999999999E-2,5.58,0.13,1580,240,320,1230,110,140,1069,22,26,1370,420,590]
[null,null,null,null,null,null,null,null,null,null,null,null,null,null,null,null,null,null,null,null,null,null,null,null,null,null,null,null,null,null,null,null,null,null,null,null,null,null,null,null,null,null,null,null,null,null,null,null,null,null,null,null,null,null,null,null,null,null,null,null,null,null,null,null,null,null,null,0.43124000000000001,5.1799999999999999E-2,1.8E-3,2.7000000000000001E-3,5.5910000000000002,8.5999999999999993E-2,7.2499999999999995E-2,1.1999999999999999E-3,1.6000000000000001E-3,997,33,45,1046,18,23,1063,15,16,1020,35,51,4.8000000000000001E-4,9.3000000000000005E-4,5.0000000000000001E-3,1.4999999999999999E-2,0.60199999999999998,5.8000000000000003E-2,2.16,0.55000000000000004,0.72,0.1825,5.0000000000000001E-3,5.3E-3,0.85172999999999999,7.0999999999999994E-2,2.5999999999999999E-2,3.7999999999999999E-2,8.2000000000000003E-2,0.02,2.7E-2,5.48,0.15,1960,210,290,1100,180,230,1080,27,29,1390,470,700]
[null,null,null,null,null,null,null,null,null,null,null,null,null,null,null,null,null,null,null,null,null,null,null,null,null,null,null,null,null,null,null,null,null,null,null,null,null,null,null,null,null,null,null,null,null,null,null,null,null,null,null,null,null,null,null,null,null,null,null,null,null,null,null,null,null,null,null,0.37639,5.2900000000000003E-2,2.0999999999999999E-3,2.7000000000000001E-3,5.6079999999999997,7.0999999999999994E-2,7.4800000000000005E-2,1.6999999999999999E-3,2.3E-3,1057,44,59,1050,23,29,1060,12,14,1041,41,52,4.0000000000000002E-4,1E-3,5.0999999999999997E-2,0.03,0.69,6.9000000000000006E-2,2.09,0.56999999999999995,0.73,0.17879999999999999,5.1000000000000004E-3,5.5999999999999999E-3,0.91357999999999995,5.8999999999999997E-2,2.8000000000000001E-2,3.5999999999999997E-2,7.6999999999999999E-2,2.1999999999999999E-2,2.9000000000000001E-2,5.63,0.17,1810,270,370,1170,180,230,1060,28,31,1070,560,710]
[null,null,null,null,null,null,null,null,null,null,null,null,null,null,null,null,null,null,null,null,null,null,null,null,null,null,null,null,null,null,null,null,null,null,null,null,null,null,null,null,null,null,null,null,null,null,null,null,null,null,null,null,null,null,null,null,null,null,null,null,null,null,null,null,null,null,null,8.6953000000000003E-2,5.3999999999999999E-2,1.8E-3,2.5000000000000001E-3,5.53,7.5999999999999998E-2,7.0400000000000004E-2,1.1000000000000001E-3,1.4E-3,937,32,41,1039,22,27,1071,14,15,1062,34,48,1.2999999999999999E-4,3.6999999999999999E-4,6.7999999999999996E-3,7.3000000000000001E-3,0.5,1,2.12,0.52,0.65,0.1837,4.8999999999999998E-3,5.1999999999999998E-3,0.83204999999999996,7.0999999999999994E-2,2.5000000000000001E-2,3.5999999999999997E-2,7.8E-2,1.9E-2,2.4E-2,5.46,0.14000000000000001,1880,220,280,1050,190,240,1086,27,29,1310,490,680]
[null,null,null,null,null,null,null,null,null,null,null,null,null,null,null,null,null,null,null,null,null,null,null,null,null,null,null,null,null,null,null,null,null,null,null,null,null,null,null,null,null,null,null,null,null,null,null,null,null,null,null,null,null,null,null,null,null,null,null,null,null,null,null,null,null,null,null,0.27465000000000001,5.3600000000000002E-2,1.6999999999999999E-3,2.3999999999999998E-3,5.58,6.7000000000000004E-2,7.4300000000000005E-2,1.6000000000000001E-3,2.0999999999999999E-3,1051,43,56,1067,23,29,1062,12,14,1056,33,46,-4.0000000000000002E-4,1E-3,3.6999999999999998E-2,2.4E-2,0.67,6.8000000000000005E-2,2.3199999999999998,0.51,0.64,0.18290000000000001,4.7000000000000002E-3,5.1999999999999998E-3,0.90303999999999995,7.4999999999999997E-2,2.3E-2,3.2000000000000001E-2,8.5999999999999993E-2,1.9E-2,2.5000000000000001E-2,5.48,0.14000000000000001,1780,210,270,1280,130,160,1082,26,28,1410,450,620]
[null,null,null,null,null,null,null,null,null,null,null,null,null,null,null,null,null,null,null,null,null,null,null,null,null,null,null,null,null,null,null,null,null,null,null,null,null,null,null,null,null,null,null,null,null,null,null,null,null,null,null,null,null,null,null,null,null,null,null,null,null,null,null,null,null,null,null,0.23022000000000001,5.4199999999999998E-2,2.2000000000000001E-3,2.8999999999999998E-3,5.62,7.0999999999999994E-2,7.1999999999999995E-2,1.5E-3,1.6999999999999999E-3,988,40,47,1030,23,27,1057,12,14,1066,42,55,1E-3,1.6999999999999999E-3,1.4E-2,0.03,0.68799999999999994,7.0999999999999994E-2,2.3199999999999998,0.55000000000000004,0.64,0.183,4.4999999999999997E-3,5.1000000000000004E-3,0.88771,7.6999999999999999E-2,2.5000000000000001E-2,3.3000000000000002E-2,0.09,0.02,2.4E-2,5.51,0.14000000000000001,1830,250,300,1240,150,180,1083,25,28,1420,490,640]
[null,null,null,null,null,null,null,null,null,null,null,null,null,null,null,null,null,null,null,null,null,null,null,null,null,null,null,null,null,null,null,null,null,null,null,null,null,null,null,null,null,null,null,null,null,null,null,null,null,null,null,null,null,null,null,null,null,null,null,null,null,null,null,null,null,null,null,0.48359999999999997,5.2200000000000003E-2,1.5E-3,2.0999999999999999E-3,5.6,0.1,7.3999999999999996E-2,1.5E-3,2E-3,1064,43,58,1050,20,26,1057,18,19,1028,29,40,1.2999999999999999E-3,1.6999999999999999E-3,4.9000000000000002E-2,2.7E-2,0.73,7.0999999999999994E-2,2,0.57999999999999996,0.75,0.18129999999999999,5.4999999999999997E-3,5.7999999999999996E-3,0.86700999999999995,6.5000000000000002E-2,2.7E-2,3.6999999999999998E-2,8.1000000000000003E-2,0.02,2.7E-2,5.58,0.18,1730,250,340,1140,180,230,1073,30,32,1190,530,720]
[null,null,null,null,null,null,null,null,null,null,null,null,null,null,null,null,null,null,null,null,null,null,null,null,null,null,null,null,null,null,null,null,null,null,null,null,null,null,null,null,null,null,null,null,null,null,null,null,null,null,null,null,null,null,null,null,null,null,null,null,null,null,null,null,null,null,null,0.50463000000000002,5.3400000000000003E-2,2.3E-3,2.8999999999999998E-3,5.5490000000000004,8.3000000000000004E-2,7.1300000000000002E-2,1.4E-3,1.8E-3,969,39,51,1038,24,29,1063,14,15,1052,44,56,1E-3,1.1000000000000001E-3,-3.5999999999999997E-2,5.2999999999999999E-2,0.64300000000000002,6.5000000000000002E-2,2.2000000000000002,0.44,0.55000000000000004,0.18049999999999999,4.8999999999999998E-3,5.3E-3,0.88407000000000002,7.1999999999999995E-2,2.1999999999999999E-2,2.8000000000000001E-2,8.3000000000000004E-2,1.6E-2,2.1000000000000001E-2,5.54,0.15,1820,160,210,1130,150,190,1069,27,29,1350,410,530]
[null,null,null,null,null,null,null,null,null,null,null,null,null,null,null,null,null,null,null,null,null,null,null,null,null,null,null,null,null,null,null,null,null,null,null,null,null,null,null,null,null,null,null,null,null,null,null,null,null,null,null,null,null,null,null,null,null,null,null,null,null,null,null,null,null,null,null,0.47872999999999999,5.2600000000000001E-2,1.6999999999999999E-3,2.2000000000000001E-3,5.5469999999999997,9.8000000000000004E-2,7.1900000000000006E-2,1.8E-3,2.5999999999999999E-3,997,51,73,1058,21,28,1072,17,18,1035,33,43,-2.3000000000000001E-4,8.4999999999999995E-4,3.3000000000000002E-2,2.5999999999999999E-2,0.627,6.2E-2,2.39,0.45,0.61,0.18459999999999999,4.7999999999999996E-3,5.1000000000000004E-3,0.80315999999999999,8.1000000000000003E-2,2.1999999999999999E-2,2.9000000000000001E-2,0.09,1.7000000000000001E-2,2.4E-2,5.39,0.13,1850,180,260,1200,140,190,1091,26,28,1520,420,550]
[null,null,null,null,null,null,null,null,null,null,null,null,null,null,null,null,null,null,null,null,null,null,null,null,null,null,null,null,null,null,null,null,null,null,null,null,null,null,null,null,null,null,null,null,null,null,null,null,null,null,null,null,null,null,null,null,null,null,null,null,null,null,null,null,null,null,null,0.49428,5.1700000000000003E-2,1.8E-3,2.3999999999999998E-3,5.6420000000000003,6.9000000000000006E-2,7.2099999999999997E-2,1.2999999999999999E-3,1.6999999999999999E-3,984,37,47,1032,21,26,1051,12,14,1019,35,46,1.9E-3,1.1999999999999999E-3,0.01,1.9E-2,0.64300000000000002,6.5000000000000002E-2,2.08,0.56000000000000005,0.7,0.17979999999999999,4.7999999999999996E-3,5.3E-3,0.89373000000000002,6.6000000000000003E-2,2.7E-2,3.5999999999999997E-2,7.8E-2,2.1999999999999999E-2,2.8000000000000001E-2,5.61,0.15,2080,190,240,1120,190,240,1065,26,29,1200,520,690]
[null,null,null,null,null,null,null,null,null,null,null,null,null,null,null,null,null,null,null,null,null,null,null,null,null,null,null,null,null,null,null,null,null,null,null,null,null,null,null,null,null,null,null,null,null,null,null,null,null,null,null,null,null,null,null,null,null,null,null,null,null,null,null,null,null,null,null,0.25613000000000002,5.3900000000000003E-2,2E-3,2.5999999999999999E-3,5.5179999999999998,7.2999999999999995E-2,7.3400000000000007E-2,1.2999999999999999E-3,1.8E-3,1021,35,51,1060,19,27,1071,13,14,1061,38,49,2.9999999999999997E-4,8.8000000000000003E-4,1.4E-2,2.5000000000000001E-2,0.63700000000000001,6.3E-2,2.2000000000000002,0.53,0.76,0.18329999999999999,4.4000000000000003E-3,4.7999999999999996E-3,0.87082999999999999,7.1999999999999995E-2,2.5000000000000001E-2,3.2000000000000001E-2,8.6999999999999994E-2,1.7999999999999999E-2,2.7E-2,5.47,0.13,1710,280,400,1160,160,230,1085,24,26,1340,480,630]
[null,null,null,null,null,null,null,null,null,null,null,null,null,null,null,null,null,null,null,null,null,null,null,null,null,null,null,null,null,null,null,null,null,null,null,null,null,null,null,null,null,null,null,null,null,null,null,null,null,null,null,null,null,null,null,null,null,null,null,null,null,null,null,null,null,null,null,0.31425999999999998,5.3199999999999997E-2,2.0999999999999999E-3,2.7000000000000001E-3,5.63,0.1,7.3999999999999996E-2,1.4E-3,1.6999999999999999E-3,1050,41,49,1044,29,34,1055,18,19,1047,39,51,5.0000000000000001E-4,1.5E-3,3.4000000000000002E-2,2.8000000000000001E-2,0.71899999999999997,7.1999999999999995E-2,1.96,0.6,0.7,0.1782,5.3E-3,5.5999999999999999E-3,0.83731999999999995,5.8999999999999997E-2,2.9000000000000001E-2,3.7999999999999999E-2,7.2999999999999995E-2,2.1999999999999999E-2,2.7E-2,5.65,0.17,1890,220,270,1160,170,200,1056,29,31,1070,560,730]
[null,null,null,null,null,null,null,null,null,null,null,null,null,null,null,null,null,null,null,null,null,null,null,null,null,null,null,null,null,null,null,null,null,null,null,null,null,null,null,null,null,null,null,null,null,null,null,null,null,null,null,null,null,null,null,null,null,null,null,null,null,null,null,null,null,null,null,0.37345,5.3199999999999997E-2,2.0999999999999999E-3,2.8E-3,5.52,0.09,7.1499999999999994E-2,1E-3,1.2999999999999999E-3,967,29,39,1038,18,24,1076,16,17,1047,39,54,4.8000000000000001E-4,7.9000000000000001E-4,6.4000000000000003E-3,8.5000000000000006E-3,0.59,5.5E-2,1.8,0.61,0.8,0.17979999999999999,5.1000000000000004E-3,5.4000000000000003E-3,0.85580000000000001,5.2999999999999999E-2,0.03,4.1000000000000002E-2,6.6000000000000003E-2,2.4E-2,3.2000000000000001E-2,5.59,0.17,1750,260,340,1060,220,290,1065,28,30,940,590,810]
[null,null,null,null,null,null,null,null,null,null,null,null,null,null,null,null,null,null,null,null,null,null,null,null,null,null,null,null,null,null,null,null,null,null,null,null,null,null,null,null,null,null,null,null,null,null,null,null,null,null,null,null,null,null,null,null,null,null,null,null,null,null,null,null,null,null,null,0.44529000000000002,5.2400000000000002E-2,1.9E-3,2.3999999999999998E-3,5.649,8.7999999999999995E-2,7.3200000000000001E-2,1.6000000000000001E-3,2.0999999999999999E-3,1026,43,59,1048,20,28,1051,14,15,1032,37,46,2.8999999999999998E-3,2.3E-3,-3.0000000000000001E-3,4.3999999999999997E-2,0.78700000000000003,7.2999999999999995E-2,2.4700000000000002,0.48,0.68,0.1817,4.7999999999999996E-3,5.1999999999999998E-3,0.85740000000000005,8.1000000000000003E-2,2.1999999999999999E-2,2.8000000000000001E-2,9.7000000000000003E-2,1.7000000000000001E-2,2.3E-2,5.52,0.14000000000000001,1890,200,280,1230,140,200,1076,26,28,1530,420,530]
[null,null,null,null,null,null,null,null,null,null,null,null,null,null,null,null,null,null,null,null,null,null,null,null,null,null,null,null,null,null,null,null,null,null,null,null,null,null,null,null,null,null,null,null,null,null,null,null,null,null,null,null,null,null,null,null,null,null,null,null,null,null,null,null,null,null,null,0.54474999999999996,5.4600000000000003E-2,2.2000000000000001E-3,3.0000000000000001E-3,5.58,0.1,7.3099999999999998E-2,1.2999999999999999E-3,1.6999999999999999E-3,1013,34,48,1035,21,26,1061,18,19,1082,44,61,2.9999999999999997E-4,1.1000000000000001E-3,2.4E-2,2.3E-2,0.66700000000000004,6.9000000000000006E-2,1.59,0.66,0.83,0.17910000000000001,5.8999999999999999E-3,6.1999999999999998E-3,0.87151000000000001,4.3999999999999997E-2,3.3000000000000002E-2,4.5999999999999999E-2,6.4000000000000001E-2,2.5000000000000001E-2,3.5000000000000003E-2,5.66,0.2,1810,250,350,1190,160,210,1061,32,34,840,650,900]
[null,null,null,null,null,null,null,null,null,null,null,null,null,null,null,null,null,null,null,null,null,null,null,null,null,null,null,null,null,null,null,null,null,null,null,null,null,null,null,null,null,null,null,null,null,null,null,null,null,null,null,null,null,null,null,null,null,null,null,null,null,null,null,null,null,null,null,0.35188999999999998,5.1700000000000003E-2,1.8E-3,2.3999999999999998E-3,5.569,7.5999999999999998E-2,7.2900000000000006E-2,1.1999999999999999E-3,1.6000000000000001E-3,1016,35,46,1049,22,27,1065,13,15,1018,34,46,2.3000000000000001E-4,7.5000000000000002E-4,1.0999999999999999E-2,3.1E-2,0.63700000000000001,6.3E-2,2.6,0.46,0.56999999999999995,0.18440000000000001,5.1000000000000004E-3,5.5999999999999999E-3,0.90073999999999999,8.5000000000000006E-2,2.4E-2,3.1E-2,9.9000000000000005E-2,1.6E-2,2.1999999999999999E-2,5.44,0.15,1760,240,320,1280,120,150,1095,27,29,1690,410,540]
[null,null,null,null,null,null,null,null,null,null,null,null,null,null,null,null,null,null,null,null,null,null,null,null,null,null,null,null,null,null,null,null,null,null,null,null,null,null,null,null,null,null,null,null,null,null,null,null,null,null,null,null,null,null,null,null,null,null,null,null,null,null,null,null,null,null,null,0.23122999999999999,5.2900000000000003E-2,1.6000000000000001E-3,2.2000000000000001E-3,5.6029999999999998,0.08,7.5300000000000006E-2,1.8E-3,2.3999999999999998E-3,1076,46,61,1056,21,28,1061,14,15,1043,30,42,6.9999999999999999E-4,1.1999999999999999E-3,4.3999999999999997E-2,3.9E-2,0.77,7.0999999999999994E-2,2.2599999999999998,0.48,0.62,0.1817,5.4000000000000003E-3,5.7999999999999996E-3,0.90147999999999995,7.2999999999999995E-2,2.3E-2,3.2000000000000001E-2,8.1000000000000003E-2,2.1000000000000001E-2,2.7E-2,5.57,0.18,1870,190,250,1260,120,150,1075,29,32,1360,450,620]

{"sheet":"RawData_trace","index":3,"n_rows":148,"n_cols":66,"rows_kept":148,"cut":false,"hidden":false,"merged":[]}
[null,"Source file","DateTime","Date","Time","Duration(s)","Comments","Total points","Selection type","Components","Si29_CPS","Si29_CPS_Int2SE","P_ppm_m31","P_ppm_m31_Int2SE","Sc_ppm_m45","Sc_ppm_m45_Int2SE","Ti_ppm_m49","Ti_ppm_m49_Int2SE","Y_ppm_m89","Y_ppm_m89_Int2SE","Nb_ppm_m93","Nb_ppm_m93_Int2SE","Zr_ppm_m96","Zr_ppm_m96_Int2SE","La_ppm_m139","La_ppm_m139_Int2SE","Ce_ppm_m140","Ce_ppm_m140_Int2SE","Pr_ppm_m141","Pr_ppm_m141_Int2SE","Nd_ppm_m146","Nd_ppm_m146_Int2SE","Sm_ppm_m147","Sm_ppm_m147_Int2SE","Eu_ppm_m153","Eu_ppm_m153_Int2SE","Gd_ppm_m157","Gd_ppm_m157_Int2SE","Tb_ppm_m159","Tb_ppm_m159_Int2SE","Dy_ppm_m163","Dy_ppm_m163_Int2SE","Ho_ppm_m165","Ho_ppm_m165_Int2SE","Er_ppm_m166","Er_ppm_m166_Int2SE","Yb_ppm_m172","Yb_ppm_m172_Int2SE","Lu_ppm_m175","Lu_ppm_m175_Int2SE","Hf_ppm_m179","Hf_ppm_m179_Int2SE","Hg202_CPS","Hg202_CPS_Int2SE","Pb_ppm_m204","Pb_ppm_m204_Int2SE","Pb_ppm_m206","Pb_ppm_m206_Int2SE","Pb_ppm_m207","Pb_ppm_m207_Int2SE","Pb_ppm_m208","Pb_ppm_m208_Int2SE","Th_ppm_m232","Th_ppm_m232_Int2SE","U_ppm_m238","U_ppm_m238_Int2SE"]
["G_NIST610_1","610_1","04/12/2018 (3) 18:29:56.00","04/12/2018 (3)","18:29:56",24.084,"610_1",52,"Normal",1,434000,27000,230,170,210,13,206,16,213,13,198,12,205,11,215,14,209,13,200,12,204,13,214,13,216,14,210,13,205,13,201,13,211,13,200,13,211,13,205,13,202,12,397,80,201,13,202,13,204,13,205,13,217,14,220,13]
["G_NIST610_2","610_2","04/12/2018 (3) 18:31:23.00","04/12/2018 (3)","18:31:23",24.085000000000001,"610_2",52,"Normal",1,460000,28000,160,170,203,12,199,14,206,13,194,12,204,14,207,13,200,13,194,12,198,13,207,13,209,13,202,13,199,12,192,11,201,12,194,12,201,12,196,11,204,14,318,78,197,14,194,11,194,11,191,11,206,12,208,12]
["G_NIST610_3",610,"04/12/2018 (3) 19:19:12.00","04/12/2018 (3)","19:19:12",24.084,610,52,"Normal",1,375000,19000,70,100,207.8,7.3,205.3,9.3000000000000007,212.7,7.8,196.8,6.6,209.8,7.9,219.9,8.1,216.3,7.3,207,7.5,202.9,7.1,213,7.8,220.6,8,212.9,8.4,214.5,7.7,204.9,7.5,217.5,8.1999999999999993,203.8,7.6,213,7.7,208.3,7.7,202,7,318,76,199,11,201.9,7.2,201.5,6.8,203,7.1,217.9,7.7,220,7.6]
["G_NIST610_4",610,"04/12/2018 (3) 19:59:05.00","04/12/2018 (3)","19:59:05",24.085000000000001,610,52,"Normal",1,372000,22000,196,72,205.6,7.2,201,12,209.9,7.4,195.7,7.3,204.4,6.2,211.4,7,208.2,7.2,200.7,6.6,201.2,7.3,209.9,8.3000000000000007,214.9,8,204.2,7.2,206.1,7.5,200.3,7,208.2,6.7,198.2,6.8,205.5,7.5,203.6,6.8,201.2,8.6,344,59,200,11,199,6.9,197.4,7,198.4,6.8,212.8,7.6,214.6,7.4]
["G_NIST610_5",610,"04/12/2018 (3) 20:38:56.00","04/12/2018 (3)","20:38:56",24.084,610,52,"Normal",1,366000,20000,169,56,206.6,6.4,204.9,8.6,210.6,6.1,196.3,6.2,207.3,7.8,214.9,6.3,209.6,5.8,203.2,5.2,201.4,6.1,210.6,5.9,216.1,6.8,208.4,6.3,207.6,6,200.1,7.1,211.2,6.6,199.1,5.6,209.7,5.5,204.2,6.2,204.7,6.5,318,72,200.5,8.8000000000000007,199.9,6,200.5,6,200.7,6.1,215,6.3,216.5,6.3]
["G_NIST610_6",610,"04/12/2018 (3) 20:52:54.00","04/12/2018 (3)","20:52:54",24.085000000000001,610,52,"Normal",1,351000,18000,151,58,206.6,6.3,201,10,210.9,7.1,196.2,5.6,205.2,8.5,213.3,6.3,208.9,6.8,198.2,6,202.3,6.2,211.9,6.2,215.1,6.4,208.4,7,206.1,6.7,198.5,6.3,209.4,5.8,199.7,6.5,206.8,6.9,202.5,5.8,200.1,7.4,345,52,198.6,8.8000000000000007,198.8,5.9,199.1,5.8,198.2,5.8,212.9,6.5,215.6,6.2]
[]
["Output_1_1","Baclab2N4CII-1","04/12/2018 (3) 18:40:21.50","04/12/2018 (3)","18:40:21.500",22.395,"Baclab2N4CII-1",48,"Normal",1,282000,18000,20,220,123.3,7.8,14.7,2.7,446,29,2.59,0.25,73100,4300,0,1,14.6,0.95,4.4999999999999998E-2,1.7999999999999999E-2,0.37,0.1,1.52,0.28000000000000003,0.32400000000000001,6.6000000000000003E-2,8.0500000000000007,0.85,2.96,0.21,38.9,2.4,15.3,1.1000000000000001,70.599999999999994,4.8,161,11,33.6,2.1,11240,680,78,58,0.6,2,120.5,7.7,9.67,0.67,6.43,0.44,62.7,4.3,171,12]
["Output_1_2","Baclab2N4CII-2","04/12/2018 (3) 18:41:23.09","04/12/2018 (3)","18:41:23.090",22.992000000000001,"Baclab2N4CII-2",50,"Normal",1,257000,18000,120,220,214,14,3.1,1.1000000000000001,846,68,1.7,0.23,74700,4300,0,1,3.8,0.32,5.5E-2,2.1999999999999999E-2,1.51,0.28999999999999998,3.16,0.46,0.42599999999999999,9.2999999999999999E-2,20.9,1.8,7.01,0.59,80.5,6.8,29.9,2.5,125,11,228,18,47.9,3.7,10170,660,42,50,2.5,1.9,12.5,1.2,1.19,0.12,1.06,0.11,72.2,6.8,201,21]
["Output_1_3","Baclab2N4CII-3","04/12/2018 (3) 18:42:30.81","04/12/2018 (3)","18:42:30.810",12.298999999999999,"Baclab2N4CII-3",26,"Normal",1,231000,22000,220,330,196,18,14.3,3.7,842,70,1.53,0.28999999999999998,76700,5800,4.4999999999999997E-3,8.9999999999999993E-3,1.7,0.23,1.4E-2,1.6E-2,1.08,0.31,1.8,0.53,5.8999999999999997E-2,4.9000000000000002E-2,14.5,1.2,6.15,0.65,75.599999999999994,6.4,28,2.6,129,13,229,19,48.3,4.5,13400,1100,-9,73,0.7,3.1,184,15,15.2,1.4,3.61,0.41,36.700000000000003,3.4,321,30]
["Output_1_4","Baclab2N4CII-4","04/12/2018 (3) 18:43:17.34","04/12/2018 (3)","18:43:17.340",11.709,"Baclab2N4CII-4",25,"Normal",1,289000,22000,590,240,199,16,12.7,4.4000000000000004,968,75,1.55,0.23,81300,5700,0,1,3.03,0.36,6.9000000000000006E-2,2.5000000000000001E-2,1.37,0.31,3.38,0.59,0.13200000000000001,4.7E-2,19.8,2.1,7.32,0.55000000000000004,86.8,6.5,33.200000000000003,2.8,144,10,276,21,51.9,3.7,12610,900,127,96,0.2,2.6,163,12,14.2,1.2,6.5,0.63,57.1,4.4000000000000004,240,20]
["Output_1_5","Baclab2N4CII-5","04/12/2018 (3) 18:44:26.85","04/12/2018 (3)","18:44:26.850",18.239000000000001,"Baclab2N4CII-5",40,"Normal",1,250000,18000,240,240,103.6,8.1999999999999993,8,1.8,816,64,3.48,0.31,72500,5100,0,1,8.51,0.7,4.4999999999999998E-2,2.1999999999999999E-2,1,0.24,2.2599999999999998,0.38,9.6000000000000002E-2,3.4000000000000002E-2,16.600000000000001,1.3,5.48,0.49,71.2,5.7,27.1,1.9,125,10,232,18,46.6,3.9,10700,770,54,69,0.7,2.8,220,17,19.7,1.7,9.6999999999999993,0.85,81.2,6.7,250,20]
["Output_1_6","Baclab2N4CII-6","04/12/2018 (3) 18:45:30.60","04/12/2018 (3)","18:45:30.600",13.487,"Baclab2N4CII-6",29,"Normal",1,220000,17000,180,230,138,11,3.2,1.8,833,66,4.55,0.51,74900,5300,0,1,41.4,3.4,1.6E-2,1.4999999999999999E-2,0.55000000000000004,0.19,1.1100000000000001,0.33,0.57999999999999996,0.13,10.6,1.4,4.47,0.49,57.9,4.7,24.9,2.2999999999999998,134,12,339,29,76.7,6.4,11490,890,53,71,2.9,3.4,61.7,4.9000000000000004,3.75,0.31,6.64,0.59,174,14,241,20]
["Output_1_7","Baclab2N4CII-7","04/12/2018 (3) 18:46:23.47","04/12/2018 (3)","18:46:23.470",14.673999999999999,"Baclab2N4CII-7",32,"Normal",1,246000,18000,160,270,175,11,8.4,2.2000000000000002,1600,110,1.56,0.25,79600,5100,0,1,15.77,0.97,6.8000000000000005E-2,2.9000000000000001E-2,1.76,0.37,4.97,0.81,0.59,0.14000000000000001,28.4,2,11.29,0.92,135.69999999999999,9.3000000000000007,53,3.7,241,18,450,30,93.3,6.1,12060,790,-7,58,1.6,3.5,85.8,6.2,5.39,0.48,7.4,0.5,191,14,309,23]
["Output_1_8","Baclab2N4CII-8","04/12/2018 (3) 18:47:19.50","04/12/2018 (3)","18:47:19.500",17.05,"Baclab2N4CII-8",37,"Normal",1,277000,21000,500,250,165,12,6.5,1.9,1329,88,1.58,0.21,73300,4600,0.45,0.39,17.600000000000001,1.5,0.34,0.19,2.54,0.78,4.5199999999999996,0.56000000000000005,0.64,0.1,26.1,2.1,9.3800000000000008,0.7,113.6,7.4,43.4,2.8,199,13,376,24,77.2,4.7,11180,690,35,59,1.6,2.1,102.7,6.5,6.37,0.49,8.2200000000000006,0.59,217,14,384,25]
["Output_1_9","Baclab2N4CII-9","04/12/2018 (3) 18:48:22.47","04/12/2018 (3)","18:48:22.470",16.457000000000001,"Baclab2N4CII-9",36,"Normal",1,258000,17000,510,230,91.8,5.8,2.8,1,1442,92,14.06,0.98,73600,4500,2.2999999999999998,1.1000000000000001,27.2,3.5,0.86,0.39,5.8,2.2000000000000002,4.47,0.62,7.0000000000000007E-2,3.6999999999999998E-2,26.7,2.4,9.5,0.64,123.4,9.1,49.9,3.5,229,16,402,26,79.900000000000006,5.9,12100,750,0,68,2.7,2.1,105.7,6.9,7.2,0.52,8.3699999999999992,0.62,148,11,280,19]
["Output_1_10","Baclab2N4CII-10","04/12/2018 (3) 18:49:24.25","04/12/2018 (3)","18:49:24.250",21.803000000000001,"Baclab2N4CII-10",47,"Normal",1,225000,18000,370,230,188,13,17.5,4,601,43,1.71,0.19,77700,5400,0,1,40.4,3.2,0.154,4.4999999999999998E-2,2.94,0.44,5.51,0.74,1.27,0.21,22.1,1.8,6.06,0.54,61.7,5.0999999999999996,20.8,1.5,85.6,6.4,150,11,31.1,2.2999999999999998,9040,620,94,72,2.4,2.8,20.6,1.5,1.37,0.17,2.86,0.26,91.5,7.2,93.7,7.1]
["Output_1_11","Baclab2N4CII-11","04/12/2018 (3) 18:53:18.50","04/12/2018 (3)","18:53:18.500",12.893000000000001,"Baclab2N4CII-11",28,"Normal",1,291000,20000,400,160,115.2,8.1,4.5999999999999996,1.9,672,48,2.78,0.32,74300,4400,0,1,7.69,0.69,3.1E-2,1.7999999999999999E-2,0.74,0.24,1.74,0.41,0.27,8.1000000000000003E-2,11.02,0.98,4.38,0.39,55.3,3.5,22.4,1.8,106.3,7.5,225,16,51.6,3.8,12010,830,8,92,2.7,1.8,51.8,3.6,6.25,0.44,5.74,0.48,59.6,3.9,197,14]
["Output_1_12","Baclab2N4CII-12","04/12/2018 (3) 18:54:17.53","04/12/2018 (3)","18:54:17.530",20.614000000000001,"Baclab2N4CII-12",44,"Normal",1,282000,17000,1140,200,196,10,4.9000000000000004,1.6,2370,130,6.21,0.43,71700,3700,0,1,5.24,0.41,2.1000000000000001E-2,1.2E-2,0.44,0.12,2.69,0.35,9.4E-2,2.8000000000000001E-2,23.6,1.8,11.97,0.7,181,10,78.400000000000006,4.2,396,22,874,50,174.5,9.6999999999999993,12240,610,74,64,0.9,1.9,211,13,13.14,0.88,6.21,0.4,159,9.3000000000000007,760,53]
["Output_1_13","Baclab2N4CII-13","04/12/2018 (3) 18:55:17.72","04/12/2018 (3)","18:55:17.720",9.9239999999999995,"Baclab2N4CII-13",22,"Normal",1,304000,23000,330,240,226,17,4.4000000000000004,1.9,1143,81,6.98,0.7,73200,4400,0,1,47.4,3.1,8.8999999999999996E-2,3.7999999999999999E-2,1.46,0.38,3.7,0.6,0.88,0.21,19.3,1.9,7.69,0.53,101.6,9.1999999999999993,39.6,3,185,13,403,28,82.4,5.6,11830,780,25,82,1.9,2.4,149,11,9.9600000000000009,0.84,9.9700000000000006,0.82,294,26,735,60]
["Output_1_14","Baclab2N4CII-14","04/12/2018 (3) 18:56:24.85","04/12/2018 (3)","18:56:24.850",12.896000000000001,"Baclab2N4CII-14",28,"Normal",1,-30000,15000,"no value","NAN","no value","NAN","no value","NAN","no value","NAN","no value","NAN","no value","NAN","no value","NAN","no value","NAN","no value","NAN","no value","NAN","no value","NAN","no value","NAN","no value","NAN","no value","NAN","no value","NAN","no value","NAN","no value","NAN","no value","NAN","no value","NAN","no value","NAN","no value","NAN","no value","NAN","no value","NAN","no value","NAN","no value","NAN","no value","NAN","no value","NAN"]
["Output_1_15","Baclab2N4CII-15","04/12/2018 (3) 18:57:22.66","04/12/2018 (3)","18:57:22.660",17.05,"Baclab2N4CII-15",37,"Normal",1,249000,18000,1330,220,364,23,2.1,1,2310,160,1.34,0.16,70100,4000,0,1,0.38,7.8E-2,0,1,0.14899999999999999,8.8999999999999996E-2,1.49,0.39,7.0999999999999994E-2,3.3000000000000002E-2,17.5,1.8,10.07,0.65,163,11,76.900000000000006,4.9000000000000004,411,27,1028,66,228,15,14300,800,-8,73,0.7,2.7,208,15,12.7,1,1.39,0.13,31.4,2.1,716,60]
["Output_1_16","Baclab2N4CII-16","04/12/2018 (3) 18:58:31.57","04/12/2018 (3)","18:58:31.570",6.9543999999999997,"Baclab2N4CII-16",15,"Normal",1,237000,29000,600,280,106,13,11.7,4.3,542,68,1.41,0.38,69900,7400,0,1,15.1,1.8,4.8000000000000001E-2,2.9000000000000001E-2,0.34,0.2,0.87,0.44,0.34,0.16,9.1,1.8,3.37,0.51,42.5,5.8,16.899999999999999,2.1,86.6,9.6,187,24,40.1,4.2,10500,1300,120,100,1.3,4.3,66.7,7.9,5.82,0.72,3.55,0.33,31.8,3.6,71.900000000000006,7.3]
["Output_1_17","Baclab2N4CII-17","04/12/2018 (3) 18:59:25.81","04/12/2018 (3)","18:59:25.810",16.456,"Baclab2N4CII-17",35,"Normal",1,211000,20000,700,180,523,45,3,1.4,1610,130,2.29,0.31,76600,5300,0,1,1.64,0.23,6.1999999999999998E-3,8.6999999999999994E-3,0.26,0.14000000000000001,0.65,0.25,0.36299999999999999,8.7999999999999995E-2,9.1,1,6.02,0.56999999999999995,109.3,9.4,50.6,4.0999999999999996,259,22,492,42,89.9,7.9,13600,1100,79,71,1.1000000000000001,2.7,70,5.9,4.42,0.36,0.28999999999999998,6.2E-2,5.0599999999999996,0.43,320,26]
["Output_1_18","Baclab2N4CII-18","04/12/2018 (3) 19:00:17.50","04/12/2018 (3)","19:00:17.500",15.27,"Baclab2N4CII-18",33,"Normal",1,271000,20000,420,190,246,16,5.4,1.7,1700,110,11.19,0.79,74100,3900,2.8000000000000001E-2,2.3E-2,37.299999999999997,2.5,4.8000000000000001E-2,1.7999999999999999E-2,0.89,0.24,2.69,0.42,0.67,0.13,19.899999999999999,1.4,8.6300000000000008,0.54,122.5,7.8,53.6,3.6,280,18,664,43,154,10,11580,670,36,64,2.9,3.3,113.8,7,7.19,0.52,9.6999999999999993,0.69,201,13,327,22]
["Output_1_19","Baclab2N4CII-19","04/12/2018 (3) 19:01:29.57","04/12/2018 (3)","19:01:29.570",10.518000000000001,"Baclab2N4CII-19",23,"Normal",1,222000,24000,100,280,119,13,12.7,4.3,379,36,1.69,0.28000000000000003,71400,7500,0,1,5.29,0.49,4.2999999999999997E-2,2.4E-2,1.05,0.31,1.85,0.7,0.125,5.6000000000000001E-2,9.9,1.3,3.38,0.42,39.200000000000003,4.5,13.4,1.4,59.4,6.4,109,11,22,2.5,11000,1100,43,91,2.6,3.9,177,19,13.5,1.5,6.49,0.7,71.599999999999994,8.1999999999999993,256,28]
["Output_1_20","Baclab2N4CII-20","04/12/2018 (3) 19:02:16.50","04/12/2018 (3)","19:02:16.500",24.771999999999998,"Baclab2N4CII-20",53,"Normal",1,232000,16000,1580,190,390,24,10.9,2.5,3230,190,2.2200000000000002,0.24,75500,3900,0,1,5.21,0.93,4.4999999999999998E-2,2.4E-2,0.93,0.26,3.8,0.46,0.5,0.15,32.799999999999997,3,16.3,1.1000000000000001,251,15,109.7,6.3,557,34,1178,70,242,14,12740,710,75,56,3.5,2.6,79.5,4.7,5.29,0.39,3.92,0.4,67.5,6,236,15]
["Output_1_21","Baclab2N4CII-21","04/12/2018 (3) 19:06:27.19","04/12/2018 (3)","19:06:27.190",11.112,"Baclab2N4CII-21",24,"Normal",1,254000,21000,10,200,115.6,9.8000000000000007,14.6,4.2,1870,150,1.23,0.22,65200,4900,0.20399999999999999,8.1000000000000003E-2,13.6,1.1000000000000001,0.51,0.1,6.86,0.85,10.8,1.3,3.04,0.32,48.5,4.5,15.6,1.4,170,14,62,5,276,23,536,45,109.8,8.6,7910,580,42,65,6.2,3.7,116.1,9.1,10.01,0.7,17.600000000000001,1.4,368,29,415,32]
["Output_1_22","Baclab2N4CII-22","04/12/2018 (3) 19:07:31.75","04/12/2018 (3)","19:07:31.750",8.7361000000000004,"Baclab2N4CII-22",19,"Normal",1,215000,17000,230,240,103.2,8.4,3.5,2.7,289,42,0.89,0.2,72500,5200,0,1,3.86,0.49,0,1,0,1,0.23,0.18,0.16,7.4999999999999997E-2,2.99,0.84,1.45,0.26,21.3,4.5999999999999996,9.5,1.5,53,8.1999999999999993,138,18,34.4,3.8,11360,790,86,80,-0.5,3.8,347,25,30,2.5,6.25,0.81,46.3,5.4,443,39]
["Output_1_23","Baclab2N4CII-23","04/12/2018 (3) 19:08:17.50","04/12/2018 (3)","19:08:17.500",23.585000000000001,"Baclab2N4CII-23",51,"Normal",1,260000,16000,70,200,124.9,6.8,5.5,1.7,697,37,1.4,0.15,71200,3800,0,1,33.799999999999997,2.1,9.0999999999999998E-2,2.7E-2,1.54,0.28000000000000003,3.74,0.35,1.61,0.17,17.399999999999999,1,5.32,0.31,60.1,3.4,23.1,1.4,105.6,5.9,239,14,53.1,2.9,9930,530,12,44,2,1.7,69.8,3.9,4.68,0.3,10.82,0.65,209,13,190,11]
["Output_1_24","Baclab2N4CII-24","04/12/2018 (3) 19:09:16.50","04/12/2018 (3)","19:09:16.500",23.584,"Baclab2N4CII-24",51,"Normal",1,235000,14000,50,160,135.80000000000001,7.1,15.8,3.6,517,31,2.02,0.22,75500,3500,0,1,27.8,1.8,0.185,5.0999999999999997E-2,2.85,0.53,4.03,0.55000000000000004,1.1599999999999999,0.17,15.7,1.2,4.6900000000000004,0.34,49,3,17.21,0.94,74.8,4.7,143.69999999999999,8.8000000000000007,31,1.8,9560,460,77,56,3.7,2.2999999999999998,33.799999999999997,1.8,2.25,0.19,5.13,0.3,82.2,4.5,80.400000000000006,5.0999999999999996]
["Output_1_25","Baclab2N4CII-25","04/12/2018 (3) 19:10:16.50","04/12/2018 (3)","19:10:16.500",23.582999999999998,"Baclab2N4CII-25",51,"Normal",1,259000,14000,140,190,120.2,5.6,8.5,2,306,16,0.69,0.11,69900,2700,0,1,9.43,0.59,2.5999999999999999E-2,1.2999999999999999E-2,0.47,0.14000000000000001,1.19,0.21,0.218,5.6000000000000001E-2,5.77,0.54,2.0099999999999998,0.15,24.1,1.3,9.83,0.59,46.1,2.7,94.1,5,20.6,1.2,11960,520,25,55,1.2,2.1,86.1,4.0999999999999996,8.7899999999999991,0.42,4.51,0.28000000000000003,34.299999999999997,2.1,100,5.3]
["Output_1_26","Baclab2N4CII-26","04/12/2018 (3) 19:11:15.50","04/12/2018 (3)","19:11:15.500",23.585000000000001,"Baclab2N4CII-26",51,"Normal",1,255000,15000,140,160,152.4,7.1,3.3,1.2,522,26,0.67200000000000004,8.7999999999999995E-2,71900,2900,0,1,3.86,0.28999999999999998,0.10299999999999999,2.5000000000000001E-2,1.88,0.26,2.42,0.4,1.05,0.15,10.44,0.76,3.34,0.22,39.200000000000003,1.7,16.600000000000001,0.74,81.7,4,206.8,9.5,52.8,2.7,8760,400,47,57,4.5999999999999996,2.2000000000000002,90.9,4.3,7.6,0.41,12.49,0.65,208.8,9.1999999999999993,243,11]
["Output_1_27","Baclab2N4CII-27","04/12/2018 (3) 19:12:15.50","04/12/2018 (3)","19:12:15.500",23.585000000000001,"Baclab2N4CII-27",51,"Normal",1,242000,15000,230,150,146.19999999999999,7.4,9.8000000000000007,2.2000000000000002,1259,71,1.1000000000000001,0.15,73200,3100,1.4E-2,1.2E-2,12.24,0.82,0.36799999999999999,4.9000000000000002E-2,6.93,0.57999999999999996,10.95,0.98,1.37,0.14000000000000001,43.1,2.9,12.62,0.79,132.1,7.1,44.8,2.6,179.1,9.8000000000000007,294,16,57.6,3,9750,450,30,52,1.4,2.2999999999999998,202,11,18.399999999999999,1.1000000000000001,13.38,0.79,113.7,7.4,229,15]
["Output_1_28","Baclab2N4CII-28","04/12/2018 (3) 19:13:14.50","04/12/2018 (3)","19:13:14.500",23.584,"Baclab2N4CII-28",51,"Normal",1,251000,15000,1220,180,382,27,17.600000000000001,3.5,2660,230,3.31,0.45,71500,3400,0.151,4.2000000000000003E-2,9.5,0.64,0.59899999999999998,8.5000000000000006E-2,5.21,0.59,7.42,0.72,2.0099999999999998,0.23,40.9,3,16.2,1.2,224,18,93,7.9,455,40,961,85,203,18,12260,550,50,50,10.7,3.4,138,9.4,13.65,0.91,10.1,1.1000000000000001,116.9,8.5,469,40]
["Output_1_29","Baclab2N4CII-29","04/12/2018 (3) 19:14:14.50","04/12/2018 (3)","19:14:14.500",23.584,"Baclab2N4CII-29",51,"Normal",1,253000,15000,-90,140,148.30000000000001,8.6,7,1.9,726,56,2.44,0.23,72100,3100,7.3999999999999996E-2,3.5999999999999997E-2,19.7,1.6,0.39,0.16,3.03,0.85,4.3,1.1000000000000001,1.87,0.46,14.9,2.7,5.0599999999999996,0.62,60.1,6,23,1.9,115.8,8.4,293,19,68,4.0999999999999996,11430,580,60,65,5.0999999999999996,2,144,11,11.6,0.9,11.57,0.66,230,14,374,29]
["Output_1_30","Baclab2N4CII-30","04/12/2018 (3) 19:15:13.50","04/12/2018 (3)","19:15:13.500",23.585999999999999,"Baclab2N4CII-30",51,"Normal",1,248000,14000,100,120,134.4,7.1,4.7,1.2,192,11,0.39700000000000002,7.0000000000000007E-2,71500,3300,0,1,2.94,0.22,1.6899999999999998E-2,9.7999999999999997E-3,0.19500000000000001,8.4000000000000005E-2,0.54,0.17,0.247,5.8999999999999997E-2,2.82,0.45,1.0900000000000001,0.11,13.55,0.91,6.23,0.4,31.8,2.2000000000000002,88,5.0999999999999996,24.3,1.5,7940,390,58,60,2.2000000000000002,2.4,35.299999999999997,1.8,2.4700000000000002,0.17,3.62,0.25,67.8,4,100.2,5.3]
["Output_1_31","Baclab2N4CII-31","04/12/2018 (3) 19:20:28.35","04/12/2018 (3)","19:20:28.350",8.7350999999999992,"Baclab2N4CII-31",19,"Normal",1,224000,20000,180,230,123,12,12.7,5.0999999999999996,471,44,1.28,0.21,65800,5500,0,1,3.38,0.32,8.5999999999999993E-2,4.3999999999999997E-2,1.07,0.3,3.38,0.88,0.28999999999999998,0.1,13,2,4.33,0.62,48.1,5.4,16.5,1.5,72.3,7.2,123,11,24.6,2.4,9870,880,47,70,3.1,3.8,75,6.7,6.94,0.76,4.41,0.39,32.4,3.4,99,10]
["Output_1_32","Baclab2N4CII-32","04/12/2018 (3) 19:21:24.60","04/12/2018 (3)","19:21:24.600",12.3,"Baclab2N4CII-32",26,"Normal",1,228000,16000,220,200,118.2,7.5,8.3000000000000007,2.7,825,55,5.41,0.54,69500,4400,0,1,35.299999999999997,2.2000000000000002,5.8999999999999997E-2,2.4E-2,1.22,0.34,2.74,0.5,0.37,0.12,16.100000000000001,1.4,6.1,0.52,71.5,5.2,27.9,1.7,126.4,8.1999999999999993,253,16,51.7,3.3,10390,650,-26,80,5.8,3.6,120.4,7.8,8.14,0.61,14.8,1.1000000000000001,268,18,318,21]
["Output_1_33","Baclab2N4CII-33","04/12/2018 (3) 19:22:12.12","04/12/2018 (3)","19:22:12.120",25.96,"Baclab2N4CII-33",56,"Normal",1,242000,14000,160,120,123.6,6.2,15.6,2.6,382,18,1.17,0.11,72800,3100,0,1,3.18,0.21,1.4999999999999999E-2,0.01,0.62,0.16,1.07,0.22,0.11899999999999999,3.4000000000000002E-2,7.73,0.73,2.89,0.17,34.6,2,13.25,0.74,58.5,2.8,121.7,5.7,25.2,1.2,11670,510,80,63,2.4,2.1,123.2,5.7,9.6999999999999993,0.51,4.28,0.22,44,2.1,174.6,8.5]
["Output_1_34","Baclab2N4CII-34","04/12/2018 (3) 19:23:13.50","04/12/2018 (3)","19:23:13.500",18.832000000000001,"Baclab2N4CII-34",41,"Normal",1,261000,15000,400,130,117.2,6.9,6.1,2,1206,61,1.85,0.19,71500,3300,3.5999999999999997E-2,0.02,4.7300000000000004,0.34,0.10199999999999999,2.9000000000000001E-2,1.91,0.36,4.53,0.5,0.13100000000000001,4.8000000000000001E-2,27,1.6,9.48,0.55000000000000004,109.1,5.3,42.2,2.4,178.1,9.1,315,17,65.8,3.3,10390,470,21,54,1.8,2.4,174.3,9.4,18.899999999999999,1.1000000000000001,11.13,0.57999999999999996,72.7,3.9,152.1,9.5]
["Output_1_35","Baclab2N4CII-35","04/12/2018 (3) 19:24:11.12","04/12/2018 (3)","19:24:11.120",21.209,"Baclab2N4CII-35",46,"Normal",1,274000,14000,1260,210,310,19,8.1,2.6,3260,250,1.76,0.18,68200,2800,1.0999999999999999E-2,1.0999999999999999E-2,2.61,0.24,0.17299999999999999,3.5999999999999997E-2,3.71,0.51,10.029999999999999,0.74,0.38,0.11,71.900000000000006,4.3,25,1.5,310,23,119.1,9.6,519,44,915,87,178,16,11150,630,90,53,-1,1.5,245,28,21,2.4,12.67,0.77,116.5,7.8,304,38]
["Output_1_36","Baclab2N4CII-36","04/12/2018 (3) 19:25:20.22","04/12/2018 (3)","19:25:20.220",12.301,"Baclab2N4CII-36",26,"Normal",1,243000,17000,450,210,153,11,4.5,2,1026,79,6.76,0.69,68400,4200,0,1,39.9,3,2.1000000000000001E-2,1.7000000000000001E-2,0.47,0.17,2.58,0.47,0.48799999999999999,8.8999999999999996E-2,17.399999999999999,2,6.54,0.52,82.5,5.8,34.799999999999997,2.6,162,11,343,25,71.5,5.0999999999999996,11280,680,18,62,1.6,3.3,93.2,6.4,6.06,0.41,7.26,0.49,170,11,313,22]
["Output_1_37","Baclab2N4CII-37","04/12/2018 (3) 19:26:12.50","04/12/2018 (3)","19:26:12.500",23.584,"Baclab2N4CII-37",51,"Normal",1,251000,13000,50,140,102.6,4.8,6.2,1.6,227,13,1.0900000000000001,0.12,69000,2800,2.3E-3,4.5999999999999999E-3,9.74,0.53,3.3999999999999998E-3,4.7999999999999996E-3,0.33,0.1,0.45,0.14000000000000001,0.29899999999999999,6.5000000000000002E-2,3.33,0.39,1.18,0.11,16.600000000000001,1.1000000000000001,7.13,0.4,37.6,2.2999999999999998,96.7,5.0999999999999996,23.6,1.2,8790,380,-5,44,2,1.9,13.47,0.67,0.78500000000000003,8.1000000000000003E-2,1.6,0.13,42.8,2,52,2.4]
["Output_1_38","Baclab2N4CII-38","04/12/2018 (3) 19:27:23.78","04/12/2018 (3)","19:27:23.780",16.457000000000001,"Baclab2N4CII-38",36,"Normal",1,193000,28000,160,220,164,12,19.3,5,836,81,1.1399999999999999,0.18,70000,4400,2.8000000000000001E-2,2.4E-2,40.299999999999997,4,0.39500000000000002,8.8999999999999996E-2,6.4,1.2,10.1,1.3,2.1,0.27,33.9,4.0999999999999996,9.17,0.93,92.7,8.6,30.7,3.2,122,12,194,16,40,3.7,8570,510,130,78,1.1000000000000001,2.7,24.4,1.9,2.04,0.17,5.23,0.4,129,12,103.4,8.6999999999999993]
["Output_1_39","Baclab2N4CII-39","04/12/2018 (3) 19:28:11.50","04/12/2018 (3)","19:28:11.500",23.585999999999999,"Baclab2N4CII-39",51,"Normal",1,255000,13000,-120,110,106.4,5.5,11,2.2000000000000002,633,29,0.51400000000000001,8.2000000000000003E-2,68800,2700,0,1,5.75,0.34,1.9E-2,1.0999999999999999E-2,0.26100000000000001,9.0999999999999998E-2,1.22,0.24,0.31,6.6000000000000003E-2,10.31,0.81,3.91,0.24,49.9,2.5,19.940000000000001,0.87,94.7,4.8,177.1,7.6,37.4,1.7,9930,420,38,56,3.4,1.8,82.7,3.2,7.98,0.44,6.34,0.31,47.8,2.2000000000000002,88.2,4.2]
["Output_1_40","Baclab2N4CII-40","04/12/2018 (3) 19:29:19.41","04/12/2018 (3)","19:29:19.410",10.518000000000001,"Baclab2N4CII-40",23,"Normal",1,256000,17000,1080,160,341,25,4.7,1.7,2240,150,1.58,0.28999999999999998,69100,4400,0,1,0.9,0.16,0.06,3.2000000000000001E-2,0.62,0.22,3.58,0.76,0.115,5.1999999999999998E-2,28.5,2.4,13.6,1,188,12,77,5.6,370,25,725,50,150,9.9,11920,760,32,97,1.2,2.6,100.3,6.6,6.27,0.42,3.04,0.21,53.3,3.9,358,25]
["Output_1_41","Baclab2N4CII-41","04/12/2018 (3) 19:33:22.38","04/12/2018 (3)","19:33:22.380",11.706,"Baclab2N4CII-41",25,"Normal",1,220000,18000,190,190,105.2,7.6,6.6,2.2000000000000002,721,53,2.35,0.34,71500,5100,0,1,11.3,1,3.5000000000000003E-2,2.1999999999999999E-2,1.1399999999999999,0.23,3.28,0.65,0.17199999999999999,5.8999999999999997E-2,17.7,2.8,5.32,0.49,67,5.2,25.4,1.9,114.4,8.4,213,17,44.9,3.6,10590,740,180,110,-1,3.5,212,16,22.2,1.7,10.39,0.92,64.900000000000006,4.8,179,14]
["Output_1_42","Baclab2N4CII-42","04/12/2018 (3) 19:34:22.00","04/12/2018 (3)","19:34:22",12.895,"Baclab2N4CII-42",28,"Normal",1,240000,17000,120,150,106.5,6.5,2.6,1.8,328,22,1.26,0.17,70500,4500,3.5999999999999997E-2,3.3000000000000002E-2,22.7,1.8,0.09,2.9000000000000001E-2,1.72,0.49,2.29,0.31,0.88,0.19,7.55,0.98,2.27,0.26,27,2.2999999999999998,10.5,0.75,50.4,3.3,126.5,9.1,29,2.1,10250,640,55,75,3.2,3.2,58.6,4.5,4.04,0.33,8.17,0.75,150,12,145,9.9]
["Output_1_43","Baclab2N4CII-43","04/12/2018 (3) 19:35:19.22","04/12/2018 (3)","19:35:19.220",14.08,"Baclab2N4CII-43",30,"Normal",1,233000,16000,320,170,116.6,7.3,1.4,1,1514,86,0.51,0.14000000000000001,68600,3700,0,1,1.88,0.19,7.1999999999999995E-2,3.2000000000000001E-2,1.34,0.26,3.27,0.51,1.42,0.21,24.8,1.6,9.4,0.76,120.5,8.1,50.4,3.1,249,15,563,34,127.8,7.6,8360,440,48,65,1,3,25.3,1.5,1.72,0.18,2.41,0.23,44.6,2.6,72.900000000000006,4.3]
["Output_1_44","Baclab2N4CII-44","04/12/2018 (3) 19:36:20.41","04/12/2018 (3)","19:36:20.410",14.081,"Baclab2N4CII-44",31,"Normal",1,242000,16000,520,180,185,13,6.8,1.8,833,54,4.6500000000000004,0.43,67000,4200,1.1299999999999999,0.17,31.1,2.1,0.56000000000000005,0.1,3.84,0.74,4.03,0.66,0.46,0.11,19.3,1.9,6.65,0.5,75.900000000000006,5.3,28.5,1.8,130.5,9.4,259,19,52.4,3.5,11560,740,51,74,2.9,2.2000000000000002,167,11,10.29,0.85,8.44,0.53,246,18,761,56]
["Output_1_45","Baclab2N4CII-45","04/12/2018 (3) 19:37:14.66","04/12/2018 (3)","19:37:14.660",14.673,"Baclab2N4CII-45",32,"Normal",1,248000,14000,-30,130,116.4,6.5,1.8,1.1000000000000001,402,25,1.43,0.21,70100,3400,0,1,5.68,0.39,7.9000000000000001E-2,2.7E-2,0.98,0.28000000000000003,1.95,0.36,0.51300000000000001,8.8999999999999996E-2,7.78,0.81,3.16,0.27,36.299999999999997,2.1,13.06,0.83,57.1,3.5,113.1,7,22.8,1.2,12080,620,111,78,1.4,1.9,84.6,7.2,6.24,0.54,4.13,0.31,76.5,3.8,201,16]
["Output_1_46","Baclab2N4CII-46","04/12/2018 (3) 19:38:14.66","04/12/2018 (3)","19:38:14.660",15.27,"Baclab2N4CII-46",33,"Normal",1,257000,16000,180,180,161.6,9,3.6,1.4,557,31,1.71,0.18,70000,3300,0,1,4.4000000000000004,0.32,4.9000000000000002E-2,2.1000000000000001E-2,0.51,0.19,2.16,0.44,0.36399999999999999,8.5000000000000006E-2,13.7,1.2,5.1100000000000003,0.41,57.1,2.9,18.079999999999998,0.99,71.5,4.3,111.9,7,21.6,1.5,12990,650,14,58,0.7,2.7,174,14,12.03,0.9,6.88,0.48,110.4,6.1,424,39]
["Output_1_47","Baclab2N4CII-47","04/12/2018 (3) 19:39:07.72","04/12/2018 (3)","19:39:07.720",25.960999999999999,"Baclab2N4CII-47",56,"Normal",1,259000,14000,210,130,108.5,4.8,12.4,1.9,1061,49,2.36,0.19,68100,2800,1.9E-3,3.8999999999999998E-3,8.81,0.54,0.13700000000000001,3.1E-2,2.38,0.35,4.8,0.55000000000000004,0.23599999999999999,5.5E-2,27.3,1.6,9.08,0.49,104.4,5.2,36.700000000000003,1.6,155.1,6.7,256,10,51.2,2.2000000000000002,10170,400,78,56,2.2000000000000002,2.1,84.4,4.5999999999999996,7.83,0.51,9.89,0.52,84.3,4.4000000000000004,100.1,6.2]
["Output_1_48","Baclab2N4CII-48","04/12/2018 (3) 19:40:11.88","04/12/2018 (3)","19:40:11.880",11.705,"Baclab2N4CII-48",25,"Normal",1,258000,18000,290,130,130.1,7.4,30.7,5.9,1770,110,1,0.17,70200,3600,0.13700000000000001,4.5999999999999999E-2,21,1.5,0.62,0.1,8.6999999999999993,1,11.7,1.3,3.77,0.49,54.5,4,17.100000000000001,1.4,181,12,61.9,4.2,243,15,383,24,74,5.0999999999999996,8590,490,136,95,1.3,2.6,108.2,6.9,10.33,0.68,13.37,0.79,105,6.7,116.9,7.5]
["Output_1_49","Baclab2N4CII-49","04/12/2018 (3) 19:41:15.63","04/12/2018 (3)","19:41:15.630",9.9260000000000002,"Baclab2N4CII-49",22,"Normal",1,176000,20000,47000,13000,140,15,18.8,5,1690,330,1.96,0.23,71900,6500,58,17,281,85,54,17,380,120,157,49,5.9,1.3,181,51,30.1,7.6,229,53,61,12,215,36,324,45,59.9,6.9,11600,1000,8,61,2.4,6.4,76.8,8.3000000000000007,6.4,1,9,1.2,173,16,311,39]
["Output_1_50","Baclab2N4CII-50","04/12/2018 (3) 19:42:12.06","04/12/2018 (3)","19:42:12.060",12.3,"Baclab2N4CII-50",26,"Normal",1,239000,18000,-30,160,117.1,8.6,6.5,1.9,1337,95,1.98,0.28000000000000003,73000,4500,0,1,11.35,0.99,0.318,8.1000000000000003E-2,6.02,0.55000000000000004,10.79,0.93,0.89,0.15,47.8,3.7,13.89,0.99,142,9.6,47.3,3.2,185,13,283,20,53.2,3.6,10200,610,44,71,-0.7,2.1,146.80000000000001,9.9,11.99,0.87,11.33,0.87,112.5,7.3,205,14]
["Output_1_51","Baclab2N4CII-51","04/12/2018 (3) 19:46:08.50","04/12/2018 (3)","19:46:08.500",23.582999999999998,"Baclab2N4CII-51",51,"Normal",1,237000,14000,130,120,161.6,7.1,14.6,2.6,548,27,1.86,0.17,72600,3100,0,1,49.1,2.5,0.11799999999999999,3.5999999999999997E-2,2.0699999999999998,0.33,4.55,0.63,1.1499999999999999,0.15,18.3,1.1000000000000001,5.34,0.28000000000000003,55.5,3.2,19.16,0.82,79.2,4,140.80000000000001,7.3,28.6,1.3,9500,420,8,59,1.1000000000000001,1.9,26.1,1.2,1.51,0.13,3.25,0.17,106.2,5,119.3,6.5]
["Output_1_52","Baclab2N4CII-52","04/12/2018 (3) 19:47:09.50","04/12/2018 (3)","19:47:09.500",23.585000000000001,"Baclab2N4CII-52",51,"Normal",1,244000,13000,40,110,116.2,4.8,5.2,1.5,769,33,2.85,0.18,69700,2400,0,1,11.81,0.61,4.7E-2,1.7999999999999999E-2,0.91,0.22,2.89,0.33,0.315,7.0999999999999994E-2,15.2,1,5.59,0.28999999999999998,69.7,3,26.9,1.1000000000000001,122.8,5.2,233,10,49.1,2.2999999999999998,10030,400,36,63,-1,1.8,47.1,2.2999999999999998,3.03,0.19,4.43,0.25,84,3.4,127.7,5.3]
["Output_1_53","Baclab2N4CII-53","04/12/2018 (3) 19:48:20.19","04/12/2018 (3)","19:48:20.190",12.894,"Baclab2N4CII-53",28,"Normal",1,235000,16000,520,200,98.5,7.4,7.6,1.8,1850,140,18.2,1.5,68900,3900,8,2,43.8,6,3.46,0.89,19.399999999999999,4.9000000000000004,8.1999999999999993,1.4,0.16600000000000001,0.06,30.8,2.9,11.29,0.84,153,13,62.6,5,306,26,585,47,118.4,8.5,14230,900,43,60,2.9,3.5,170,14,12.1,1,13.3,1,245,21,483,41]
["Output_1_54","Baclab2N4CII-54","04/12/2018 (3) 19:49:07.91","04/12/2018 (3)","19:49:07.910",24.178000000000001,"Baclab2N4CII-54",52,"Normal",1,238000,12000,152,95,111,4,12.8,2.2000000000000002,589,24,0.42699999999999999,8.2000000000000003E-2,70100,2700,0,1,2.9,0.2,1.3599999999999999E-2,9.7000000000000003E-3,0.53,0.14000000000000001,1.32,0.25,0.34699999999999998,7.8E-2,10.58,0.76,3.87,0.23,49,2.4,19.11,0.86,87.7,3.8,158.80000000000001,7.6,32.799999999999997,1.6,9150,400,80,52,-0.4,1.9,62.9,2.8,5.89,0.28000000000000003,3.97,0.22,31.3,1.5,66.900000000000006,2.8]
["Output_1_55","Baclab2N4CII-55","04/12/2018 (3) 19:50:02.56","04/12/2018 (3)","19:50:02.560",15.863,"Baclab2N4CII-55",34,"Normal",1,276000,16000,130,160,139,9.1,5.5,1.8,1600,110,8.89,0.79,74800,3600,0,1,50.8,3.5,4.8000000000000001E-2,0.02,0.65,0.21,2.4300000000000002,0.33,0.52,0.11,19.100000000000001,1.7,8.5399999999999991,0.6,123.9,8.1,53.8,4,270,19,592,39,116.7,6.9,11190,530,81,61,10.9,3.6,59.8,3.6,11.47,0.8,14.24,0.99,154.6,9.1,206,13]
["Output_1_56","Baclab2N4CII-56","04/12/2018 (3) 19:51:15.22","04/12/2018 (3)","19:51:15.220",15.864000000000001,"Baclab2N4CII-56",34,"Normal",1,211000,14000,8300,1400,177,12,9.8000000000000007,2.9,1256,84,6.53,0.48,71100,4200,198,42,441,81,45.1,9.1999999999999993,181,38,39.5,8.1,4.21,0.7,52.1,8.1999999999999993,11.5,1.1000000000000001,118.6,9,43.5,3.1,195,13,392,24,86.9,5.9,10170,650,48,67,0.5,2.5,25.8,1.5,2.66,0.28000000000000003,4,0.32,82.2,5.5,92.8,6.1]
["Output_1_57","Baclab2N4CII-57","04/12/2018 (3) 19:52:10.47","04/12/2018 (3)","19:52:10.470",9.9250000000000007,"Baclab2N4CII-57",22,"Normal",1,268000,21000,-50,150,91.9,6.4,3.3,1.9,611,42,5.43,0.42,65600,3900,0.63,0.14000000000000001,9.57,0.84,0.182,5.7000000000000002E-2,1.26,0.37,2.04,0.41,0.23899999999999999,4.9000000000000002E-2,13.6,1.3,4.51,0.34,54.4,4,21.1,1.3,96.3,6.2,175,13,34.6,2.2999999999999998,11430,760,57,80,3,2.8,115.8,7.6,9.84,0.68,5.01,0.27,45.6,3.1,166,11]
["Output_1_58","Baclab2N4CII-58","04/12/2018 (3) 19:53:07.50","04/12/2018 (3)","19:53:07.500",14.676,"Baclab2N4CII-58",32,"Normal",1,265000,14000,120,130,111.8,5.5,3.3,1.6,638,29,3.24,0.28000000000000003,70800,3400,8.7999999999999995E-2,3.4000000000000002E-2,6.81,0.46,8.2000000000000003E-2,2.4E-2,1.23,0.22,2.5099999999999998,0.42,0.38300000000000001,8.7999999999999995E-2,15.5,1.3,5.35,0.38,62.6,3.8,21.9,1.1000000000000001,93.9,4,164.9,7.8,33.1,1.4,9530,440,61,89,1,2.2000000000000002,49,2.7,3.99,0.24,2.76,0.17,25.2,1.4,69.2,3.2]
["Output_1_59","Baclab2N4CII-59","04/12/2018 (3) 19:54:06.50","04/12/2018 (3)","19:54:06.500",23.584,"Baclab2N4CII-59",51,"Normal",1,236000,13000,0,130,133.30000000000001,5.9,14,2.7,611,26,1.19,0.13,69700,2600,3.7999999999999999E-2,1.7999999999999999E-2,46.7,2.1,0.34499999999999997,5.5E-2,6.16,0.6,8.8699999999999992,0.96,2.58,0.18,27,1.4,7.06,0.38,64.5,2.8,20.79,0.85,85.3,4.2,154.19999999999999,6.8,31.9,1.4,9400,380,-12,61,3.1,2.1,45.6,2,2.71,0.18,7.9,0.41,246,11,203.5,9.6999999999999993]
["Output_1_60","Baclab2N4CII-60","04/12/2018 (3) 19:55:17.19","04/12/2018 (3)","19:55:17.190",6.9554,"Baclab2N4CII-60",15,"Normal",1,229000,18000,80,200,131,11,11.3,6.5,449,38,1.82,0.25,69200,4200,0.01,0.02,57.7,4,8.5999999999999993E-2,4.8000000000000001E-2,2.6,0.59,4.5,1.2,1.48,0.26,15.8,1.7,4.33,0.46,43.4,3.8,14.7,1.2,59.3,4.5999999999999996,119,11,25,2.1,9460,680,50,120,-0.6,4.0999999999999996,55.6,4.0999999999999996,3.59,0.32,9.11,0.8,271,21,256,19]
["Output_1_61","Baclab2N4CII-61","04/12/2018 (3) 20:00:06.50","04/12/2018 (3)","20:00:06.500",23.585999999999999,"Baclab2N4CII-61",51,"Normal",1,237000,13000,190,120,137.80000000000001,5.7,14.8,2.2999999999999998,798,41,1.1539999999999999,0.09,69400,2900,1.4999999999999999E-2,1.2999999999999999E-2,54.2,2.5,0.5,6.9000000000000006E-2,8.5500000000000007,0.81,11.87,0.99,3.72,0.26,35.799999999999997,1.8,9.14,0.5,85.9,4.8,26.9,1.5,107,5.3,192.6,9.1,39.200000000000003,1.9,9180,380,60,49,1.3,2.2999999999999998,53,3,3.17,0.23,10.17,0.56999999999999995,328,18,241,12]
["Output_1_62","Baclab2N4CII-62","04/12/2018 (3) 20:01:20.57","04/12/2018 (3)","20:01:20.570",8.7370999999999999,"Baclab2N4CII-62",19,"Normal",1,236000,19000,90,150,133.9,9.6999999999999993,6.9,2.9,1140,87,4.58,0.39,71800,4500,0,1,52.3,4.2,9.6000000000000002E-2,4.3999999999999997E-2,0.96,0.26,3.42,0.69,0.71,0.13,18.7,2.4,7.08,0.52,88.7,7.7,37,2.7,179,15,391,30,83.9,6.8,10840,760,81,62,2,5,76.900000000000006,6.5,6.1,0.54,11.89,0.92,302,23,323,25]
["Output_1_63","Baclab2N4CII-63","04/12/2018 (3) 20:02:10.06","04/12/2018 (3)","20:02:10.060",13.486000000000001,"Baclab2N4CII-63",29,"Normal",1,251000,14000,570,140,210,11,10.8,2.5,1289,76,1.2,0.19,69300,3600,0,1,8.26,0.54,1.9E-2,1.4E-2,0.78,0.22,2.56,0.4,0.30099999999999999,6.7000000000000004E-2,20.2,1.6,8.51,0.6,106,6.4,45.1,2.8,215,11,430,23,90.5,5.6,11590,620,105,81,-2.6,2,35.5,2.2000000000000002,2.5,0.17,3.43,0.27,56,3.6,90.7,5.4]
["Output_1_64","Baclab2N4CII-64","04/12/2018 (3) 20:03:16.00","04/12/2018 (3)","20:03:16",16.456,"Baclab2N4CII-64",36,"Normal",1,213000,17000,240,140,101.1,6.7,3.7,1.8,329,20,2.8,0.31,67500,3500,4.0000000000000001E-3,7.9000000000000008E-3,29.8,1.7,6.7000000000000004E-2,0.03,1.05,0.27,1.38,0.35,0.57999999999999996,0.13,7.5,1,2.59,0.23,28,2,10.56,0.69,50.2,3,106.5,6,24,1.5,10610,570,20,62,1,2.8,111.8,6.8,7.89,0.6,10.32,0.73,191,11,334,20]
["Output_1_65","Baclab2N4CII-65","04/12/2018 (3) 20:04:10.25","04/12/2018 (3)","20:04:10.250",18.832000000000001,"Baclab2N4CII-65",41,"Normal",1,224000,14000,130,110,101.1,5.8,11.7,2.7,591,32,2.88,0.23,68200,2800,0,1,14.72,0.8,2.5000000000000001E-2,1.4E-2,0.61,0.2,1.75,0.33,0.248,7.0999999999999994E-2,9.26,0.86,3.74,0.26,47.7,2.6,19.18,0.92,97.5,5.0999999999999996,213,11,46.8,2.5,10470,480,66,66,0.9,2.7,109.7,6.5,8.81,0.55000000000000004,7,0.43,69.5,3.8,161,8.1999999999999993]
["Output_1_66","Baclab2N4CII-66","04/12/2018 (3) 20:05:14.41","04/12/2018 (3)","20:05:14.410",14.676,"Baclab2N4CII-66",32,"Normal",1,237000,15000,230,110,94.6,4.8,2.9,1.3,442,27,2.04,0.28999999999999998,67000,3500,0,1,10.98,0.7,2.8000000000000001E-2,1.6E-2,0.39,0.11,1.1100000000000001,0.3,0.13500000000000001,5.1999999999999998E-2,6.24,0.74,2.4700000000000002,0.23,33.4,2,13.69,0.99,71.900000000000006,4.9000000000000004,180,12,40.700000000000003,2.4,10970,600,-10,78,-0.2,2.9,113.4,8.1999999999999993,8.7799999999999994,0.81,5.51,0.41,60.3,4,173,12]
["Output_1_67","Baclab2N4CII-67","04/12/2018 (3) 20:06:04.50","04/12/2018 (3)","20:06:04.500",23.585999999999999,"Baclab2N4CII-67",51,"Normal",1,246000,13000,105,87,101.8,4.9000000000000004,10.8,2.2000000000000002,425,20,2.48,0.22,68400,2800,0,1,29.6,1.6,6.8000000000000005E-2,2.5000000000000001E-2,1.1399999999999999,0.21,2.0299999999999998,0.28000000000000003,0.503,8.5999999999999993E-2,8.81,0.63,3.18,0.21,36.4,1.8,14.3,0.7,64.599999999999994,3.3,140.9,6.5,29.9,1.4,9730,400,43,46,1.5,1.5,109.5,4.7,9.16,0.42,7.04,0.36,66.8,3.2,151.4,7.1]
["Output_1_68","Baclab2N4CII-68","04/12/2018 (3) 20:07:11.63","04/12/2018 (3)","20:07:11.630",12.895,"Baclab2N4CII-68",28,"Normal",1,239000,15000,160,190,112.1,7,16.899999999999999,4.3,558,36,2.5499999999999998,0.36,67700,3800,0,1,35.6,2.2999999999999998,0.128,4.4999999999999998E-2,1.73,0.4,3.45,0.59,0.86,0.13,14.6,1.2,4.8,0.3,53.9,3.8,19.3,1.4,80.7,4.8,155,8.9,31.3,1.8,8670,500,28,88,2.2000000000000002,2.2000000000000002,93.7,5.0999999999999996,7.93,0.51,8.18,0.59,74.5,4.5,125.6,7.6]
["Output_1_69","Baclab2N4CII-69","04/12/2018 (3) 20:08:13.00","04/12/2018 (3)","20:08:13",13.487,"Baclab2N4CII-69",30,"Normal",1,212000,16000,350,200,156,11,5.2,2.1,1710,120,11.59,0.95,63800,3700,4.7000000000000002E-3,9.4000000000000004E-3,66.400000000000006,5.2,0.24399999999999999,5.5E-2,4.18,0.62,7.7,1,1.04,0.16,39.299999999999997,2.9,14.3,1.1000000000000001,169,12,62.1,4.5,268,18,478,33,96.1,6.4,8780,570,70,90,3.2,2.8,144,12,9.6999999999999993,1,23.4,2.4,543,52,457,33]
["Output_1_70","Baclab2N4CII-70","04/12/2018 (3) 20:08:59.34","04/12/2018 (3)","20:08:59.340",8.1422000000000008,"Baclab2N4CII-70",18,"Normal",1,304000,16000,310,150,191,15,5.7,2.2999999999999998,638,35,1.07,0.18,71900,3600,1.2E-2,1.7000000000000001E-2,1.58,0.19,0.22,6.7000000000000004E-2,1.97,0.36,4.75,0.48,0.63,0.2,21.7,1.8,7.38,0.4,72.2,4.3,21.2,1.4,77.5,4.9000000000000004,119.3,8.6,22.8,1.5,12740,510,93,85,5,2.9,211,13,14.91,0.61,3.85,0.35,61.2,3.9,896,63]
["Output_1_71","Baclab2N4CII-71","04/12/2018 (3) 20:13:03.50","04/12/2018 (3)","20:13:03.500",12.3,"Baclab2N4CII-71",26,"Normal",1,268000,17000,140,130,172,10,9.6,2.2999999999999998,1247,73,1.2,0.14000000000000001,69000,3700,3.3000000000000002E-2,2.5999999999999999E-2,3.61,0.27,0.32200000000000001,7.8E-2,5.68,0.59,9.1199999999999992,0.84,1.73,0.21,41.6,2.9,12.36,0.85,132.4,8.6999999999999993,45.9,3,177,11,281,16,55,3.3,9040,490,55,79,2.2000000000000002,3.5,49.3,3,5.27,0.32,3.92,0.28999999999999998,30.9,1.9,69.900000000000006,4.0999999999999996]
["Output_1_72","Baclab2N4CII-72","04/12/2018 (3) 20:14:16.38","04/12/2018 (3)","20:14:16.380",11.707000000000001,"Baclab2N4CII-72",25,"Normal",1,225000,16000,320,150,129.19999999999999,7.3,10.4,2.8,1067,79,4.32,0.45,67600,3700,0.59,0.14000000000000001,42.4,2.6,1.28,0.14000000000000001,10.9,1.4,12.2,1.4,4.79,0.47,31.6,3,10.5,1.1000000000000001,113.2,9.1,36.200000000000003,2.8,154,11,309,21,60.4,4,11090,690,102,75,2.4,3.8,54.1,3.8,6.3,0.56000000000000005,10.02,0.86,191,15,174,13]
["Output_1_73","Baclab2N4CII-73","04/12/2018 (3) 20:15:03.50","04/12/2018 (3)","20:15:03.500",14.673999999999999,"Baclab2N4CII-73",32,"Normal",1,266000,14000,10,130,109.1,5.9,8.4,2.2999999999999998,434,23,3.27,0.28999999999999998,67700,3200,0,1,6.32,0.45,0.04,2.1000000000000001E-2,0.61,0.19,1.58,0.33,0.09,3.6999999999999998E-2,9.43,0.95,3.23,0.24,39.9,2.2000000000000002,15.3,0.83,67,3.3,140.69999999999999,8.1,29.3,1.7,11800,560,30,80,3.4,2.8,228,13,18.600000000000001,1.1000000000000001,9.2200000000000006,0.49,90.2,5.6,339,23]
["Output_1_74","Baclab2N4CII-74","04/12/2018 (3) 20:16:15.38","04/12/2018 (3)","20:16:15.380",11.706,"Baclab2N4CII-74",25,"Normal",1,198000,13000,-40,130,142.6,9.8000000000000007,17.8,5,434,32,1.43,0.16,69500,4100,0,1,4.7300000000000004,0.42,0.14399999999999999,4.2999999999999997E-2,2.15,0.49,2.94,0.82,0.76,0.2,15.2,1.9,4,0.42,44,3.4,15.7,1.3,61.4,4.5999999999999996,106.8,9.1999999999999993,21.8,1.5,9650,570,8,59,0.7,3.1,28.5,1.8,3.27,0.23,3.33,0.32,34.700000000000003,2.8,46.5,3.5]
["Output_1_75","Baclab2N4CII-75","04/12/2018 (3) 20:17:02.50","04/12/2018 (3)","20:17:02.500",23.585000000000001,"Baclab2N4CII-75",51,"Normal",1,230000,12000,840,110,354,17,7.5,2.1,2103,98,1.36,0.15,69700,2700,0,1,3.2,0.25,1.1299999999999999E-2,8.8000000000000005E-3,0.48,0.15,2.08,0.33,0.30399999999999999,0.06,18.3,1.3,9.8000000000000007,0.49,155.5,7.1,70.900000000000006,3.4,369,18,836,39,175.4,8.4,12260,490,37,53,0.1,2.5,45.2,2.1,3.76,0.23,2.6,0.18,29.6,1.6,133.80000000000001,6.1]
["Output_1_76","Baclab2N4CII-76","04/12/2018 (3) 20:18:06.06","04/12/2018 (3)","20:18:06.060",17.052,"Baclab2N4CII-76",36,"Normal",1,230000,12000,270,130,115,5.8,5.9,1.5,520,26,1.77,0.19,68000,2800,0,1,26.5,1.4,0.104,2.7E-2,1.78,0.32,2.6,0.52,0.69,0.1,12.23,0.9,4.41,0.27,47.5,2.5,17.600000000000001,0.93,77.599999999999994,3.9,148.4,7.6,30.5,1.4,10120,460,11,79,1.4,2.5,143.9,6.7,12.69,0.7,16.34,0.86,160.6,7.4,183.4,8.6999999999999993]
["Output_1_77","Baclab2N4CII-77","04/12/2018 (3) 20:19:11.00","04/12/2018 (3)","20:19:11",11.707000000000001,"Baclab2N4CII-77",26,"Normal",1,229000,15000,90,110,104,7.4,15.4,3.5,513,34,1.74,0.32,64100,3300,0,1,10.98,0.83,7.0000000000000007E-2,3.6999999999999998E-2,0.99,0.32,1.78,0.36,0.33100000000000002,9.7000000000000003E-2,11.8,1.7,3.9,0.28999999999999998,46.7,3,17.399999999999999,1,79.900000000000006,5.4,155,11,31.4,2.2999999999999998,9850,480,105,73,2.1,2.5,126,8.5,10.69,0.8,7.43,0.56000000000000005,74.7,4.9000000000000004,168,10]
["Output_1_78","Baclab2N4CII-78","04/12/2018 (3) 20:20:03.28","04/12/2018 (3)","20:20:03.280",20.021999999999998,"Baclab2N4CII-78",43,"Normal",1,235000,13000,252,94,157.69999999999999,8.6999999999999993,13.7,3,567,30,1.71,0.16,67600,3100,0,1,44.9,2.4,0.156,3.5000000000000003E-2,1.63,0.31,3.4,0.44,0.84,0.1,18,1.3,5.29,0.33,58.2,3.6,20.2,1.3,82.6,4.8,149.19999999999999,8.1999999999999993,30.9,1.7,9000,400,69,54,2.2999999999999998,2.4,29.1,1.6,2.42,0.17,3.95,0.31,104.5,5.0999999999999996,128.6,6.5]
["Output_1_79","Baclab2N4CII-79","04/12/2018 (3) 20:21:02.88","04/12/2018 (3)","20:21:02.880",16.456,"Baclab2N4CII-79",36,"Normal",1,245000,13000,200,130,172.2,8.6999999999999993,7.8,2.2999999999999998,1291,81,1.95,0.2,68400,2900,0,1,27.4,2.1,0.14499999999999999,4.2999999999999997E-2,3.61,0.44,6.65,0.75,2.2999999999999998,0.24,33.9,2.7,11.08,0.83,125.5,8.1,45.4,3,197,13,351,23,71.099999999999994,4.2,8630,380,95,73,2.2000000000000002,2.2999999999999998,40.6,2.4,2.77,0.23,5.98,0.43,101.3,8.4,97,6.3]
["Output_1_80","Baclab2N4CII-80","04/12/2018 (3) 20:22:00.50","04/12/2018 (3)","20:22:00.500",23.584,"Baclab2N4CII-80",51,"Normal",1,240000,12000,39,97,83.5,3.3,2.4,1,227,14,0.53600000000000003,7.6999999999999999E-2,67400,2600,0,1,2.39,0.15,6.3E-3,6.1000000000000004E-3,1.7999999999999999E-2,2.5999999999999999E-2,0.24,0.11,6.4000000000000001E-2,2.7E-2,1.57,0.25,0.98,0.1,13.5,1,6.22,0.4,37.4,2.4,117,6.6,29.2,1.6,10810,410,-10,55,-0.2,2.4,371,16,38.200000000000003,1.8,7,0.3,43.6,1.9,348,15]
["Output_1_81","Baclab2N4CII-81","04/12/2018 (3) 20:26:07.03","04/12/2018 (3)","20:26:07.030",10.516999999999999,"Baclab2N4CII-81",23,"Normal",1,245000,15000,30,110,137.9,8.8000000000000007,3.6,1.5,577,35,1.82,0.27,67200,3600,0.03,2.5000000000000001E-2,12.98,0.82,1.7999999999999999E-2,1.7000000000000001E-2,0.7,0.17,1.22,0.37,0.26100000000000001,8.7999999999999995E-2,8.6,1,3.35,0.23,42.7,2.6,18.5,1.3,97.6,5,252,15,61.1,4,10820,640,101,83,3.7,2.6,75.400000000000006,4.5999999999999996,5.41,0.48,6.98,0.51,125.2,8.5,201,13]
["Output_1_82","Baclab2N4CII-82","04/12/2018 (3) 20:27:03.28","04/12/2018 (3)","20:27:03.280",8.7361000000000004,"Baclab2N4CII-82",19,"Normal",1,263000,17000,400,120,198,20,5,2.1,930,70,2.31,0.21,69100,3100,4.4999999999999998E-2,3.1E-2,47.8,2.9,0.27300000000000002,5.7000000000000002E-2,4.33,0.94,7.61,0.89,2.59,0.45,31,4.3,9.0299999999999994,0.92,95.7,8.8000000000000007,31.4,2.9,136,12,262,15,53.3,3.1,10380,600,40,110,3.5,2.6,83,10,5.15,0.71,12.06,0.81,374,23,406,59]
["Output_1_83","Baclab2N4CII-83","04/12/2018 (3) 20:27:58.12","04/12/2018 (3)","20:27:58.120",14.081,"Baclab2N4CII-83",30,"Normal",1,260000,16000,370,100,164.9,8.6999999999999993,5.4,2.2000000000000002,1159,51,3.69,0.32,73000,2900,3.5000000000000001E-3,7.1000000000000004E-3,17.7,1.2,5.8999999999999997E-2,2.3E-2,1.95,0.28000000000000003,4.84,0.57999999999999996,0.27500000000000002,9.2999999999999999E-2,26.8,1.9,9.25,0.48,111.1,4.9000000000000004,40.5,1.8,179.2,8.6,322,16,63.6,2.8,11020,430,152,77,4.0999999999999996,2.2000000000000002,91.2,4.4000000000000004,6.33,0.37,7.04,0.4,124.7,5.9,235,12]
["Output_1_84","Baclab2N4CII-84","04/12/2018 (3) 20:28:53.37","04/12/2018 (3)","20:28:53.370",19.427,"Baclab2N4CII-84",41,"Normal",1,273000,16000,120,100,103,5.2,3.2,1.1000000000000001,74.7,3.4,0.42,8.6999999999999994E-2,71000,3000,0,1,5.91,0.42,0,1,7.2999999999999995E-2,6.2E-2,0.11799999999999999,8.4000000000000005E-2,0.122,4.3999999999999997E-2,0.93,0.22,0.32400000000000001,5.3999999999999999E-2,5.0199999999999996,0.39,2.2599999999999998,0.17,12.79,0.76,39.6,2.2000000000000002,10.85,0.66,11340,470,25,63,1.6,2.2999999999999998,283,14,42.8,2.2000000000000002,10.199999999999999,0.52,45.8,2.4,177.5,9.5]
["Output_1_85","Baclab2N4CII-85","04/12/2018 (3) 20:30:07.81","04/12/2018 (3)","20:30:07.810",12.895,"Baclab2N4CII-85",28,"Normal",1,221000,12000,110,110,104.7,5.6,5.7,2,345,18,1.18,0.16,67600,3100,0,1,3.25,0.3,1.6E-2,1.4999999999999999E-2,0.47,0.16,1.29,0.31,0,1,7.3,0.64,2.44,0.17,30.7,1.4,11.79,0.8,54.1,3,115.2,6.4,23.8,1.3,10670,550,100,86,3.7,3,151.1,7.8,13.66,0.81,4.51,0.34,32,2,179,8.8000000000000007]
["Output_1_86","Baclab2N4CII-86","04/12/2018 (3) 20:30:59.50","04/12/2018 (3)","20:30:59.500",15.269,"Baclab2N4CII-86",33,"Normal",1,259000,15000,970,100,438,24,7.8,2.1,2590,130,2,0.16,71800,3200,0,1,4.6399999999999997,0.31,1.4E-2,1.2E-2,0.39,0.15,2.46,0.5,0.49,0.1,23.1,1.4,11.85,0.62,187.9,9.1999999999999993,86.6,4.5999999999999996,457,24,1022,50,217,11,13290,580,-3,71,-1.4,2.1,53.1,2.7,3.76,0.22,2.0299999999999998,0.19,36.4,2,164.9,9.1999999999999993]
["Output_1_87","Baclab2N4CII-87","04/12/2018 (3) 20:31:58.50","04/12/2018 (3)","20:31:58.500",25.96,"Baclab2N4CII-87",56,"Normal",1,239000,14000,180,100,111.2,4.5999999999999996,19,2.9,614,24,1.61,0.15,67200,2300,0,1,11.64,0.46,1.61E-2,9.9000000000000008E-3,0.69,0.18,1.57,0.28999999999999998,0.30199999999999999,5.1999999999999998E-2,10.4,0.72,4.1399999999999997,0.19,51.2,2.4,21.04,0.85,98.1,4.5,198.2,8.3000000000000007,41.4,1.7,10000,350,3,54,4,1.8,66.900000000000006,2.9,7.56,0.35,7.31,0.38,41.7,1.7,60.1,2.5]
["Output_1_88","Baclab2N4CII-88","04/12/2018 (3) 20:33:02.06","04/12/2018 (3)","20:33:02.060",20.021000000000001,"Baclab2N4CII-88",43,"Normal",1,227000,12000,137,97,130.30000000000001,7.2,17.100000000000001,2.7,2058,98,0.96,0.12,68100,2800,3.2000000000000001E-2,0.02,19.8,1.1000000000000001,0.35599999999999998,5.3999999999999999E-2,5.98,0.51,8.82,0.73,2.29,0.21,44.5,2.2999999999999998,14.36,0.75,180.8,8.9,69.7,3.7,309,15,545,25,113,5.2,8730,350,16,68,1.3,2.2000000000000002,41,2.2000000000000002,2.5099999999999998,0.21,7.08,0.46,272,14,232,11]
["Output_1_89","Baclab2N4CII-89","04/12/2018 (3) 20:34:08.60","04/12/2018 (3)","20:34:08.600",13.486000000000001,"Baclab2N4CII-89",29,"Normal",1,205000,15000,290,120,97.7,7,5.0999999999999996,1.9,845,54,4.67,0.33,67800,3600,0,1,11.03,0.69,8.6999999999999994E-2,2.7E-2,1.06,0.37,3.22,0.47,0.29699999999999999,9.6000000000000002E-2,17.399999999999999,1.8,6.19,0.42,76.900000000000006,4.9000000000000004,29.7,1.9,130.19999999999999,8.1,243,16,48.8,3,10540,500,4,70,3.8,3.3,287,17,24.6,1.5,13.6,1.1000000000000001,118.6,7.1,329,21]
["Output_1_90","Baclab2N4CII-90","04/12/2018 (3) 20:34:57.50","04/12/2018 (3)","20:34:57.500",23.585000000000001,"Baclab2N4CII-90",51,"Normal",1,236000,12000,1140,110,436,20,7.1,1.8,3200,150,3.04,0.23,70700,3100,0,1,2.29,0.16,0.13900000000000001,2.9000000000000001E-2,3.2,0.32,9.7200000000000006,0.88,0.33700000000000002,6.9000000000000006E-2,61.2,2.9,24.5,1.1000000000000001,310,15,109.8,5.0999999999999996,435,21,621,32,110.4,5.8,11500,470,-28,54,0.3,2,99.3,4.9000000000000004,6.32,0.37,4.63,0.28000000000000003,107.3,4.9000000000000004,362,16]
["Output_1_91","Baclab2N4CII-91","04/12/2018 (3) 20:40:01.66","04/12/2018 (3)","20:40:01.660",9.9220000000000006,"Baclab2N4CII-91",21,"Normal",1,259000,17000,820,140,329,16,6.8,2.5,2440,130,1.1499999999999999,0.18,68500,3600,2.3E-2,3.2000000000000001E-2,0.83,0.14000000000000001,5.5E-2,2.9000000000000001E-2,1.18,0.36,3.92,0.64,0.17499999999999999,8.5999999999999993E-2,36.4,2.2999999999999998,14.87,0.83,209.9,9.3000000000000007,85.8,4.2,393,21,740,42,149.80000000000001,7.6,11990,520,41,72,2.2999999999999998,3.2,93.5,7.3,6.37,0.46,3.17,0.28000000000000003,57.4,4.3,338,25]
["Output_1_92","Baclab2N4CII-92","04/12/2018 (3) 20:41:07.41","04/12/2018 (3)","20:41:07.410",14.081,"Baclab2N4CII-92",31,"Normal",1,241000,13000,1060,130,388,23,4.9000000000000004,1.5,2930,150,2.09,0.26,65000,3000,0,1,2.76,0.33,4.5999999999999999E-2,0.02,1.3,0.28999999999999998,5.03,0.78,0.33400000000000002,7.4999999999999997E-2,42.7,3.3,18,1.1000000000000001,250,15,104,6.2,480,28,923,51,192,11,10640,440,-32,66,-0.1,3.1,146.9,8.6999999999999993,9.57,0.56999999999999995,5.23,0.52,113,11,521,35]
["Output_1_93","Baclab2N4CII-93","04/12/2018 (3) 20:41:56.91","04/12/2018 (3)","20:41:56.910",11.706,"Baclab2N4CII-93",25,"Normal",1,268000,18000,178,90,114.1,6.9,8.4,3,825,85,1.69,0.19,70800,4000,0,1,8.08,0.66,0.25,6.5000000000000002E-2,4.28,0.77,7.3,1.3,0.76,0.16,29.2,4.0999999999999996,8.6,1.3,93,12,30,3.4,120,12,205,16,41.7,3.3,10710,680,12,63,-2.7,3,177,18,15.2,1.5,11.68,0.88,122,8,257,29]
["Output_1_94","Baclab2N4CII-94","04/12/2018 (3) 20:43:04.63","04/12/2018 (3)","20:43:04.630",12.894,"Baclab2N4CII-94",28,"Normal",1,238000,15000,60,110,103,6.7,2.7,1.5,322,18,2.25,0.24,66800,3500,0,1,22.7,1.4,0,1,9.1999999999999998E-2,7.5999999999999998E-2,0.65,0.22,0.218,0.08,5.26,0.79,1.84,0.14000000000000001,23.4,1.5,9.92,0.61,50,3.2,115.4,6.9,25.7,1.7,11150,550,18,78,0.9,3.1,67,4.7,4.03,0.28000000000000003,3.45,0.3,88.5,5.3,298,19]
["Output_1_95","Baclab2N4CII-95","04/12/2018 (3) 20:44:08.38","04/12/2018 (3)","20:44:08.380",11.706,"Baclab2N4CII-95",25,"Normal",1,216000,14000,-30,130,137.4,9.5,15.1,3.7,663,53,1.54,0.23,67600,3200,3.9E-2,3.1E-2,13.93,0.94,0.189,0.06,1.9,0.38,2.92,0.68,0.85,0.19,11.6,1.5,4.33,0.38,54.8,5.2,21.8,1.9,104.7,8.4,247,18,58.3,4.5,11060,600,42,94,7.3,2.9,46.4,3.4,5.3,0.4,6.08,0.56000000000000005,129,12,178,13]
["Output_1_96","Baclab2N4CII-96","04/12/2018 (3) 20:45:04.81","04/12/2018 (3)","20:45:04.810",15.268000000000001,"Baclab2N4CII-96",33,"Normal",1,229000,12000,620,100,209.2,9.9,10.6,2.9,1595,73,0.81,0.14000000000000001,63800,2600,0,1,4.13,0.34,5.1999999999999998E-2,2.1999999999999999E-2,1.63,0.32,4.4000000000000004,0.42,0.38400000000000001,9.2999999999999999E-2,30,2,10.5,0.56000000000000005,136.30000000000001,7.2,55,2.9,258,11,494,24,101.2,4.5,10250,420,109,81,1.7,3.4,33.299999999999997,1.7,2.3199999999999998,0.19,3.1,0.24,49,2.7,86.4,3.9]
["Output_1_97","Baclab2N4CII-97","04/12/2018 (3) 20:45:54.31","04/12/2018 (3)","20:45:54.310",12.3,"Baclab2N4CII-97",27,"Normal",1,274000,16000,144,78,84.7,4.0999999999999996,3.4,1.4,670,37,11.47,0.72,66100,2900,0,1,14.52,0.84,3.5000000000000003E-2,0.02,0.72,0.24,2.0499999999999998,0.4,0.16300000000000001,4.8000000000000001E-2,12.46,0.75,4.84,0.28000000000000003,62.2,3.6,23.8,1.2,109,5.9,210,11,42.7,2.4,11930,480,-54,70,-0.4,2.2999999999999998,166.7,8.3000000000000007,13.86,0.82,6.2,0.42,56.2,2.9,265,13]
["Output_1_98","Baclab2N4CII-98","04/12/2018 (3) 20:46:53.12","04/12/2018 (3)","20:46:53.120",10.519,"Baclab2N4CII-98",23,"Normal",1,267000,16000,90,110,94.2,5.8,8,2.4,807,40,13.1,1.1000000000000001,71300,2900,0,1,16.5,1,1.4999999999999999E-2,1.4E-2,1.29,0.23,3.05,0.46,0.185,6.7000000000000004E-2,18,1.4,6.88,0.44,77.3,4.4000000000000004,28.9,1.5,121.5,6.3,214,11,41.6,2.2000000000000002,11560,480,66,86,-1.6,3.2,134.1,6.7,10.44,0.61,5.67,0.35,61.6,3,224,11]
["Output_1_99","Baclab2N4CII-99","04/12/2018 (3) 20:47:55.69","04/12/2018 (3)","20:47:55.690",22.398,"Baclab2N4CII-99",48,"Normal",1,229000,11000,315,99,205.2,7.7,6.4,1.9,1257,50,5.14,0.28999999999999998,64300,2200,1.7000000000000001E-2,1.4E-2,32.4,1.3,5.8999999999999997E-2,2.1999999999999999E-2,0.85,0.23,2.6,0.38,0.77,0.12,18.100000000000001,1.2,7.46,0.42,97.5,4.0999999999999996,42.5,1.9,207.7,8.1,458,20,99.9,3.9,10740,390,31,59,1,3.1,102,4.0999999999999996,8.66,0.41,11.68,0.57999999999999996,227.4,9.1999999999999993,355,14]
["Output_1_100","Baclab2N4CII-100","04/12/2018 (3) 20:48:50.34","04/12/2018 (3)","20:48:50.340",5.7675999999999998,"Baclab2N4CII-100",12,"Normal",1,286000,22000,340,140,206,18,26.9,4.2,1175,89,3.6,0.63,72200,5700,0.31,9.5000000000000001E-2,31,2.5,1.81,0.33,17.7,2.6,19,2.6,7.6,1.2,48.5,5.4,14.6,1.1000000000000001,138,10,41,3.5,167,15,280,21,55.8,5.2,11130,650,15,69,-0.2,3.6,388,32,56.1,5.4,38.200000000000003,3,270,23,316,26]
[]
["Z_Plesovice_1","Ple_1","04/12/2018 (3) 18:37:21.00","04/12/2018 (3)","18:37:21",24.084,"Ple_1",52,"Normal",1,271000,17000,360,210,208,13,89.2,7.9,610,38,4.75,0.44,73500,4600,4.4000000000000003E-3,6.1999999999999998E-3,2.14,0.19,0.161,3.3000000000000002E-2,2.41,0.28000000000000003,3.92,0.47,1.02,0.12,14.7,1.1000000000000001,5.95,0.42,62.7,4.3,18.2,1.2,63.5,4,79.8,5.8,11.17,0.82,11370,750,93,68,3.1,1.9,165,11,9.7899999999999991,0.68,2.4500000000000002,0.2,74.7,5,748,50]
["Z_Plesovice_2","Ple_2","04/12/2018 (3) 18:38:21.00","04/12/2018 (3)","18:38:21",24.082999999999998,"Ple_2",52,"Normal",1,272000,18000,630,220,211,13,82.7,6.6,583,35,4.63,0.39,73400,4300,1.2999999999999999E-2,0.01,2.04,0.19,0.14799999999999999,2.5000000000000001E-2,2.0299999999999998,0.31,3.81,0.49,1.01,0.13,15.5,1.2,5.73,0.4,63.2,4.0999999999999996,17.399999999999999,1.1000000000000001,61.5,4.0999999999999996,77.3,5.0999999999999996,11.12,0.65,11160,660,45,52,1,2,163,11,9.6199999999999992,0.64,2.16,0.17,73.099999999999994,4.8,725,45]
["Z_Plesovice_3","Ple_3","04/12/2018 (3) 18:39:21.00","04/12/2018 (3)","18:39:21",24.084,"Ple_3",52,"Normal",1,258000,19000,730,220,219,15,86.6,9.4,611,40,4.9000000000000004,0.39,76600,5100,5.8000000000000003E-2,2.5999999999999999E-2,2.38,0.19,0.20200000000000001,4.2000000000000003E-2,2.2400000000000002,0.3,3.35,0.46,1.07,0.13,14.6,1,6.2,0.47,64.599999999999994,4.5999999999999996,18.2,1.2,63.5,4.4000000000000004,78.5,5.2,11.61,0.85,11590,750,27,55,0.2,2.1,167,11,9.86,0.67,2.4300000000000002,0.22,74.400000000000006,5.0999999999999996,754,51]
["Z_Plesovice_4","Ple","04/12/2018 (3) 18:52:17.00","04/12/2018 (3)","18:52:17",24.084,"Ple",52,"Normal",1,257000,17000,850,200,220,11,100,8.1,686,38,4.88,0.32,74800,3900,1.7999999999999999E-2,1.2999999999999999E-2,2.54,0.23,0.193,3.2000000000000001E-2,2.68,0.36,4.5599999999999996,0.59,1.22,0.18,18.399999999999999,1.4,7.05,0.44,71.7,4,20.9,1.3,72.599999999999994,3.9,88.3,4.7,13.63,0.78,11190,540,32,63,1.2,2.6,179,10,10.61,0.63,2.66,0.2,83,4.4000000000000004,811,45]
["Z_Plesovice_5","Ple","04/12/2018 (3) 19:05:14.00","04/12/2018 (3)","19:05:14",24.084,"Ple",52,"Normal",1,257000,16000,630,160,209,11,88.6,7.7,668,37,4.62,0.33,71300,3400,2.4E-2,1.4E-2,2.37,0.17,0.21099999999999999,4.2000000000000003E-2,2.5299999999999998,0.33,4.29,0.56000000000000005,1.19,0.13,18.899999999999999,1.3,6.72,0.42,72.400000000000006,4.3,20,1.1000000000000001,69.7,3.9,86.4,4.7,12.43,0.72,11020,550,48,54,4.2,2,176.3,9.3000000000000007,10.07,0.54,2.6,0.17,81.900000000000006,4.2,787,42]
["Z_Plesovice_6","Ple","04/12/2018 (3) 19:18:12.00","04/12/2018 (3)","19:18:12",24.085000000000001,"Ple",52,"Normal",1,252000,14000,540,130,206,11,88.2,7.3,638,31,4.5,0.28999999999999998,72400,3000,1.0200000000000001E-2,9.9000000000000008E-3,2.5099999999999998,0.19,0.189,3.5000000000000003E-2,2.39,0.32,4.13,0.39,1.1399999999999999,0.12,18.3,1.3,6.74,0.42,70.400000000000006,3.4,20.5,1.1000000000000001,69.7,3.7,85.3,4.4000000000000004,12.12,0.53,11200,510,115,65,-1.2,1.8,174.3,8.3000000000000007,10.81,0.57999999999999996,2.59,0.17,80.599999999999994,4,783,38]
["Z_Plesovice_7","Ple","04/12/2018 (3) 19:32:09.00","04/12/2018 (3)","19:32:09",24.084,"Ple",52,"Normal",1,259000,12000,320,130,196.9,8.6999999999999993,76.599999999999994,5.6,618,26,4.4800000000000004,0.28000000000000003,69900,2600,0,1,2.35,0.15,0.14499999999999999,3.1E-2,2.2400000000000002,0.36,4.3899999999999997,0.52,1.1499999999999999,0.16,16.600000000000001,1,6.07,0.3,66.5,3.1,18.690000000000001,0.74,64.8,2.7,79.2,3.5,11.54,0.53,11070,440,20,54,0,2.2000000000000002,165.8,6.8,9.74,0.51,2.56,0.16,76.599999999999994,3.2,742,31]
["Z_Plesovice_8","Ple","04/12/2018 (3) 19:45:06.00","04/12/2018 (3)","19:45:06",24.084,"Ple",52,"Normal",1,250000,14000,290,140,209,9.4,81.5,6.7,658,29,4.18,0.28000000000000003,70200,2800,2.5999999999999999E-2,1.4999999999999999E-2,2.2999999999999998,0.19,0.21,4.1000000000000002E-2,2.72,0.37,3.66,0.39,1.24,0.13,18.3,1.1000000000000001,6.61,0.31,70.599999999999994,3.2,20.93,0.92,71.2,3.5,87.7,4.5,13.13,0.6,10760,440,76,58,-0.1,1.7,174,8.1,10.18,0.5,2.58,0.15,81.8,3.6,781,35]
["Z_Plesovice_9","Ple","04/12/2018 (3) 19:58:04.00","04/12/2018 (3)","19:58:04",24.082999999999998,"Ple",52,"Normal",1,250000,13000,430,110,198.1,8.4,82.4,7.3,629,26,4.29,0.28000000000000003,68200,2600,2.1000000000000001E-2,1.4E-2,2.2400000000000002,0.15,0.17799999999999999,3.2000000000000001E-2,2.63,0.32,4.1900000000000004,0.5,1.1599999999999999,0.12,17.760000000000002,0.92,6.44,0.3,67.8,3.1,19.96,0.98,67.5,3,83.2,3.8,12.06,0.48,10800,420,24,43,1.3,1.6,168.6,7.1,9.93,0.41,2.5099999999999998,0.16,78.599999999999994,3.2,755,31]
["Z_Plesovice_10","Ple","04/12/2018 (3) 20:12:01.00","04/12/2018 (3)","20:12:01",24.085000000000001,"Ple",52,"Normal",1,244000,13000,422,87,185.9,8.1,78.599999999999994,6.8,557,24,4.07,0.31,68600,2500,1.7999999999999999E-2,1.4E-2,2.2000000000000002,0.13,0.124,3.3000000000000002E-2,1.64,0.25,3.49,0.48,0.97,0.13,14.8,1.2,5.34,0.27,60.4,2.9,17.29,0.76,60.3,2.7,74.400000000000006,3.5,10.81,0.54,11040,420,113,48,1.9,1.8,154.9,6.3,9.2100000000000009,0.44,2.08,0.14000000000000001,69.099999999999994,3,709,30]
["Z_Plesovice_11","Ple","04/12/2018 (3) 20:24:58.00","04/12/2018 (3)","20:24:58",24.085999999999999,"Ple",52,"Normal",1,248000,13000,250,100,157.4,7.5,71.3,6.1,570,23,4.42,0.31,68500,2600,3.5999999999999997E-2,1.7000000000000001E-2,2.34,0.15,0.17199999999999999,3.2000000000000001E-2,3.15,0.33,4.34,0.49,1.27,0.14000000000000001,17.399999999999999,1,6.15,0.27,66.8,3,18.07,0.76,60.1,2.8,68.8,3,9.59,0.52,10940,400,73,61,1.1000000000000001,2,186.5,8.6,10.72,0.51,3.64,0.17,109.5,5.0999999999999996,838,34]
["Z_Plesovice_12","Ple","04/12/2018 (3) 20:37:55.00","04/12/2018 (3)","20:37:55",24.082999999999998,"Ple",52,"Normal",1,245000,13000,450,82,196.9,8.4,92.4,8.9,650,26,4.1900000000000004,0.25,67600,2500,2.9000000000000001E-2,1.6E-2,2.36,0.17,0.19700000000000001,3.5999999999999997E-2,2.61,0.39,4.46,0.46,1.17,0.14000000000000001,18,1.1000000000000001,6.81,0.4,71.3,3.3,19.79,0.8,71.3,3.2,84.4,4,12.26,0.64,10820,470,43,53,2.2999999999999998,2.4,174.6,7.9,10.36,0.56000000000000005,2.78,0.17,83.1,3.4,779,32]
["Z_Plesovice_13","Ple","04/12/2018 (3) 20:49:52.00","04/12/2018 (3)","20:49:52",24.082999999999998,"Ple",52,"Normal",1,242000,11000,445,98,196.9,8.4,91,6.4,649,27,4.3499999999999996,0.3,66900,2300,0.02,1.2999999999999999E-2,2.41,0.15,0.16700000000000001,3.3000000000000002E-2,2.46,0.37,4.47,0.6,1.19,0.13,17.5,1.1000000000000001,6.96,0.37,70.7,2.9,20.13,0.9,69.7,3.2,85.4,3.8,12.41,0.59,10760,400,6,65,1.4,2.1,170.4,6.4,10.47,0.51,2.69,0.2,80.8,3.2,768,30]
[]
["Z_91500_1","91500_1","04/12/2018 (3) 18:32:23.00","04/12/2018 (3)","18:32:23",23.085000000000001,"91500_1",50,"Normal",1,306000,35000,20,190,100,11,4.7,1.4,131,13,1.1499999999999999,0.15,77300,8000,0,1,2.23,0.28000000000000003,2.5000000000000001E-3,3.5000000000000001E-3,0.08,0.05,0.3,0.12,0.215,5.7000000000000002E-2,1.83,0.33,0.77,0.11,10.14,0.99,4.45,0.46,22.9,2.4,61.1,6.4,12.2,1.2,5550,540,81,57,1,2.2999999999999998,58.8,5.9,5,0.54,3.07,0.35,29.7,3.1,81.400000000000006,8.6]
["Z_91500_2","91500_2","04/12/2018 (3) 18:33:24.00","04/12/2018 (3)","18:33:24",23.084,"91500_2",50,"Normal",1,274000,27000,-60,250,101.5,9.3000000000000007,6.6,1.9,134,12,1.17,0.16,77500,6600,0,1,2.38,0.25,1.6999999999999999E-3,3.3999999999999998E-3,0.11,6.5000000000000002E-2,0.46,0.16,0.19500000000000001,5.6000000000000001E-2,1.97,0.31,0.752,9.8000000000000004E-2,11.2,1.1000000000000001,4.55,0.43,23.5,2.2999999999999998,60.7,5.8,13.1,1.3,5690,510,69,70,0.6,2.1,62.9,5.5,5.43,0.52,3.16,0.32,31.4,2.8,84.8,7.5]
["Z_91500_3","91500_3","04/12/2018 (3) 18:34:23.00","04/12/2018 (3)","18:34:23",23.084,"91500_3",50,"Normal",1,249000,20000,-90,280,107.3,7.9,4.5999999999999996,1.6,147,11,1.18,0.14000000000000001,83400,6100,0,1,2.5,0.23,0,1,0.1,7.8E-2,0.25,0.11,0.24,5.8999999999999997E-2,2.48,0.36,0.85,0.1,12.2,1.1000000000000001,4.9000000000000004,0.36,25.5,1.9,68.099999999999994,5.5,14,1,6080,440,-7,56,-0.4,2.2999999999999998,69,5.3,5.58,0.4,3.59,0.31,33.6,2.5,92.2,6.9]
["Z_91500_4","91500_4","04/12/2018 (3) 18:35:23.00","04/12/2018 (3)","18:35:23",23.085999999999999,"91500_4",50,"Normal",1,263000,21000,-90,290,105.2,8,5.0999999999999996,1.5,138,10,1.29,0.13,79100,5600,0,1,2.39,0.22,0,1,7.9000000000000001E-2,5.7000000000000002E-2,0.4,0.14000000000000001,0.2,4.7E-2,2.13,0.32,0.77900000000000003,9.4E-2,11,1,4.6900000000000004,0.42,24.3,1.9,61.5,4.4000000000000004,13.24,0.92,5830,400,64,57,-1.6,1.8,64.599999999999994,4.8,5.38,0.43,3.22,0.24,32.6,2.4,88.7,6.4]
["Z_91500_5","91500_5","04/12/2018 (3) 18:36:22.00","04/12/2018 (3)","18:36:22",23.084,"91500_5",50,"Normal",1,251000,20000,-320,280,107,8.8000000000000007,4.5999999999999996,1.5,148,11,1.27,0.17,83000,6200,0,1,2.54,0.26,0,1,0.19,8.7999999999999995E-2,0.31,0.13,0.191,5.2999999999999999E-2,2.48,0.43,0.82,0.11,10.99,0.86,4.8899999999999997,0.42,25,2.1,66.7,5,13.9,1.1000000000000001,6000,430,6,56,-2.4,2,68.5,5.2,5.58,0.47,3.55,0.34,33.200000000000003,2.5,91.5,7]
["Z_91500_6",91500,"04/12/2018 (3) 18:50:18.00","04/12/2018 (3)","18:50:18",23.084,91500,50,"Normal",1,259000,15000,20,150,91.2,4.7,6.9,1.6,135.19999999999999,7.2,1.1100000000000001,0.12,73600,3600,0,1,2.41,0.2,3.3E-3,4.7000000000000002E-3,0.151,7.3999999999999996E-2,0.28000000000000003,0.12,0.19800000000000001,5.2999999999999999E-2,1.95,0.3,0.68,7.0000000000000007E-2,10.75,0.93,4.3899999999999997,0.25,23.6,1.6,61.6,3.4,13.23,0.77,5820,280,-6,53,5.0999999999999996,2,60.7,3.3,5.09,0.39,3.03,0.2,30,1.6,81,4.0999999999999996]
["Z_91500_7",91500,"04/12/2018 (3) 18:51:19.00","04/12/2018 (3)","18:51:19",23.084,91500,50,"Normal",1,250000,17000,0,210,93,5.6,3.9,1.6,137.19999999999999,9.4,1.02,0.14000000000000001,75800,4500,0,1,2.2599999999999998,0.2,0,1,0.14000000000000001,8.1000000000000003E-2,0.45,0.16,0.23799999999999999,5.8999999999999997E-2,1.96,0.3,0.85,0.11,10.72,0.85,4.5199999999999996,0.3,24.3,1.8,61.4,3.9,13.08,0.79,5970,360,40,60,-1.5,1.8,59.2,3.6,5.05,0.45,3.13,0.26,30.1,1.9,80.900000000000006,5.2]
["Z_91500_8",91500,"04/12/2018 (3) 19:03:15.00","04/12/2018 (3)","19:03:15",23.085000000000001,91500,50,"Normal",1,252000,14000,80,180,88.9,4.5,5.8,1.5,113.8,5.4,1.03,0.11,72300,3100,0,1,2.3199999999999998,0.19,0,1,0.16800000000000001,8.5000000000000006E-2,0.28999999999999998,0.12,0.15,4.2999999999999997E-2,1.56,0.27,0.64200000000000002,7.4999999999999997E-2,9.14,0.72,3.84,0.2,20.3,1.2,53.9,2.9,11.25,0.6,5700,260,16,56,3,2.4,54.7,2.5,4.74,0.24,2.65,0.18,25.9,1.2,74.400000000000006,3.5]
["Z_91500_9",91500,"04/12/2018 (3) 19:04:16.00","04/12/2018 (3)","19:04:16",23.084,91500,50,"Normal",1,248000,15000,-50,170,89.6,5.5,3.2,1.2,130.69999999999999,8,0.97299999999999998,9.6000000000000002E-2,73500,4000,0,1,2.31,0.21,0,1,0.128,7.5999999999999998E-2,0.2,9.4E-2,0.183,5.2999999999999999E-2,1.98,0.34,0.752,7.8E-2,10.7,0.78,4.2,0.24,23.7,1.4,59.6,3.3,12.68,0.73,5760,320,24,57,1.2,2,59.5,3.4,4.84,0.33,2.9,0.2,29.7,1.7,79.400000000000006,4.3]
["Z_91500_10",91500,"04/12/2018 (3) 19:16:13.00","04/12/2018 (3)","19:16:13",23.085000000000001,91500,50,"Normal",1,236000,13000,-280,130,88.7,5.0999999999999996,4.8,1.9,126.1,7.4,1.04,0.14000000000000001,75500,3800,0,1,2.42,0.2,0,1,0.17299999999999999,8.1000000000000003E-2,0.41,0.14000000000000001,0.17599999999999999,4.3999999999999997E-2,1.8,0.3,0.78400000000000003,7.8E-2,10.17,0.71,4.3,0.28000000000000003,23.1,1.5,58.7,3.4,12.86,0.81,5650,300,35,57,1,2.2999999999999998,61.7,3.2,5.12,0.35,3.08,0.21,29.9,1.6,82.5,4.5]
["Z_91500_11",91500,"04/12/2018 (3) 19:17:13.00","04/12/2018 (3)","19:17:13",23.082000000000001,91500,50,"Normal",1,249000,13000,40,130,83.6,4.2,6.1,1.5,114.9,5.5,0.87,0.11,72300,3100,0,1,2.2400000000000002,0.2,0,1,0.14799999999999999,7.2999999999999995E-2,0.26,0.11,0.15,3.6999999999999998E-2,1.73,0.3,0.71899999999999997,7.3999999999999996E-2,9.0299999999999994,0.68,3.87,0.23,20.399999999999999,1,53.9,3,11.67,0.64,5680,260,-38,56,0.7,2.1,56.2,2.8,4.66,0.3,2.62,0.15,26.5,1.3,75.2,3.7]
["Z_91500_12",91500,"04/12/2018 (3) 19:30:10.00","04/12/2018 (3)","19:30:10",23.084,91500,50,"Normal",1,246000,14000,70,150,83.1,4.3,3.7,1.2,130.6,6.7,0.87,0.11,71600,3200,0,1,2.29,0.17,1.6999999999999999E-3,3.3E-3,0.156,7.1999999999999995E-2,0.36,0.13,0.21,5.1999999999999998E-2,2.21,0.34,0.73799999999999999,7.9000000000000001E-2,11.26,0.92,4.33,0.23,23.2,1.2,60.9,3.7,13.01,0.73,5510,260,21,47,1.4,2.1,66.400000000000006,3.3,5.53,0.35,3.4,0.19,33,1.8,88.9,4.5999999999999996]
["Z_91500_13",91500,"04/12/2018 (3) 19:31:10.00","04/12/2018 (3)","19:31:10",23.084,91500,50,"Normal",1,251000,13000,110,110,81,4.3,4.5,1.4,124.4,6.5,0.95,0.1,70500,3200,0,1,2.29,0.19,0,1,0.14699999999999999,6.8000000000000005E-2,0.20899999999999999,9.1999999999999998E-2,0.20200000000000001,5.5E-2,2.31,0.27,0.755,7.5999999999999998E-2,9.8000000000000007,0.63,4.1399999999999997,0.24,22.7,1.2,57.8,3.4,12.31,0.64,5370,220,83,50,0.1,1.8,62.1,3.1,5.17,0.27,2.99,0.18,30.8,1.6,83.8,4.3]
["Z_91500_14",91500,"04/12/2018 (3) 19:43:08.00","04/12/2018 (3)","19:43:08",23.084,91500,50,"Normal",1,243000,14000,-40,130,83.1,4.5,2.7,1.1000000000000001,126.9,6.1,0.87,0.12,69900,2900,0,1,2.29,0.17,0,1,0.13,8.2000000000000003E-2,0.3,0.12,0.14599999999999999,4.9000000000000002E-2,2.0699999999999998,0.37,0.81299999999999994,8.7999999999999995E-2,10.73,0.82,4.2,0.22,22.8,1.2,59.1,3.4,11.97,0.67,5770,230,25,47,-0.7,2,57.4,2.7,4.49,0.22,2.87,0.21,27.9,1.3,76.599999999999994,3.4]
["Z_91500_15",91500,"04/12/2018 (3) 19:44:08.00","04/12/2018 (3)","19:44:08",23.082999999999998,91500,50,"Normal",1,237000,13000,-80,110,83.3,4.3,5.9,1.3,128.80000000000001,6.3,0.82,0.11,72300,3000,0,1,2.19,0.21,0,1,0.125,6.4000000000000001E-2,0.28000000000000003,0.1,0.22500000000000001,6.0999999999999999E-2,1.74,0.26,0.71499999999999997,5.6000000000000001E-2,10.19,0.69,4.24,0.28999999999999998,22,0.86,60.2,3.3,12.63,0.54,5820,240,-11,55,0.2,1.9,58.4,2.5,4.74,0.3,2.98,0.17,28.7,1.3,78.400000000000006,3.7]
["Z_91500_16",91500,"04/12/2018 (3) 19:56:05.00","04/12/2018 (3)","19:56:05",23.082999999999998,91500,50,"Normal",1,239000,13000,-100,110,80.2,3.8,3.6,1.4,128,5.7,0.82,0.12,71200,2900,0,1,2.38,0.19,8.3999999999999995E-3,8.0999999999999996E-3,7.0000000000000007E-2,0.06,0.33,0.12,0.185,0.05,1.92,0.34,0.70799999999999996,6.3E-2,10.39,0.71,4.4400000000000004,0.26,23.1,1.2,60.9,3.4,12.53,0.63,5780,230,84,73,-0.2,2.4,58.4,2.8,5.05,0.32,3.09,0.16,28.3,1.2,78.2,3.7]
["Z_91500_17",91500,"04/12/2018 (3) 19:57:06.00","04/12/2018 (3)","19:57:06",23.082999999999998,91500,50,"Normal",1,235000,12000,-110,100,80.599999999999994,4,4.5,1.3,127.3,5.9,0.76200000000000001,9.2999999999999999E-2,71400,2500,0,1,2.19,0.18,7.7000000000000002E-3,7.4999999999999997E-3,9.1999999999999998E-2,0.06,0.32,0.11,0.185,4.7E-2,1.88,0.27,0.86299999999999999,7.0000000000000007E-2,10.220000000000001,0.67,4.28,0.27,22.4,1,57.9,3,12.42,0.62,5390,200,1,51,0.2,2,58,2.4,4.97,0.24,3.28,0.19,28.8,1.3,78.400000000000006,3.4]
["Z_91500_18",91500,"04/12/2018 (3) 20:10:02.00","04/12/2018 (3)","20:10:02",23.082999999999998,91500,50,"Normal",1,237000,11000,50,110,83.2,4.0999999999999996,7.2,1.6,120.8,5.3,0.76,0.1,70000,2700,0,1,2.04,0.16,0,1,0.10199999999999999,6.2E-2,0.26,0.11,0.17199999999999999,4.3999999999999997E-2,1.73,0.23,0.65200000000000002,6.5000000000000002E-2,9.1199999999999992,0.62,4.05,0.23,21.1,1.1000000000000001,54.8,2.8,12.11,0.55000000000000004,5700,210,-14,55,-0.7,2,55.3,2.2999999999999998,4.6100000000000003,0.26,2.76,0.18,27,1.2,74.599999999999994,3]
["Z_91500_19",91500,"04/12/2018 (3) 20:11:03.00","04/12/2018 (3)","20:11:03",23.082999999999998,91500,50,"Normal",1,234000,13000,90,100,80.599999999999994,3.9,4.0999999999999996,1.2,128.1,6.8,0.84,0.12,69300,3300,0,1,2.48,0.19,1.03E-2,8.8999999999999999E-3,0.158,8.3000000000000004E-2,0.33,0.11,0.17699999999999999,4.9000000000000002E-2,2.0299999999999998,0.27,0.86399999999999999,0.09,9.94,0.6,4.42,0.26,22.7,1.3,58.5,3.2,12.22,0.7,5710,250,-4,51,-0.2,2.2999999999999998,58.5,2.8,4.62,0.26,3.02,0.22,28.8,1.5,78.5,4]
["Z_91500_20",91500,"04/12/2018 (3) 20:22:59.00","04/12/2018 (3)","20:22:59",23.082999999999998,91500,50,"Normal",1,247000,11000,1,82,79,3.6,4.3,1.2,111.2,4.7,0.75,0.11,66200,2600,0,1,2.0699999999999998,0.13,0,1,5.7000000000000002E-2,4.9000000000000002E-2,0.34,0.11,0.17799999999999999,4.9000000000000002E-2,1.71,0.26,0.69899999999999995,7.0000000000000007E-2,8.64,0.53,3.91,0.21,19.86,0.91,51.1,2.1,11.2,0.51,5240,190,28,65,0.4,1.8,53.2,2.2999999999999998,4.63,0.23,2.87,0.17,25.4,1.1000000000000001,72,3.1]
["Z_91500_21",91500,"04/12/2018 (3) 20:24:00.00","04/12/2018 (3)","20:24:00",23.085000000000001,91500,50,"Normal",1,237000,12000,-14,88,78.400000000000006,4,5.4,1.4,100.9,4.5,0.79,0.11,69100,2600,0,1,1.87,0.17,0,1,6.2E-2,5.3999999999999999E-2,0.25,0.12,0.20799999999999999,4.5999999999999999E-2,1.24,0.24,0.56100000000000005,6.9000000000000006E-2,8,0.48,3.49,0.22,18.54,0.9,47.4,2.2999999999999998,10.7,0.46,5490,220,-1,54,0.8,1.8,50.6,2.1,4.1900000000000004,0.24,2.54,0.2,22.4,1.1000000000000001,67.599999999999994,3]
["Z_91500_22",91500,"04/12/2018 (3) 20:35:57.00","04/12/2018 (3)","20:35:57",23.084,91500,50,"Normal",1,233000,11000,60,120,76,3.5,3.2,1.2,128.1,5.0999999999999996,0.80100000000000005,8.8999999999999996E-2,67400,2100,0,1,2.36,0.18,0,1,0.157,8.1000000000000003E-2,0.28000000000000003,0.11,0.158,5.0999999999999997E-2,1.51,0.22,0.77200000000000002,7.3999999999999996E-2,10.47,0.6,4.42,0.28000000000000003,21.9,1,56.8,2.5,12.07,0.53,5210,150,17,58,-0.1,2.5,63.3,2.5,5.47,0.33,3.39,0.21,30.6,1.2,84.2,3]
["Z_91500_23",91500,"04/12/2018 (3) 20:36:57.00","04/12/2018 (3)","20:36:57",23.085000000000001,91500,50,"Normal",1,239000,12000,48,81,75.5,3.8,4.5999999999999996,1.4,121.9,6.7,0.80900000000000005,9.8000000000000004E-2,70100,3000,0,1,2.41,0.18,0,1,0.125,6.8000000000000005E-2,0.36,0.15,0.157,4.7E-2,1.86,0.27,0.65800000000000003,7.9000000000000001E-2,9.4700000000000006,0.64,4.18,0.25,21,0.9,54.5,2.4,11.87,0.66,5500,240,-33,46,0.9,2.5,58.8,2.8,5.03,0.32,3.4,0.21,28.8,1.3,79.099999999999994,3.9]
["Z_91500_24",91500,"04/12/2018 (3) 20:50:55.00","04/12/2018 (3)","20:50:55",23.084,91500,50,"Normal",1,229900,9900,74,92,74.099999999999994,3.4,3.4,1.3,134.9,6.4,0.79,9.2999999999999999E-2,67700,2600,0,1,2.6,0.2,0,1,0.13900000000000001,7.5999999999999998E-2,0.4,0.13,0.27300000000000002,6.4000000000000001E-2,1.97,0.28000000000000003,0.77800000000000002,9.0999999999999998E-2,11.07,0.56000000000000005,4.51,0.28000000000000003,23.8,1,61.4,3,12.5,0.59,5300,190,36,56,2,2.8,66.900000000000006,2.8,5.19,0.28000000000000003,3.22,0.17,33,1.4,88.2,3.6]
["Z_91500_25",91500,"04/12/2018 (3) 20:51:55.00","04/12/2018 (3)","20:51:55",23.084,91500,50,"Normal",1,229000,11000,-16,87,76.7,3.5,4.3,1.4,132,6,0.83,0.11,68500,2400,0,1,2.38,0.16,0,1,3.2000000000000001E-2,3.5999999999999997E-2,0.48,0.16,0.219,6.0999999999999999E-2,1.88,0.31,0.80800000000000005,7.8E-2,10.35,0.82,4.45,0.26,23.3,1.1000000000000001,59.1,2.8,12.53,0.51,5520,180,36,50,-1.5,2,65.8,2.6,5.34,0.28999999999999998,3.31,0.21,32.4,1.3,89.2,3.6]

{"sheet":"PlotDat12","index":5,"n_rows":2001,"n_cols":8,"rows_kept":2001,"cut":false,"hidden":true,"merged":[]}
["Source sheet","Datatable_t",0,0,240,0,0,0]
["Plot name","ProbDens1",1.2,0,300,0,2398.7999999999997,0]
["Plot Type",16,2.4,0,300,1]
["1st free col",9,3.5999999999999996,0,240,1]
["Sigma Level",2,4.8,0,240,0]
["Absolute Errs",true,6,0,"ErrBox","ErrBox"]
["Symbol Type",1,7.1999999999999993,0,300,0]
["Inverse Plot",false,8.4,0,360,0]
["Color Plot",true,9.6,0,360,13]
["3D plot",false,10.799999999999999,0,300,13]
["Linear",false,12,0,300,0]
["Data Range","AA4:AA95,AC4:AC95",13.2,0,"ErrBox","ErrBox"]
["Filled Symbols",true,14.399999999999999,0,360,0]
["ConcAge",false,15.6,0,420,0]
["ConcSwap",false,16.8,0,420,11]
["1st Symbol-row",1,18,0,360,11]
[null,null,19.2,0,360,0]
[null,null,20.399999999999999,0,"ErrBox","ErrBox"]
[null,null,21.599999999999998,0,420,0]
[null,null,22.8,0,480,0]
[null,null,24,0,480,5]
[null,null,25.2,0,420,5]
[null,null,26.4,0,420,0]
[null,null,27.599999999999998,0,"ErrBox","ErrBox"]
[null,null,28.799999999999997,0,480,0]
[null,null,30,0,540,0]
[null,null,31.2,0,540,9]
[null,null,32.4,0,480,9]
[null,null,33.6,0,480,0]
[null,null,34.799999999999997,0,"ErrBox","ErrBox"]
[null,null,36,0,540,0]
[null,null,37.199999999999996,0,600,0]
[null,null,38.4,0,600,9]
[null,null,39.6,0,540,9]
[null,null,40.799999999999997,0,540,0]
[null,null,42,0,"ErrBox","ErrBox"]
[null,null,43.199999999999996,0,600,0]
[null,null,44.4,0,660,0]
[null,null,45.6,0,660,5]
[null,null,46.8,0,600,5]
[null,null,48,0,600,0]
[null,null,49.199999999999996,0,"ErrBox","ErrBox"]
[null,null,50.4,0,780,0]
[null,null,51.6,0,840,0]
[null,null,52.8,0,840,1]
[null,null,54,0,780,1]
[null,null,55.199999999999996,0,780,0]
[null,null,56.4,0,"ErrBox","ErrBox"]
[null,null,57.599999999999994,0,840,0]
[null,null,58.8,0,900,0]
[null,null,60,0,900,1]
[null,null,61.199999999999996,0,840,1]
[null,null,62.4,0,840,0]
[null,null,63.599999999999994,0,"ErrBox","ErrBox"]
[null,null,64.8,0,900,0]
[null,null,66,0,960,0]
[null,null,67.2,0,960,5]
[null,null,68.399999999999991,0,900,5]
[null,null,69.599999999999994,0,900,0]
[null,null,70.8,0,"ErrBox","ErrBox"]
[null,null,72,0,960,0]
[null,null,73.2,0,1020,0]
[null,null,74.399999999999991,0,1020,5]
[null,null,75.599999999999994,0,960,5]
[null,null,76.8,0,960,0]
[null,null,78,0,"ErrBox","ErrBox"]
[null,null,79.2,0,1020,0]
[null,null,80.399999999999991,0,1080,0]
[null,null,81.599999999999994,0,1080,9]
[null,null,82.8,0,1020,9]
[null,null,84,0,1020,0]
[null,null,85.2,0,"ErrBox","ErrBox"]
[null,null,86.399999999999991,0,1080,0]
[null,null,87.6,0,1140,0]
[null,null,88.8,0,1140,1]
[null,null,90,0,1080,1]
[null,null,91.2,0,1080,0]
[null,null,92.399999999999991,0,"ErrBox","ErrBox"]
[null,null,93.6,0,1140,0]
[null,null,94.8,0,1200,0]
[null,null,96,0,1200,4]
[null,null,97.2,0,1140,4]
[null,null,98.399999999999991,0,1140,0]
[null,null,99.6,0,"ErrBox","ErrBox"]
[null,null,100.8,0,1200,0]
[null,null,102,0,1260,0]
[null,null,103.2,0,1260,4]
[null,null,104.39999999999999,0,1200,4]
[null,null,105.6,0,1200,0]
[null,null,106.8,0,"ErrBox","ErrBox"]
[null,null,108,0,1260,0]
[null,null,109.2,0,1320,0]
[null,null,110.39999999999999,0,1320,2]
[null,null,111.6,0,1260,2]
[null,null,112.8,0,1260,0]
[null,null,114,0,"ErrBox","ErrBox"]
[null,null,115.19999999999999,0,1320,0]
[null,null,116.39999999999999,0,1380,0]
[null,null,117.6,0,1380,1]
[null,null,118.8,0,1320,1]
[null,null,120,0,1320,0]
[null,null,121.19999999999999,0,"ErrBox","ErrBox"]
[null,null,122.39999999999999,0,1440,0]
[null,null,123.6,0,1500,0]
[null,null,124.8,0,1500,1]
[null,null,126,0,1440,1]
[null,null,127.19999999999999,0,1440,0]
[null,null,128.4,0,"ErrBox","ErrBox"]
[null,null,129.6,0,1500,0]
[null,null,130.79999999999998,0,1560,0]
[null,null,132,0,1560,1]
[null,null,133.19999999999999,0,1500,1]
[null,null,134.4,0,1500,0]
[null,null,135.6,0,"ErrBox","ErrBox"]
[null,null,136.79999999999998,0,1560,0]
[null,null,138,0,1620,0]
[null,null,139.19999999999999,0,1620,2]
[null,null,140.4,0,1560,2]
[null,null,141.6,0,1560,0]
[null,null,142.79999999999998,0,"ErrBox","ErrBox"]
[null,null,144,0,2100,0]
[null,null,145.19999999999999,0,2160,0]
[null,null,146.4,0,2160,1]
[null,null,147.6,0,2100,1]
[null,null,148.79999999999998,0,2100,0]
[null,null,150,0,"ErrBox","ErrBox"]
[null,null,151.19999999999999,0,2160,0]
[null,null,152.4,0,2220,0]
[null,null,153.6,0,2220,1]
[null,null,154.79999999999998,0,2160,1]
[null,null,156,0,2160,0]
[null,null,157.19999999999999,0,"ErrBox","ErrBox"]
[null,null,158.4,0]
[null,null,159.6,0]
[null,null,160.79999999999998,0]
[null,null,162,0]
[null,null,163.19999999999999,0]
[null,null,164.4,0]
[null,null,165.6,0]
[null,null,166.79999999999998,0]
[null,null,168,0]
[null,null,169.2,0]
[null,null,170.4,0]
[null,null,171.6,0]
[null,null,172.79999999999998,0]
[null,null,174,0]
[null,null,175.2,0]
[null,null,176.4,0]
[null,null,177.6,0]
[null,null,178.79999999999998,0]
[null,null,180,0]
[null,null,181.2,0]
[null,null,182.4,0]
[null,null,183.6,0]
[null,null,184.79999999999998,0]
[null,null,186,0]
[null,null,187.2,0]
[null,null,188.4,0]
[null,null,189.6,0]
[null,null,190.79999999999998,0]
[null,null,192,0]
[null,null,193.2,0]
[null,null,194.4,0]
[null,null,195.6,0]
[null,null,196.79999999999998,0]
[null,null,198,0]
[null,null,199.2,0]
[null,null,200.4,0]
[null,null,201.6,0]
[null,null,202.79999999999998,0]
[null,null,204,0]
[null,null,205.2,0]
[null,null,206.4,0]
[null,null,207.6,0]
[null,null,208.79999999999998,0]
[null,null,210,0]
[null,null,211.2,0]
[null,null,212.4,0]
[null,null,213.6,0]
[null,null,214.79999999999998,0]
[null,null,216,0]
[null,null,217.2,0]
[null,null,218.4,0]
[null,null,219.6,0]
[null,null,220.79999999999998,0]
[null,null,222,0]
[null,null,223.2,0]
[null,null,224.4,0]
[null,null,225.6,0]
[null,null,226.79999999999998,0]
[null,null,228,0]
[null,null,229.2,0]
[null,null,230.39999999999998,0]
[null,null,231.6,0]
[null,null,232.79999999999998,0]
[null,null,234,0]
[null,null,235.2,0]
[null,null,236.39999999999998,0]
[null,null,237.6,0]
[null,null,238.79999999999998,0]
[null,null,240,0]
[null,null,241.2,0]
[null,null,242.39999999999998,0]
[null,null,243.6,0]
[null,null,244.79999999999998,0]
[null,null,246,0]
[null,null,247.2,0]
[null,null,248.39999999999998,0]
[null,null,249.6,1.6511808684484854E-8]
[null,null,250.79999999999998,1.7873930627752513E-7]
[null,null,252,1.4737555039804479E-6]
[null,null,253.2,9.2557318499689565E-6]
[null,null,254.39999999999998,4.4276781073241405E-5]
[null,null,255.6,1.6133227876597919E-4]
[null,null,256.8,4.4776119002238658E-4]
[null,null,258,9.4656748054628554E-4]
[null,null,259.2,1.5241814233039586E-3]
[null,null,260.39999999999998,1.8693976833395385E-3]
[null,null,261.59999999999997,1.7464119248123211E-3]
[null,null,262.8,1.2427152509329978E-3]
[null,null,264,6.735603596147603E-4]
[null,null,265.2,2.780746274988316E-4]
[null,null,266.39999999999998,8.7443223716372599E-5]
[null,null,267.59999999999997,2.094454393497037E-5]
[null,null,268.8,3.8211633889517234E-6]
[null,null,270,5.3100701690822231E-7]
[null,null,271.2,5.6206282774937822E-8]
[null,null,272.39999999999998,0]
[null,null,273.59999999999997,0]
[null,null,274.8,0]
[null,null,276,0]
[null,null,277.2,0]
[null,null,278.39999999999998,0]
[null,null,279.59999999999997,0]
[null,null,280.8,0]
[null,null,282,0]
[null,null,283.2,0]
[null,null,284.39999999999998,0]
[null,null,285.59999999999997,0]
[null,null,286.8,0]
[null,null,288,0]
[null,null,289.2,0]
[null,null,290.39999999999998,0]
[null,null,291.59999999999997,0]
[null,null,292.8,0]
[null,null,294,0]
[null,null,295.2,0]
[null,null,296.39999999999998,0]
[null,null,297.59999999999997,0]
[null,null,298.8,0]
[null,null,300,0]
[null,null,301.2,0]
[null,null,302.39999999999998,0]
[null,null,303.59999999999997,0]
[null,null,304.8,2.8159149819972698E-8]
[null,null,306,1.0508239616111269E-7]
[null,null,307.2,3.7088131359461464E-7]
[null,null,308.39999999999998,1.2442402844340376E-6]
[null,null,309.59999999999997,4.0994411606741208E-6]
[null,null,310.8,1.3605343186222139E-5]
[null,null,312,4.5115453838446774E-5]
[null,null,313.2,1.4184331099346268E-4]
[null,null,314.39999999999998,3.9971566492497465E-4]
[null,null,315.59999999999997,9.6927168241110653E-4]
[null,null,316.8,1.9819375874178141E-3]
[null,null,318,3.4083203183716787E-3]
[null,null,319.2,4.9945934710846126E-3]
[null,null,320.39999999999998,6.4087811060886332E-3]
[null,null,321.59999999999997,7.4514012039966424E-3]
[null,null,322.8,8.0631496195576954E-3]
[null,null,324,8.1969333217729017E-3]
[null,null,325.2,7.843502666684956E-3]
[null,null,326.39999999999998,7.1699912057078775E-3]
[null,null,327.59999999999997,6.4746142633415977E-3]
[null,null,328.8,5.9565841133881418E-3]
[null,null,330,5.593727050880389E-3]
[null,null,331.2,5.2495084252686111E-3]
[null,null,332.4,4.8445656609605097E-3]
[null,null,333.59999999999997,4.4156062387548101E-3]
[null,null,334.8,4.0524653236939613E-3]
[null,null,336,3.8083056624198543E-3]
[null,null,337.2,3.6576579052756872E-3]
[null,null,338.4,3.5136786378234062E-3]
[null,null,339.59999999999997,3.2783427581220157E-3]
[null,null,340.8,2.8938546134946734E-3]
[null,null,342,2.3706150048609202E-3]
[null,null,343.2,1.7794180628529193E-3]
[null,null,344.4,1.2146124241912773E-3]
[null,null,345.59999999999997,7.5133458076167474E-4]
[null,null,346.8,4.2123170654550672E-4]
[null,null,348,2.1484344748351957E-4]
[null,null,349.2,1.0051167278409676E-4]
[null,null,350.4,4.3820221031688412E-5]
[null,null,351.59999999999997,1.8476680899179979E-5]
[null,null,352.8,8.3404397167553419E-6]
[null,null,354,4.9997222010045445E-6]
[null,null,355.2,4.6324099003540257E-6]
[null,null,356.4,5.7098799311917076E-6]
[null,null,357.59999999999997,7.7933116734718193E-6]
[null,null,358.8,1.1217993183302757E-5]
[null,null,360,1.7612300915722749E-5]
[null,null,361.2,3.1920720903609187E-5]
[null,null,362.4,6.610811535510009E-5]
[null,null,363.59999999999997,1.4311240876581358E-4]
[null,null,364.8,2.9483300984883295E-4]
[null,null,366,5.4625433080498598E-4]
[null,null,367.2,8.8586968029129905E-4]
[null,null,368.4,1.2433916143150823E-3]
[null,null,369.59999999999997,1.5061654843621713E-3]
[null,null,370.8,1.5809841546535316E-3]
[null,null,372,1.4596027122509468E-3]
[null,null,373.2,1.2304230353074126E-3]
[null,null,374.4,1.024082596931257E-3]
[null,null,375.59999999999997,9.3945555155272077E-4]
[null,null,376.8,1.0040909626335439E-3]
[null,null,378,1.1819097193217151E-3]
[null,null,379.2,1.4051660524309541E-3]
[null,null,380.4,1.6059687692561316E-3]
[null,null,381.59999999999997,1.7375378210011743E-3]
[null,null,382.8,1.7839388099058252E-3]
[null,null,384,1.7579421844838067E-3]
[null,null,385.2,1.68853129506997E-3]
[null,null,386.4,1.6042794093055982E-3]
[null,null,387.59999999999997,1.5209448739690089E-3]
[null,null,388.8,1.4387956342257885E-3]
[null,null,390,1.348573213544577E-3]
[null,null,391.2,1.2409032352294154E-3]
[null,null,392.4,1.1139280697103149E-3]
[null,null,393.59999999999997,9.769254045482532E-4]
[null,null,394.8,8.5089658429087108E-4]
[null,null,396,7.6725392622182696E-4]
[null,null,397.2,7.6404182122935961E-4]
[null,null,398.4,8.7722317201620011E-4]
[null,null,399.59999999999997,1.127124861872405E-3]
[null,null,400.8,1.5064837179189813E-3]
[null,null,402,1.9786770059790075E-3]
[null,null,403.2,2.4882762106663127E-3]
[null,null,404.4,2.9753390261701169E-3]
[null,null,405.59999999999997,3.3859048955867804E-3]
[null,null,406.8,3.682217372533372E-3]
[null,null,408,3.8585287908848294E-3]
[null,null,409.2,3.9539091914768268E-3]
[null,null,410.4,4.0420681847271305E-3]
[null,null,411.59999999999997,4.1926198220726962E-3]
[null,null,412.8,4.4256328059845791E-3]
[null,null,414,4.6905218806985206E-3]
[null,null,415.2,4.8831477869661069E-3]
[null,null,416.4,4.8940004093567923E-3]
[null,null,417.59999999999997,4.665818693073579E-3]
[null,null,418.8,4.2296478134910389E-3]
[null,null,420,3.6938988379200191E-3]
[null,null,421.2,3.1884668904621953E-3]
[null,null,422.4,2.7984434891940341E-3]
[null,null,423.59999999999997,2.5290176592292248E-3]
[null,null,424.8,2.3222575874771124E-3]
[null,null,426,2.1133156485635377E-3]
[null,null,427.2,1.88823228778396E-3]
[null,null,428.4,1.7014572946796062E-3]
[null,null,429.59999999999997,1.6380589450126783E-3]
[null,null,430.8,1.7465598061052327E-3]
[null,null,432,1.9913235985351604E-3]
[null,null,433.2,2.2584556525729448E-3]
[null,null,434.4,2.4107550034422926E-3]
[null,null,435.59999999999997,2.3550835938862722E-3]
[null,null,436.8,2.0822584283710075E-3]
[null,null,438,1.6605459113643473E-3]
[null,null,439.2,1.1945585530061485E-3]
[null,null,440.4,7.7852367981897665E-4]
[null,null,441.59999999999997,4.687206808823441E-4]
[null,null,442.8,2.8251531726252533E-4]
[null,null,444,2.1385753578529452E-4]
[null,null,445.2,2.4993624521323923E-4]
[null,null,446.4,3.7743653300006936E-4]
[null,null,447.59999999999997,5.7698993974604821E-4]
[null,null,448.8,8.1334688936452154E-4]
[null,null,450,1.032817247265872E-3]
[null,null,451.2,1.175290584729051E-3]
[null,null,452.4,1.1971563326622016E-3]
[null,null,453.59999999999997,1.0912597317801072E-3]
[null,null,454.8,8.9014495604253208E-4]
[null,null,456,6.4973819615450883E-4]
[null,null,457.2,4.2438606884935299E-4]
[null,null,458.4,2.4804409769494079E-4]
[null,null,459.59999999999997,1.2973039281175667E-4]
[null,null,460.79999999999995,6.0715507077462448E-5]
[null,null,462,2.5427436440196573E-5]
[null,null,463.2,9.5290715060635619E-6]
[null,null,464.4,3.1955355395391225E-6]
[null,null,465.59999999999997,9.589186727562558E-7]
[null,null,466.79999999999995,2.5749272113205639E-7]
[null,null,468,6.1871863353674139E-8]
[null,null,469.2,1.3303517704182604E-8]
[null,null,470.4,1.5739867259571263E-8]
[null,null,471.59999999999997,5.1047114102123484E-8]
[null,null,472.79999999999995,1.5488825482151753E-7]
[null,null,474,4.3968630694140738E-7]
[null,null,475.2,1.1677356993666787E-6]
[null,null,476.4,2.9015050892051635E-6]
[null,null,477.59999999999997,6.7561358772273513E-6]
[null,null,478.79999999999995,1.4743564654131496E-5]
[null,null,480,3.0125189091885661E-5]
[null,null,481.2,5.7787875784253102E-5]
[null,null,482.4,1.0422593108938302E-4]
[null,null,483.59999999999997,1.7739920215092272E-4]
[null,null,484.79999999999995,2.8631366930871469E-4]
[null,null,486,4.4095383705337687E-4]
[null,null,487.2,6.5288421702990995E-4]
[null,null,488.4,9.3622259923804884E-4]
[null,null,489.59999999999997,1.3074280515991497E-3]
[null,null,490.79999999999995,1.7814519188587474E-3]
[null,null,492,2.3626310149324598E-3]
[null,null,493.2,3.0319105893984147E-3]
[null,null,494.4,3.7362832046821033E-3]
[null,null,495.59999999999997,4.3885871203154401E-3]
[null,null,496.79999999999995,4.8830510409588745E-3]
[null,null,498,5.1241894969538499E-3]
[null,null,499.2,5.0580139211734163E-3]
[null,null,500.4,4.6911534372310743E-3]
[null,null,501.59999999999997,4.0886690111619417E-3]
[null,null,502.79999999999995,3.3522118317384029E-3]
[null,null,504,2.589522332070794E-3]
[null,null,505.2,1.8882455073999894E-3]
[null,null,506.4,1.3023196300590715E-3]
[null,null,507.59999999999997,8.5141976748381507E-4]
[null,null,508.79999999999995,5.2919696346892444E-4]
[null,null,510,3.1461265604115378E-4]
[null,null,511.2,1.8212176839538528E-4]
[null,null,512.4,1.0865611148256485E-4]
[null,null,513.6,7.7155976556035638E-5]
[null,null,514.79999999999995,7.7408599330565402E-5]
[null,null,516,1.049762600849401E-4]
[null,null,517.19999999999993,1.5927161489789427E-4]
[null,null,518.4,2.4092453476490187E-4]
[null,null,519.6,3.492977750055833E-4]
[null,null,520.79999999999995,4.8053448970514245E-4]
[null,null,522,6.2720575668592511E-4]
[null,null,523.19999999999993,7.797302540509365E-4]
[null,null,524.4,9.2995079793307413E-4]
[null,null,525.6,1.0752033161984219E-3]
[null,null,526.79999999999995,1.2208287577408557E-3]
[null,null,528,1.3793502453546206E-3]
[null,null,529.19999999999993,1.5659789470462103E-3]
[null,null,530.4,1.7923731166993755E-3]
[null,null,531.6,2.0623247865536993E-3]
[null,null,532.79999999999995,2.3721760819675397E-3]
[null,null,534,2.7155854918708422E-3]
[null,null,535.19999999999993,3.0885589460886149E-3]
[null,null,536.4,3.4895581218773791E-3]
[null,null,537.6,3.9126699429461384E-3]
[null,null,538.79999999999995,4.3375585796125828E-3]
[null,null,540,4.7238527861573013E-3]
[null,null,541.19999999999993,5.0161450357461869E-3]
[null,null,542.4,5.1592905314675796E-3]
[null,null,543.6,5.1170231623127961E-3]
[null,null,544.79999999999995,4.8846305656642611E-3]
[null,null,546,4.4904717414680721E-3]
[null,null,547.19999999999993,3.9876980871192238E-3]
[null,null,548.4,3.4419727519761681E-3]
[null,null,549.6,2.9203961552714056E-3]
[null,null,550.79999999999995,2.4824883899792964E-3]
[null,null,552,2.1701602994181751E-3]
[null,null,553.19999999999993,1.9952004504032641E-3]
[null,null,554.4,1.9287956222589619E-3]
[null,null,555.6,1.9043587225582733E-3]
[null,null,556.79999999999995,1.8411170533774285E-3]
[null,null,558,1.680949575869361E-3]
[null,null,559.19999999999993,1.4168940189713192E-3]
[null,null,560.4,1.0937475942096192E-3]
[null,null,561.6,7.8110798689345266E-4]
[null,null,562.79999999999995,5.3891303787127862E-4]
[null,null,564,3.970340337541955E-4]
[null,null,565.19999999999993,3.5562299830543901E-4]
[null,null,566.4,3.9780333730862641E-4]
[null,null,567.6,5.0229492543236445E-4]
[null,null,568.79999999999995,6.4953590894897286E-4]
[null,null,570,8.220252801411531E-4]
[null,null,571.19999999999993,1.0025258761065334E-3]
[null,null,572.4,1.1731027432178949E-3]
[null,null,573.6,1.3158335853678631E-3]
[null,null,574.79999999999995,1.4149545751801897E-3]
[null,null,576,1.4593571136080152E-3]
[null,null,577.19999999999993,1.4444978516901313E-3]
[null,null,578.4,1.3731859650411317E-3]
[null,null,579.6,1.2547924088528195E-3]
[null,null,580.79999999999995,1.1034279521602583E-3]
[null,null,582,9.3539744326944917E-4]
[null,null,583.19999999999993,7.6671628023001754E-4]
[null,null,584.4,6.1112457121898054E-4]
[null,null,585.6,4.7904043524611402E-4]
[null,null,586.79999999999995,3.773134189392025E-4]
[null,null,588,3.0957003057902527E-4]
[null,null,589.19999999999993,2.7707105822649312E-4]
[null,null,590.4,2.7948796303001275E-4]
[null,null,591.6,3.1574512041362133E-4]
[null,null,592.79999999999995,3.8462520777169751E-4]
[null,null,594,4.8513986247408829E-4]
[null,null,595.19999999999993,6.1666585774164992E-4]
[null,null,596.4,7.7854538161308006E-4]
[null,null,597.6,9.6913444515901725E-4]
[null,null,598.79999999999995,1.1843355858855793E-3]
[null,null,600,1.4160325677229954E-3]
[null,null,601.19999999999993,1.6511459453404859E-3]
[null,null,602.4,1.8721494251488868E-3]
[null,null,603.6,2.0592738237322629E-3]
[null,null,604.79999999999995,2.1943414081224016E-3]
[null,null,606,2.2649353281704145E-3]
[null,null,607.19999999999993,2.2675999530675419E-3]
[null,null,608.4,2.2089236288977817E-3]
[null,null,609.6,2.1039993488693341E-3]
[null,null,610.79999999999995,1.9728848920369801E-3]
[null,null,612,1.8360467942157433E-3]
[null,null,613.19999999999993,1.7101461539903837E-3]
[null,null,614.4,1.6052036224778437E-3]
[null,null,615.6,1.5236803699882116E-3]
[null,null,616.79999999999995,1.4614280727295026E-3]
[null,null,618,1.4099775322362451E-3]
[null,null,619.19999999999993,1.3593706629225248E-3]
[null,null,620.4,1.3007424562368199E-3]
[null,null,621.6,1.2280902205777176E-3]
[null,null,622.79999999999995,1.1390138504501952E-3]
[null,null,624,1.0345342480060156E-3]
[null,null,625.19999999999993,9.1829555912178605E-4]
[null,null,626.4,7.9550299927363293E-4]
[null,null,627.6,6.7187193477535965E-4]
[null,null,628.79999999999995,5.5281830942763689E-4]
[null,null,630,4.4278579071732279E-4]
[null,null,631.19999999999993,3.4499906744378457E-4]
[null,null,632.4,2.6129525832859293E-4]
[null,null,633.6,1.9222667014939885E-4]
[null,null,634.79999999999995,1.3727129622030505E-4]
[null,null,636,9.5088756414467664E-5]
[null,null,637.19999999999993,6.3856012817828768E-5]
[null,null,638.4,4.1549420637898853E-5]
[null,null,639.6,2.618277327564061E-5]
[null,null,640.79999999999995,1.5972770331972824E-5]
[null,null,642,9.4300291904861094E-6]
[null,null,643.19999999999993,5.3863371187939051E-6]
[null,null,644.4,2.9759353205771424E-6]
[null,null,645.6,1.5816808083655607E-6]
[null,null,646.79999999999995,8.1836500389114216E-7]
[null,null,648,4.0923546548804545E-7]
[null,null,649.19999999999993,1.9778688426155702E-7]
[null,null,650.4,9.2388884792325971E-8]
[null,null,651.6,4.170997900144362E-8]
[null,null,652.79999999999995,1.8199448516655098E-8]
[null,null,654,0]
[null,null,655.19999999999993,0]
[null,null,656.4,0]
[null,null,657.6,0]
[null,null,658.8,0]
[null,null,660,0]
[null,null,661.19999999999993,0]
[null,null,662.4,0]
[null,null,663.6,0]
[null,null,664.8,0]
[null,null,666,0]
[null,null,667.19999999999993,0]
[null,null,668.4,0]
[null,null,669.6,0]
[null,null,670.8,0]
[null,null,672,0]
[null,null,673.19999999999993,0]
[null,null,674.4,0]
[null,null,675.6,0]
[null,null,676.8,0]
[null,null,678,0]
[null,null,679.19999999999993,0]
[null,null,680.4,0]
[null,null,681.6,0]
[null,null,682.8,0]
[null,null,684,0]
[null,null,685.19999999999993,0]
[null,null,686.4,0]
[null,null,687.6,0]
[null,null,688.8,0]
[null,null,690,0]
[null,null,691.19999999999993,0]
[null,null,692.4,0]
[null,null,693.6,0]
[null,null,694.8,0]
[null,null,696,0]
[null,null,697.19999999999993,0]
[null,null,698.4,0]
[null,null,699.6,0]
[null,null,700.8,0]
[null,null,702,0]
[null,null,703.19999999999993,0]
[null,null,704.4,0]
[null,null,705.6,0]
[null,null,706.8,0]
[null,null,708,0]
[null,null,709.19999999999993,0]
[null,null,710.4,0]
[null,null,711.6,0]
[null,null,712.8,0]
[null,null,714,0]
[null,null,715.19999999999993,0]
[null,null,716.4,0]
[null,null,717.6,0]
[null,null,718.8,0]
[null,null,720,0]
[null,null,721.19999999999993,0]
[null,null,722.4,0]
[null,null,723.6,0]
[null,null,724.8,0]
[null,null,726,0]
[null,null,727.19999999999993,0]
[null,null,728.4,0]
[null,null,729.6,0]
[null,null,730.8,0]
[null,null,732,0]
[null,null,733.19999999999993,0]
[null,null,734.4,0]
[null,null,735.6,0]
[null,null,736.8,0]
[null,null,738,0]
[null,null,739.19999999999993,0]
[null,null,740.4,0]
[null,null,741.6,0]
[null,null,742.8,0]
[null,null,744,0]
[null,null,745.19999999999993,1.2323402886790202E-8]
[null,null,746.4,1.564282780944922E-8]
[null,null,747.6,1.9797382165327359E-8]
[null,null,748.8,2.4980904139003347E-8]
[null,null,750,3.1427976746560587E-8]
[null,null,751.19999999999993,3.9421448472766599E-8]
[null,null,752.4,4.9301100795178601E-8]
[null,null,753.6,6.1473584752643472E-8]
[null,null,754.8,7.6423750382220656E-8]
[null,null,756,9.4727491644783072E-8]
[null,null,757.19999999999993,1.1706622469855805E-7]
[null,null,758.4,1.4424310832113676E-7]
[null,null,759.6,1.7720110114304221E-7]
[null,null,760.8,2.17042930338E-7]
[null,null,762,2.6505301971662402E-7]
[null,null,763.19999999999993,3.2272139102387869E-7]
[null,null,764.4,3.9176950994650663E-7]
[null,null,765.6,4.741779973018744E-7]
[null,null,766.8,5.722160656674115E-7]
[null,null,768,6.8847247208484532E-7]
[null,null,769.19999999999993,8.2588769845937641E-7]
[null,null,770.4,9.8778698320554397E-7]
[null,null,771.6,1.1779137312673125E-6]
[null,null,772.8,1.4004627259780983E-6]
[null,null,774,1.6601124569025592E-6]
[null,null,775.19999999999993,1.9620557648922957E-6]
[null,null,776.4,2.3120278916905598E-6]
[null,null,777.6,2.7163309096609643E-6]
[null,null,778.8,3.1818534012452209E-6]
[null,null,780,3.7160841617059748E-6]
[null,null,781.19999999999993,4.3271186171521243E-6]
[null,null,782.4,5.0236565876901853E-6]
[null,null,783.6,5.8149899879365233E-6]
[null,null,784.8,6.7109790493107911E-6]
[null,null,786,7.7220156756640308E-6]
[null,null,787.19999999999993,8.8589726107732976E-6]
[null,null,788.4,1.0133137207468056E-5]
[null,null,789.6,1.1556128747318342E-5]
[null,null,790.8,1.313979846965895E-5]
[null,null,792,1.4896111730760189E-5]
[null,null,793.19999999999993,1.6837012028293812E-5]
[null,null,794.4,1.8974266991343762E-5]
[null,null,795.6,2.1319296848691367E-5]
[null,null,796.8,2.3882986342674202E-5]
[null,null,798,2.6675481545188752E-5]
[null,null,799.19999999999993,2.9705973546993633E-5]
[null,null,800.4,3.2994011102838283E-5]
[null,null,801.6,3.654052434565898E-5]
[null,null,802.8,4.0368011611304092E-5]
[null,null,804,4.4507121121129557E-5]
[null,null,805.19999999999993,4.9014009026270584E-5]
[null,null,806.4,5.3992426913528638E-5]
[null,null,807.6,5.9628677626342502E-5]
[null,null,808.8,6.6242469170714059E-5]
[null,null,810,7.4353804251799365E-5]
[null,null,811.19999999999993,8.4759920542069173E-5]
[null,null,812.4,9.8606581131555594E-5]
[null,null,813.6,1.1742591796276463E-4]
[null,null,814.8,1.4310215228313192E-4]
[null,null,816,1.7772290953549987E-4]
[null,null,817.19999999999993,2.2328464668147559E-4]
[null,null,818.4,2.812510394080525E-4]
[null,null,819.6,3.5201202405944407E-4]
[null,null,820.8,4.3434814245025465E-4]
[null,null,822,5.2505018661599891E-4]
[null,null,823.19999999999993,6.1885415514043528E-4]
[null,null,824.4,7.0880838548382044E-4]
[null,null,825.6,7.8709239465434542E-4]
[null,null,826.8,8.4617734530932913E-4]
[null,null,828,8.8009735199655521E-4]
[null,null,829.19999999999993,8.8553536875565504E-4]
[null,null,830.4,8.6244891512657113E-4]
[null,null,831.6,8.1407062436806036E-4]
[null,null,832.8,7.4628360408298094E-4]
[null,null,834,6.6653660606325645E-4]
[null,null,835.19999999999993,5.8257372958557161E-4]
[null,null,836.4,5.0127489929852791E-4]
[null,null,837.6,4.2783788682644591E-4]
[null,null,838.8,3.6541194466502633E-4]
[null,null,840,3.1516350781702647E-4]
[null,null,841.19999999999993,2.7665708890906753E-4]
[null,null,842.4,2.4839134787209836E-4]
[null,null,843.6,2.2834033452514798E-4]
[null,null,844.8,2.1439525402233483E-4]
[null,null,846,2.0465906113650861E-4]
[null,null,847.19999999999993,1.9759503935596131E-4]
[null,null,848.4,1.9206085268702751E-4]
[null,null,849.6,1.8727036088371035E-4]
[null,null,850.8,1.8272188421022316E-4]
[null,null,852,1.7812072677217544E-4]
[null,null,853.19999999999993,1.7331167217459365E-4]
[null,null,854.4,1.6824347012464139E-4]
[null,null,855.6,1.6287850107733813E-4]
[null,null,856.8,1.5724287262536054E-4]
[null,null,858,1.5136477736082799E-4]
[null,null,859.19999999999993,1.4529741200212351E-4]
[null,null,860.4,1.3907842469685857E-4]
[null,null,861.6,1.3275866899743822E-4]
[null,null,862.8,1.2639084599006862E-4]
[null,null,864,1.2002988263959927E-4]
[null,null,865.19999999999993,1.1373352784784462E-4]
[null,null,866.4,1.0756317706382047E-4]
[null,null,867.6,1.0158492097790011E-4]
[null,null,868.8,9.5870792781705953E-5]
[null,null,870,9.05001614121549E-5]
[null,null,871.19999999999993,8.5561185491917971E-5]
[null,null,872.4,8.1152205575553879E-5]
[null,null,873.6,7.7382913135042838E-5]
[null,null,874.8,7.4375096995909885E-5]
[null,null,876,7.22627363824554E-5]
[null,null,877.19999999999993,7.1191190060982581E-5]
[null,null,878.4,7.1315229575241254E-5]
[null,null,879.6,7.2795687464210663E-5]
[null,null,880.8,7.5794543908050733E-5]
[null,null,882,8.0468360768481308E-5]
[null,null,883.19999999999993,8.6960090763768891E-5]
[null,null,884.4,9.5389437889784441E-5]
[null,null,885.6,1.0584211494253454E-4]
[null,null,886.8,1.1835852218661355E-4]
[null,null,888,1.3292254072354626E-4]
[null,null,889.19999999999993,1.4945127485335109E-4]
[null,null,890.4,1.6778666857494495E-4]
[null,null,891.6,1.8768994270524199E-4]
[null,null,892.8,2.0883973559324105E-4]
[null,null,894,2.3083467382583876E-4]
[null,null,895.19999999999993,2.532155945044751E-4]
[null,null,896.4,2.7543640751701492E-4]
[null,null,897.6,2.9693629569291479E-4]
[null,null,898.8,3.1713470328402412E-4]
[null,null,900,3.3546838752020864E-4]
[null,null,901.19999999999993,3.5142689887119309E-4]
[null,null,902.4,3.6461091561872767E-4]
[null,null,903.6,3.7471732150274641E-4]
[null,null,904.8,3.8166179239549952E-4]
[null,null,906,3.855811493039915E-4]
[null,null,907.19999999999993,3.8688639560509829E-4]
[null,null,908.4,3.8629555691831196E-4]
[null,null,909.6,3.8486522797989567E-4]
[null,null,910.8,3.8392270109818447E-4]
[null,null,912,3.8507388139297113E-4]
[null,null,913.19999999999993,3.9005960976832194E-4]
[null,null,914.4,4.0060443307775193E-4]
[null,null,915.6,4.1821306751875276E-4]
[null,null,916.8,4.4394457199074024E-4]
[null,null,918,4.7819995639474249E-4]
[null,null,919.19999999999993,5.2058329538943343E-4]
[null,null,920.4,5.6980998984703648E-4]
[null,null,921.59999999999991,6.2385443239260042E-4]
[null,null,922.8,6.8016244176661005E-4]
[null,null,924,7.3603050233361539E-4]
[null,null,925.19999999999993,7.890476210704072E-4]
[null,null,926.4,8.3752015789508461E-4]
[null,null,927.59999999999991,8.8078288981456338E-4]
[null,null,928.8,9.1932490842491896E-4]
[null,null,930,9.5461806997295708E-4]
[null,null,931.19999999999993,9.8881931983573878E-4]
[null,null,932.4,1.024203661034009E-3]
[null,null,933.59999999999991,1.0625925511385549E-3]
[null,null,934.8,1.1048496296571864E-3]
[null,null,936,1.1505712428905484E-3]
[null,null,937.19999999999993,1.1980452787028113E-3]
[null,null,938.4,1.2444877044444364E-3]
[null,null,939.59999999999991,1.286488799081079E-3]
[null,null,940.8,1.3206252116381347E-3]
[null,null,942,1.3439371037984663E-3]
[null,null,943.19999999999993,1.3543856339795985E-3]
[null,null,944.4,1.3510306833351788E-3]
[null,null,945.59999999999991,1.333988089677364E-3]
[null,null,946.8,1.3041953670630906E-3]
[null,null,948,1.2630713489905606E-3]
[null,null,949.19999999999993,1.2121712464507918E-3]
[null,null,950.4,1.1529255850334093E-3]
[null,null,951.59999999999991,1.0865159186276968E-3]
[null,null,952.8,1.0139083347131877E-3]
[null,null,954,9.3594364743095884E-4]
[null,null,955.19999999999993,8.5356608111799475E-4]
[null,null,956.4,7.6795715836614029E-4]
[null,null,957.59999999999991,6.806337391826008E-4]
[null,null,958.8,5.9343388885123348E-4]
[null,null,960,5.0846485358240477E-4]
[null,null,961.19999999999993,4.2786670738483078E-4]
[null,null,962.4,3.5371663966972643E-4]
[null,null,963.59999999999991,2.8781467619202453E-4]
[null,null,964.8,2.3162506169237528E-4]
[null,null,966,1.8623691000136958E-4]
[null,null,967.19999999999993,1.5241114268777582E-4]
[null,null,968.4,1.3060689251468232E-4]
[null,null,969.59999999999991,1.2111618063105871E-4]
[null,null,970.8,1.2406528500403754E-4]
[null,null,972,1.3940361462578497E-4]
[null,null,973.19999999999993,1.668140111072267E-4]
[null,null,974.4,2.055694169020333E-4]
[null,null,975.59999999999991,2.5435975140942406E-4]
[null,null,976.8,3.1113404400660578E-4]
[null,null,978,3.7300852762334636E-4]
[null,null,979.19999999999993,4.3638767197207802E-4]
[null,null,980.4,4.9709858546569596E-4]
[null,null,981.59999999999991,5.5078547524276065E-4]
[null,null,982.8,5.9339115200937327E-4]
[null,null,984,6.2165211537983556E-4]
[null,null,985.19999999999993,6.3359941212145793E-4]
[null,null,986.4,6.2883047066139303E-4]
[null,null,987.59999999999991,6.0874140805014618E-4]
[null,null,988.8,5.7637459481182745E-4]
[null,null,990,5.3625598991650144E-4]
[null,null,991.19999999999993,4.9386584139196512E-4]
[null,null,992.4,4.5523394452947643E-4]
[null,null,993.59999999999991,4.2639629584250083E-4]
[null,null,994.8,4.130298233104691E-4]
[null,null,996,4.2010714928107439E-4]
[null,null,997.19999999999993,4.5169559999001899E-4]
[null,null,998.4,5.1083967802782726E-4]
[null,null,999.59999999999991,5.9950453038043233E-4]
[null,null,1000.8,7.1855091239310409E-4]
[null,null,1002,8.6772069563795489E-4]
[null,null,1003.1999999999999,1.045624188270321E-3]
[null,null,1004.4,1.2497468412707852E-3]
[null,null,1005.5999999999999,1.4764060127460598E-3]
[null,null,1006.8,1.720849080419978E-3]
[null,null,1008,1.9772446962651397E-3]
[null,null,1009.1999999999999,2.2388316956332708E-3]
[null,null,1010.4,2.4980423682708533E-3]
[null,null,1011.5999999999999,2.7467159052778265E-3]
[null,null,1012.8,2.9763929458777355E-3]
[null,null,1014,3.178655755545272E-3]
[null,null,1015.1999999999999,3.3456387368436921E-3]
[null,null,1016.4,3.470554030267109E-3]
[null,null,1017.5999999999999,3.5482895360806578E-3]
[null,null,1018.8,3.5759727179867475E-3]
[null,null,1020,3.55346107368856E-3]
[null,null,1021.1999999999999,3.4835582647478399E-3]
[null,null,1022.4,3.3720485748781892E-3]
[null,null,1023.5999999999999,3.2273674415610075E-3]
[null,null,1024.8,3.0599826685995318E-3]
[null,null,1026,2.8815308956248718E-3]
[null,null,1027.2,2.7038096066809799E-3]
[null,null,1028.3999999999999,2.5377491577646409E-3]
[null,null,1029.5999999999999,2.3924910605122272E-3]
[null,null,1030.8,2.2746789010497166E-3]
[null,null,1032,2.1880324634219201E-3]
[null,null,1033.2,2.1332323490858241E-3]
[null,null,1034.3999999999999,2.1081004217347165E-3]
[null,null,1035.5999999999999,2.1080276818115761E-3]
[null,null,1036.8,2.1265795279458467E-3]
[null,null,1038,2.1562110713995732E-3]
[null,null,1039.2,2.1889473937311385E-3]
[null,null,1040.3999999999999,2.2171283273796252E-3]
[null,null,1041.5999999999999,2.2339479755695683E-3]
[null,null,1042.8,2.2339125495127107E-3]
[null,null,1044,2.2131345711323149E-3]
[null,null,1045.2,2.1694694554248101E-3]
[null,null,1046.3999999999999,2.1024950769195617E-3]
[null,null,1047.5999999999999,2.0134088245335859E-3]
[null,null,1048.8,1.9047107122351593E-3]
[null,null,1050,1.7799779908450636E-3]
[null,null,1051.2,1.6434374501821025E-3]
[null,null,1052.3999999999999,1.4996566146372157E-3]
[null,null,1053.5999999999999,1.3531937335741744E-3]
[null,null,1054.8,1.208300366149357E-3]
[null,null,1056,1.068714227402985E-3]
[null,null,1057.2,9.3746254967690666E-4]
[null,null,1058.3999999999999,8.1680560637774531E-4]
[null,null,1059.5999999999999,7.0819322360950469E-4]
[null,null,1060.8,6.1230512486381552E-4]
[null,null,1062,5.2915964927968391E-4]
[null,null,1063.2,4.5822474223890523E-4]
[null,null,1064.3999999999999,3.9855100628220487E-4]
[null,null,1065.5999999999999,3.4894685854067496E-4]
[null,null,1066.8,3.0805482936504576E-4]
[null,null,1068,2.7450714653820855E-4]
[null,null,1069.2,2.4699925562334023E-4]
[null,null,1070.3999999999999,2.2434980338157507E-4]
[null,null,1071.5999999999999,2.0553504819674758E-4]
[null,null,1072.8,1.8970151373170631E-4]
[null,null,1074,1.761783340018313E-4]
[null,null,1075.2,1.6441224243182365E-4]
[null,null,1076.3999999999999,1.54010723892676E-4]
[null,null,1077.5999999999999,1.4468318028639947E-4]
[null,null,1078.8,1.3622106142989617E-4]
[null,null,1080,1.2850609080879635E-4]
[null,null,1081.2,1.2148357194145608E-4]
[null,null,1082.3999999999999,1.1512336974878801E-4]
[null,null,1083.5999999999999,1.0948751393339084E-4]
[null,null,1084.8,1.0467573472807735E-4]
[null,null,1086,1.0086804509536018E-4]
[null,null,1087.2,9.8325036293189663E-5]
[null,null,1088.3999999999999,9.7392726637233191E-5]
[null,null,1089.5999999999999,9.853260895327791E-5]
[null,null,1090.8,1.0227652276662943E-4]
[null,null,1092,1.0924370308355074E-4]
[null,null,1093.2,1.2009617137301185E-4]
[null,null,1094.3999999999999,1.3548460216588847E-4]
[null,null,1095.5999999999999,1.5597363089288603E-4]
[null,null,1096.8,1.8195020356222014E-4]
[null,null,1098,2.1352297827083837E-4]
[null,null,1099.2,2.5042515678187451E-4]
[null,null,1100.3999999999999,2.9193644297069796E-4]
[null,null,1101.5999999999999,3.3684101525042879E-4]
[null,null,1102.8,3.8343658568927759E-4]
[null,null,1104,4.2960441936136583E-4]
[null,null,1105.2,4.7294194930393797E-4]
[null,null,1106.3999999999999,5.1094949319934867E-4]
[null,null,1107.5999999999999,5.4125237196647974E-4]
[null,null,1108.8,5.6183157959488407E-4]
[null,null,1110,5.7123201200994314E-4]
[null,null,1111.2,5.687183923911588E-4]
[null,null,1112.3999999999999,5.5435561557604411E-4]
[null,null,1113.5999999999999,5.2900125218995314E-4]
[null,null,1114.8,4.9422491939613965E-4]
[null,null,1116,4.5209865520998361E-4]
[null,null,1117.2,4.0503895213176268E-4]
[null,null,1118.3999999999999,3.5554350024259582E-4]
[null,null,1119.5999999999999,3.0597174244818495E-4]
[null,null,1120.8,2.5841029636756394E-4]
[null,null,1122,2.1448411637024135E-4]
[null,null,1123.2,1.7534971530953699E-4]
[null,null,1124.3999999999999,1.416858771705897E-4]
[null,null,1125.5999999999999,1.1374785685194238E-4]
[null,null,1126.8,9.1455758568119016E-5]
[null,null,1128,7.4499976197509743E-5]
[null,null,1129.2,6.2447942884909479E-5]
[null,null,1130.3999999999999,5.4839697964733557E-5]
[null,null,1131.5999999999999,5.1274774028733432E-5]
[null,null,1132.8,5.1427630483080085E-5]
[null,null,1134,5.513872986585341E-5]
[null,null,1135.2,6.2342228572800451E-5]
[null,null,1136.3999999999999,7.311619023575637E-5]
[null,null,1137.5999999999999,8.7614698137570125E-5]
[null,null,1138.8,1.060456581214604E-4]
[null,null,1140,1.2856489309076726E-4]
[null,null,1141.2,1.5528878029471896E-4]
[null,null,1142.3999999999999,1.8620137958038756E-4]
[null,null,1143.5999999999999,2.211214429838345E-4]
[null,null,1144.8,2.596769506710173E-4]
[null,null,1146,3.0130211259633334E-4]
[null,null,1147.2,3.4526072796522191E-4]
[null,null,1148.3999999999999,3.9068950338519849E-4]
[null,null,1149.5999999999999,4.3670542470849744E-4]
[null,null,1150.8,4.8244031823233284E-4]
[null,null,1152,5.2718164453504702E-4]
[null,null,1153.2,5.7044438680437317E-4]
[null,null,1154.3999999999999,6.1203218029089298E-4]
[null,null,1155.5999999999999,6.520596989851924E-4]
[null,null,1156.8,6.9092769989976459E-4]
[null,null,1158,7.2924935871403424E-4]
[null,null,1159.2,7.6773511991445789E-4]
[null,null,1160.3999999999999,8.0705164387162153E-4]
[null,null,1161.5999999999999,8.4767676531113717E-4]
[null,null,1162.8,8.8977507417436379E-4]
[null,null,1164,9.3311679491432523E-4]
[null,null,1165.2,9.7705602225783557E-4]
[null,null,1166.3999999999999,1.0205740959843303E-3]
[null,null,1167.5999999999999,1.0623819323010051E-3]
[null,null,1168.8,1.1010639848834636E-3]
[null,null,1170,1.1352569848351081E-3]
[null,null,1171.2,1.163742995466549E-3]
[null,null,1172.3999999999999,1.1856345588533693E-3]
[null,null,1173.5999999999999,1.2003943803804758E-3]
[null,null,1174.8,1.2078477085814842E-3]
[null,null,1176,1.2081343419724261E-3]
[null,null,1177.2,1.2016260037985636E-3]
[null,null,1178.3999999999999,1.1888313507196534E-3]
[null,null,1179.5999999999999,1.1703113745889543E-3]
[null,null,1180.8,1.1466234549310211E-3]
[null,null,1182,1.1182939005337054E-3]
[null,null,1183.2,1.0859001927110323E-3]
[null,null,1184.3999999999999,1.0499977312831315E-3]
[null,null,1185.5999999999999,1.0113078200781778E-3]
[null,null,1186.8,9.7072090334673672E-4]
[null,null,1188,9.2934202267377008E-4]
[null,null,1189.2,8.8848663410725311E-4]
[null,null,1190.3999999999999,8.4962869719165494E-4]
[null,null,1191.5999999999999,8.1430130871079545E-4]
[null,null,1192.8,7.8395884454671909E-4]
[null,null,1194,7.5983340749193485E-4]
[null,null,1195.2,7.4272566693007981E-4]
[null,null,1196.3999999999999,7.3293680349311092E-4]
[null,null,1197.5999999999999,7.3014842292765732E-4]
[null,null,1198.8,7.3341172028552513E-4]
[null,null,1200,7.412403069122094E-4]
[null,null,1201.2,7.517100789328642E-4]
[null,null,1202.3999999999999,7.627049184787103E-4]
[null,null,1203.5999999999999,7.7215675434247984E-4]
[null,null,1204.8,7.783040134734956E-4]
[null,null,1206,7.7992107400130426E-4]
[null,null,1207.2,7.7648507257506113E-4]
[null,null,1208.3999999999999,7.6824718537539191E-4]
[null,null,1209.5999999999999,7.5624614066115885E-4]
[null,null,1210.8,7.4212938705028495E-4]
[null,null,1212,7.280009091845843E-4]
[null,null,1213.2,7.1615317010275206E-4]
[null,null,1214.3999999999999,7.0879468950445343E-4]
[null,null,1215.5999999999999,7.077917387774402E-4]
[null,null,1216.8,7.14453280400715E-4]
[null,null,1218,7.2937993751803277E-4]
[null,null,1219.2,7.5238788750522001E-4]
[null,null,1220.3999999999999,7.8250905416058837E-4]
[null,null,1221.5999999999999,8.1806124419970367E-4]
[null,null,1222.8,8.5677660933953072E-4]
[null,null,1224,8.9597395429820827E-4]
[null,null,1225.2,9.3275937245186407E-4]
[null,null,1226.3999999999999,9.6423970131462799E-4]
[null,null,1227.5999999999999,9.8773370607227722E-4]
[null,null,1228.8,1.0009664235844592E-3]
[null,null,1230,1.0022328335029635E-3]
[null,null,1231.2,9.9051206016258979E-4]
[null,null,1232.3999999999999,9.6556258088211801E-4]
[null,null,1233.5999999999999,9.2787613292266648E-4]
[null,null,1234.8,8.7868991036486746E-4]
[null,null,1236,8.1981827032787244E-4]
[null,null,1237.2,7.5353538463322127E-4]
[null,null,1238.3999999999999,6.8238090775389626E-4]
[null,null,1239.5999999999999,6.0896597565133982E-4]
[null,null,1240.8,5.3578817698347306E-4]
[null,null,1242,4.6507301856503475E-4]
[null,null,1243.2,3.9865512114380531E-4]
[null,null,1244.3999999999999,3.3790015726898996E-4]
[null,null,1245.5999999999999,2.837220429130733E-4]
[null,null,1246.8,2.3650897353673641E-4]
[null,null,1248,1.9628309783464E-4]
[null,null,1249.2,1.6272462781955497E-4]
[null,null,1250.3999999999999,1.3527195038970293E-4]
[null,null,1251.5999999999999,1.1321158508731524E-4]
[null,null,1252.8,9.5759498253353251E-5]
[null,null,1254,8.2128033781477111E-5]
[null,null,1255.2,7.1575715331514853E-5]
[null,null,1256.3999999999999,6.3439779970710889E-5]
[null,null,1257.5999999999999,5.715324176098392E-5]
[null,null,1258.8,5.2249458010911228E-5]
[null,null,1260,4.8357631334803078E-5]
[null,null,1261.2,4.5203629264842464E-5]
[null,null,1262.3999999999999,4.2561225452254828E-5]
[null,null,1263.5999999999999,4.028496463757988E-5]
[null,null,1264.8,3.8270350432010183E-5]
[null,null,1266,3.6466695156925661E-5]
[null,null,1267.2,3.481152625880463E-5]
[null,null,1268.3999999999999,3.3300145548288838E-5]
[null,null,1269.5999999999999,3.1938086897054715E-5]
[null,null,1270.8,3.0743739166497379E-5]
[null,null,1272,2.9779971433514952E-5]
[null,null,1273.2,2.9100413520677183E-5]
[null,null,1274.3999999999999,2.8821074438879622E-5]
[null,null,1275.5999999999999,2.9068419202427074E-5]
[null,null,1276.8,3.0040056509929156E-5]
[null,null,1278,3.1944323192054165E-5]
[null,null,1279.2,3.5081716879143469E-5]
[null,null,1280.3999999999999,3.9805602530724163E-5]
[null,null,1281.5999999999999,4.6533977842275904E-5]
[null,null,1282.8,5.5746345730521731E-5]
[null,null,1284,6.7974228932699048E-5]
[null,null,1285.2,8.3784028786117325E-5]
[null,null,1286.3999999999999,1.0375140134044473E-4]
[null,null,1287.5999999999999,1.284270669317427E-4]
[null,null,1288.8,1.582949574432108E-4]
[null,null,1290,1.9372476138093472E-4]
[null,null,1291.2,2.3492212193187146E-4]
[null,null,1292.3999999999999,2.8188080674903377E-4]
[null,null,1293.5999999999999,3.3434190830147536E-4]
[null,null,1294.8,3.9176536678254582E-4]
[null,null,1296,4.5331869423212223E-4]
[null,null,1297.2,5.1788665730647396E-4]
[null,null,1298.3999999999999,5.8410388954789356E-4]
[null,null,1299.5999999999999,6.504212443335125E-4]
[null,null,1300.8,7.1513717815721242E-4]
[null,null,1302,7.7655109780796767E-4]
[null,null,1303.2,8.3301801775090083E-4]
[null,null,1304.3999999999999,8.8305372316720555E-4]
[null,null,1305.5999999999999,9.2541933922728279E-4]
[null,null,1306.8,9.5918754062293196E-4]
[null,null,1308,9.8378425171513737E-4]
[null,null,1309.2,9.990023354559752E-4]
[null,null,1310.3999999999999,1.0049868598325873E-3]
[null,null,1311.6,1.0021946441408902E-3]
[null,null,1312.8,9.9133350168760103E-4]
[null,null,1314,9.7328855294932239E-4]
[null,null,1315.2,9.4904394568959694E-4]
[null,null,1316.3999999999999,9.1960820064378439E-4]
[null,null,1317.6,8.8595027703734623E-4]
[null,null,1318.8,8.4895153495843619E-4]
[null,null,1320,8.0937637372703727E-4]
[null,null,1321.2,7.6786180413726155E-4]
[null,null,1322.3999999999999,7.2492391343571816E-4]
[null,null,1323.6,6.809773892317879E-4]
[null,null,1324.8,6.3636316887580237E-4]
[null,null,1326,5.9137894584699907E-4]
[null,null,1327.2,5.4630765258039911E-4]
[null,null,1328.3999999999999,5.0144001302503463E-4]
[null,null,1329.6,4.5708861641222446E-4]
[null,null,1330.8,4.135924762013139E-4]
[null,null,1332,3.7131248274472543E-4]
[null,null,1333.2,3.3061935100160754E-4]
[null,null,1334.3999999999999,2.9187648111673504E-4]
[null,null,1335.6,2.5542053428229627E-4]
[null,null,1336.8,2.2154249052998284E-4]
[null,null,1338,1.9047156618560128E-4]
[null,null,1339.2,1.6236373170226169E-4]
[null,null,1340.3999999999999,1.3729580759031592E-4]
[null,null,1341.6,1.1526534638646898E-4]
[null,null,1342.8,9.6195832030363277E-5]
[null,null,1344,7.9946214682270831E-5]
[null,null,1345.2,6.6323484588953066E-5]
[null,null,1346.3999999999999,5.5096875814313544E-5]
[null,null,1347.6,4.6012355276609617E-5]
[null,null,1348.8,3.8806252154204527E-5]
[null,null,1350,3.321104111113221E-5]
[null,null,1351.2,2.8992270916473597E-5]
[null,null,1352.3999999999999,2.5909360773873882E-5]
[null,null,1353.6,2.3756126345970901E-5]
[null,null,1354.8,2.235228045505984E-5]
[null,null,1356,2.1544038423704789E-5]
[null,null,1357.2,2.1193164981760474E-5]
[null,null,1358.3999999999999,2.1219538658201686E-5]
[null,null,1359.6,2.1523457828400086E-5]
[null,null,1360.8,2.204023691175748E-5]
[null,null,1362,2.2720037175722576E-5]
[null,null,1363.2,2.3525166867770957E-5]
[null,null,1364.3999999999999,2.4427618477236644E-5]
[null,null,1365.6,2.5406920623964602E-5]
[null,null,1366.8,2.6448332779463408E-5]
[null,null,1368,2.7541376160603699E-5]
[null,null,1369.2,2.8678671999610894E-5]
[null,null,1370.3999999999999,2.9855046560091921E-5]
[null,null,1371.6,3.1066858112708255E-5]
[null,null,1372.8,3.2303078984590839E-5]
[null,null,1374,3.3582135403327912E-5]
[null,null,1375.2,3.4889188122177217E-5]
[null,null,1376.3999999999999,3.6223559203349603E-5]
[null,null,1377.6,3.7574726282199925E-5]
[null,null,1378.8,3.8962611097592557E-5]
[null,null,1380,4.037519495241711E-5]
[null,null,1381.2,4.1823537066856824E-5]
[null,null,1382.3999999999999,4.3283913231201231E-5]
[null,null,1383.6,4.4766021535143092E-5]
[null,null,1384.8,4.6268687528911649E-5]
[null,null,1386,4.7790663500074349E-5]
[null,null,1387.2,4.9330629898762866E-5]
[null,null,1388.3999999999999,5.0887197069530856E-5]
[null,null,1389.6,5.2458907292649964E-5]
[null,null,1390.8,5.4044237136227172E-5]
[null,null,1392,5.5641600119066126E-5]
[null,null,1393.2,5.7249349682668082E-5]
[null,null,1394.3999999999999,5.8865782469219809E-5]
[null,null,1395.6,6.048914190083283E-5]
[null,null,1396.8,6.2117622053688563E-5]
[null,null,1398,6.3749371819140163E-5]
[null,null,1399.2,6.5393476741644279E-5]
[null,null,1400.3999999999999,6.7027323715285772E-5]
[null,null,1401.6,6.8658799307477891E-5]
[null,null,1402.8,7.0285932497952006E-5]
[null,null,1404,7.1906733066561568E-5]
[null,null,1405.2,7.3519197321727383E-5]
[null,null,1406.3999999999999,7.5121314022894521E-5]
[null,null,1407.6,7.6711070477240883E-5]
[null,null,1408.8,7.8286458789608344E-5]
[null,null,1410,7.9845482243462806E-5]
[null,null,1411.2,8.1386161789596528E-5]
[null,null,1412.3999999999999,8.2906542618315442E-5]
[null,null,1413.6,8.4404700789988838E-5]
[null,null,1414.8,8.5878749898084269E-5]
[null,null,1416,8.732684773819927E-5]
[null,null,1417.2,8.8747202956097277E-5]
[null,null,1418.3999999999999,9.0138081647405291E-5]
[null,null,1419.6,9.1497813881410381E-5]
[null,null,1420.8,9.2824800121310913E-5]
[null,null,1422,9.411751751335508E-5]
[null,null,1423.2,9.5374526017501216E-5]
[null,null,1424.3999999999999,9.6594474352598004E-5]
[null,null,1425.6,9.7776105729582228E-5]
[null,null,1426.8,9.8918263346832219E-5]
[null,null,1428,1.0001989562260416E-4]
[null,null,1429.2,1.0108006114039002E-4]
[null,null,1430.3999999999999,1.0209793328408742E-4]
[null,null,1431.6,1.0307280454104681E-4]
[null,null,1432.8,1.0400409045234637E-4]
[null,null,1434,1.0489133319105683E-4]
[null,null,1435.2,1.0573420475075358E-4]
[null,null,1436.3999999999999,1.0653250972813682E-4]
[null,null,1437.6,1.072861876853009E-4]
[null,null,1438.8,1.0799531507894705E-4]
[null,null,1440,1.086601067456566E-4]
[null,null,1441.2,1.0928091693420663E-4]
[null,null,1442.3999999999999,1.0985823987782364E-4]
[null,null,1443.6,1.103927099012096E-4]
[null,null,1444.8,1.1088510105912916E-4]
[null,null,1446,1.1133632630531144E-4]
[null,null,1447.2,1.1174743619237257E-4]
[null,null,1448.3999999999999,1.1211961710540194E-4]
[null,null,1449.6,1.1245418903376549E-4]
[null,null,1450.8,1.1275260288754252E-4]
[null,null,1452,1.1301643736683295E-4]
[null,null,1453.2,1.1324739539392396E-4]
[null,null,1454.3999999999999,1.1344730011999196E-4]
[null,null,1455.6,1.1361809051962005E-4]
[null,null,1456.8,1.1376181658793002E-4]
[null,null,1458,1.1388063415655112E-4]
[null,null,1459.2,1.1397679934597118E-4]
[null,null,1460.3999999999999,1.1405266267302959E-4]
[null,null,1461.6,1.1411066283341903E-4]
[null,null,1462.8,1.1415332018004895E-4]
[null,null,1464,1.1418322991899889E-4]
[null,null,1465.2,1.1420305504553937E-4]
[null,null,1466.3999999999999,1.1421551904333197E-4]
[null,null,1467.6,1.14223398370431E-4]
[null,null,1468.8,1.1422951475610147E-4]
[null,null,1470,1.1423672733274589E-4]
[null,null,1471.2,1.1424792462739167E-4]
[null,null,1472.3999999999999,1.142660164372432E-4]
[null,null,1473.6,1.1429392561374864E-4]
[null,null,1474.8,1.1433457977947402E-4]
[null,null,1476,1.1439090300182893E-4]
[null,null,1477.2,1.1446580744734829E-4]
[null,null,1478.3999999999999,1.1456218503981398E-4]
[null,null,1479.6,1.1468289914500687E-4]
[null,null,1480.8,1.1483077630431781E-4]
[null,null,1482,1.1500859803882683E-4]
[null,null,1483.2,1.1521909274479064E-4]
[null,null,1484.3999999999999,1.1546492770076489E-4]
[null,null,1485.6,1.1574870120584289E-4]
[null,null,1486.8,1.1607293486771748E-4]
[null,null,1488,1.164400660584854E-4]
[null,null,1489.2,1.1685244055530736E-4]
[null,null,1490.3999999999999,1.1731230538223566E-4]
[null,null,1491.6,1.1782180186871683E-4]
[null,null,1492.8,1.1838295893948338E-4]
[null,null,1494,1.1899768664977376E-4]
[null,null,1495.2,1.1966776997905941E-4]
[null,null,1496.3999999999999,1.2039486289572633E-4]
[null,null,1497.6,1.2118048270445336E-4]
[null,null,1498.8,1.2202600468735553E-4]
[null,null,1500,1.2293265704932345E-4]
[null,null,1501.2,1.2390151617738045E-4]
[null,null,1502.3999999999999,1.2493350222331424E-4]
[null,null,1503.6,1.2602937501830268E-4]
[null,null,1504.8,1.2718973032775375E-4]
[null,null,1506,1.2841499645411714E-4]
[null,null,1507.2,1.2970543119498364E-4]
[null,null,1508.3999999999999,1.3106111916338291E-4]
[null,null,1509.6,1.3248196947680745E-4]
[null,null,1510.8,1.3396771382111905E-4]
[null,null,1512,1.3551790489515421E-4]
[null,null,1513.2,1.3713191524149587E-4]
[null,null,1514.3999999999999,1.3880893646854781E-4]
[null,null,1515.6,1.4054797886871182E-4]
[null,null,1516.8,1.4234787143711555E-4]
[null,null,1518,1.4420726229499346E-4]
[null,null,1519.2,1.4612461952143066E-4]
[null,null,1520.3999999999999,1.4809823239678421E-4]
[null,null,1521.6,1.5012621306065789E-4]
[null,null,1522.8,1.5220649858682525E-4]
[null,null,1524,1.5433685347699034E-4]
[null,null,1525.2,1.5651487257469573E-4]
[null,null,1526.3999999999999,1.5873798440007523E-4]
[null,null,1527.6,1.6100345490547191E-4]
[null,null,1528.8,1.6330839165119553E-4]
[null,null,1530,1.656497483999075E-4]
[null,null,1531.2,1.6802433012723966E-4]
[null,null,1532.3999999999999,1.7042879844532874E-4]
[null,null,1533.6,1.7285967743494682E-4]
[null,null,1534.8,1.7531335988083419E-4]
[null,null,1536,1.7778611390372205E-4]
[null,null,1537.2,1.8027408998132305E-4]
[null,null,1538.3999999999999,1.8277332834932205E-4]
[null,null,1539.6,1.8527976677208688E-4]
[null,null,1540.8,1.8778924867145203E-4]
[null,null,1542,1.9029753160053543E-4]
[null,null,1543.2,1.9280029604809237E-4]
[null,null,1544.3999999999999,1.9529315455744326E-4]
[null,null,1545.6,1.9777166114251927E-4]
[null,null,1546.8,2.0023132098205231E-4]
[null,null,1548,2.0266760037143921E-4]
[null,null,1549.2,2.0507593691029412E-4]
[null,null,1550.3999999999999,2.0745174990222299E-4]
[null,null,1551.6,2.0979045094190039E-4]
[null,null,1552.8,2.1208745466310376E-4]
[null,null,1554,2.1433818962001238E-4]
[null,null,1555.2,2.1653810927276383E-4]
[null,null,1556.3999999999999,2.1868270304704649E-4]
[null,null,1557.6,2.2076750743637059E-4]
[null,null,1558.8,2.2278811711461458E-4]
[null,null,1560,2.2474019602553138E-4]
[null,null,1561.2,2.2661948841507762E-4]
[null,null,1562.3999999999999,2.2842182977176131E-4]
[null,null,1563.6,2.3014315763966671E-4]
[null,null,1564.8,2.317795222684204E-4]
[null,null,1566,2.333270970641447E-4]
[null,null,1567.2,2.3478218880536373E-4]
[null,null,1568.3999999999999,2.3614124758793715E-4]
[null,null,1569.6,2.3740087646337128E-4]
[null,null,1570.8,2.3855784073530654E-4]
[null,null,1572,2.396090768796239E-4]
[null,null,1573.2,2.4055170105441874E-4]
[null,null,1574.3999999999999,2.4138301716709529E-4]
[null,null,1575.6,2.4210052446701108E-4]
[null,null,1576.8,2.4270192463345417E-4]
[null,null,1578,2.4318512833027253E-4]
[null,null,1579.2,2.4354826120016651E-4]
[null,null,1580.3999999999999,2.4378966927352227E-4]
[null,null,1581.6,2.4390792376867659E-4]
[null,null,1582.8,2.4390182526266724E-4]
[null,null,1584,2.4377040721381947E-4]
[null,null,1585.2,2.4351293881994164E-4]
[null,null,1586.3999999999999,2.4312892719843709E-4]
[null,null,1587.6,2.4261811887727342E-4]
[null,null,1588.8,2.4198050058847043E-4]
[null,null,1590,2.4121629935855565E-4]
[null,null,1591.2,2.403259818932847E-4]
[null,null,1592.3999999999999,2.393102532568079E-4]
[null,null,1593.6,2.3817005484837078E-4]
[null,null,1594.8,2.3690656168255851E-4]
[null,null,1596,2.3552117898199026E-4]
[null,null,1597.2,2.3401553809425797E-4]
[null,null,1598.3999999999999,2.3239149174773501E-4]
[null,null,1599.6,2.3065110866365569E-4]
[null,null,1600.8,2.2879666754457479E-4]
[null,null,1602,2.2683065046191254E-4]
[null,null,1603.2,2.2475573566780514E-4]
[null,null,1604.3999999999999,2.2257478985885469E-4]
[null,null,1605.6,2.202908599216185E-4]
[null,null,1606.8,2.1790716419178434E-4]
[null,null,1608,2.1542708326090156E-4]
[null,null,1609.2,2.1285415036632131E-4]
[null,null,1610.3999999999999,2.1019204140157837E-4]
[null,null,1611.6,2.0744456458584519E-4]
[null,null,1612.8,2.0461564983230215E-4]
[null,null,1614,2.0170933785625125E-4]
[null,null,1615.2,1.9872976906461153E-4]
[null,null,1616.3999999999999,1.9568117226900902E-4]
[null,null,1617.6,1.9256785326504606E-4]
[null,null,1618.8,1.8939418332050419E-4]
[null,null,1620,1.8616458761516399E-4]
[null,null,1621.2,1.8288353367468304E-4]
[null,null,1622.3999999999999,1.7955551984049237E-4]
[null,null,1623.6,1.7618506381700339E-4]
[null,null,1624.8,1.7277669133656384E-4]
[null,null,1626,1.693349249815261E-4]
[null,null,1627.2,1.6586427320157914E-4]
[null,null,1628.3999999999999,1.6236921956307984E-4]
[null,null,1629.6,1.5885421226555265E-4]
[null,null,1630.8,1.5532365395882651E-4]
[null,null,1632,1.5178189189240303E-4]
[null,null,1633.2,1.4823320842669531E-4]
[null,null,1634.3999999999999,1.4468181193367643E-4]
[null,null,1635.6,1.4113182811228888E-4]
[null,null,1636.8,1.3758729174170948E-4]
[null,null,1638,1.3404232761495642E-4]
[null,null,1639.2,1.3052142843252766E-4]
[null,null,1640.3999999999999,1.2701735511348015E-4]
[null,null,1641.6,1.2353371570534826E-4]
[null,null,1642.8,1.2007399242740737E-4]
[null,null,1644,1.1664153647303356E-4]
[null,null,1645.2,1.1323956333883114E-4]
[null,null,1646.3999999999999,1.0987114868443341E-4]
[null,null,1647.6,1.0653922472448727E-4]
[null,null,1648.8,1.0324657715200549E-4]
[null,null,1650,9.9995842589973292E-5]
[null,null,1651.2,9.6789506565921464E-5]
[null,null,1652.3999999999999,9.3629902002054057E-5]
[null,null,1653.6,9.0519208211507082E-5]
[null,null,1654.8,8.7459450389416765E-5]
[null,null,1656,8.4452499585659893E-5]
[null,null,1657.2,8.150007314447358E-5]
[null,null,1658.3999999999999,7.8603735594598586E-5]
[null,null,1659.6,7.5764899972169706E-5]
[null,null,1660.8,7.2984829557300461E-5]
[null,null,1662,7.0264640004139898E-5]
[null,null,1663.2,6.7605301843185999E-5]
[null,null,1664.3999999999999,6.5007643333757709E-5]
[null,null,1665.6,6.247235364379408E-5]
[null,null,1666.8,5.9999986333566647E-5]
[null,null,1668,5.7590963119415691E-5]
[null,null,1669.2,5.5245577893317554E-5]
[null,null,1670.3999999999999,5.2964000973889931E-5]
[null,null,1671.6,5.0746283564379699E-5]
[null,null,1672.8,4.8592362393247706E-5]
[null,null,1674,4.6502064513128444E-5]
[null,null,1675.2,4.447511223424874E-5]
[null,null,1676.3999999999999,4.2511128168779267E-5]
[null,null,1677.6,4.0609640363089436E-5]
[null,null,1678.8,3.8770087495474444E-5]
[null,null,1680,3.6991824117586035E-5]
[null,null,1681.2,3.5274125918565134E-5]
[null,null,1682.3999999999999,3.3616194991692495E-5]
[null,null,1683.6,3.2017165084260744E-5]
[null,null,1684.8,3.047610681232107E-5]
[null,null,1686,2.8992032822936517E-5]
[null,null,1687.2,2.7563902887615581E-5]
[null,null,1688.3999999999999,2.6190628911655252E-5]
[null,null,1689.6,2.487107984521069E-5]
[null,null,1690.8,2.3604086483018171E-5]
[null,null,1692,2.2388446140804255E-5]
[null,null,1693.2,2.1222927197542683E-5]
[null,null,1694.3999999999999,2.010627349383121E-5]
[null,null,1695.6,1.9037208577769701E-5]
[null,null,1696.8,1.8014439790818025E-5]
[null,null,1698,1.7036662187179301E-5]
[null,null,1699.2,1.6102562281310792E-5]
[null,null,1700.3999999999999,1.5210821619180618E-5]
[null,null,1701.6,1.4360120169876243E-5]
[null,null,1702.8,1.3549139535123859E-5]
[null,null,1704,1.2776565975182174E-5]
[null,null,1705.2,1.20410932504471E-5]
[null,null,1706.3999999999999,1.1341425278922189E-5]
[null,null,1707.6,1.0676278610484185E-5]
[null,null,1708.8,1.0044384719601273E-5]
[null,null,1710,9.4444921188321484E-6]
[null,null,1711.2,8.8753682960631437E-6]
[null,null,1712.3999999999999,8.3358014790109283E-6]
[null,null,1713.6,7.8246022310399119E-6]
[null,null,1714.8,7.3406048828158208E-6]
[null,null,1716,6.8826688047327005E-6]
[null,null,1717.2,6.4496795254236821E-6]
[null,null,1718.3999999999999,6.0405497019843995E-6]
[null,null,1719.6,5.6542199478109854E-6]
[null,null,1720.8,5.2896595241831248E-6]
[null,null,1722,4.9458669019022608E-6]
[null,null,1723.2,4.621870199437743E-6]
[null,null,1724.3999999999999,4.3167275041314946E-6]
[null,null,1725.6,4.0295270830728146E-6]
[null,null,1726.8,3.7593874902807881E-6]
[null,null,1728,3.5054575768205267E-6]
[null,null,1729.2,3.266916410440638E-6]
[null,null,1730.3999999999999,3.0429731112481746E-6]
[null,null,1731.6,2.8328666098404976E-6]
[null,null,1732.8,2.6358653341930891E-6]
[null,null,1734,2.4512668314575386E-6]
[null,null,1735.2,2.2783973306623284E-6]
[null,null,1736.3999999999999,2.1166112521278138E-6]
[null,null,1737.6,1.9652906692111916E-6]
[null,null,1738.8,1.8238447277892907E-6]
[null,null,1740,1.6917090286664086E-6]
[null,null,1741.2,1.5683449778671003E-6]
[null,null,1742.3999999999999,1.4532391095378024E-6]
[null,null,1743.6,1.345902385940661E-6]
[null,null,1744.8,1.2458694787793415E-6]
[null,null,1746,1.1526980358499124E-6]
[null,null,1747.2,1.0659679367644165E-6]
[null,null,1748.3999999999999,9.852805412489677E-7]
[null,null,1749.6,9.102579332752862E-7]
[null,null,1750.8,8.4054216404520805E-7]
[null,null,1752,7.7579449661207574E-7]
[null,null,1753.2,7.1569465469359628E-7]
[null,null,1754.3999999999999,6.599400780068952E-7]
[null,null,1755.6,6.0824518623983427E-7]
[null,null,1756.8,5.6034065356372598E-7]
[null,null,1758,5.1597269539112696E-7]
[null,null,1759.2,4.7490236889015186E-7]
[null,null,1760.3999999999999,4.3690488858275469E-7]
[null,null,1761.6,4.0176895817974919E-7]
[null,null,1762.8,3.6929611964004743E-7]
[null,null,1764,3.3930012028528529E-7]
[null,null,1765.2,3.1160629865461691E-7]
[null,null,1766.3999999999999,2.8605098964708424E-7]
[null,null,1767.6,2.6248094937106762E-7]
[null,null,1768.8,2.4075280000172734E-7]
[null,null,1770,2.2073249483751509E-7]
[null,null,1771.2,2.0229480364617245E-7]
[null,null,1772.3999999999999,1.8532281829830248E-7]
[null,null,1773.6,1.6970747860267764E-7]
[null,null,1774.8,1.5534711818161371E-7]
[null,null,1776,1.4214703015640798E-7]
[null,null,1777.2,1.3001905235211056E-7]
[null,null,1778.3999999999999,1.1888117167698352E-7]
[null,null,1779.6,1.0865714728482603E-7]
[null,null,1780.8,9.9276152087467498E-8]
[null,null,1782,9.0672432149663256E-8]
[null,null,1783.2,8.2784983469241616E-8]
[null,null,1784.3999999999999,6.5139318267958079E-8]
[null,null,1785.6,5.9585081778147321E-8]
[null,null,1786.8,5.4485860241463091E-8]
[null,null,1788,4.9806259980755861E-8]
[null,null,1789.2,4.5513452318751446E-8]
[null,null,1790.3999999999999,4.1577006035684887E-8]
[null,null,1791.6,3.7968729035131794E-8]
[null,null,1792.8,3.466251887265925E-8]
[null,null,1794,3.163422179949929E-8]
[null,null,1795.2,1.8278911520933815E-8]
[null,null,1796.3999999999999,1.6846585906543582E-8]
[null,null,1797.6,1.5520287195467667E-8]
[null,null,1798.8,1.4292687165664627E-8]
[null,null,1800,1.3156922151087029E-8]
[null,null,1801.2,1.2106566840123297E-8]
[null,null,1802.3999999999999,1.1135609309808244E-8]
[null,null,1803.6,0]
[null,null,1804.8,0]
[null,null,1806,0]
[null,null,1807.2,0]
[null,null,1808.3999999999999,0]
[null,null,1809.6,0]
[null,null,1810.8,0]
[null,null,1812,0]
[null,null,1813.2,0]
[null,null,1814.3999999999999,0]
[null,null,1815.6,0]
[null,null,1816.8,0]
[null,null,1818,0]
[null,null,1819.2,0]
[null,null,1820.3999999999999,0]
[null,null,1821.6,0]
[null,null,1822.8,0]
[null,null,1824,0]
[null,null,1825.2,0]
[null,null,1826.3999999999999,0]
[null,null,1827.6,0]
[null,null,1828.8,0]
[null,null,1830,0]
[null,null,1831.2,0]
[null,null,1832.3999999999999,0]
[null,null,1833.6,0]
[null,null,1834.8,0]
[null,null,1836,0]
[null,null,1837.2,0]
[null,null,1838.3999999999999,0]
[null,null,1839.6,0]
[null,null,1840.8,0]
[null,null,1842,0]
[null,null,1843.1999999999998,0]
[null,null,1844.3999999999999,0]
[null,null,1845.6,0]
[null,null,1846.8,0]
[null,null,1848,0]
[null,null,1849.1999999999998,0]
[null,null,1850.3999999999999,0]
[null,null,1851.6,0]
[null,null,1852.8,0]
[null,null,1854,0]
[null,null,1855.1999999999998,0]
[null,null,1856.3999999999999,0]
[null,null,1857.6,0]
[null,null,1858.8,0]
[null,null,1860,0]
[null,null,1861.1999999999998,0]
[null,null,1862.3999999999999,0]
[null,null,1863.6,0]
[null,null,1864.8,0]
[null,null,1866,0]
[null,null,1867.1999999999998,0]
[null,null,1868.3999999999999,0]
[null,null,1869.6,0]
[null,null,1870.8,0]
[null,null,1872,0]
[null,null,1873.1999999999998,0]
[null,null,1874.3999999999999,0]
[null,null,1875.6,0]
[null,null,1876.8,0]
[null,null,1878,0]
[null,null,1879.1999999999998,0]
[null,null,1880.3999999999999,0]
[null,null,1881.6,0]
[null,null,1882.8,0]
[null,null,1884,0]
[null,null,1885.1999999999998,0]
[null,null,1886.3999999999999,0]
[null,null,1887.6,0]
[null,null,1888.8,0]
[null,null,1890,0]
[null,null,1891.1999999999998,0]
[null,null,1892.3999999999999,0]
[null,null,1893.6,0]
[null,null,1894.8,0]
[null,null,1896,0]
[null,null,1897.1999999999998,0]
[null,null,1898.3999999999999,0]
[null,null,1899.6,0]
[null,null,1900.8,0]
[null,null,1902,0]
[null,null,1903.1999999999998,0]
[null,null,1904.3999999999999,0]
[null,null,1905.6,0]
[null,null,1906.8,0]
[null,null,1908,0]
[null,null,1909.1999999999998,0]
[null,null,1910.3999999999999,0]
[null,null,1911.6,0]
[null,null,1912.8,0]
[null,null,1914,0]
[null,null,1915.1999999999998,0]
[null,null,1916.3999999999999,0]
[null,null,1917.6,0]
[null,null,1918.8,0]
[null,null,1920,0]
[null,null,1921.1999999999998,0]
[null,null,1922.3999999999999,0]
[null,null,1923.6,0]
[null,null,1924.8,0]
[null,null,1926,0]
[null,null,1927.1999999999998,0]
[null,null,1928.3999999999999,0]
[null,null,1929.6,0]
[null,null,1930.8,0]
[null,null,1932,0]
[null,null,1933.1999999999998,0]
[null,null,1934.3999999999999,0]
[null,null,1935.6,0]
[null,null,1936.8,1.1483527359826758E-8]
[null,null,1938,1.2987169946492204E-8]
[null,null,1939.1999999999998,1.4675422640284167E-8]
[null,null,1940.3999999999999,1.6569278238406046E-8]
[null,null,1941.6,1.8691899785131092E-8]
[null,null,1942.8,2.1068818245794462E-8]
[null,null,1944,2.3728145073247061E-8]
[null,null,1945.1999999999998,2.6700800441480594E-8]
[null,null,1946.3999999999999,3.0020757922633463E-8]
[null,null,1947.6,3.372530637975992E-8]
[null,null,1948.8,3.7855329837987323E-8]
[null,null,1950,4.2455606080253884E-8]
[null,null,1951.1999999999998,4.7575124690095133E-8]
[null,null,1952.3999999999999,5.3267425232164594E-8]
[null,null,1953.6,5.9590956220586927E-8]
[null,null,1954.8,6.6609455475183095E-8]
[null,null,1956,7.4392352405194914E-8]
[null,null,1957.1999999999998,8.3015192688739325E-8]
[null,null,1958.3999999999999,9.2560085733033331E-8]
[null,null,1959.6,1.0311617520468048E-7]
[null,null,1960.8,1.1478013281044007E-7]
[null,null,1962,1.2765667538601666E-7]
[null,null,1963.1999999999998,1.41859105213091E-7]
[null,null,1964.3999999999999,1.5750987333239402E-7]
[null,null,1965.6,1.7474116545252752E-7]
[null,null,1966.8,1.9369550987028777E-7]
[null,null,1968,2.1452640661776025E-7]
[null,null,1969.1999999999998,2.3739897683452737E-7]
[null,null,1970.3999999999999,2.6249063112972207E-7]
[null,null,1971.6,2.8999175544828782E-7]
[null,null,1972.8,3.2010641268923874E-7]
[null,null,1974,3.5305305804075057E-7]
[null,null,1975.1999999999998,3.8906526569857878E-7]
[null,null,1976.3999999999999,4.2839246432109974E-7]
[null,null,1977.6,4.7130067824694109E-7]
[null,null,1978.8,5.1807327116145844E-7]
[null,null,1980,5.6901168854672421E-7]
[null,null,1981.1999999999998,6.2443619488868527E-7]
[null,null,1982.3999999999999,6.846866012460766E-7]
[null,null,1983.6,7.5012297841062352E-7]
[null,null,1984.8,8.2112635051007608E-7]
[null,null,1986,8.9809936352621122E-7]
[null,null,1987.1999999999998,9.8146692282316961E-7]
[null,null,1988.3999999999999,1.0716767934098551E-6]
[null,null,1989.6,1.1692001562968907E-6]
[null,null,1990.8,1.2745321139586651E-6]
[null,null,1992,1.3881921375761633E-6]
[null,null,1993.1999999999998,1.5226898899158299E-6]
[null,null,1994.3999999999999,1.6562267399788432E-6]
[null,null,1995.6,1.7999910967151097E-6]
[null,null,1996.8,1.9546246361334351E-6]
[null,null,1998,2.1207967236186531E-6]
[null,null,1999.1999999999998,2.2992045450276635E-6]
[null,null,2000.3999999999999,2.4905731363738531E-6]
[null,null,2001.6,2.6956553039961171E-6]
[null,null,2002.8,2.915231427126361E-6]
[null,null,2004,3.1501091348423019E-6]
[null,null,2005.1999999999998,3.4011228495287367E-6]
[null,null,2006.3999999999999,3.6691331891712677E-6]
[null,null,2007.6,3.9550262210751475E-6]
[null,null,2008.8,4.259712559944875E-6]
[null,null,2010,4.5841263036742358E-6]
[null,null,2011.1999999999998,4.9292238006900923E-6]
[null,null,2012.3999999999999,5.2959822432641869E-6]
[null,null,2013.6,5.6853980818565061E-6]
[null,null,2014.8,6.0984852562867105E-6]
[null,null,2016,6.5362732403382142E-6]
[null,null,2017.1999999999998,6.9998048972905498E-6]
[null,null,2018.3999999999999,7.4901341448422682E-6]
[null,null,2019.6,8.0083234289267514E-6]
[null,null,2020.8,8.5554410070392334E-6]
[null,null,2022,9.1325580428702633E-6]
[null,null,2023.1999999999998,9.7407455152852949E-6]
[null,null,2024.3999999999999,1.0381070945987855E-5]
[null,null,2025.6,1.1054594951549275E-5]
[null,null,2026.8,1.1762367626880254E-5]
[null,null,2028,1.2505424768636426E-5]
[null,null,2029.1999999999998,1.3284783948496797E-5]
[null,null,2030.3999999999999,1.4101440447709909E-5]
[null,null,2031.6,1.4956363065758461E-5]
[null,null,2032.8,1.5850489817445222E-5]
[null,null,2034,1.678472353412302E-5]
[null,null,2035.1999999999998,1.7759927386183669E-5]
[null,null,2036.3999999999999,1.877692034526093E-5]
[null,null,2037.6,1.9836472605876134E-5]
[null,null,2038.8,2.0939300987462334E-5]
[null,null,2040,2.2086064338806704E-5]
[null,null,2041.1999999999998,2.3277358967960158E-5]
[null,null,2042.3999999999999,2.45137141215516E-5]
[null,null,2043.6,2.5795587538196202E-5]
[null,null,2044.8,2.712336110130788E-5]
[null,null,2046,2.8497336617075344E-5]
[null,null,2047.1999999999998,2.9917731743654976E-5]
[null,null,2048.4,3.1384676097747506E-5]
[null,null,2049.6,3.289820756464405E-5]
[null,null,2050.7999999999997,3.4458268837576611E-5]
[null,null,2052,3.6064704211717848E-5]
[null,null,2053.1999999999998,3.7717256657519807E-5]
[null,null,2054.4,3.9415565197202904E-5]
[null,null,2055.6,4.1159162607096262E-5]
[null,null,2056.7999999999997,4.2947473467268715E-5]
[null,null,2058,4.4779812578354612E-5]
[null,null,2059.1999999999998,4.6655383763799174E-5]
[null,null,2060.4,4.8573279073856205E-5]
[null,null,2061.6,5.0532478405568487E-5]
[null,null,2062.7999999999997,5.2531849550750605E-5]
[null,null,2064,5.4570148681546134E-5]
[null,null,2065.1999999999998,5.6646021280603527E-5]
[null,null,2066.4,5.8758003520238018E-5]
[null,null,2067.6,6.0904524092134259E-5]
[null,null,2068.7999999999997,6.3083906486315134E-5]
[null,null,2070,6.5294371715125709E-5]
[null,null,2071.1999999999998,6.7534041475032482E-5]
[null,null,2072.4,6.9800941736051136E-5]
[null,null,2073.6,7.2093006745608794E-5]
[null,null,2074.7999999999997,7.4408083430752781E-5]
[null,null,2076,7.6743936179698413E-5]
[null,null,2077.1999999999998,7.9098251980955748E-5]
[null,null,2078.4,8.1468645895614838E-5]
[null,null,2079.6,8.3852666835823169E-5]
[null,null,2080.7999999999997,8.6247803620195606E-5]
[null,null,2082,8.8651491274705245E-5]
[null,null,2083.1999999999998,9.1061117545711786E-5]
[null,null,2084.4,9.3474029590106752E-5]
[null,null,2085.6,9.5887540806109596E-5]
[null,null,2086.7999999999997,9.8298937767166559E-5]
[null,null,2088,1.0070548722052154E-4]
[null,null,2089.1999999999998,1.0310444311153766E-4]
[null,null,2090.4,1.0549305359464738E-4]
[null,null,2091.6,1.0786856799190503E-4]
[null,null,2092.7999999999997,1.1022824366062503E-4]
[null,null,2094,1.1256935273233279E-4]
[null,null,2095.1999999999998,1.1488918868640944E-4]
[null,null,2096.4,1.171850727232577E-4]
[null,null,2097.6,1.1945435990354731E-4]
[null,null,2098.7999999999997,1.2169444502220689E-4]
[null,null,2100,1.2390276818812816E-4]
[null,null,2101.1999999999998,1.2607682008318873E-4]
[null,null,2102.4,1.2821414687705151E-4]
[null,null,2103.6,1.3031235477723777E-4]
[null,null,2104.7999999999997,1.3236911419727115E-4]
[null,null,2106,1.3438216352905778E-4]
[null,null,2107.1999999999998,1.3634931250923113E-4]
[null,null,2108.4,1.3826844517281491E-4]
[null,null,2109.6,1.4013752239120853E-4]
[null,null,2110.7999999999997,1.4195458399523484E-4]
[null,null,2112,1.4371775048762188E-4]
[null,null,2113.1999999999998,1.4542522435292892E-4]
[null,null,2114.4,1.4707529097644157E-4]
[null,null,2115.6,1.4866631918692129E-4]
[null,null,2116.7999999999997,1.501967614413412E-4]
[null,null,2118,1.5166515367271447E-4]
[null,null,2119.1999999999998,1.5307011482491623E-4]
[null,null,2120.4,1.544103461009031E-4]
[null,null,2121.6,1.556846299529291E-4]
[null,null,2122.7999999999997,1.5689182884527964E-4]
[null,null,2124,1.580308838215704E-4]
[null,null,2125.1999999999998,1.5910081290987672E-4]
[null,null,2126.4,1.6010070939978405E-4]
[null,null,2127.6,1.6102974002588563E-4]
[null,null,2128.7999999999997,1.618871430923397E-4]
[null,null,2130,1.6267222657275453E-4]
[null,null,2131.1999999999998,1.6338436621897881E-4]
[null,null,2132.4,1.6402300371129276E-4]
[null,null,2133.6,1.6458764488104112E-4]
[null,null,2134.7999999999997,1.6507785803497379E-4]
[null,null,2136,1.6549327240842355E-4]
[null,null,2137.1999999999998,1.6583357677203687E-4]
[null,null,2138.4,1.6609851821406806E-4]
[null,null,2139.6,1.6628790111729392E-4]
[null,null,2140.7999999999997,1.6640158634644887E-4]
[null,null,2142,1.664394906587309E-4]
[null,null,2143.1999999999998,1.664015863464489E-4]
[null,null,2144.4,1.6628790111729392E-4]
[null,null,2145.6,1.6609851821406806E-4]
[null,null,2146.7999999999997,1.6583357677203695E-4]
[null,null,2148,1.6549327240842355E-4]
[null,null,2149.1999999999998,1.6507785803497398E-4]
[null,null,2150.4,1.6458764488104112E-4]
[null,null,2151.6,1.6402300371129276E-4]
[null,null,2152.7999999999997,1.6338436621897906E-4]
[null,null,2154,1.6267222657275453E-4]
[null,null,2155.1999999999998,1.6188714309234E-4]
[null,null,2156.4,1.6102974002588563E-4]
[null,null,2157.6,1.6010070939978405E-4]
[null,null,2158.7999999999997,1.591008129098771E-4]
[null,null,2160,1.580308838215704E-4]
[null,null,2161.1999999999998,1.568918288452801E-4]
[null,null,2162.4,1.556846299529291E-4]
[null,null,2163.6,1.544103461009031E-4]
[null,null,2164.7999999999997,1.5307011482491677E-4]
[null,null,2166,1.5166515367271447E-4]
[null,null,2167.1999999999998,1.5019676144134179E-4]
[null,null,2168.4,1.4866631918692129E-4]
[null,null,2169.6,1.4707529097644157E-4]
[null,null,2170.7999999999997,1.4542522435292957E-4]
[null,null,2172,1.4371775048762188E-4]
[null,null,2173.1999999999998,1.4195458399523549E-4]
[null,null,2174.4,1.4013752239120853E-4]
[null,null,2175.6,1.3826844517281491E-4]
[null,null,2176.7999999999997,1.3634931250923186E-4]
[null,null,2178,1.3438216352905778E-4]
[null,null,2179.1999999999998,1.3236911419727194E-4]
[null,null,2180.4,1.3031235477723777E-4]
[null,null,2181.6,1.2821414687705151E-4]
[null,null,2182.7999999999997,1.2607682008318954E-4]
[null,null,2184,1.2390276818812816E-4]
[null,null,2185.1999999999998,1.2169444502220774E-4]
[null,null,2186.4,1.1945435990354731E-4]
[null,null,2187.6,1.171850727232577E-4]
[null,null,2188.7999999999997,1.1488918868641033E-4]
[null,null,2190,1.1256935273233279E-4]
[null,null,2191.1999999999998,1.1022824366062591E-4]
[null,null,2192.4,1.0786856799190503E-4]
[null,null,2193.6,1.0549305359464738E-4]
[null,null,2194.7999999999997,1.0310444311153856E-4]
[null,null,2196,1.0070548722052154E-4]
[null,null,2197.1999999999998,9.8298937767167467E-5]
[null,null,2198.4,9.5887540806109596E-5]
[null,null,2199.6,9.3474029590106752E-5]
[null,null,2200.7999999999997,9.1061117545712707E-5]
[null,null,2202,8.8651491274705245E-5]
[null,null,2203.1999999999998,8.6247803620196514E-5]
[null,null,2204.4,8.3852666835823169E-5]
[null,null,2205.6,8.1468645895614838E-5]
[null,null,2206.7999999999997,7.9098251980956656E-5]
[null,null,2208,7.6743936179698413E-5]
[null,null,2209.1999999999998,7.4408083430753649E-5]
[null,null,2210.4,7.2093006745608794E-5]
[null,null,2211.6,6.9800941736051136E-5]
[null,null,2212.7999999999997,6.7534041475033336E-5]
[null,null,2214,6.5294371715125709E-5]
[null,null,2215.1999999999998,6.3083906486315948E-5]
[null,null,2216.4,6.0904524092134259E-5]
[null,null,2217.6,5.8758003520238018E-5]
[null,null,2218.7999999999997,5.6646021280604313E-5]
[null,null,2220,5.4570148681546134E-5]
[null,null,2221.1999999999998,5.2531849550751364E-5]
[null,null,2222.4,5.0532478405568487E-5]
[null,null,2223.6,4.8573279073856205E-5]
[null,null,2224.7999999999997,4.6655383763799892E-5]
[null,null,2226,4.4779812578354612E-5]
[null,null,2227.1999999999998,4.2947473467269393E-5]
[null,null,2228.4,4.1159162607096262E-5]
[null,null,2229.6,3.9415565197202904E-5]
[null,null,2230.7999999999997,3.7717256657520437E-5]
[null,null,2232,3.6064704211717848E-5]
[null,null,2233.1999999999998,3.4458268837577214E-5]
[null,null,2234.4,3.289820756464405E-5]
[null,null,2235.6,3.1384676097747506E-5]
[null,null,2236.7999999999997,2.9917731743655512E-5]
[null,null,2238,2.8497336617075344E-5]
[null,null,2239.1999999999998,2.7123361101308144E-5]
[null,null,2240.4,2.5795587538196202E-5]
[null,null,2241.6,2.4513714121551844E-5]
[null,null,2242.7999999999997,2.3277358967960616E-5]
[null,null,2244,2.2086064338806704E-5]
[null,null,2245.1999999999998,2.0939300987462548E-5]
[null,null,2246.4,1.9836472605876134E-5]
[null,null,2247.6,1.8776920345261134E-5]
[null,null,2248.7999999999997,1.7759927386184048E-5]
[null,null,2250,1.678472353412302E-5]
[null,null,2251.1999999999998,1.5850489817445395E-5]
[null,null,2252.4,1.4956363065758461E-5]
[null,null,2253.6,1.4101440447710065E-5]
[null,null,2254.7999999999997,1.3284783948497102E-5]
[null,null,2256,1.2505424768636426E-5]
[null,null,2257.1999999999998,1.1762367626880388E-5]
[null,null,2258.4,1.1054594951549275E-5]
[null,null,2259.6,1.0381070945987977E-5]
[null,null,2260.7999999999997,9.7407455152855321E-6]
[null,null,2262,9.1325580428702633E-6]
[null,null,2263.1999999999998,8.5554410070393367E-6]
[null,null,2264.4,8.0083234289267514E-6]
[null,null,2265.6,7.4901341448423623E-6]
[null,null,2266.7999999999997,6.9998048972907336E-6]
[null,null,2268,6.5362732403382142E-6]
[null,null,2269.1999999999998,6.0984852562867859E-6]
[null,null,2270.4,5.6853980818565061E-6]
[null,null,2271.6,5.295982243264258E-6]
[null,null,2272.7999999999997,4.9292238006902286E-6]
[null,null,2274,4.5841263036742358E-6]
[null,null,2275.1999999999998,4.2597125599449326E-6]
[null,null,2276.4,3.9550262210751475E-6]
[null,null,2277.6,3.6691331891713189E-6]
[null,null,2278.7999999999997,3.4011228495288367E-6]
[null,null,2280,3.1501091348423019E-6]
[null,null,2281.1999999999998,2.9152314271264021E-6]
[null,null,2282.4,2.6956553039961171E-6]
[null,null,2283.6,2.49057313637389E-6]
[null,null,2284.7999999999997,2.2992045450277342E-6]
[null,null,2286,2.1207967236186531E-6]
[null,null,2287.1999999999998,1.9546246361334631E-6]
[null,null,2288.4,1.7999910967151097E-6]
[null,null,2289.6,1.6562267399788679E-6]
[null,null,2290.7999999999997,1.5226898899158801E-6]
[null,null,2292,1.3881921375761633E-6]
[null,null,2293.1999999999998,1.2745321139586854E-6]
[null,null,2294.4,1.1692001562968907E-6]
[null,null,2295.6,1.0716767934098723E-6]
[null,null,2296.7999999999997,9.8146692282320265E-7]
[null,null,2298,8.9809936352621122E-7]
[null,null,2299.1999999999998,8.2112635051008985E-7]
[null,null,2300.4,7.5012297841062352E-7]
[null,null,2301.6,6.8468660124608814E-7]
[null,null,2302.7999999999997,6.2443619488870634E-7]
[null,null,2304,5.6901168854672421E-7]
[null,null,2305.1999999999998,5.1807327116146765E-7]
[null,null,2306.4,4.7130067824694109E-7]
[null,null,2307.6,4.2839246432110736E-7]
[null,null,2308.7999999999997,3.8906526569859255E-7]
[null,null,2310,3.5305305804075057E-7]
[null,null,2311.1999999999998,3.2010641268924472E-7]
[null,null,2312.4,2.8999175544828782E-7]
[null,null,2313.6,2.6249063112972672E-7]
[null,null,2314.7999999999997,2.3739897683453621E-7]
[null,null,2316,2.1452640661776025E-7]
[null,null,2317.1999999999998,1.9369550987029137E-7]
[null,null,2318.4,1.7474116545252752E-7]
[null,null,2319.6,1.5750987333239709E-7]
[null,null,2320.7999999999997,1.4185910521309656E-7]
[null,null,2322,1.2765667538601666E-7]
[null,null,2323.1999999999998,1.1478013281044242E-7]
[null,null,2324.4,1.0311617520468048E-7]
[null,null,2325.6,9.256008573303529E-8]
[null,null,2326.7999999999997,8.3015192688742713E-8]
[null,null,2328,7.4392352405194914E-8]
[null,null,2329.1999999999998,6.6609455475184458E-8]
[null,null,2330.4,5.9590956220586927E-8]
[null,null,2331.6,5.3267425232165785E-8]
[null,null,2332.7999999999997,4.7575124690097119E-8]
[null,null,2334,4.2455606080253884E-8]
[null,null,2335.1999999999998,3.7855329837988203E-8]
[null,null,2336.4,3.372530637975992E-8]
[null,null,2337.6,3.0020757922634105E-8]
[null,null,2338.7999999999997,2.6700800441481822E-8]
[null,null,2340,2.3728145073247061E-8]
[null,null,2341.1999999999998,2.1068818245794909E-8]
[null,null,2342.4,1.8691899785131092E-8]
[null,null,2343.6,1.65692782384064E-8]
[null,null,2344.7999999999997,1.4675422640284869E-8]
[null,null,2346,1.2987169946492204E-8]
[null,null,2347.1999999999998,1.1483527359827023E-8]
[null,null,2348.4,0]
[null,null,2349.6,0]
[null,null,2350.7999999999997,0]
[null,null,2352,0]
[null,null,2353.1999999999998,0]
[null,null,2354.4,0]
[null,null,2355.6,0]
[null,null,2356.7999999999997,0]
[null,null,2358,0]
[null,null,2359.1999999999998,0]
[null,null,2360.4,0]
[null,null,2361.6,0]
[null,null,2362.7999999999997,0]
[null,null,2364,0]
[null,null,2365.1999999999998,0]
[null,null,2366.4,0]
[null,null,2367.6,0]
[null,null,2368.7999999999997,0]
[null,null,2370,0]
[null,null,2371.1999999999998,0]
[null,null,2372.4,0]
[null,null,2373.6,0]
[null,null,2374.7999999999997,0]
[null,null,2376,0]
[null,null,2377.1999999999998,0]
[null,null,2378.4,0]
[null,null,2379.6,0]
[null,null,2380.7999999999997,0]
[null,null,2382,0]
[null,null,2383.1999999999998,0]
[null,null,2384.4,0]
[null,null,2385.6,0]
[null,null,2386.7999999999997,0]
[null,null,2388,0]
[null,null,2389.1999999999998,0]
[null,null,2390.4,0]
[null,null,2391.6,0]
[null,null,2392.7999999999997,0]
[null,null,2394,0]
[null,null,2395.1999999999998,0]
[null,null,2396.4,0]
[null,null,2397.6,0]
[null,null,2398.7999999999997,0]
[null,null,"IsoLine","IsoLine"]

{"sheet":"PlotDat2","index":7,"n_rows":2001,"n_cols":8,"rows_kept":2001,"cut":false,"hidden":true,"merged":[]}
["Source sheet","Datatable_t",0,0,240,0,0,0]
["Plot name","ProbDens2",1.2,0,300,0,2398.7999999999997,0]
["Plot Type",16,2.4,0,300,1]
["1st free col",9,3.5999999999999996,0,240,1]
["Sigma Level",2,4.8,0,240,0]
["Absolute Errs",true,6,0,"ErrBox","ErrBox"]
["Symbol Type",1,7.1999999999999993,0,300,0]
["Inverse Plot",false,8.4,0,360,0]
["Color Plot",true,9.6,0,360,13]
["3D plot",false,10.799999999999999,0,300,13]
["Linear",false,12,0,300,0]
["Data Range","AA4:AA95,AC4:AC95",13.2,0,"ErrBox","ErrBox"]
["Filled Symbols",true,14.399999999999999,0,360,0]
["ConcAge",false,15.6,0,420,0]
["ConcSwap",false,16.8,0,420,11]
["1st Symbol-row",1,18,0,360,11]
[null,null,19.2,0,360,0]
[null,null,20.399999999999999,0,"ErrBox","ErrBox"]
[null,null,21.599999999999998,0,420,0]
[null,null,22.8,0,480,0]
[null,null,24,0,480,5]
[null,null,25.2,0,420,5]
[null,null,26.4,0,420,0]
[null,null,27.599999999999998,0,"ErrBox","ErrBox"]
[null,null,28.799999999999997,0,480,0]
[null,null,30,0,540,0]
[null,null,31.2,0,540,9]
[null,null,32.4,0,480,9]
[null,null,33.6,0,480,0]
[null,null,34.799999999999997,0,"ErrBox","ErrBox"]
[null,null,36,0,540,0]
[null,null,37.199999999999996,0,600,0]
[null,null,38.4,0,600,9]
[null,null,39.6,0,540,9]
[null,null,40.799999999999997,0,540,0]
[null,null,42,0,"ErrBox","ErrBox"]
[null,null,43.199999999999996,0,600,0]
[null,null,44.4,0,660,0]
[null,null,45.6,0,660,5]
[null,null,46.8,0,600,5]
[null,null,48,0,600,0]
[null,null,49.199999999999996,0,"ErrBox","ErrBox"]
[null,null,50.4,0,780,0]
[null,null,51.6,0,840,0]
[null,null,52.8,0,840,1]
[null,null,54,0,780,1]
[null,null,55.199999999999996,0,780,0]
[null,null,56.4,0,"ErrBox","ErrBox"]
[null,null,57.599999999999994,0,840,0]
[null,null,58.8,0,900,0]
[null,null,60,0,900,1]
[null,null,61.199999999999996,0,840,1]
[null,null,62.4,0,840,0]
[null,null,63.599999999999994,0,"ErrBox","ErrBox"]
[null,null,64.8,0,900,0]
[null,null,66,0,960,0]
[null,null,67.2,0,960,5]
[null,null,68.399999999999991,0,900,5]
[null,null,69.599999999999994,0,900,0]
[null,null,70.8,0,"ErrBox","ErrBox"]
[null,null,72,0,960,0]
[null,null,73.2,0,1020,0]
[null,null,74.399999999999991,0,1020,5]
[null,null,75.599999999999994,0,960,5]
[null,null,76.8,0,960,0]
[null,null,78,0,"ErrBox","ErrBox"]
[null,null,79.2,0,1020,0]
[null,null,80.399999999999991,0,1080,0]
[null,null,81.599999999999994,0,1080,9]
[null,null,82.8,0,1020,9]
[null,null,84,0,1020,0]
[null,null,85.2,0,"ErrBox","ErrBox"]
[null,null,86.399999999999991,0,1080,0]
[null,null,87.6,0,1140,0]
[null,null,88.8,0,1140,1]
[null,null,90,0,1080,1]
[null,null,91.2,0,1080,0]
[null,null,92.399999999999991,0,"ErrBox","ErrBox"]
[null,null,93.6,0,1140,0]
[null,null,94.8,0,1200,0]
[null,null,96,0,1200,4]
[null,null,97.2,0,1140,4]
[null,null,98.399999999999991,0,1140,0]
[null,null,99.6,0,"ErrBox","ErrBox"]
[null,null,100.8,0,1200,0]
[null,null,102,0,1260,0]
[null,null,103.2,0,1260,4]
[null,null,104.39999999999999,0,1200,4]
[null,null,105.6,0,1200,0]
[null,null,106.8,0,"ErrBox","ErrBox"]
[null,null,108,0,1260,0]
[null,null,109.2,0,1320,0]
[null,null,110.39999999999999,0,1320,2]
[null,null,111.6,0,1260,2]
[null,null,112.8,0,1260,0]
[null,null,114,0,"ErrBox","ErrBox"]
[null,null,115.19999999999999,0,1320,0]
[null,null,116.39999999999999,0,1380,0]
[null,null,117.6,0,1380,1]
[null,null,118.8,0,1320,1]
[null,null,120,0,1320,0]
[null,null,121.19999999999999,0,"ErrBox","ErrBox"]
[null,null,122.39999999999999,0,1440,0]
[null,null,123.6,0,1500,0]
[null,null,124.8,0,1500,1]
[null,null,126,0,1440,1]
[null,null,127.19999999999999,0,1440,0]
[null,null,128.4,0,"ErrBox","ErrBox"]
[null,null,129.6,0,1500,0]
[null,null,130.79999999999998,0,1560,0]
[null,null,132,0,1560,1]
[null,null,133.19999999999999,0,1500,1]
[null,null,134.4,0,1500,0]
[null,null,135.6,0,"ErrBox","ErrBox"]
[null,null,136.79999999999998,0,1560,0]
[null,null,138,0,1620,0]
[null,null,139.19999999999999,0,1620,2]
[null,null,140.4,0,1560,2]
[null,null,141.6,0,1560,0]
[null,null,142.79999999999998,0,"ErrBox","ErrBox"]
[null,null,144,0,2100,0]
[null,null,145.19999999999999,0,2160,0]
[null,null,146.4,0,2160,1]
[null,null,147.6,0,2100,1]
[null,null,148.79999999999998,0,2100,0]
[null,null,150,0,"ErrBox","ErrBox"]
[null,null,151.19999999999999,0,2160,0]
[null,null,152.4,0,2220,0]
[null,null,153.6,0,2220,1]
[null,null,154.79999999999998,0,2160,1]
[null,null,156,0,2160,0]
[null,null,157.19999999999999,0,"ErrBox","ErrBox"]
[null,null,158.4,0]
[null,null,159.6,0]
[null,null,160.79999999999998,0]
[null,null,162,0]
[null,null,163.19999999999999,0]
[null,null,164.4,0]
[null,null,165.6,0]
[null,null,166.79999999999998,0]
[null,null,168,0]
[null,null,169.2,0]
[null,null,170.4,0]
[null,null,171.6,0]
[null,null,172.79999999999998,0]
[null,null,174,0]
[null,null,175.2,0]
[null,null,176.4,0]
[null,null,177.6,0]
[null,null,178.79999999999998,0]
[null,null,180,0]
[null,null,181.2,0]
[null,null,182.4,0]
[null,null,183.6,0]
[null,null,184.79999999999998,0]
[null,null,186,0]
[null,null,187.2,0]
[null,null,188.4,0]
[null,null,189.6,0]
[null,null,190.79999999999998,0]
[null,null,192,0]
[null,null,193.2,0]
[null,null,194.4,0]
[null,null,195.6,0]
[null,null,196.79999999999998,0]
[null,null,198,0]
[null,null,199.2,0]
[null,null,200.4,0]
[null,null,201.6,0]
[null,null,202.79999999999998,0]
[null,null,204,0]
[null,null,205.2,0]
[null,null,206.4,0]
[null,null,207.6,0]
[null,null,208.79999999999998,0]
[null,null,210,0]
[null,null,211.2,0]
[null,null,212.4,0]
[null,null,213.6,0]
[null,null,214.79999999999998,0]
[null,null,216,0]
[null,null,217.2,0]
[null,null,218.4,0]
[null,null,219.6,0]
[null,null,220.79999999999998,0]
[null,null,222,0]
[null,null,223.2,0]
[null,null,224.4,0]
[null,null,225.6,0]
[null,null,226.79999999999998,0]
[null,null,228,0]
[null,null,229.2,0]
[null,null,230.39999999999998,0]
[null,null,231.6,0]
[null,null,232.79999999999998,0]
[null,null,234,0]
[null,null,235.2,0]
[null,null,236.39999999999998,0]
[null,null,237.6,0]
[null,null,238.79999999999998,0]
[null,null,240,0]
[null,null,241.2,0]
[null,null,242.39999999999998,0]
[null,null,243.6,0]
[null,null,244.79999999999998,0]
[null,null,246,0]
[null,null,247.2,0]
[null,null,248.39999999999998,0]
[null,null,249.6,1.6511808684484854E-8]
[null,null,250.79999999999998,1.7873930627752513E-7]
[null,null,252,1.4737555039804479E-6]
[null,null,253.2,9.2557318499689565E-6]
[null,null,254.39999999999998,4.4276781073241405E-5]
[null,null,255.6,1.6133227876597919E-4]
[null,null,256.8,4.4776119002238658E-4]
[null,null,258,9.4656748054628554E-4]
[null,null,259.2,1.5241814233039586E-3]
[null,null,260.39999999999998,1.8693976833395385E-3]
[null,null,261.59999999999997,1.7464119248123211E-3]
[null,null,262.8,1.2427152509329978E-3]
[null,null,264,6.735603596147603E-4]
[null,null,265.2,2.780746274988316E-4]
[null,null,266.39999999999998,8.7443223716372599E-5]
[null,null,267.59999999999997,2.094454393497037E-5]
[null,null,268.8,3.8211633889517234E-6]
[null,null,270,5.3100701690822231E-7]
[null,null,271.2,5.6206282774937822E-8]
[null,null,272.39999999999998,0]
[null,null,273.59999999999997,0]
[null,null,274.8,0]
[null,null,276,0]
[null,null,277.2,0]
[null,null,278.39999999999998,0]
[null,null,279.59999999999997,0]
[null,null,280.8,0]
[null,null,282,0]
[null,null,283.2,0]
[null,null,284.39999999999998,0]
[null,null,285.59999999999997,0]
[null,null,286.8,0]
[null,null,288,0]
[null,null,289.2,0]
[null,null,290.39999999999998,0]
[null,null,291.59999999999997,0]
[null,null,292.8,0]
[null,null,294,0]
[null,null,295.2,0]
[null,null,296.39999999999998,0]
[null,null,297.59999999999997,0]
[null,null,298.8,0]
[null,null,300,0]
[null,null,301.2,0]
[null,null,302.39999999999998,0]
[null,null,303.59999999999997,0]
[null,null,304.8,2.8159149819972698E-8]
[null,null,306,1.0508239616111269E-7]
[null,null,307.2,3.7088131359461464E-7]
[null,null,308.39999999999998,1.2442402844340376E-6]
[null,null,309.59999999999997,4.0994411606741208E-6]
[null,null,310.8,1.3605343186222139E-5]
[null,null,312,4.5115453838446774E-5]
[null,null,313.2,1.4184331099346268E-4]
[null,null,314.39999999999998,3.9971566492497465E-4]
[null,null,315.59999999999997,9.6927168241110653E-4]
[null,null,316.8,1.9819375874178141E-3]
[null,null,318,3.4083203183716787E-3]
[null,null,319.2,4.9945934710846126E-3]
[null,null,320.39999999999998,6.4087811060886332E-3]
[null,null,321.59999999999997,7.4514012039966424E-3]
[null,null,322.8,8.0631496195576954E-3]
[null,null,324,8.1969333217729017E-3]
[null,null,325.2,7.843502666684956E-3]
[null,null,326.39999999999998,7.1699912057078775E-3]
[null,null,327.59999999999997,6.4746142633415977E-3]
[null,null,328.8,5.9565841133881418E-3]
[null,null,330,5.593727050880389E-3]
[null,null,331.2,5.2495084252686111E-3]
[null,null,332.4,4.8445656609605097E-3]
[null,null,333.59999999999997,4.4156062387548101E-3]
[null,null,334.8,4.0524653236939613E-3]
[null,null,336,3.8083056624198543E-3]
[null,null,337.2,3.6576579052756872E-3]
[null,null,338.4,3.5136786378234062E-3]
[null,null,339.59999999999997,3.2783427581220157E-3]
[null,null,340.8,2.8938546134946734E-3]
[null,null,342,2.3706150048609202E-3]
[null,null,343.2,1.7794180628529193E-3]
[null,null,344.4,1.2146124241912773E-3]
[null,null,345.59999999999997,7.5133458076167474E-4]
[null,null,346.8,4.2123170654550672E-4]
[null,null,348,2.1484344748351957E-4]
[null,null,349.2,1.0051167278409676E-4]
[null,null,350.4,4.3820221031688412E-5]
[null,null,351.59999999999997,1.8476680899179979E-5]
[null,null,352.8,8.3404397167553419E-6]
[null,null,354,4.9997222010045445E-6]
[null,null,355.2,4.6324099003540257E-6]
[null,null,356.4,5.7098799311917076E-6]
[null,null,357.59999999999997,7.7933116734718193E-6]
[null,null,358.8,1.1217993183302757E-5]
[null,null,360,1.7612300915722749E-5]
[null,null,361.2,3.1920720903609187E-5]
[null,null,362.4,6.610811535510009E-5]
[null,null,363.59999999999997,1.4311240876581358E-4]
[null,null,364.8,2.9483300984883295E-4]
[null,null,366,5.4625433080498598E-4]
[null,null,367.2,8.8586968029129905E-4]
[null,null,368.4,1.2433916143150823E-3]
[null,null,369.59999999999997,1.5061654843621713E-3]
[null,null,370.8,1.5809841546535316E-3]
[null,null,372,1.4596027122509468E-3]
[null,null,373.2,1.2304230353074126E-3]
[null,null,374.4,1.024082596931257E-3]
[null,null,375.59999999999997,9.3945555155272077E-4]
[null,null,376.8,1.0040909626335439E-3]
[null,null,378,1.1819097193217151E-3]
[null,null,379.2,1.4051660524309541E-3]
[null,null,380.4,1.6059687692561316E-3]
[null,null,381.59999999999997,1.7375378210011743E-3]
[null,null,382.8,1.7839388099058252E-3]
[null,null,384,1.7579421844838067E-3]
[null,null,385.2,1.68853129506997E-3]
[null,null,386.4,1.6042794093055982E-3]
[null,null,387.59999999999997,1.5209448739690089E-3]
[null,null,388.8,1.4387956342257885E-3]
[null,null,390,1.348573213544577E-3]
[null,null,391.2,1.2409032352294154E-3]
[null,null,392.4,1.1139280697103149E-3]
[null,null,393.59999999999997,9.769254045482532E-4]
[null,null,394.8,8.5089658429087108E-4]
[null,null,396,7.6725392622182696E-4]
[null,null,397.2,7.6404182122935961E-4]
[null,null,398.4,8.7722317201620011E-4]
[null,null,399.59999999999997,1.127124861872405E-3]
[null,null,400.8,1.5064837179189813E-3]
[null,null,402,1.9786770059790075E-3]
[null,null,403.2,2.4882762106663127E-3]
[null,null,404.4,2.9753390261701169E-3]
[null,null,405.59999999999997,3.3859048955867804E-3]
[null,null,406.8,3.682217372533372E-3]
[null,null,408,3.8585287908848294E-3]
[null,null,409.2,3.9539091914768268E-3]
[null,null,410.4,4.0420681847271305E-3]
[null,null,411.59999999999997,4.1926198220726962E-3]
[null,null,412.8,4.4256328059845791E-3]
[null,null,414,4.6905218806985206E-3]
[null,null,415.2,4.8831477869661069E-3]
[null,null,416.4,4.8940004093567923E-3]
[null,null,417.59999999999997,4.665818693073579E-3]
[null,null,418.8,4.2296478134910389E-3]
[null,null,420,3.6938988379200191E-3]
[null,null,421.2,3.1884668904621953E-3]
[null,null,422.4,2.7984434891940341E-3]
[null,null,423.59999999999997,2.5290176592292248E-3]
[null,null,424.8,2.3222575874771124E-3]
[null,null,426,2.1133156485635377E-3]
[null,null,427.2,1.88823228778396E-3]
[null,null,428.4,1.7014572946796062E-3]
[null,null,429.59999999999997,1.6380589450126783E-3]
[null,null,430.8,1.7465598061052327E-3]
[null,null,432,1.9913235985351604E-3]
[null,null,433.2,2.2584556525729448E-3]
[null,null,434.4,2.4107550034422926E-3]
[null,null,435.59999999999997,2.3550835938862722E-3]
[null,null,436.8,2.0822584283710075E-3]
[null,null,438,1.6605459113643473E-3]
[null,null,439.2,1.1945585530061485E-3]
[null,null,440.4,7.7852367981897665E-4]
[null,null,441.59999999999997,4.687206808823441E-4]
[null,null,442.8,2.8251531726252533E-4]
[null,null,444,2.1385753578529452E-4]
[null,null,445.2,2.4993624521323923E-4]
[null,null,446.4,3.7743653300006936E-4]
[null,null,447.59999999999997,5.7698993974604821E-4]
[null,null,448.8,8.1334688936452154E-4]
[null,null,450,1.032817247265872E-3]
[null,null,451.2,1.175290584729051E-3]
[null,null,452.4,1.1971563326622016E-3]
[null,null,453.59999999999997,1.0912597317801072E-3]
[null,null,454.8,8.9014495604253208E-4]
[null,null,456,6.4973819615450883E-4]
[null,null,457.2,4.2438606884935299E-4]
[null,null,458.4,2.4804409769494079E-4]
[null,null,459.59999999999997,1.2973039281175667E-4]
[null,null,460.79999999999995,6.0715507077462448E-5]
[null,null,462,2.5427436440196573E-5]
[null,null,463.2,9.5290715060635619E-6]
[null,null,464.4,3.1955355395391225E-6]
[null,null,465.59999999999997,9.589186727562558E-7]
[null,null,466.79999999999995,2.5749272113205639E-7]
[null,null,468,6.1871863353674139E-8]
[null,null,469.2,1.3303517704182604E-8]
[null,null,470.4,1.5739867259571263E-8]
[null,null,471.59999999999997,5.1047114102123484E-8]
[null,null,472.79999999999995,1.5488825482151753E-7]
[null,null,474,4.3968630694140738E-7]
[null,null,475.2,1.1677356993666787E-6]
[null,null,476.4,2.9015050892051635E-6]
[null,null,477.59999999999997,6.7561358772273513E-6]
[null,null,478.79999999999995,1.4743564654131496E-5]
[null,null,480,3.0125189091885661E-5]
[null,null,481.2,5.7787875784253102E-5]
[null,null,482.4,1.0422593108938302E-4]
[null,null,483.59999999999997,1.7739920215092272E-4]
[null,null,484.79999999999995,2.8631366930871469E-4]
[null,null,486,4.4095383705337687E-4]
[null,null,487.2,6.5288421702990995E-4]
[null,null,488.4,9.3622259923804884E-4]
[null,null,489.59999999999997,1.3074280515991497E-3]
[null,null,490.79999999999995,1.7814519188587474E-3]
[null,null,492,2.3626310149324598E-3]
[null,null,493.2,3.0319105893984147E-3]
[null,null,494.4,3.7362832046821033E-3]
[null,null,495.59999999999997,4.3885871203154401E-3]
[null,null,496.79999999999995,4.8830510409588745E-3]
[null,null,498,5.1241894969538499E-3]
[null,null,499.2,5.0580139211734163E-3]
[null,null,500.4,4.6911534372310743E-3]
[null,null,501.59999999999997,4.0886690111619417E-3]
[null,null,502.79999999999995,3.3522118317384029E-3]
[null,null,504,2.589522332070794E-3]
[null,null,505.2,1.8882455073999894E-3]
[null,null,506.4,1.3023196300590715E-3]
[null,null,507.59999999999997,8.5141976748381507E-4]
[null,null,508.79999999999995,5.2919696346892444E-4]
[null,null,510,3.1461265604115378E-4]
[null,null,511.2,1.8212176839538528E-4]
[null,null,512.4,1.0865611148256485E-4]
[null,null,513.6,7.7155976556035638E-5]
[null,null,514.79999999999995,7.7408599330565402E-5]
[null,null,516,1.049762600849401E-4]
[null,null,517.19999999999993,1.5927161489789427E-4]
[null,null,518.4,2.4092453476490187E-4]
[null,null,519.6,3.492977750055833E-4]
[null,null,520.79999999999995,4.8053448970514245E-4]
[null,null,522,6.2720575668592511E-4]
[null,null,523.19999999999993,7.797302540509365E-4]
[null,null,524.4,9.2995079793307413E-4]
[null,null,525.6,1.0752033161984219E-3]
[null,null,526.79999999999995,1.2208287577408557E-3]
[null,null,528,1.3793502453546206E-3]
[null,null,529.19999999999993,1.5659789470462103E-3]
[null,null,530.4,1.7923731166993755E-3]
[null,null,531.6,2.0623247865536993E-3]
[null,null,532.79999999999995,2.3721760819675397E-3]
[null,null,534,2.7155854918708422E-3]
[null,null,535.19999999999993,3.0885589460886149E-3]
[null,null,536.4,3.4895581218773791E-3]
[null,null,537.6,3.9126699429461384E-3]
[null,null,538.79999999999995,4.3375585796125828E-3]
[null,null,540,4.7238527861573013E-3]
[null,null,541.19999999999993,5.0161450357461869E-3]
[null,null,542.4,5.1592905314675796E-3]
[null,null,543.6,5.1170231623127961E-3]
[null,null,544.79999999999995,4.8846305656642611E-3]
[null,null,546,4.4904717414680721E-3]
[null,null,547.19999999999993,3.9876980871192238E-3]
[null,null,548.4,3.4419727519761681E-3]
[null,null,549.6,2.9203961552714056E-3]
[null,null,550.79999999999995,2.4824883899792964E-3]
[null,null,552,2.1701602994181751E-3]
[null,null,553.19999999999993,1.9952004504032641E-3]
[null,null,554.4,1.9287956222589619E-3]
[null,null,555.6,1.9043587225582733E-3]
[null,null,556.79999999999995,1.8411170533774285E-3]
[null,null,558,1.680949575869361E-3]
[null,null,559.19999999999993,1.4168940189713192E-3]
[null,null,560.4,1.0937475942096192E-3]
[null,null,561.6,7.8110798689345266E-4]
[null,null,562.79999999999995,5.3891303787127862E-4]
[null,null,564,3.970340337541955E-4]
[null,null,565.19999999999993,3.5562299830543901E-4]
[null,null,566.4,3.9780333730862641E-4]
[null,null,567.6,5.0229492543236445E-4]
[null,null,568.79999999999995,6.4953590894897286E-4]
[null,null,570,8.220252801411531E-4]
[null,null,571.19999999999993,1.0025258761065334E-3]
[null,null,572.4,1.1731027432178949E-3]
[null,null,573.6,1.3158335853678631E-3]
[null,null,574.79999999999995,1.4149545751801897E-3]
[null,null,576,1.4593571136080152E-3]
[null,null,577.19999999999993,1.4444978516901313E-3]
[null,null,578.4,1.3731859650411317E-3]
[null,null,579.6,1.2547924088528195E-3]
[null,null,580.79999999999995,1.1034279521602583E-3]
[null,null,582,9.3539744326944917E-4]
[null,null,583.19999999999993,7.6671628023001754E-4]
[null,null,584.4,6.1112457121898054E-4]
[null,null,585.6,4.7904043524611402E-4]
[null,null,586.79999999999995,3.773134189392025E-4]
[null,null,588,3.0957003057902527E-4]
[null,null,589.19999999999993,2.7707105822649312E-4]
[null,null,590.4,2.7948796303001275E-4]
[null,null,591.6,3.1574512041362133E-4]
[null,null,592.79999999999995,3.8462520777169751E-4]
[null,null,594,4.8513986247408829E-4]
[null,null,595.19999999999993,6.1666585774164992E-4]
[null,null,596.4,7.7854538161308006E-4]
[null,null,597.6,9.6913444515901725E-4]
[null,null,598.79999999999995,1.1843355858855793E-3]
[null,null,600,1.4160325677229954E-3]
[null,null,601.19999999999993,1.6511459453404859E-3]
[null,null,602.4,1.8721494251488868E-3]
[null,null,603.6,2.0592738237322629E-3]
[null,null,604.79999999999995,2.1943414081224016E-3]
[null,null,606,2.2649353281704145E-3]
[null,null,607.19999999999993,2.2675999530675419E-3]
[null,null,608.4,2.2089236288977817E-3]
[null,null,609.6,2.1039993488693341E-3]
[null,null,610.79999999999995,1.9728848920369801E-3]
[null,null,612,1.8360467942157433E-3]
[null,null,613.19999999999993,1.7101461539903837E-3]
[null,null,614.4,1.6052036224778437E-3]
[null,null,615.6,1.5236803699882116E-3]
[null,null,616.79999999999995,1.4614280727295026E-3]
[null,null,618,1.4099775322362451E-3]
[null,null,619.19999999999993,1.3593706629225248E-3]
[null,null,620.4,1.3007424562368199E-3]
[null,null,621.6,1.2280902205777176E-3]
[null,null,622.79999999999995,1.1390138504501952E-3]
[null,null,624,1.0345342480060156E-3]
[null,null,625.19999999999993,9.1829555912178605E-4]
[null,null,626.4,7.9550299927363293E-4]
[null,null,627.6,6.7187193477535965E-4]
[null,null,628.79999999999995,5.5281830942763689E-4]
[null,null,630,4.4278579071732279E-4]
[null,null,631.19999999999993,3.4499906744378457E-4]
[null,null,632.4,2.6129525832859293E-4]
[null,null,633.6,1.9222667014939885E-4]
[null,null,634.79999999999995,1.3727129622030505E-4]
[null,null,636,9.5088756414467664E-5]
[null,null,637.19999999999993,6.3856012817828768E-5]
[null,null,638.4,4.1549420637898853E-5]
[null,null,639.6,2.618277327564061E-5]
[null,null,640.79999999999995,1.5972770331972824E-5]
[null,null,642,9.4300291904861094E-6]
[null,null,643.19999999999993,5.3863371187939051E-6]
[null,null,644.4,2.9759353205771424E-6]
[null,null,645.6,1.5816808083655607E-6]
[null,null,646.79999999999995,8.1836500389114216E-7]
[null,null,648,4.0923546548804545E-7]
[null,null,649.19999999999993,1.9778688426155702E-7]
[null,null,650.4,9.2388884792325971E-8]
[null,null,651.6,4.170997900144362E-8]
[null,null,652.79999999999995,1.8199448516655098E-8]
[null,null,654,0]
[null,null,655.19999999999993,0]
[null,null,656.4,0]
[null,null,657.6,0]
[null,null,658.8,0]
[null,null,660,0]
[null,null,661.19999999999993,0]
[null,null,662.4,0]
[null,null,663.6,0]
[null,null,664.8,0]
[null,null,666,0]
[null,null,667.19999999999993,0]
[null,null,668.4,0]
[null,null,669.6,0]
[null,null,670.8,0]
[null,null,672,0]
[null,null,673.19999999999993,0]
[null,null,674.4,0]
[null,null,675.6,0]
[null,null,676.8,0]
[null,null,678,0]
[null,null,679.19999999999993,0]
[null,null,680.4,0]
[null,null,681.6,0]
[null,null,682.8,0]
[null,null,684,0]
[null,null,685.19999999999993,0]
[null,null,686.4,0]
[null,null,687.6,0]
[null,null,688.8,0]
[null,null,690,0]
[null,null,691.19999999999993,0]
[null,null,692.4,0]
[null,null,693.6,0]
[null,null,694.8,0]
[null,null,696,0]
[null,null,697.19999999999993,0]
[null,null,698.4,0]
[null,null,699.6,0]
[null,null,700.8,0]
[null,null,702,0]
[null,null,703.19999999999993,0]
[null,null,704.4,0]
[null,null,705.6,0]
[null,null,706.8,0]
[null,null,708,0]
[null,null,709.19999999999993,0]
[null,null,710.4,0]
[null,null,711.6,0]
[null,null,712.8,0]
[null,null,714,0]
[null,null,715.19999999999993,0]
[null,null,716.4,0]
[null,null,717.6,0]
[null,null,718.8,0]
[null,null,720,0]
[null,null,721.19999999999993,0]
[null,null,722.4,0]
[null,null,723.6,0]
[null,null,724.8,0]
[null,null,726,0]
[null,null,727.19999999999993,0]
[null,null,728.4,0]
[null,null,729.6,0]
[null,null,730.8,0]
[null,null,732,0]
[null,null,733.19999999999993,0]
[null,null,734.4,0]
[null,null,735.6,0]
[null,null,736.8,0]
[null,null,738,0]
[null,null,739.19999999999993,0]
[null,null,740.4,0]
[null,null,741.6,0]
[null,null,742.8,0]
[null,null,744,0]
[null,null,745.19999999999993,1.2323402886790202E-8]
[null,null,746.4,1.564282780944922E-8]
[null,null,747.6,1.9797382165327359E-8]
[null,null,748.8,2.4980904139003347E-8]
[null,null,750,3.1427976746560587E-8]
[null,null,751.19999999999993,3.9421448472766599E-8]
[null,null,752.4,4.9301100795178601E-8]
[null,null,753.6,6.1473584752643472E-8]
[null,null,754.8,7.6423750382220656E-8]
[null,null,756,9.4727491644783072E-8]
[null,null,757.19999999999993,1.1706622469855805E-7]
[null,null,758.4,1.4424310832113676E-7]
[null,null,759.6,1.7720110114304221E-7]
[null,null,760.8,2.17042930338E-7]
[null,null,762,2.6505301971662402E-7]
[null,null,763.19999999999993,3.2272139102387869E-7]
[null,null,764.4,3.9176950994650663E-7]
[null,null,765.6,4.741779973018744E-7]
[null,null,766.8,5.722160656674115E-7]
[null,null,768,6.8847247208484532E-7]
[null,null,769.19999999999993,8.2588769845937641E-7]
[null,null,770.4,9.8778698320554397E-7]
[null,null,771.6,1.1779137312673125E-6]
[null,null,772.8,1.4004627259780983E-6]
[null,null,774,1.6601124569025592E-6]
[null,null,775.19999999999993,1.9620557648922957E-6]
[null,null,776.4,2.3120278916905598E-6]
[null,null,777.6,2.7163309096609643E-6]
[null,null,778.8,3.1818534012452209E-6]
[null,null,780,3.7160841617059748E-6]
[null,null,781.19999999999993,4.3271186171521243E-6]
[null,null,782.4,5.0236565876901853E-6]
[null,null,783.6,5.8149899879365233E-6]
[null,null,784.8,6.7109790493107911E-6]
[null,null,786,7.7220156756640308E-6]
[null,null,787.19999999999993,8.8589726107732976E-6]
[null,null,788.4,1.0133137207468056E-5]
[null,null,789.6,1.1556128747318342E-5]
[null,null,790.8,1.313979846965895E-5]
[null,null,792,1.4896111730760189E-5]
[null,null,793.19999999999993,1.6837012028293812E-5]
[null,null,794.4,1.8974266991343762E-5]
[null,null,795.6,2.1319296848691367E-5]
[null,null,796.8,2.3882986342674202E-5]
[null,null,798,2.6675481545188752E-5]
[null,null,799.19999999999993,2.9705973546993633E-5]
[null,null,800.4,3.2994011102838283E-5]
[null,null,801.6,3.654052434565898E-5]
[null,null,802.8,4.0368011611304092E-5]
[null,null,804,4.4507121121129557E-5]
[null,null,805.19999999999993,4.9014009026270584E-5]
[null,null,806.4,5.3992426913528638E-5]
[null,null,807.6,5.9628677626342502E-5]
[null,null,808.8,6.6242469170714059E-5]
[null,null,810,7.4353804251799365E-5]
[null,null,811.19999999999993,8.4759920542069173E-5]
[null,null,812.4,9.8606581131555594E-5]
[null,null,813.6,1.1742591796276463E-4]
[null,null,814.8,1.4310215228313192E-4]
[null,null,816,1.7772290953549987E-4]
[null,null,817.19999999999993,2.2328464668147559E-4]
[null,null,818.4,2.812510394080525E-4]
[null,null,819.6,3.5201202405944407E-4]
[null,null,820.8,4.3434814245025465E-4]
[null,null,822,5.2505018661599891E-4]
[null,null,823.19999999999993,6.1885415514043528E-4]
[null,null,824.4,7.0880838548382044E-4]
[null,null,825.6,7.8709239465434542E-4]
[null,null,826.8,8.4617734530932913E-4]
[null,null,828,8.8009735199655521E-4]
[null,null,829.19999999999993,8.8553536875565504E-4]
[null,null,830.4,8.6244891512657113E-4]
[null,null,831.6,8.1407062436806036E-4]
[null,null,832.8,7.4628360408298094E-4]
[null,null,834,6.6653660606325645E-4]
[null,null,835.19999999999993,5.8257372958557161E-4]
[null,null,836.4,5.0127489929852791E-4]
[null,null,837.6,4.2783788682644591E-4]
[null,null,838.8,3.6541194466502633E-4]
[null,null,840,3.1516350781702647E-4]
[null,null,841.19999999999993,2.7665708890906753E-4]
[null,null,842.4,2.4839134787209836E-4]
[null,null,843.6,2.2834033452514798E-4]
[null,null,844.8,2.1439525402233483E-4]
[null,null,846,2.0465906113650861E-4]
[null,null,847.19999999999993,1.9759503935596131E-4]
[null,null,848.4,1.9206085268702751E-4]
[null,null,849.6,1.8727036088371035E-4]
[null,null,850.8,1.8272188421022316E-4]
[null,null,852,1.7812072677217544E-4]
[null,null,853.19999999999993,1.7331167217459365E-4]
[null,null,854.4,1.6824347012464139E-4]
[null,null,855.6,1.6287850107733813E-4]
[null,null,856.8,1.5724287262536054E-4]
[null,null,858,1.5136477736082799E-4]
[null,null,859.19999999999993,1.4529741200212351E-4]
[null,null,860.4,1.3907842469685857E-4]
[null,null,861.6,1.3275866899743822E-4]
[null,null,862.8,1.2639084599006862E-4]
[null,null,864,1.2002988263959927E-4]
[null,null,865.19999999999993,1.1373352784784462E-4]
[null,null,866.4,1.0756317706382047E-4]
[null,null,867.6,1.0158492097790011E-4]
[null,null,868.8,9.5870792781705953E-5]
[null,null,870,9.05001614121549E-5]
[null,null,871.19999999999993,8.5561185491917971E-5]
[null,null,872.4,8.1152205575553879E-5]
[null,null,873.6,7.7382913135042838E-5]
[null,null,874.8,7.4375096995909885E-5]
[null,null,876,7.22627363824554E-5]
[null,null,877.19999999999993,7.1191190060982581E-5]
[null,null,878.4,7.1315229575241254E-5]
[null,null,879.6,7.2795687464210663E-5]
[null,null,880.8,7.5794543908050733E-5]
[null,null,882,8.0468360768481308E-5]
[null,null,883.19999999999993,8.6960090763768891E-5]
[null,null,884.4,9.5389437889784441E-5]
[null,null,885.6,1.0584211494253454E-4]
[null,null,886.8,1.1835852218661355E-4]
[null,null,888,1.3292254072354626E-4]
[null,null,889.19999999999993,1.4945127485335109E-4]
[null,null,890.4,1.6778666857494495E-4]
[null,null,891.6,1.8768994270524199E-4]
[null,null,892.8,2.0883973559324105E-4]
[null,null,894,2.3083467382583876E-4]
[null,null,895.19999999999993,2.532155945044751E-4]
[null,null,896.4,2.7543640751701492E-4]
[null,null,897.6,2.9693629569291479E-4]
[null,null,898.8,3.1713470328402412E-4]
[null,null,900,3.3546838752020864E-4]
[null,null,901.19999999999993,3.5142689887119309E-4]
[null,null,902.4,3.6461091561872767E-4]
[null,null,903.6,3.7471732150274641E-4]
[null,null,904.8,3.8166179239549952E-4]
[null,null,906,3.855811493039915E-4]
[null,null,907.19999999999993,3.8688639560509829E-4]
[null,null,908.4,3.8629555691831196E-4]
[null,null,909.6,3.8486522797989567E-4]
[null,null,910.8,3.8392270109818447E-4]
[null,null,912,3.8507388139297113E-4]
[null,null,913.19999999999993,3.9005960976832194E-4]
[null,null,914.4,4.0060443307775193E-4]
[null,null,915.6,4.1821306751875276E-4]
[null,null,916.8,4.4394457199074024E-4]
[null,null,918,4.7819995639474249E-4]
[null,null,919.19999999999993,5.2058329538943343E-4]
[null,null,920.4,5.6980998984703648E-4]
[null,null,921.59999999999991,6.2385443239260042E-4]
[null,null,922.8,6.8016244176661005E-4]
[null,null,924,7.3603050233361539E-4]
[null,null,925.19999999999993,7.890476210704072E-4]
[null,null,926.4,8.3752015789508461E-4]
[null,null,927.59999999999991,8.8078288981456338E-4]
[null,null,928.8,9.1932490842491896E-4]
[null,null,930,9.5461806997295708E-4]
[null,null,931.19999999999993,9.8881931983573878E-4]
[null,null,932.4,1.024203661034009E-3]
[null,null,933.59999999999991,1.0625925511385549E-3]
[null,null,934.8,1.1048496296571864E-3]
[null,null,936,1.1505712428905484E-3]
[null,null,937.19999999999993,1.1980452787028113E-3]
[null,null,938.4,1.2444877044444364E-3]
[null,null,939.59999999999991,1.286488799081079E-3]
[null,null,940.8,1.3206252116381347E-3]
[null,null,942,1.3439371037984663E-3]
[null,null,943.19999999999993,1.3543856339795985E-3]
[null,null,944.4,1.3510306833351788E-3]
[null,null,945.59999999999991,1.333988089677364E-3]
[null,null,946.8,1.3041953670630906E-3]
[null,null,948,1.2630713489905606E-3]
[null,null,949.19999999999993,1.2121712464507918E-3]
[null,null,950.4,1.1529255850334093E-3]
[null,null,951.59999999999991,1.0865159186276968E-3]
[null,null,952.8,1.0139083347131877E-3]
[null,null,954,9.3594364743095884E-4]
[null,null,955.19999999999993,8.5356608111799475E-4]
[null,null,956.4,7.6795715836614029E-4]
[null,null,957.59999999999991,6.806337391826008E-4]
[null,null,958.8,5.9343388885123348E-4]
[null,null,960,5.0846485358240477E-4]
[null,null,961.19999999999993,4.2786670738483078E-4]
[null,null,962.4,3.5371663966972643E-4]
[null,null,963.59999999999991,2.8781467619202453E-4]
[null,null,964.8,2.3162506169237528E-4]
[null,null,966,1.8623691000136958E-4]
[null,null,967.19999999999993,1.5241114268777582E-4]
[null,null,968.4,1.3060689251468232E-4]
[null,null,969.59999999999991,1.2111618063105871E-4]
[null,null,970.8,1.2406528500403754E-4]
[null,null,972,1.3940361462578497E-4]
[null,null,973.19999999999993,1.668140111072267E-4]
[null,null,974.4,2.055694169020333E-4]
[null,null,975.59999999999991,2.5435975140942406E-4]
[null,null,976.8,3.1113404400660578E-4]
[null,null,978,3.7300852762334636E-4]
[null,null,979.19999999999993,4.3638767197207802E-4]
[null,null,980.4,4.9709858546569596E-4]
[null,null,981.59999999999991,5.5078547524276065E-4]
[null,null,982.8,5.9339115200937327E-4]
[null,null,984,6.2165211537983556E-4]
[null,null,985.19999999999993,6.3359941212145793E-4]
[null,null,986.4,6.2883047066139303E-4]
[null,null,987.59999999999991,6.0874140805014618E-4]
[null,null,988.8,5.7637459481182745E-4]
[null,null,990,5.3625598991650144E-4]
[null,null,991.19999999999993,4.9386584139196512E-4]
[null,null,992.4,4.5523394452947643E-4]
[null,null,993.59999999999991,4.2639629584250083E-4]
[null,null,994.8,4.130298233104691E-4]
[null,null,996,4.2010714928107439E-4]
[null,null,997.19999999999993,4.5169559999001899E-4]
[null,null,998.4,5.1083967802782726E-4]
[null,null,999.59999999999991,5.9950453038043233E-4]
[null,null,1000.8,7.1855091239310409E-4]
[null,null,1002,8.6772069563795489E-4]
[null,null,1003.1999999999999,1.045624188270321E-3]
[null,null,1004.4,1.2497468412707852E-3]
[null,null,1005.5999999999999,1.4764060127460598E-3]
[null,null,1006.8,1.720849080419978E-3]
[null,null,1008,1.9772446962651397E-3]
[null,null,1009.1999999999999,2.2388316956332708E-3]
[null,null,1010.4,2.4980423682708533E-3]
[null,null,1011.5999999999999,2.7467159052778265E-3]
[null,null,1012.8,2.9763929458777355E-3]
[null,null,1014,3.178655755545272E-3]
[null,null,1015.1999999999999,3.3456387368436921E-3]
[null,null,1016.4,3.470554030267109E-3]
[null,null,1017.5999999999999,3.5482895360806578E-3]
[null,null,1018.8,3.5759727179867475E-3]
[null,null,1020,3.55346107368856E-3]
[null,null,1021.1999999999999,3.4835582647478399E-3]
[null,null,1022.4,3.3720485748781892E-3]
[null,null,1023.5999999999999,3.2273674415610075E-3]
[null,null,1024.8,3.0599826685995318E-3]
[null,null,1026,2.8815308956248718E-3]
[null,null,1027.2,2.7038096066809799E-3]
[null,null,1028.3999999999999,2.5377491577646409E-3]
[null,null,1029.5999999999999,2.3924910605122272E-3]
[null,null,1030.8,2.2746789010497166E-3]
[null,null,1032,2.1880324634219201E-3]
[null,null,1033.2,2.1332323490858241E-3]
[null,null,1034.3999999999999,2.1081004217347165E-3]
[null,null,1035.5999999999999,2.1080276818115761E-3]
[null,null,1036.8,2.1265795279458467E-3]
[null,null,1038,2.1562110713995732E-3]
[null,null,1039.2,2.1889473937311385E-3]
[null,null,1040.3999999999999,2.2171283273796252E-3]
[null,null,1041.5999999999999,2.2339479755695683E-3]
[null,null,1042.8,2.2339125495127107E-3]
[null,null,1044,2.2131345711323149E-3]
[null,null,1045.2,2.1694694554248101E-3]
[null,null,1046.3999999999999,2.1024950769195617E-3]
[null,null,1047.5999999999999,2.0134088245335859E-3]
[null,null,1048.8,1.9047107122351593E-3]
[null,null,1050,1.7799779908450636E-3]
[null,null,1051.2,1.6434374501821025E-3]
[null,null,1052.3999999999999,1.4996566146372157E-3]
[null,null,1053.5999999999999,1.3531937335741744E-3]
[null,null,1054.8,1.208300366149357E-3]
[null,null,1056,1.068714227402985E-3]
[null,null,1057.2,9.3746254967690666E-4]
[null,null,1058.3999999999999,8.1680560637774531E-4]
[null,null,1059.5999999999999,7.0819322360950469E-4]
[null,null,1060.8,6.1230512486381552E-4]
[null,null,1062,5.2915964927968391E-4]
[null,null,1063.2,4.5822474223890523E-4]
[null,null,1064.3999999999999,3.9855100628220487E-4]
[null,null,1065.5999999999999,3.4894685854067496E-4]
[null,null,1066.8,3.0805482936504576E-4]
[null,null,1068,2.7450714653820855E-4]
[null,null,1069.2,2.4699925562334023E-4]
[null,null,1070.3999999999999,2.2434980338157507E-4]
[null,null,1071.5999999999999,2.0553504819674758E-4]
[null,null,1072.8,1.8970151373170631E-4]
[null,null,1074,1.761783340018313E-4]
[null,null,1075.2,1.6441224243182365E-4]
[null,null,1076.3999999999999,1.54010723892676E-4]
[null,null,1077.5999999999999,1.4468318028639947E-4]
[null,null,1078.8,1.3622106142989617E-4]
[null,null,1080,1.2850609080879635E-4]
[null,null,1081.2,1.2148357194145608E-4]
[null,null,1082.3999999999999,1.1512336974878801E-4]
[null,null,1083.5999999999999,1.0948751393339084E-4]
[null,null,1084.8,1.0467573472807735E-4]
[null,null,1086,1.0086804509536018E-4]
[null,null,1087.2,9.8325036293189663E-5]
[null,null,1088.3999999999999,9.7392726637233191E-5]
[null,null,1089.5999999999999,9.853260895327791E-5]
[null,null,1090.8,1.0227652276662943E-4]
[null,null,1092,1.0924370308355074E-4]
[null,null,1093.2,1.2009617137301185E-4]
[null,null,1094.3999999999999,1.3548460216588847E-4]
[null,null,1095.5999999999999,1.5597363089288603E-4]
[null,null,1096.8,1.8195020356222014E-4]
[null,null,1098,2.1352297827083837E-4]
[null,null,1099.2,2.5042515678187451E-4]
[null,null,1100.3999999999999,2.9193644297069796E-4]
[null,null,1101.5999999999999,3.3684101525042879E-4]
[null,null,1102.8,3.8343658568927759E-4]
[null,null,1104,4.2960441936136583E-4]
[null,null,1105.2,4.7294194930393797E-4]
[null,null,1106.3999999999999,5.1094949319934867E-4]
[null,null,1107.5999999999999,5.4125237196647974E-4]
[null,null,1108.8,5.6183157959488407E-4]
[null,null,1110,5.7123201200994314E-4]
[null,null,1111.2,5.687183923911588E-4]
[null,null,1112.3999999999999,5.5435561557604411E-4]
[null,null,1113.5999999999999,5.2900125218995314E-4]
[null,null,1114.8,4.9422491939613965E-4]
[null,null,1116,4.5209865520998361E-4]
[null,null,1117.2,4.0503895213176268E-4]
[null,null,1118.3999999999999,3.5554350024259582E-4]
[null,null,1119.5999999999999,3.0597174244818495E-4]
[null,null,1120.8,2.5841029636756394E-4]
[null,null,1122,2.1448411637024135E-4]
[null,null,1123.2,1.7534971530953699E-4]
[null,null,1124.3999999999999,1.416858771705897E-4]
[null,null,1125.5999999999999,1.1374785685194238E-4]
[null,null,1126.8,9.1455758568119016E-5]
[null,null,1128,7.4499976197509743E-5]
[null,null,1129.2,6.2447942884909479E-5]
[null,null,1130.3999999999999,5.4839697964733557E-5]
[null,null,1131.5999999999999,5.1274774028733432E-5]
[null,null,1132.8,5.1427630483080085E-5]
[null,null,1134,5.513872986585341E-5]
[null,null,1135.2,6.2342228572800451E-5]
[null,null,1136.3999999999999,7.311619023575637E-5]
[null,null,1137.5999999999999,8.7614698137570125E-5]
[null,null,1138.8,1.060456581214604E-4]
[null,null,1140,1.2856489309076726E-4]
[null,null,1141.2,1.5528878029471896E-4]
[null,null,1142.3999999999999,1.8620137958038756E-4]
[null,null,1143.5999999999999,2.211214429838345E-4]
[null,null,1144.8,2.596769506710173E-4]
[null,null,1146,3.0130211259633334E-4]
[null,null,1147.2,3.4526072796522191E-4]
[null,null,1148.3999999999999,3.9068950338519849E-4]
[null,null,1149.5999999999999,4.3670542470849744E-4]
[null,null,1150.8,4.8244031823233284E-4]
[null,null,1152,5.2718164453504702E-4]
[null,null,1153.2,5.7044438680437317E-4]
[null,null,1154.3999999999999,6.1203218029089298E-4]
[null,null,1155.5999999999999,6.520596989851924E-4]
[null,null,1156.8,6.9092769989976459E-4]
[null,null,1158,7.2924935871403424E-4]
[null,null,1159.2,7.6773511991445789E-4]
[null,null,1160.3999999999999,8.0705164387162153E-4]
[null,null,1161.5999999999999,8.4767676531113717E-4]
[null,null,1162.8,8.8977507417436379E-4]
[null,null,1164,9.3311679491432523E-4]
[null,null,1165.2,9.7705602225783557E-4]
[null,null,1166.3999999999999,1.0205740959843303E-3]
[null,null,1167.5999999999999,1.0623819323010051E-3]
[null,null,1168.8,1.1010639848834636E-3]
[null,null,1170,1.1352569848351081E-3]
[null,null,1171.2,1.163742995466549E-3]
[null,null,1172.3999999999999,1.1856345588533693E-3]
[null,null,1173.5999999999999,1.2003943803804758E-3]
[null,null,1174.8,1.2078477085814842E-3]
[null,null,1176,1.2081343419724261E-3]
[null,null,1177.2,1.2016260037985636E-3]
[null,null,1178.3999999999999,1.1888313507196534E-3]
[null,null,1179.5999999999999,1.1703113745889543E-3]
[null,null,1180.8,1.1466234549310211E-3]
[null,null,1182,1.1182939005337054E-3]
[null,null,1183.2,1.0859001927110323E-3]
[null,null,1184.3999999999999,1.0499977312831315E-3]
[null,null,1185.5999999999999,1.0113078200781778E-3]
[null,null,1186.8,9.7072090334673672E-4]
[null,null,1188,9.2934202267377008E-4]
[null,null,1189.2,8.8848663410725311E-4]
[null,null,1190.3999999999999,8.4962869719165494E-4]
[null,null,1191.5999999999999,8.1430130871079545E-4]
[null,null,1192.8,7.8395884454671909E-4]
[null,null,1194,7.5983340749193485E-4]
[null,null,1195.2,7.4272566693007981E-4]
[null,null,1196.3999999999999,7.3293680349311092E-4]
[null,null,1197.5999999999999,7.3014842292765732E-4]
[null,null,1198.8,7.3341172028552513E-4]
[null,null,1200,7.412403069122094E-4]
[null,null,1201.2,7.517100789328642E-4]
[null,null,1202.3999999999999,7.627049184787103E-4]
[null,null,1203.5999999999999,7.7215675434247984E-4]
[null,null,1204.8,7.783040134734956E-4]
[null,null,1206,7.7992107400130426E-4]
[null,null,1207.2,7.7648507257506113E-4]
[null,null,1208.3999999999999,7.6824718537539191E-4]
[null,null,1209.5999999999999,7.5624614066115885E-4]
[null,null,1210.8,7.4212938705028495E-4]
[null,null,1212,7.280009091845843E-4]
[null,null,1213.2,7.1615317010275206E-4]
[null,null,1214.3999999999999,7.0879468950445343E-4]
[null,null,1215.5999999999999,7.077917387774402E-4]
[null,null,1216.8,7.14453280400715E-4]
[null,null,1218,7.2937993751803277E-4]
[null,null,1219.2,7.5238788750522001E-4]
[null,null,1220.3999999999999,7.8250905416058837E-4]
[null,null,1221.5999999999999,8.1806124419970367E-4]
[null,null,1222.8,8.5677660933953072E-4]
[null,null,1224,8.9597395429820827E-4]
[null,null,1225.2,9.3275937245186407E-4]
[null,null,1226.3999999999999,9.6423970131462799E-4]
[null,null,1227.5999999999999,9.8773370607227722E-4]
[null,null,1228.8,1.0009664235844592E-3]
[null,null,1230,1.0022328335029635E-3]
[null,null,1231.2,9.9051206016258979E-4]
[null,null,1232.3999999999999,9.6556258088211801E-4]
[null,null,1233.5999999999999,9.2787613292266648E-4]
[null,null,1234.8,8.7868991036486746E-4]
[null,null,1236,8.1981827032787244E-4]
[null,null,1237.2,7.5353538463322127E-4]
[null,null,1238.3999999999999,6.8238090775389626E-4]
[null,null,1239.5999999999999,6.0896597565133982E-4]
[null,null,1240.8,5.3578817698347306E-4]
[null,null,1242,4.6507301856503475E-4]
[null,null,1243.2,3.9865512114380531E-4]
[null,null,1244.3999999999999,3.3790015726898996E-4]
[null,null,1245.5999999999999,2.837220429130733E-4]
[null,null,1246.8,2.3650897353673641E-4]
[null,null,1248,1.9628309783464E-4]
[null,null,1249.2,1.6272462781955497E-4]
[null,null,1250.3999999999999,1.3527195038970293E-4]
[null,null,1251.5999999999999,1.1321158508731524E-4]
[null,null,1252.8,9.5759498253353251E-5]
[null,null,1254,8.2128033781477111E-5]
[null,null,1255.2,7.1575715331514853E-5]
[null,null,1256.3999999999999,6.3439779970710889E-5]
[null,null,1257.5999999999999,5.715324176098392E-5]
[null,null,1258.8,5.2249458010911228E-5]
[null,null,1260,4.8357631334803078E-5]
[null,null,1261.2,4.5203629264842464E-5]
[null,null,1262.3999999999999,4.2561225452254828E-5]
[null,null,1263.5999999999999,4.028496463757988E-5]
[null,null,1264.8,3.8270350432010183E-5]
[null,null,1266,3.6466695156925661E-5]
[null,null,1267.2,3.481152625880463E-5]
[null,null,1268.3999999999999,3.3300145548288838E-5]
[null,null,1269.5999999999999,3.1938086897054715E-5]
[null,null,1270.8,3.0743739166497379E-5]
[null,null,1272,2.9779971433514952E-5]
[null,null,1273.2,2.9100413520677183E-5]
[null,null,1274.3999999999999,2.8821074438879622E-5]
[null,null,1275.5999999999999,2.9068419202427074E-5]
[null,null,1276.8,3.0040056509929156E-5]
[null,null,1278,3.1944323192054165E-5]
[null,null,1279.2,3.5081716879143469E-5]
[null,null,1280.3999999999999,3.9805602530724163E-5]
[null,null,1281.5999999999999,4.6533977842275904E-5]
[null,null,1282.8,5.5746345730521731E-5]
[null,null,1284,6.7974228932699048E-5]
[null,null,1285.2,8.3784028786117325E-5]
[null,null,1286.3999999999999,1.0375140134044473E-4]
[null,null,1287.5999999999999,1.284270669317427E-4]
[null,null,1288.8,1.582949574432108E-4]
[null,null,1290,1.9372476138093472E-4]
[null,null,1291.2,2.3492212193187146E-4]
[null,null,1292.3999999999999,2.8188080674903377E-4]
[null,null,1293.5999999999999,3.3434190830147536E-4]
[null,null,1294.8,3.9176536678254582E-4]
[null,null,1296,4.5331869423212223E-4]
[null,null,1297.2,5.1788665730647396E-4]
[null,null,1298.3999999999999,5.8410388954789356E-4]
[null,null,1299.5999999999999,6.504212443335125E-4]
[null,null,1300.8,7.1513717815721242E-4]
[null,null,1302,7.7655109780796767E-4]
[null,null,1303.2,8.3301801775090083E-4]
[null,null,1304.3999999999999,8.8305372316720555E-4]
[null,null,1305.5999999999999,9.2541933922728279E-4]
[null,null,1306.8,9.5918754062293196E-4]
[null,null,1308,9.8378425171513737E-4]
[null,null,1309.2,9.990023354559752E-4]
[null,null,1310.3999999999999,1.0049868598325873E-3]
[null,null,1311.6,1.0021946441408902E-3]
[null,null,1312.8,9.9133350168760103E-4]
[null,null,1314,9.7328855294932239E-4]
[null,null,1315.2,9.4904394568959694E-4]
[null,null,1316.3999999999999,9.1960820064378439E-4]
[null,null,1317.6,8.8595027703734623E-4]
[null,null,1318.8,8.4895153495843619E-4]
[null,null,1320,8.0937637372703727E-4]
[null,null,1321.2,7.6786180413726155E-4]
[null,null,1322.3999999999999,7.2492391343571816E-4]
[null,null,1323.6,6.809773892317879E-4]
[null,null,1324.8,6.3636316887580237E-4]
[null,null,1326,5.9137894584699907E-4]
[null,null,1327.2,5.4630765258039911E-4]
[null,null,1328.3999999999999,5.0144001302503463E-4]
[null,null,1329.6,4.5708861641222446E-4]
[null,null,1330.8,4.135924762013139E-4]
[null,null,1332,3.7131248274472543E-4]
[null,null,1333.2,3.3061935100160754E-4]
[null,null,1334.3999999999999,2.9187648111673504E-4]
[null,null,1335.6,2.5542053428229627E-4]
[null,null,1336.8,2.2154249052998284E-4]
[null,null,1338,1.9047156618560128E-4]
[null,null,1339.2,1.6236373170226169E-4]
[null,null,1340.3999999999999,1.3729580759031592E-4]
[null,null,1341.6,1.1526534638646898E-4]
[null,null,1342.8,9.6195832030363277E-5]
[null,null,1344,7.9946214682270831E-5]
[null,null,1345.2,6.6323484588953066E-5]
[null,null,1346.3999999999999,5.5096875814313544E-5]
[null,null,1347.6,4.6012355276609617E-5]
[null,null,1348.8,3.8806252154204527E-5]
[null,null,1350,3.321104111113221E-5]
[null,null,1351.2,2.8992270916473597E-5]
[null,null,1352.3999999999999,2.5909360773873882E-5]
[null,null,1353.6,2.3756126345970901E-5]
[null,null,1354.8,2.235228045505984E-5]
[null,null,1356,2.1544038423704789E-5]
[null,null,1357.2,2.1193164981760474E-5]
[null,null,1358.3999999999999,2.1219538658201686E-5]
[null,null,1359.6,2.1523457828400086E-5]
[null,null,1360.8,2.204023691175748E-5]
[null,null,1362,2.2720037175722576E-5]
[null,null,1363.2,2.3525166867770957E-5]
[null,null,1364.3999999999999,2.4427618477236644E-5]
[null,null,1365.6,2.5406920623964602E-5]
[null,null,1366.8,2.6448332779463408E-5]
[null,null,1368,2.7541376160603699E-5]
[null,null,1369.2,2.8678671999610894E-5]
[null,null,1370.3999999999999,2.9855046560091921E-5]
[null,null,1371.6,3.1066858112708255E-5]
[null,null,1372.8,3.2303078984590839E-5]
[null,null,1374,3.3582135403327912E-5]
[null,null,1375.2,3.4889188122177217E-5]
[null,null,1376.3999999999999,3.6223559203349603E-5]
[null,null,1377.6,3.7574726282199925E-5]
[null,null,1378.8,3.8962611097592557E-5]
[null,null,1380,4.037519495241711E-5]
[null,null,1381.2,4.1823537066856824E-5]
[null,null,1382.3999999999999,4.3283913231201231E-5]
[null,null,1383.6,4.4766021535143092E-5]
[null,null,1384.8,4.6268687528911649E-5]
[null,null,1386,4.7790663500074349E-5]
[null,null,1387.2,4.9330629898762866E-5]
[null,null,1388.3999999999999,5.0887197069530856E-5]
[null,null,1389.6,5.2458907292649964E-5]
[null,null,1390.8,5.4044237136227172E-5]
[null,null,1392,5.5641600119066126E-5]
[null,null,1393.2,5.7249349682668082E-5]
[null,null,1394.3999999999999,5.8865782469219809E-5]
[null,null,1395.6,6.048914190083283E-5]
[null,null,1396.8,6.2117622053688563E-5]
[null,null,1398,6.3749371819140163E-5]
[null,null,1399.2,6.5393476741644279E-5]
[null,null,1400.3999999999999,6.7027323715285772E-5]
[null,null,1401.6,6.8658799307477891E-5]
[null,null,1402.8,7.0285932497952006E-5]
[null,null,1404,7.1906733066561568E-5]
[null,null,1405.2,7.3519197321727383E-5]
[null,null,1406.3999999999999,7.5121314022894521E-5]
[null,null,1407.6,7.6711070477240883E-5]
[null,null,1408.8,7.8286458789608344E-5]
[null,null,1410,7.9845482243462806E-5]
[null,null,1411.2,8.1386161789596528E-5]
[null,null,1412.3999999999999,8.2906542618315442E-5]
[null,null,1413.6,8.4404700789988838E-5]
[null,null,1414.8,8.5878749898084269E-5]
[null,null,1416,8.732684773819927E-5]
[null,null,1417.2,8.8747202956097277E-5]
[null,null,1418.3999999999999,9.0138081647405291E-5]
[null,null,1419.6,9.1497813881410381E-5]
[null,null,1420.8,9.2824800121310913E-5]
[null,null,1422,9.411751751335508E-5]
[null,null,1423.2,9.5374526017501216E-5]
[null,null,1424.3999999999999,9.6594474352598004E-5]
[null,null,1425.6,9.7776105729582228E-5]
[null,null,1426.8,9.8918263346832219E-5]
[null,null,1428,1.0001989562260416E-4]
[null,null,1429.2,1.0108006114039002E-4]
[null,null,1430.3999999999999,1.0209793328408742E-4]
[null,null,1431.6,1.0307280454104681E-4]
[null,null,1432.8,1.0400409045234637E-4]
[null,null,1434,1.0489133319105683E-4]
[null,null,1435.2,1.0573420475075358E-4]
[null,null,1436.3999999999999,1.0653250972813682E-4]
[null,null,1437.6,1.072861876853009E-4]
[null,null,1438.8,1.0799531507894705E-4]
[null,null,1440,1.086601067456566E-4]
[null,null,1441.2,1.0928091693420663E-4]
[null,null,1442.3999999999999,1.0985823987782364E-4]
[null,null,1443.6,1.103927099012096E-4]
[null,null,1444.8,1.1088510105912916E-4]
[null,null,1446,1.1133632630531144E-4]
[null,null,1447.2,1.1174743619237257E-4]
[null,null,1448.3999999999999,1.1211961710540194E-4]
[null,null,1449.6,1.1245418903376549E-4]
[null,null,1450.8,1.1275260288754252E-4]
[null,null,1452,1.1301643736683295E-4]
[null,null,1453.2,1.1324739539392396E-4]
[null,null,1454.3999999999999,1.1344730011999196E-4]
[null,null,1455.6,1.1361809051962005E-4]
[null,null,1456.8,1.1376181658793002E-4]
[null,null,1458,1.1388063415655112E-4]
[null,null,1459.2,1.1397679934597118E-4]
[null,null,1460.3999999999999,1.1405266267302959E-4]
[null,null,1461.6,1.1411066283341903E-4]
[null,null,1462.8,1.1415332018004895E-4]
[null,null,1464,1.1418322991899889E-4]
[null,null,1465.2,1.1420305504553937E-4]
[null,null,1466.3999999999999,1.1421551904333197E-4]
[null,null,1467.6,1.14223398370431E-4]
[null,null,1468.8,1.1422951475610147E-4]
[null,null,1470,1.1423672733274589E-4]
[null,null,1471.2,1.1424792462739167E-4]
[null,null,1472.3999999999999,1.142660164372432E-4]
[null,null,1473.6,1.1429392561374864E-4]
[null,null,1474.8,1.1433457977947402E-4]
[null,null,1476,1.1439090300182893E-4]
[null,null,1477.2,1.1446580744734829E-4]
[null,null,1478.3999999999999,1.1456218503981398E-4]
[null,null,1479.6,1.1468289914500687E-4]
[null,null,1480.8,1.1483077630431781E-4]
[null,null,1482,1.1500859803882683E-4]
[null,null,1483.2,1.1521909274479064E-4]
[null,null,1484.3999999999999,1.1546492770076489E-4]
[null,null,1485.6,1.1574870120584289E-4]
[null,null,1486.8,1.1607293486771748E-4]
[null,null,1488,1.164400660584854E-4]
[null,null,1489.2,1.1685244055530736E-4]
[null,null,1490.3999999999999,1.1731230538223566E-4]
[null,null,1491.6,1.1782180186871683E-4]
[null,null,1492.8,1.1838295893948338E-4]
[null,null,1494,1.1899768664977376E-4]
[null,null,1495.2,1.1966776997905941E-4]
[null,null,1496.3999999999999,1.2039486289572633E-4]
[null,null,1497.6,1.2118048270445336E-4]
[null,null,1498.8,1.2202600468735553E-4]
[null,null,1500,1.2293265704932345E-4]
[null,null,1501.2,1.2390151617738045E-4]
[null,null,1502.3999999999999,1.2493350222331424E-4]
[null,null,1503.6,1.2602937501830268E-4]
[null,null,1504.8,1.2718973032775375E-4]
[null,null,1506,1.2841499645411714E-4]
[null,null,1507.2,1.2970543119498364E-4]
[null,null,1508.3999999999999,1.3106111916338291E-4]
[null,null,1509.6,1.3248196947680745E-4]
[null,null,1510.8,1.3396771382111905E-4]
[null,null,1512,1.3551790489515421E-4]
[null,null,1513.2,1.3713191524149587E-4]
[null,null,1514.3999999999999,1.3880893646854781E-4]
[null,null,1515.6,1.4054797886871182E-4]
[null,null,1516.8,1.4234787143711555E-4]
[null,null,1518,1.4420726229499346E-4]
[null,null,1519.2,1.4612461952143066E-4]
[null,null,1520.3999999999999,1.4809823239678421E-4]
[null,null,1521.6,1.5012621306065789E-4]
[null,null,1522.8,1.5220649858682525E-4]
[null,null,1524,1.5433685347699034E-4]
[null,null,1525.2,1.5651487257469573E-4]
[null,null,1526.3999999999999,1.5873798440007523E-4]
[null,null,1527.6,1.6100345490547191E-4]
[null,null,1528.8,1.6330839165119553E-4]
[null,null,1530,1.656497483999075E-4]
[null,null,1531.2,1.6802433012723966E-4]
[null,null,1532.3999999999999,1.7042879844532874E-4]
[null,null,1533.6,1.7285967743494682E-4]
[null,null,1534.8,1.7531335988083419E-4]
[null,null,1536,1.7778611390372205E-4]
[null,null,1537.2,1.8027408998132305E-4]
[null,null,1538.3999999999999,1.8277332834932205E-4]
[null,null,1539.6,1.8527976677208688E-4]
[null,null,1540.8,1.8778924867145203E-4]
[null,null,1542,1.9029753160053543E-4]
[null,null,1543.2,1.9280029604809237E-4]
[null,null,1544.3999999999999,1.9529315455744326E-4]
[null,null,1545.6,1.9777166114251927E-4]
[null,null,1546.8,2.0023132098205231E-4]
[null,null,1548,2.0266760037143921E-4]
[null,null,1549.2,2.0507593691029412E-4]
[null,null,1550.3999999999999,2.0745174990222299E-4]
[null,null,1551.6,2.0979045094190039E-4]
[null,null,1552.8,2.1208745466310376E-4]
[null,null,1554,2.1433818962001238E-4]
[null,null,1555.2,2.1653810927276383E-4]
[null,null,1556.3999999999999,2.1868270304704649E-4]
[null,null,1557.6,2.2076750743637059E-4]
[null,null,1558.8,2.2278811711461458E-4]
[null,null,1560,2.2474019602553138E-4]
[null,null,1561.2,2.2661948841507762E-4]
[null,null,1562.3999999999999,2.2842182977176131E-4]
[null,null,1563.6,2.3014315763966671E-4]
[null,null,1564.8,2.317795222684204E-4]
[null,null,1566,2.333270970641447E-4]
[null,null,1567.2,2.3478218880536373E-4]
[null,null,1568.3999999999999,2.3614124758793715E-4]
[null,null,1569.6,2.3740087646337128E-4]
[null,null,1570.8,2.3855784073530654E-4]
[null,null,1572,2.396090768796239E-4]
[null,null,1573.2,2.4055170105441874E-4]
[null,null,1574.3999999999999,2.4138301716709529E-4]
[null,null,1575.6,2.4210052446701108E-4]
[null,null,1576.8,2.4270192463345417E-4]
[null,null,1578,2.4318512833027253E-4]
[null,null,1579.2,2.4354826120016651E-4]
[null,null,1580.3999999999999,2.4378966927352227E-4]
[null,null,1581.6,2.4390792376867659E-4]
[null,null,1582.8,2.4390182526266724E-4]
[null,null,1584,2.4377040721381947E-4]
[null,null,1585.2,2.4351293881994164E-4]
[null,null,1586.3999999999999,2.4312892719843709E-4]
[null,null,1587.6,2.4261811887727342E-4]
[null,null,1588.8,2.4198050058847043E-4]
[null,null,1590,2.4121629935855565E-4]
[null,null,1591.2,2.403259818932847E-4]
[null,null,1592.3999999999999,2.393102532568079E-4]
[null,null,1593.6,2.3817005484837078E-4]
[null,null,1594.8,2.3690656168255851E-4]
[null,null,1596,2.3552117898199026E-4]
[null,null,1597.2,2.3401553809425797E-4]
[null,null,1598.3999999999999,2.3239149174773501E-4]
[null,null,1599.6,2.3065110866365569E-4]
[null,null,1600.8,2.2879666754457479E-4]
[null,null,1602,2.2683065046191254E-4]
[null,null,1603.2,2.2475573566780514E-4]
[null,null,1604.3999999999999,2.2257478985885469E-4]
[null,null,1605.6,2.202908599216185E-4]
[null,null,1606.8,2.1790716419178434E-4]
[null,null,1608,2.1542708326090156E-4]
[null,null,1609.2,2.1285415036632131E-4]
[null,null,1610.3999999999999,2.1019204140157837E-4]
[null,null,1611.6,2.0744456458584519E-4]
[null,null,1612.8,2.0461564983230215E-4]
[null,null,1614,2.0170933785625125E-4]
[null,null,1615.2,1.9872976906461153E-4]
[null,null,1616.3999999999999,1.9568117226900902E-4]
[null,null,1617.6,1.9256785326504606E-4]
[null,null,1618.8,1.8939418332050419E-4]
[null,null,1620,1.8616458761516399E-4]
[null,null,1621.2,1.8288353367468304E-4]
[null,null,1622.3999999999999,1.7955551984049237E-4]
[null,null,1623.6,1.7618506381700339E-4]
[null,null,1624.8,1.7277669133656384E-4]
[null,null,1626,1.693349249815261E-4]
[null,null,1627.2,1.6586427320157914E-4]
[null,null,1628.3999999999999,1.6236921956307984E-4]
[null,null,1629.6,1.5885421226555265E-4]
[null,null,1630.8,1.5532365395882651E-4]
[null,null,1632,1.5178189189240303E-4]
[null,null,1633.2,1.4823320842669531E-4]
[null,null,1634.3999999999999,1.4468181193367643E-4]
[null,null,1635.6,1.4113182811228888E-4]
[null,null,1636.8,1.3758729174170948E-4]
[null,null,1638,1.3404232761495642E-4]
[null,null,1639.2,1.3052142843252766E-4]
[null,null,1640.3999999999999,1.2701735511348015E-4]
[null,null,1641.6,1.2353371570534826E-4]
[null,null,1642.8,1.2007399242740737E-4]
[null,null,1644,1.1664153647303356E-4]
[null,null,1645.2,1.1323956333883114E-4]
[null,null,1646.3999999999999,1.0987114868443341E-4]
[null,null,1647.6,1.0653922472448727E-4]
[null,null,1648.8,1.0324657715200549E-4]
[null,null,1650,9.9995842589973292E-5]
[null,null,1651.2,9.6789506565921464E-5]
[null,null,1652.3999999999999,9.3629902002054057E-5]
[null,null,1653.6,9.0519208211507082E-5]
[null,null,1654.8,8.7459450389416765E-5]
[null,null,1656,8.4452499585659893E-5]
[null,null,1657.2,8.150007314447358E-5]
[null,null,1658.3999999999999,7.8603735594598586E-5]
[null,null,1659.6,7.5764899972169706E-5]
[null,null,1660.8,7.2984829557300461E-5]
[null,null,1662,7.0264640004139898E-5]
[null,null,1663.2,6.7605301843185999E-5]
[null,null,1664.3999999999999,6.5007643333757709E-5]
[null,null,1665.6,6.247235364379408E-5]
[null,null,1666.8,5.9999986333566647E-5]
[null,null,1668,5.7590963119415691E-5]
[null,null,1669.2,5.5245577893317554E-5]
[null,null,1670.3999999999999,5.2964000973889931E-5]
[null,null,1671.6,5.0746283564379699E-5]
[null,null,1672.8,4.8592362393247706E-5]
[null,null,1674,4.6502064513128444E-5]
[null,null,1675.2,4.447511223424874E-5]
[null,null,1676.3999999999999,4.2511128168779267E-5]
[null,null,1677.6,4.0609640363089436E-5]
[null,null,1678.8,3.8770087495474444E-5]
[null,null,1680,3.6991824117586035E-5]
[null,null,1681.2,3.5274125918565134E-5]
[null,null,1682.3999999999999,3.3616194991692495E-5]
[null,null,1683.6,3.2017165084260744E-5]
[null,null,1684.8,3.047610681232107E-5]
[null,null,1686,2.8992032822936517E-5]
[null,null,1687.2,2.7563902887615581E-5]
[null,null,1688.3999999999999,2.6190628911655252E-5]
[null,null,1689.6,2.487107984521069E-5]
[null,null,1690.8,2.3604086483018171E-5]
[null,null,1692,2.2388446140804255E-5]
[null,null,1693.2,2.1222927197542683E-5]
[null,null,1694.3999999999999,2.010627349383121E-5]
[null,null,1695.6,1.9037208577769701E-5]
[null,null,1696.8,1.8014439790818025E-5]
[null,null,1698,1.7036662187179301E-5]
[null,null,1699.2,1.6102562281310792E-5]
[null,null,1700.3999999999999,1.5210821619180618E-5]
[null,null,1701.6,1.4360120169876243E-5]
[null,null,1702.8,1.3549139535123859E-5]
[null,null,1704,1.2776565975182174E-5]
[null,null,1705.2,1.20410932504471E-5]
[null,null,1706.3999999999999,1.1341425278922189E-5]
[null,null,1707.6,1.0676278610484185E-5]
[null,null,1708.8,1.0044384719601273E-5]
[null,null,1710,9.4444921188321484E-6]
[null,null,1711.2,8.8753682960631437E-6]
[null,null,1712.3999999999999,8.3358014790109283E-6]
[null,null,1713.6,7.8246022310399119E-6]
[null,null,1714.8,7.3406048828158208E-6]
[null,null,1716,6.8826688047327005E-6]
[null,null,1717.2,6.4496795254236821E-6]
[null,null,1718.3999999999999,6.0405497019843995E-6]
[null,null,1719.6,5.6542199478109854E-6]
[null,null,1720.8,5.2896595241831248E-6]
[null,null,1722,4.9458669019022608E-6]
[null,null,1723.2,4.621870199437743E-6]
[null,null,1724.3999999999999,4.3167275041314946E-6]
[null,null,1725.6,4.0295270830728146E-6]
[null,null,1726.8,3.7593874902807881E-6]
[null,null,1728,3.5054575768205267E-6]
[null,null,1729.2,3.266916410440638E-6]
[null,null,1730.3999999999999,3.0429731112481746E-6]
[null,null,1731.6,2.8328666098404976E-6]
[null,null,1732.8,2.6358653341930891E-6]
[null,null,1734,2.4512668314575386E-6]
[null,null,1735.2,2.2783973306623284E-6]
[null,null,1736.3999999999999,2.1166112521278138E-6]
[null,null,1737.6,1.9652906692111916E-6]
[null,null,1738.8,1.8238447277892907E-6]
[null,null,1740,1.6917090286664086E-6]
[null,null,1741.2,1.5683449778671003E-6]
[null,null,1742.3999999999999,1.4532391095378024E-6]
[null,null,1743.6,1.345902385940661E-6]
[null,null,1744.8,1.2458694787793415E-6]
[null,null,1746,1.1526980358499124E-6]
[null,null,1747.2,1.0659679367644165E-6]
[null,null,1748.3999999999999,9.852805412489677E-7]
[null,null,1749.6,9.102579332752862E-7]
[null,null,1750.8,8.4054216404520805E-7]
[null,null,1752,7.7579449661207574E-7]
[null,null,1753.2,7.1569465469359628E-7]
[null,null,1754.3999999999999,6.599400780068952E-7]
[null,null,1755.6,6.0824518623983427E-7]
[null,null,1756.8,5.6034065356372598E-7]
[null,null,1758,5.1597269539112696E-7]
[null,null,1759.2,4.7490236889015186E-7]
[null,null,1760.3999999999999,4.3690488858275469E-7]
[null,null,1761.6,4.0176895817974919E-7]
[null,null,1762.8,3.6929611964004743E-7]
[null,null,1764,3.3930012028528529E-7]
[null,null,1765.2,3.1160629865461691E-7]
[null,null,1766.3999999999999,2.8605098964708424E-7]
[null,null,1767.6,2.6248094937106762E-7]
[null,null,1768.8,2.4075280000172734E-7]
[null,null,1770,2.2073249483751509E-7]
[null,null,1771.2,2.0229480364617245E-7]
[null,null,1772.3999999999999,1.8532281829830248E-7]
[null,null,1773.6,1.6970747860267764E-7]
[null,null,1774.8,1.5534711818161371E-7]
[null,null,1776,1.4214703015640798E-7]
[null,null,1777.2,1.3001905235211056E-7]
[null,null,1778.3999999999999,1.1888117167698352E-7]
[null,null,1779.6,1.0865714728482603E-7]
[null,null,1780.8,9.9276152087467498E-8]
[null,null,1782,9.0672432149663256E-8]
[null,null,1783.2,8.2784983469241616E-8]
[null,null,1784.3999999999999,6.5139318267958079E-8]
[null,null,1785.6,5.9585081778147321E-8]
[null,null,1786.8,5.4485860241463091E-8]
[null,null,1788,4.9806259980755861E-8]
[null,null,1789.2,4.5513452318751446E-8]
[null,null,1790.3999999999999,4.1577006035684887E-8]
[null,null,1791.6,3.7968729035131794E-8]
[null,null,1792.8,3.466251887265925E-8]
[null,null,1794,3.163422179949929E-8]
[null,null,1795.2,1.8278911520933815E-8]
[null,null,1796.3999999999999,1.6846585906543582E-8]
[null,null,1797.6,1.5520287195467667E-8]
[null,null,1798.8,1.4292687165664627E-8]
[null,null,1800,1.3156922151087029E-8]
[null,null,1801.2,1.2106566840123297E-8]
[null,null,1802.3999999999999,1.1135609309808244E-8]
[null,null,1803.6,0]
[null,null,1804.8,0]
[null,null,1806,0]
[null,null,1807.2,0]
[null,null,1808.3999999999999,0]
[null,null,1809.6,0]
[null,null,1810.8,0]
[null,null,1812,0]
[null,null,1813.2,0]
[null,null,1814.3999999999999,0]
[null,null,1815.6,0]
[null,null,1816.8,0]
[null,null,1818,0]
[null,null,1819.2,0]
[null,null,1820.3999999999999,0]
[null,null,1821.6,0]
[null,null,1822.8,0]
[null,null,1824,0]
[null,null,1825.2,0]
[null,null,1826.3999999999999,0]
[null,null,1827.6,0]
[null,null,1828.8,0]
[null,null,1830,0]
[null,null,1831.2,0]
[null,null,1832.3999999999999,0]
[null,null,1833.6,0]
[null,null,1834.8,0]
[null,null,1836,0]
[null,null,1837.2,0]
[null,null,1838.3999999999999,0]
[null,null,1839.6,0]
[null,null,1840.8,0]
[null,null,1842,0]
[null,null,1843.1999999999998,0]
[null,null,1844.3999999999999,0]
[null,null,1845.6,0]
[null,null,1846.8,0]
[null,null,1848,0]
[null,null,1849.1999999999998,0]
[null,null,1850.3999999999999,0]
[null,null,1851.6,0]
[null,null,1852.8,0]
[null,null,1854,0]
[null,null,1855.1999999999998,0]
[null,null,1856.3999999999999,0]
[null,null,1857.6,0]
[null,null,1858.8,0]
[null,null,1860,0]
[null,null,1861.1999999999998,0]
[null,null,1862.3999999999999,0]
[null,null,1863.6,0]
[null,null,1864.8,0]
[null,null,1866,0]
[null,null,1867.1999999999998,0]
[null,null,1868.3999999999999,0]
[null,null,1869.6,0]
[null,null,1870.8,0]
[null,null,1872,0]
[null,null,1873.1999999999998,0]
[null,null,1874.3999999999999,0]
[null,null,1875.6,0]
[null,null,1876.8,0]
[null,null,1878,0]
[null,null,1879.1999999999998,0]
[null,null,1880.3999999999999,0]
[null,null,1881.6,0]
[null,null,1882.8,0]
[null,null,1884,0]
[null,null,1885.1999999999998,0]
[null,null,1886.3999999999999,0]
[null,null,1887.6,0]
[null,null,1888.8,0]
[null,null,1890,0]
[null,null,1891.1999999999998,0]
[null,null,1892.3999999999999,0]
[null,null,1893.6,0]
[null,null,1894.8,0]
[null,null,1896,0]
[null,null,1897.1999999999998,0]
[null,null,1898.3999999999999,0]
[null,null,1899.6,0]
[null,null,1900.8,0]
[null,null,1902,0]
[null,null,1903.1999999999998,0]
[null,null,1904.3999999999999,0]
[null,null,1905.6,0]
[null,null,1906.8,0]
[null,null,1908,0]
[null,null,1909.1999999999998,0]
[null,null,1910.3999999999999,0]
[null,null,1911.6,0]
[null,null,1912.8,0]
[null,null,1914,0]
[null,null,1915.1999999999998,0]
[null,null,1916.3999999999999,0]
[null,null,1917.6,0]
[null,null,1918.8,0]
[null,null,1920,0]
[null,null,1921.1999999999998,0]
[null,null,1922.3999999999999,0]
[null,null,1923.6,0]
[null,null,1924.8,0]
[null,null,1926,0]
[null,null,1927.1999999999998,0]
[null,null,1928.3999999999999,0]
[null,null,1929.6,0]
[null,null,1930.8,0]
[null,null,1932,0]
[null,null,1933.1999999999998,0]
[null,null,1934.3999999999999,0]
[null,null,1935.6,0]
[null,null,1936.8,1.1483527359826758E-8]
[null,null,1938,1.2987169946492204E-8]
[null,null,1939.1999999999998,1.4675422640284167E-8]
[null,null,1940.3999999999999,1.6569278238406046E-8]
[null,null,1941.6,1.8691899785131092E-8]
[null,null,1942.8,2.1068818245794462E-8]
[null,null,1944,2.3728145073247061E-8]
[null,null,1945.1999999999998,2.6700800441480594E-8]
[null,null,1946.3999999999999,3.0020757922633463E-8]
[null,null,1947.6,3.372530637975992E-8]
[null,null,1948.8,3.7855329837987323E-8]
[null,null,1950,4.2455606080253884E-8]
[null,null,1951.1999999999998,4.7575124690095133E-8]
[null,null,1952.3999999999999,5.3267425232164594E-8]
[null,null,1953.6,5.9590956220586927E-8]
[null,null,1954.8,6.6609455475183095E-8]
[null,null,1956,7.4392352405194914E-8]
[null,null,1957.1999999999998,8.3015192688739325E-8]
[null,null,1958.3999999999999,9.2560085733033331E-8]
[null,null,1959.6,1.0311617520468048E-7]
[null,null,1960.8,1.1478013281044007E-7]
[null,null,1962,1.2765667538601666E-7]
[null,null,1963.1999999999998,1.41859105213091E-7]
[null,null,1964.3999999999999,1.5750987333239402E-7]
[null,null,1965.6,1.7474116545252752E-7]
[null,null,1966.8,1.9369550987028777E-7]
[null,null,1968,2.1452640661776025E-7]
[null,null,1969.1999999999998,2.3739897683452737E-7]
[null,null,1970.3999999999999,2.6249063112972207E-7]
[null,null,1971.6,2.8999175544828782E-7]
[null,null,1972.8,3.2010641268923874E-7]
[null,null,1974,3.5305305804075057E-7]
[null,null,1975.1999999999998,3.8906526569857878E-7]
[null,null,1976.3999999999999,4.2839246432109974E-7]
[null,null,1977.6,4.7130067824694109E-7]
[null,null,1978.8,5.1807327116145844E-7]
[null,null,1980,5.6901168854672421E-7]
[null,null,1981.1999999999998,6.2443619488868527E-7]
[null,null,1982.3999999999999,6.846866012460766E-7]
[null,null,1983.6,7.5012297841062352E-7]
[null,null,1984.8,8.2112635051007608E-7]
[null,null,1986,8.9809936352621122E-7]
[null,null,1987.1999999999998,9.8146692282316961E-7]
[null,null,1988.3999999999999,1.0716767934098551E-6]
[null,null,1989.6,1.1692001562968907E-6]
[null,null,1990.8,1.2745321139586651E-6]
[null,null,1992,1.3881921375761633E-6]
[null,null,1993.1999999999998,1.5226898899158299E-6]
[null,null,1994.3999999999999,1.6562267399788432E-6]
[null,null,1995.6,1.7999910967151097E-6]
[null,null,1996.8,1.9546246361334351E-6]
[null,null,1998,2.1207967236186531E-6]
[null,null,1999.1999999999998,2.2992045450276635E-6]
[null,null,2000.3999999999999,2.4905731363738531E-6]
[null,null,2001.6,2.6956553039961171E-6]
[null,null,2002.8,2.915231427126361E-6]
[null,null,2004,3.1501091348423019E-6]
[null,null,2005.1999999999998,3.4011228495287367E-6]
[null,null,2006.3999999999999,3.6691331891712677E-6]
[null,null,2007.6,3.9550262210751475E-6]
[null,null,2008.8,4.259712559944875E-6]
[null,null,2010,4.5841263036742358E-6]
[null,null,2011.1999999999998,4.9292238006900923E-6]
[null,null,2012.3999999999999,5.2959822432641869E-6]
[null,null,2013.6,5.6853980818565061E-6]
[null,null,2014.8,6.0984852562867105E-6]
[null,null,2016,6.5362732403382142E-6]
[null,null,2017.1999999999998,6.9998048972905498E-6]
[null,null,2018.3999999999999,7.4901341448422682E-6]
[null,null,2019.6,8.0083234289267514E-6]
[null,null,2020.8,8.5554410070392334E-6]
[null,null,2022,9.1325580428702633E-6]
[null,null,2023.1999999999998,9.7407455152852949E-6]
[null,null,2024.3999999999999,1.0381070945987855E-5]
[null,null,2025.6,1.1054594951549275E-5]
[null,null,2026.8,1.1762367626880254E-5]
[null,null,2028,1.2505424768636426E-5]
[null,null,2029.1999999999998,1.3284783948496797E-5]
[null,null,2030.3999999999999,1.4101440447709909E-5]
[null,null,2031.6,1.4956363065758461E-5]
[null,null,2032.8,1.5850489817445222E-5]
[null,null,2034,1.678472353412302E-5]
[null,null,2035.1999999999998,1.7759927386183669E-5]
[null,null,2036.3999999999999,1.877692034526093E-5]
[null,null,2037.6,1.9836472605876134E-5]
[null,null,2038.8,2.0939300987462334E-5]
[null,null,2040,2.2086064338806704E-5]
[null,null,2041.1999999999998,2.3277358967960158E-5]
[null,null,2042.3999999999999,2.45137141215516E-5]
[null,null,2043.6,2.5795587538196202E-5]
[null,null,2044.8,2.712336110130788E-5]
[null,null,2046,2.8497336617075344E-5]
[null,null,2047.1999999999998,2.9917731743654976E-5]
[null,null,2048.4,3.1384676097747506E-5]
[null,null,2049.6,3.289820756464405E-5]
[null,null,2050.7999999999997,3.4458268837576611E-5]
[null,null,2052,3.6064704211717848E-5]
[null,null,2053.1999999999998,3.7717256657519807E-5]
[null,null,2054.4,3.9415565197202904E-5]
[null,null,2055.6,4.1159162607096262E-5]
[null,null,2056.7999999999997,4.2947473467268715E-5]
[null,null,2058,4.4779812578354612E-5]
[null,null,2059.1999999999998,4.6655383763799174E-5]
[null,null,2060.4,4.8573279073856205E-5]
[null,null,2061.6,5.0532478405568487E-5]
[null,null,2062.7999999999997,5.2531849550750605E-5]
[null,null,2064,5.4570148681546134E-5]
[null,null,2065.1999999999998,5.6646021280603527E-5]
[null,null,2066.4,5.8758003520238018E-5]
[null,null,2067.6,6.0904524092134259E-5]
[null,null,2068.7999999999997,6.3083906486315134E-5]
[null,null,2070,6.5294371715125709E-5]
[null,null,2071.1999999999998,6.7534041475032482E-5]
[null,null,2072.4,6.9800941736051136E-5]
[null,null,2073.6,7.2093006745608794E-5]
[null,null,2074.7999999999997,7.4408083430752781E-5]
[null,null,2076,7.6743936179698413E-5]
[null,null,2077.1999999999998,7.9098251980955748E-5]
[null,null,2078.4,8.1468645895614838E-5]
[null,null,2079.6,8.3852666835823169E-5]
[null,null,2080.7999999999997,8.6247803620195606E-5]
[null,null,2082,8.8651491274705245E-5]
[null,null,2083.1999999999998,9.1061117545711786E-5]
[null,null,2084.4,9.3474029590106752E-5]
[null,null,2085.6,9.5887540806109596E-5]
[null,null,2086.7999999999997,9.8298937767166559E-5]
[null,null,2088,1.0070548722052154E-4]
[null,null,2089.1999999999998,1.0310444311153766E-4]
[null,null,2090.4,1.0549305359464738E-4]
[null,null,2091.6,1.0786856799190503E-4]
[null,null,2092.7999999999997,1.1022824366062503E-4]
[null,null,2094,1.1256935273233279E-4]
[null,null,2095.1999999999998,1.1488918868640944E-4]
[null,null,2096.4,1.171850727232577E-4]
[null,null,2097.6,1.1945435990354731E-4]
[null,null,2098.7999999999997,1.2169444502220689E-4]
[null,null,2100,1.2390276818812816E-4]
[null,null,2101.1999999999998,1.2607682008318873E-4]
[null,null,2102.4,1.2821414687705151E-4]
[null,null,2103.6,1.3031235477723777E-4]
[null,null,2104.7999999999997,1.3236911419727115E-4]
[null,null,2106,1.3438216352905778E-4]
[null,null,2107.1999999999998,1.3634931250923113E-4]
[null,null,2108.4,1.3826844517281491E-4]
[null,null,2109.6,1.4013752239120853E-4]
[null,null,2110.7999999999997,1.4195458399523484E-4]
[null,null,2112,1.4371775048762188E-4]
[null,null,2113.1999999999998,1.4542522435292892E-4]
[null,null,2114.4,1.4707529097644157E-4]
[null,null,2115.6,1.4866631918692129E-4]
[null,null,2116.7999999999997,1.501967614413412E-4]
[null,null,2118,1.5166515367271447E-4]
[null,null,2119.1999999999998,1.5307011482491623E-4]
[null,null,2120.4,1.544103461009031E-4]
[null,null,2121.6,1.556846299529291E-4]
[null,null,2122.7999999999997,1.5689182884527964E-4]
[null,null,2124,1.580308838215704E-4]
[null,null,2125.1999999999998,1.5910081290987672E-4]
[null,null,2126.4,1.6010070939978405E-4]
[null,null,2127.6,1.6102974002588563E-4]
[null,null,2128.7999999999997,1.618871430923397E-4]
[null,null,2130,1.6267222657275453E-4]
[null,null,2131.1999999999998,1.6338436621897881E-4]
[null,null,2132.4,1.6402300371129276E-4]
[null,null,2133.6,1.6458764488104112E-4]
[null,null,2134.7999999999997,1.6507785803497379E-4]
[null,null,2136,1.6549327240842355E-4]
[null,null,2137.1999999999998,1.6583357677203687E-4]
[null,null,2138.4,1.6609851821406806E-4]
[null,null,2139.6,1.6628790111729392E-4]
[null,null,2140.7999999999997,1.6640158634644887E-4]
[null,null,2142,1.664394906587309E-4]
[null,null,2143.1999999999998,1.664015863464489E-4]
[null,null,2144.4,1.6628790111729392E-4]
[null,null,2145.6,1.6609851821406806E-4]
[null,null,2146.7999999999997,1.6583357677203695E-4]
[null,null,2148,1.6549327240842355E-4]
[null,null,2149.1999999999998,1.6507785803497398E-4]
[null,null,2150.4,1.6458764488104112E-4]
[null,null,2151.6,1.6402300371129276E-4]
[null,null,2152.7999999999997,1.6338436621897906E-4]
[null,null,2154,1.6267222657275453E-4]
[null,null,2155.1999999999998,1.6188714309234E-4]
[null,null,2156.4,1.6102974002588563E-4]
[null,null,2157.6,1.6010070939978405E-4]
[null,null,2158.7999999999997,1.591008129098771E-4]
[null,null,2160,1.580308838215704E-4]
[null,null,2161.1999999999998,1.568918288452801E-4]
[null,null,2162.4,1.556846299529291E-4]
[null,null,2163.6,1.544103461009031E-4]
[null,null,2164.7999999999997,1.5307011482491677E-4]
[null,null,2166,1.5166515367271447E-4]
[null,null,2167.1999999999998,1.5019676144134179E-4]
[null,null,2168.4,1.4866631918692129E-4]
[null,null,2169.6,1.4707529097644157E-4]
[null,null,2170.7999999999997,1.4542522435292957E-4]
[null,null,2172,1.4371775048762188E-4]
[null,null,2173.1999999999998,1.4195458399523549E-4]
[null,null,2174.4,1.4013752239120853E-4]
[null,null,2175.6,1.3826844517281491E-4]
[null,null,2176.7999999999997,1.3634931250923186E-4]
[null,null,2178,1.3438216352905778E-4]
[null,null,2179.1999999999998,1.3236911419727194E-4]
[null,null,2180.4,1.3031235477723777E-4]
[null,null,2181.6,1.2821414687705151E-4]
[null,null,2182.7999999999997,1.2607682008318954E-4]
[null,null,2184,1.2390276818812816E-4]
[null,null,2185.1999999999998,1.2169444502220774E-4]
[null,null,2186.4,1.1945435990354731E-4]
[null,null,2187.6,1.171850727232577E-4]
[null,null,2188.7999999999997,1.1488918868641033E-4]
[null,null,2190,1.1256935273233279E-4]
[null,null,2191.1999999999998,1.1022824366062591E-4]
[null,null,2192.4,1.0786856799190503E-4]
[null,null,2193.6,1.0549305359464738E-4]
[null,null,2194.7999999999997,1.0310444311153856E-4]
[null,null,2196,1.0070548722052154E-4]
[null,null,2197.1999999999998,9.8298937767167467E-5]
[null,null,2198.4,9.5887540806109596E-5]
[null,null,2199.6,9.3474029590106752E-5]
[null,null,2200.7999999999997,9.1061117545712707E-5]
[null,null,2202,8.8651491274705245E-5]
[null,null,2203.1999999999998,8.6247803620196514E-5]
[null,null,2204.4,8.3852666835823169E-5]
[null,null,2205.6,8.1468645895614838E-5]
[null,null,2206.7999999999997,7.9098251980956656E-5]
[null,null,2208,7.6743936179698413E-5]
[null,null,2209.1999999999998,7.4408083430753649E-5]
[null,null,2210.4,7.2093006745608794E-5]
[null,null,2211.6,6.9800941736051136E-5]
[null,null,2212.7999999999997,6.7534041475033336E-5]
[null,null,2214,6.5294371715125709E-5]
[null,null,2215.1999999999998,6.3083906486315948E-5]
[null,null,2216.4,6.0904524092134259E-5]
[null,null,2217.6,5.8758003520238018E-5]
[null,null,2218.7999999999997,5.6646021280604313E-5]
[null,null,2220,5.4570148681546134E-5]
[null,null,2221.1999999999998,5.2531849550751364E-5]
[null,null,2222.4,5.0532478405568487E-5]
[null,null,2223.6,4.8573279073856205E-5]
[null,null,2224.7999999999997,4.6655383763799892E-5]
[null,null,2226,4.4779812578354612E-5]
[null,null,2227.1999999999998,4.2947473467269393E-5]
[null,null,2228.4,4.1159162607096262E-5]
[null,null,2229.6,3.9415565197202904E-5]
[null,null,2230.7999999999997,3.7717256657520437E-5]
[null,null,2232,3.6064704211717848E-5]
[null,null,2233.1999999999998,3.4458268837577214E-5]
[null,null,2234.4,3.289820756464405E-5]
[null,null,2235.6,3.1384676097747506E-5]
[null,null,2236.7999999999997,2.9917731743655512E-5]
[null,null,2238,2.8497336617075344E-5]
[null,null,2239.1999999999998,2.7123361101308144E-5]
[null,null,2240.4,2.5795587538196202E-5]
[null,null,2241.6,2.4513714121551844E-5]
[null,null,2242.7999999999997,2.3277358967960616E-5]
[null,null,2244,2.2086064338806704E-5]
[null,null,2245.1999999999998,2.0939300987462548E-5]
[null,null,2246.4,1.9836472605876134E-5]
[null,null,2247.6,1.8776920345261134E-5]
[null,null,2248.7999999999997,1.7759927386184048E-5]
[null,null,2250,1.678472353412302E-5]
[null,null,2251.1999999999998,1.5850489817445395E-5]
[null,null,2252.4,1.4956363065758461E-5]
[null,null,2253.6,1.4101440447710065E-5]
[null,null,2254.7999999999997,1.3284783948497102E-5]
[null,null,2256,1.2505424768636426E-5]
[null,null,2257.1999999999998,1.1762367626880388E-5]
[null,null,2258.4,1.1054594951549275E-5]
[null,null,2259.6,1.0381070945987977E-5]
[null,null,2260.7999999999997,9.7407455152855321E-6]
[null,null,2262,9.1325580428702633E-6]
[null,null,2263.1999999999998,8.5554410070393367E-6]
[null,null,2264.4,8.0083234289267514E-6]
[null,null,2265.6,7.4901341448423623E-6]
[null,null,2266.7999999999997,6.9998048972907336E-6]
[null,null,2268,6.5362732403382142E-6]
[null,null,2269.1999999999998,6.0984852562867859E-6]
[null,null,2270.4,5.6853980818565061E-6]
[null,null,2271.6,5.295982243264258E-6]
[null,null,2272.7999999999997,4.9292238006902286E-6]
[null,null,2274,4.5841263036742358E-6]
[null,null,2275.1999999999998,4.2597125599449326E-6]
[null,null,2276.4,3.9550262210751475E-6]
[null,null,2277.6,3.6691331891713189E-6]
[null,null,2278.7999999999997,3.4011228495288367E-6]
[null,null,2280,3.1501091348423019E-6]
[null,null,2281.1999999999998,2.9152314271264021E-6]
[null,null,2282.4,2.6956553039961171E-6]
[null,null,2283.6,2.49057313637389E-6]
[null,null,2284.7999999999997,2.2992045450277342E-6]
[null,null,2286,2.1207967236186531E-6]
[null,null,2287.1999999999998,1.9546246361334631E-6]
[null,null,2288.4,1.7999910967151097E-6]
[null,null,2289.6,1.6562267399788679E-6]
[null,null,2290.7999999999997,1.5226898899158801E-6]
[null,null,2292,1.3881921375761633E-6]
[null,null,2293.1999999999998,1.2745321139586854E-6]
[null,null,2294.4,1.1692001562968907E-6]
[null,null,2295.6,1.0716767934098723E-6]
[null,null,2296.7999999999997,9.8146692282320265E-7]
[null,null,2298,8.9809936352621122E-7]
[null,null,2299.1999999999998,8.2112635051008985E-7]
[null,null,2300.4,7.5012297841062352E-7]
[null,null,2301.6,6.8468660124608814E-7]
[null,null,2302.7999999999997,6.2443619488870634E-7]
[null,null,2304,5.6901168854672421E-7]
[null,null,2305.1999999999998,5.1807327116146765E-7]
[null,null,2306.4,4.7130067824694109E-7]
[null,null,2307.6,4.2839246432110736E-7]
[null,null,2308.7999999999997,3.8906526569859255E-7]
[null,null,2310,3.5305305804075057E-7]
[null,null,2311.1999999999998,3.2010641268924472E-7]
[null,null,2312.4,2.8999175544828782E-7]
[null,null,2313.6,2.6249063112972672E-7]
[null,null,2314.7999999999997,2.3739897683453621E-7]
[null,null,2316,2.1452640661776025E-7]
[null,null,2317.1999999999998,1.9369550987029137E-7]
[null,null,2318.4,1.7474116545252752E-7]
[null,null,2319.6,1.5750987333239709E-7]
[null,null,2320.7999999999997,1.4185910521309656E-7]
[null,null,2322,1.2765667538601666E-7]
[null,null,2323.1999999999998,1.1478013281044242E-7]
[null,null,2324.4,1.0311617520468048E-7]
[null,null,2325.6,9.256008573303529E-8]
[null,null,2326.7999999999997,8.3015192688742713E-8]
[null,null,2328,7.4392352405194914E-8]
[null,null,2329.1999999999998,6.6609455475184458E-8]
[null,null,2330.4,5.9590956220586927E-8]
[null,null,2331.6,5.3267425232165785E-8]
[null,null,2332.7999999999997,4.7575124690097119E-8]
[null,null,2334,4.2455606080253884E-8]
[null,null,2335.1999999999998,3.7855329837988203E-8]
[null,null,2336.4,3.372530637975992E-8]
[null,null,2337.6,3.0020757922634105E-8]
[null,null,2338.7999999999997,2.6700800441481822E-8]
[null,null,2340,2.3728145073247061E-8]
[null,null,2341.1999999999998,2.1068818245794909E-8]
[null,null,2342.4,1.8691899785131092E-8]
[null,null,2343.6,1.65692782384064E-8]
[null,null,2344.7999999999997,1.4675422640284869E-8]
[null,null,2346,1.2987169946492204E-8]
[null,null,2347.1999999999998,1.1483527359827023E-8]
[null,null,2348.4,0]
[null,null,2349.6,0]
[null,null,2350.7999999999997,0]
[null,null,2352,0]
[null,null,2353.1999999999998,0]
[null,null,2354.4,0]
[null,null,2355.6,0]
[null,null,2356.7999999999997,0]
[null,null,2358,0]
[null,null,2359.1999999999998,0]
[null,null,2360.4,0]
[null,null,2361.6,0]
[null,null,2362.7999999999997,0]
[null,null,2364,0]
[null,null,2365.1999999999998,0]
[null,null,2366.4,0]
[null,null,2367.6,0]
[null,null,2368.7999999999997,0]
[null,null,2370,0]
[null,null,2371.1999999999998,0]
[null,null,2372.4,0]
[null,null,2373.6,0]
[null,null,2374.7999999999997,0]
[null,null,2376,0]
[null,null,2377.1999999999998,0]
[null,null,2378.4,0]
[null,null,2379.6,0]
[null,null,2380.7999999999997,0]
[null,null,2382,0]
[null,null,2383.1999999999998,0]
[null,null,2384.4,0]
[null,null,2385.6,0]
[null,null,2386.7999999999997,0]
[null,null,2388,0]
[null,null,2389.1999999999998,0]
[null,null,2390.4,0]
[null,null,2391.6,0]
[null,null,2392.7999999999997,0]
[null,null,2394,0]
[null,null,2395.1999999999998,0]
[null,null,2396.4,0]
[null,null,2397.6,0]
[null,null,2398.7999999999997,0]
[null,null,"IsoLine","IsoLine"]

{"sheet":"Datatable_t","index":8,"n_rows":930,"n_cols":29,"rows_kept":930,"cut":false,"hidden":false,"merged":[]}
[null,null,null,null,null,null,null,null,"CORRECTED RATIOS2",null,null,null,null,null,null,null,null,null,"CORRECTED AGES (Ma)",null,null,null,null,null,null,"Final"]
[null,"U (ppm)1","Th (ppm)1","Th/U",null,"207Pb/206Pb","±2s abs","207Pb/235U","±2s abs","206Pb/238U","±2s abs","208Pb/232Th","±2s abs","Rho",null,"206Pb/238U","±2s","207Pb/235U","±2s","207Pb/206Pb","±2s","Best age (Ma)","±2s","Disc %",null,"Best Age Sorted (Ma)","±2s"]
[{"$f":"IF(A4=trace_t!A4,\"\",\"Error muestras\")","v":""}]
["Baclab2N4CII-1",170,62.9,{"$f":"IF(B4=\"\",\"\",C4/B4)","v":0.37},null,7.3499999999999996E-2,3.8E-3,1.744,6.4000000000000001E-2,0.17130000000000001,2.8E-3,5.3400000000000003E-2,4.7000000000000002E-3,0.20338999999999999,null,1019,15,1024,24,1021,100,{"$f":"IF(P4=\"\",\"\",IF(P4<1400,P4,T4))","v":1019},{"$f":"IF(P4=\"\",\"\",IF(V4=P4,Q4,U4))","v":15},{"$f":"IF(R4=\"\",\"\",100*(R4-P4)/R4)","v":0.48828125},null,260.7,4.5999999999999996,null,"1: U and Th concentrations are calculated employing an external standard zircon as in Paton et al., 2010, Geochemistry, Geophysics, Geosystems."]
["Baclab2N4CII-2",190,67.599999999999994,{"$f":"IF(B5=\"\",\"\",C5/B5)","v":0.35578947368421049},null,8.8900000000000007E-2,8.3999999999999995E-3,0.18,1.7000000000000001E-2,1.4590000000000001E-2,4.0999999999999999E-4,8.3400000000000002E-3,1E-3,0.34484999999999999,"rejected",93.4,2.6,167,15,1340,200,{"$f":"IF(P5=\"\",\"\",IF(P5<1400,P5,T5))","v":93.4},{"$f":"IF(P5=\"\",\"\",IF(V5=P5,Q5,U5))","v":2.6},{"$f":"IF(R5=\"\",\"\",100*(R5-P5)/R5)","v":44.071856287425142},null,320,4.9000000000000004,null,"2: 2 sigma uncertainties propagated according to Paton et al., 2010,Geochemistry, Geophysics, Geosystems"]
["Baclab2N4CII-3",271.2,32.24,0.11887905604719766,null,7.17E-2,3.5000000000000001E-3,1.361,4.8000000000000001E-2,0.13719999999999999,2.2000000000000001E-3,4.99E-2,4.5999999999999999E-3,0.32584000000000002,null,828.6,12,872,20,984,100,828.6,12,{"$f":"IF(R6=\"\",\"\",100*(R6-P6)/R6)","v":4.9770642201834843},null,320.10000000000002,5.3,null,"207Pb/206Pb ratios, ages and errors are calculated according to Petrus and Kamber, 2012, Geostandards Geoanalytical Research"]
["Baclab2N4CII-4",260,63.19,0.24303846153846154,null,7.8299999999999995E-2,3.8999999999999998E-3,1.92,7.1999999999999995E-2,0.17530000000000001,3.0000000000000001E-3,4.1000000000000002E-2,5.1000000000000004E-3,3.6061000000000003E-2,null,1041,16,1087,25,1149,100,1041,16,{"$f":"IF(R7=\"\",\"\",100*(R7-P7)/R7)","v":4.2318307267709292},null,323.10000000000002,5.7,null,"Analyzed spots were __ micrometers, using an analytical protocol modified from Solari et al., 2010, Geostandards Geoanalytical Research."]
["Baclab2N4CII-5",231,76.599999999999994,0.33160173160173156,null,8.1699999999999995E-2,4.0000000000000001E-3,2.3170000000000002,7.8E-2,0.20580000000000001,3.0000000000000001E-3,6.3200000000000006E-2,5.4000000000000003E-3,0.13166,null,1206.3,16,1216,24,1240,96,1206.3,16,{"$f":"IF(R8=\"\",\"\",100*(R8-P8)/R8)","v":0.79769736842105632},null,323.39999999999998,8.1,null,"Data measured employing a Thermo iCapQc ICPMS coupled to a Resonetics, Resolution M050 excimer laser workstation."]
["Baclab2N4CII-6",205.9,151.30000000000001,0.73482272948033034,null,5.7200000000000001E-2,3.5999999999999999E-3,0.45700000000000002,2.3E-2,5.9139999999999998E-2,9.8999999999999999E-4,1.949E-2,1.6999999999999999E-3,8.5336999999999996E-2,null,370.4,6,385,15,500,130,370.4,6,{"$f":"IF(R9=\"\",\"\",100*(R9-P9)/R9)","v":3.7922077922077979},null,323.89999999999998,5]
["Baclab2N4CII-7",286,179.6,0.627972027972028,null,5.7099999999999998E-2,3.3999999999999998E-3,0.52300000000000002,2.4E-2,6.6710000000000005E-2,1.1999999999999999E-3,2.0219999999999998E-2,1.9E-3,-0.16924,null,416.3,7,429,16,510,130,416.3,7,{"$f":"IF(R10=\"\",\"\",100*(R10-P10)/R10)","v":2.9603729603729576},null,324.89999999999998,5.3]
["Baclab2N4CII-8",400,233,0.58250000000000002,null,5.6899999999999999E-2,3.0999999999999999E-3,0.52300000000000002,2.1000000000000001E-2,6.6780000000000006E-2,1.1000000000000001E-3,2.0400000000000001E-2,1.9E-3,-0.13957,null,416.7,6.8,427,14,471,130,416.7,6.8,{"$f":"IF(R11=\"\",\"\",100*(R11-P11)/R11)","v":2.4121779859484804},null,327.8,6.7]
["Baclab2N4CII-9",287,152.9,0.53275261324041812,null,6.1699999999999998E-2,3.5000000000000001E-3,0.76700000000000002,3.3000000000000002E-2,9.0300000000000005E-2,1.5E-3,2.9020000000000001E-2,2.5999999999999999E-3,-9.3998999999999999E-2,null,557.4,8.8000000000000007,577,19,642,120,557.4,8.8000000000000007,{"$f":"IF(R12=\"\",\"\",100*(R12-P12)/R12)","v":3.3968804159445445},null,328.5,7.2]
["Baclab2N4CII-10",81.599999999999994,80.3,0.98406862745098045,null,5.9400000000000001E-2,5.7000000000000002E-3,0.439,3.3000000000000002E-2,5.2299999999999999E-2,1.1999999999999999E-3,1.6670000000000001E-2,1.5E-3,-3.5459999999999998E-2,null,328.5,7.2,372,23,530,200,328.5,7.2,{"$f":"IF(R13=\"\",\"\",100*(R13-P13)/R13)","v":11.693548387096774},null,330.4,5.8]
["Baclab2N4CII-11",231,71.2,0.30822510822510824,null,0.1075,5.7999999999999996E-3,0.96599999999999997,3.7999999999999999E-2,6.4350000000000004E-2,1.4E-3,5.0299999999999997E-2,4.4000000000000003E-3,0.26983000000000001,"rejected",402,8.1999999999999993,685,20,1761,100,402,8.1999999999999993,{"$f":"IF(R14=\"\",\"\",100*(R14-P14)/R14)","v":41.313868613138688},null,332.8,6.2]
["Baclab2N4CII-12",876,187,0.2134703196347032,null,5.4510000000000003E-2,2.7000000000000001E-3,0.52010000000000001,1.7000000000000001E-2,6.8309999999999996E-2,1.1000000000000001E-3,2.07E-2,1.9E-3,0.15160000000000001,null,426,6.4,425,11,392,120,426,6.4,{"$f":"IF(R15=\"\",\"\",100*(R15-P15)/R15)","v":-0.23529411764705882},null,336.7,6.9]
["Baclab2N4CII-13",945,386,0.40846560846560848,null,5.8400000000000001E-2,3.0000000000000001E-3,0.41899999999999998,1.4999999999999999E-2,5.1389999999999998E-2,9.3000000000000005E-4,2.0199999999999999E-2,1.6999999999999999E-3,0.21362999999999999,null,323.10000000000002,5.7,357.2,11,553,110,323.10000000000002,5.7,{"$f":"IF(R16=\"\",\"\",100*(R16-P16)/R16)","v":9.5464725643896884},null,338.8,8.6]
["Baclab2N4CII-14",95.2,161.9,1.7006302521008403,null,0.1573,1.0999999999999999E-2,1.4730000000000001,8.2000000000000003E-2,6.6500000000000004E-2,1.2999999999999999E-3,2.8920000000000001E-2,2.5999999999999999E-3,-1.0456999999999999E-2,"rejected",415.3,7.7,922,32,2466,110,415.3,7.7,{"$f":"IF(R17=\"\",\"\",100*(R17-P17)/R17)","v":54.956616052060738},null,340.6,6.6]
["Baclab2N4CII-15",730,32.93,4.5109589041095889E-2,null,5.3699999999999998E-2,2.8E-3,0.52200000000000002,1.9E-2,6.9620000000000001E-2,1.1000000000000001E-3,2.2499999999999999E-2,2.3999999999999998E-3,0.15690999999999999,null,433.9,6.8,426,13,359,120,433.9,6.8,{"$f":"IF(R18=\"\",\"\",100*(R18-P18)/R18)","v":-1.8544600938967082},null,370.4,6]
["Baclab2N4CII-16",71.900000000000006,30.7,0.42698191933240609,null,7.6499999999999999E-2,3.8999999999999998E-3,2.19,0.17,0.2059,1.4E-2,6.2E-2,5.5999999999999999E-3,0.31548999999999999,null,1207,79,1173,67,1080,130,1207,79,{"$f":"IF(R19=\"\",\"\",100*(R19-P19)/R19)","v":-2.8985507246376812},null,381.3,7.7]
["Baclab2N4CII-17",288.39999999999998,4.8600000000000003,1.6851595006934814E-2,null,5.4600000000000003E-2,3.5999999999999999E-3,0.39400000000000002,0.02,5.0909999999999997E-2,8.7000000000000001E-4,3.09E-2,5.8999999999999999E-3,-4.4571999999999997E-3,null,320.10000000000002,5.3,337,14,390,140,320.10000000000002,5.3,{"$f":"IF(R20=\"\",\"\",100*(R20-P20)/R20)","v":5.0148367952522186},null,387.3,21]
["Baclab2N4CII-18",368,231.3,0.6285326086956522,null,5.6000000000000001E-2,3.0000000000000001E-3,0.67700000000000005,2.5999999999999999E-2,8.6470000000000005E-2,1.4E-3,2.5829999999999999E-2,2.3E-3,-0.12931000000000001,null,534.6,8.5,524,15,439,120,534.6,8.5,{"$f":"IF(R21=\"\",\"\",100*(R21-P21)/R21)","v":-2.0229007633587828},null,389.4,10]
["Baclab2N4CII-19",238.5,68.5,0.28721174004192873,null,6.8500000000000005E-2,3.5999999999999999E-3,1.5029999999999999,6.6000000000000003E-2,0.1575,3.2000000000000002E-3,4.8899999999999999E-2,4.1999999999999997E-3,0.20974999999999999,null,943,18,929,27,891,110,943,18,{"$f":"IF(R22=\"\",\"\",100*(R22-P22)/R22)","v":-1.5069967707212055},null,403.3,6.5]
["Baclab2N4CII-20",240,67,0.27916666666666667,null,5.7200000000000001E-2,3.3999999999999998E-3,0.64600000000000002,2.8000000000000001E-2,8.0699999999999994E-2,1.4E-3,0.03,2.8E-3,-7.0209999999999995E-2,null,500.2,8.3000000000000007,505,17,513,120,500.2,8.3000000000000007,{"$f":"IF(R23=\"\",\"\",100*(R23-P23)/R23)","v":0.95049504950495278},null,406.6,6.1]
["Baclab2N4CII-21",449,413.2,0.92026726057906461,null,7.6700000000000004E-2,5.1999999999999998E-3,0.68700000000000006,4.2000000000000003E-2,6.4570000000000002E-2,1.1000000000000001E-3,2.494E-2,2.2000000000000001E-3,3.4145000000000002E-2,null,403.3,6.5,530,24,1139,120,403.3,6.5,{"$f":"IF(R24=\"\",\"\",100*(R24-P24)/R24)","v":23.905660377358487},null,409,6]
["Baclab2N4CII-22",403,46.6,0.11563275434243177,null,7.7100000000000002E-2,3.8E-3,1.8979999999999999,0.13,0.17780000000000001,0.01,6.54E-2,5.7000000000000002E-3,0.66542000000000001,null,1055,58,1079,56,1119,100,1055,58,{"$f":"IF(R25=\"\",\"\",100*(R25-P25)/R25)","v":2.2242817423540315},null,412.4,6.1]
["Baclab2N4CII-23",211,240,1.1374407582938388,null,0.06,3.7000000000000002E-3,0.72499999999999998,3.5000000000000003E-2,8.77E-2,1.4E-3,2.7380000000000002E-2,2.3999999999999998E-3,0.21187,null,541.9,8.5,555,20,602,130,541.9,8.5,{"$f":"IF(R26=\"\",\"\",100*(R26-P26)/R26)","v":2.3603603603603647},null,416.3,7]
["Baclab2N4CII-24",80.8,83.6,1.0346534653465347,null,5.74E-2,4.4000000000000003E-3,0.81499999999999995,0.05,0.1014,2.3E-3,3.2460000000000003E-2,2.8999999999999998E-3,-0.14124999999999999,null,623,13,606,29,520,160,623,13,{"$f":"IF(R27=\"\",\"\",100*(R27-P27)/R27)","v":-2.8052805280528053},null,416.7,6.8]
["Baclab2N4CII-25",112.3,40.5,0.36064113980409618,null,9.0999999999999998E-2,4.5999999999999999E-3,2.6509999999999998,9.6000000000000002E-2,0.20949999999999999,3.5000000000000001E-3,7.0400000000000004E-2,6.4000000000000003E-3,0.20075000000000001,null,1226,19,1316,26,1445,100,1226,19,{"$f":"IF(R28=\"\",\"\",100*(R28-P28)/R28)","v":6.8389057750759878},null,416.7,7]
["Baclab2N4CII-26",272,242.2,0.89044117647058818,null,7.4899999999999994E-2,4.1999999999999997E-3,0.91900000000000004,4.1000000000000002E-2,8.7859999999999994E-2,1.5E-3,3.1609999999999999E-2,2.7000000000000001E-3,0.28724,null,542.9,8.6,660,21,1058,120,542.9,8.6,{"$f":"IF(R29=\"\",\"\",100*(R29-P29)/R29)","v":17.742424242424246},null,421.5,7.3]
["Baclab2N4CII-27",239,124,0.51882845188284521,null,8.1299999999999997E-2,4.1000000000000003E-3,2.38,8.2000000000000003E-2,0.2107,3.2000000000000002E-3,6.2700000000000006E-2,5.4999999999999997E-3,0.32443,null,1232.7,17,1235,25,1221,100,1232.7,17,{"$f":"IF(R30=\"\",\"\",100*(R30-P30)/R30)","v":0.1862348178137615},null,426,6.4]
["Baclab2N4CII-28",511,131,0.25636007827788648,null,9.9000000000000005E-2,9.1000000000000004E-3,0.96699999999999997,9.1999999999999998E-2,6.9699999999999998E-2,1.6000000000000001E-3,5.2400000000000002E-2,8.0000000000000002E-3,0.69111,"rejected",432.8,8.5,681,49,1500,190,432.8,8.5,{"$f":"IF(R31=\"\",\"\",100*(R31-P31)/R31)","v":36.44640234948605},null,433.9,6.8]
["Baclab2N4CII-29",398,249,0.62562814070351758,null,7.2499999999999995E-2,3.8E-3,0.88,3.2000000000000001E-2,8.8200000000000001E-2,1.5E-3,2.7570000000000001E-2,2.5000000000000001E-3,0.19681000000000001,null,544.70000000000005,9.1,640,17,999,100,544.70000000000005,9.1,{"$f":"IF(R32=\"\",\"\",100*(R32-P32)/R32)","v":14.890624999999995},null,436,7.1]
["Baclab2N4CII-30",106.4,74.8,0.70300751879699241,null,6.3500000000000001E-2,4.3E-3,0.73599999999999999,4.2999999999999997E-2,8.5099999999999995E-2,1.6000000000000001E-3,2.8129999999999999E-2,2.5000000000000001E-3,2.5211000000000001E-2,null,526.29999999999995,9.6999999999999993,557,25,680,150,526.29999999999995,9.6999999999999993,{"$f":"IF(R33=\"\",\"\",100*(R33-P33)/R33)","v":5.5116696588869019},null,452,7.2]
["Baclab2N4CII-31",91.5,30.5,0.33333333333333331,null,8.0500000000000002E-2,4.5999999999999999E-3,1.92,7.4999999999999997E-2,0.1757,6.0000000000000001E-3,7.1900000000000006E-2,5.7999999999999996E-3,0.55295000000000005,null,1043,34,1085,27,1190,100,1043,34,{"$f":"IF(R34=\"\",\"\",100*(R34-P34)/R34)","v":3.870967741935484},null,492.2,9.3000000000000007]
["Baclab2N4CII-32",299,262.60000000000002,0.87826086956521743,null,6.1499999999999999E-2,3.3E-3,0.73399999999999999,2.9000000000000001E-2,8.7599999999999997E-2,1.4E-3,2.8920000000000001E-2,2.3999999999999998E-3,0.28119,null,541.29999999999995,8.5,558,16,639,120,541.29999999999995,8.5,{"$f":"IF(R35=\"\",\"\",100*(R35-P35)/R35)","v":2.9928315412186461},null,495.8,7.5]
["Baclab2N4CII-33",170.9,44.7,0.26155646576945585,null,7.2300000000000003E-2,3.8999999999999998E-3,1.68,6.6000000000000003E-2,0.16980000000000001,2.8999999999999998E-3,5.3999999999999999E-2,4.8999999999999998E-3,0.21,null,1011,16,999,25,982,110,1011,16,{"$f":"IF(R36=\"\",\"\",100*(R36-P36)/R36)","v":-1.2012012012012012},null,498.4,7.3]
["Baclab2N4CII-34",162,79,0.48765432098765432,null,9.8500000000000004E-2,5.0000000000000001E-3,3.6389999999999998,0.13,0.27150000000000002,4.3E-3,8.1500000000000003E-2,7.4000000000000003E-3,0.22786999999999999,null,1548,22,1557,29,1597,93,1597,93,{"$f":"IF(R37=\"\",\"\",100*(R37-P37)/R37)","v":0.5780346820809249},null,500,8.5]
["Baclab2N4CII-35",347,136,0.39193083573487031,null,7.8100000000000003E-2,4.0000000000000001E-3,2.149,7.5999999999999998E-2,0.1991,2.8999999999999998E-3,5.7000000000000002E-2,5.1000000000000004E-3,2.4053E-3,null,1170.5999999999999,16,1164,25,1157,100,1170.5999999999999,16,{"$f":"IF(R38=\"\",\"\",100*(R38-P38)/R38)","v":-0.56701030927834273},null,500.2,8.3000000000000007]
["Baclab2N4CII-36",299,168.2,0.56254180602006687,null,5.9200000000000003E-2,3.3999999999999998E-3,0.55500000000000005,2.5000000000000001E-2,6.9970000000000004E-2,1.1999999999999999E-3,2.2499999999999999E-2,2E-3,0.18056,null,436,7.1,447,17,579,120,436,7.1,{"$f":"IF(R39=\"\",\"\",100*(R39-P39)/R39)","v":2.4608501118568231},null,501.1,9.9]
["Baclab2N4CII-37",50.6,43.6,0.86166007905138342,null,5.3199999999999997E-2,5.7000000000000002E-3,0.45500000000000002,4.3999999999999997E-2,6.2300000000000001E-2,1.6999999999999999E-3,1.9900000000000001E-2,2.2000000000000001E-3,3.2169000000000003E-2,null,389.4,10,376,30,310,200,389.4,10,{"$f":"IF(R40=\"\",\"\",100*(R40-P40)/R40)","v":-3.5638297872340363},null,526.29999999999995,9.6999999999999993]
["Baclab2N4CII-38",74,93,1.2567567567567568,null,7.6899999999999996E-2,1.4E-2,0.54200000000000004,0.11,5.3999999999999999E-2,1.4E-3,2.1399999999999999E-2,2.3999999999999998E-3,0.10632,null,338.8,8.6,432,59,1090,240,338.8,8.6,{"$f":"IF(R41=\"\",\"\",100*(R41-P41)/R41)","v":21.574074074074069},null,534.6,8.5]
["Baclab2N4CII-39",87.8,49.5,0.5637813211845103,null,8.7599999999999997E-2,4.8999999999999998E-3,2.6619999999999999,0.1,0.22550000000000001,3.8E-3,7.0099999999999996E-2,6.1999999999999998E-3,3.2146000000000001E-2,null,1311,20,1319,29,1366,110,1311,20,{"$f":"IF(R42=\"\",\"\",100*(R42-P42)/R42)","v":0.60652009097801363},null,536,9.4]
["Baclab2N4CII-40",351.4,55,0.15651678998292545,null,5.8700000000000002E-2,3.3999999999999998E-3,0.52200000000000002,2.3E-2,6.5509999999999999E-2,1E-3,3.0099999999999998E-2,2.8999999999999998E-3,0.21737000000000001,null,409,6,426,15,560,110,409,6,{"$f":"IF(R43=\"\",\"\",100*(R43-P43)/R43)","v":3.9906103286384975},null,541.29999999999995,8.5]
["Baclab2N4CII-41",150.9,56.8,0.37640821736249169,null,9.8100000000000007E-2,5.0000000000000001E-3,3.5920000000000001,0.12,0.26900000000000002,4.1000000000000003E-3,8.5599999999999996E-2,7.3000000000000001E-3,-1.5551E-3,null,1536,21,1547,27,1582,95,1582,95,{"$f":"IF(R44=\"\",\"\",100*(R44-P44)/R44)","v":0.71105365223012285},null,541.9,8.5]
["Baclab2N4CII-42",137.80000000000001,145.6,1.0566037735849054,null,6.54E-2,3.8E-3,0.82599999999999996,3.7999999999999999E-2,9.3299999999999994E-2,1.8E-3,2.93E-2,2.5000000000000001E-3,0.13830999999999999,null,575,11,610,21,760,120,575,11,{"$f":"IF(R45=\"\",\"\",100*(R45-P45)/R45)","v":5.7377049180327866},null,542.9,8.6]
["Baclab2N4CII-43",66.7,42.01,0.62983508245877051,null,6.1800000000000001E-2,4.4000000000000003E-3,0.67200000000000004,3.6999999999999998E-2,8.0799999999999997E-2,1.6999999999999999E-3,2.6700000000000002E-2,2.5000000000000001E-3,-0.21876000000000001,null,501.1,9.9,525,21,680,150,501.1,9.9,{"$f":"IF(R46=\"\",\"\",100*(R46-P46)/R46)","v":4.5523809523809478},null,544.70000000000005,9.1]
["Baclab2N4CII-44",712,233.6,0.32808988764044944,null,5.74E-2,3.2000000000000002E-3,0.40400000000000003,1.6E-2,5.1529999999999999E-2,8.1999999999999998E-4,1.7979999999999999E-2,1.5E-3,-5.7713E-2,null,323.89999999999998,5,344,11,492,130,323.89999999999998,5,{"$f":"IF(R47=\"\",\"\",100*(R47-P47)/R47)","v":5.8430232558139599},null,547.29999999999995,8.6999999999999993]
["Baclab2N4CII-45",198.5,79,0.39798488664987408,null,6.7799999999999999E-2,3.5000000000000001E-3,0.93300000000000005,3.5999999999999997E-2,9.9099999999999994E-2,1.6999999999999999E-3,2.8000000000000001E-2,2.5000000000000001E-3,0.35205999999999998,null,609.1,9.8000000000000007,668,18,879,110,609.1,9.8000000000000007,{"$f":"IF(R48=\"\",\"\",100*(R48-P48)/R48)","v":8.8173652694610745},null,551,11]
["Baclab2N4CII-46",449,116.1,0.25857461024498885,null,6.4699999999999994E-2,3.5000000000000001E-3,0.876,3.5000000000000003E-2,9.8400000000000001E-2,1.6000000000000001E-3,3.2399999999999998E-2,2.8999999999999998E-3,0.38580999999999999,null,605,9.4,638,19,757,110,605,9.4,{"$f":"IF(R49=\"\",\"\",100*(R49-P49)/R49)","v":5.1724137931034484},null,557.4,6.8]
["Baclab2N4CII-47",107.4,93.8,0.87337057728119172,null,8.8300000000000003E-2,5.0000000000000001E-3,2.44,0.1,0.2016,3.7000000000000002E-3,6.13E-2,5.3E-3,-5.4496000000000003E-2,null,1184,20,1252,29,1373,110,1184,20,{"$f":"IF(R50=\"\",\"\",100*(R50-P50)/R50)","v":5.4313099041533546},null,575,11]
["Baclab2N4CII-48",124.6,114.7,0.92054574638844311,null,8.9300000000000004E-2,4.7999999999999996E-3,2.766,9.7000000000000003E-2,0.22450000000000001,3.7000000000000002E-3,6.6100000000000006E-2,5.8999999999999999E-3,6.2633999999999995E-2,null,1305,19,1345,26,1417,99,1305,19,{"$f":"IF(R51=\"\",\"\",100*(R51-P51)/R51)","v":2.9739776951672861},null,578,12]
["Baclab2N4CII-49",219.3,130.4,0.59461924304605562,null,7.4300000000000005E-2,6.6E-3,0.61899999999999999,5.1999999999999998E-2,6.0900000000000003E-2,1.2999999999999999E-3,2.5899999999999999E-2,2.7000000000000001E-3,1.5084E-2,null,381.3,7.7,501,30,1090,160,381.3,7.7,{"$f":"IF(R52=\"\",\"\",100*(R52-P52)/R52)","v":23.892215568862273},null,600.6,12]
["Baclab2N4CII-50",206.1,115.1,0.55846676370693837,null,7.7100000000000002E-2,3.8999999999999998E-3,1.8420000000000001,6.7000000000000004E-2,0.1719,2.8E-3,5.1499999999999997E-2,4.4000000000000003E-3,8.9446999999999999E-2,null,1022,15,1059,24,1130,100,1022,15,{"$f":"IF(R53=\"\",\"\",100*(R53-P53)/R53)","v":3.4938621340887628},null,605,9.4]
["Baclab2N4CII-51",120.6,108.7,0.90132669983416258,null,5.4300000000000001E-2,4.5999999999999999E-3,0.38800000000000001,2.8000000000000001E-2,5.2159999999999998E-2,1.1000000000000001E-3,1.5559999999999999E-2,1.4E-3,-8.0114000000000005E-2,null,327.8,6.7,334,21,370,190,327.8,6.7,{"$f":"IF(R54=\"\",\"\",100*(R54-P54)/R54)","v":1.8562874251496972},null,609.1,9.8000000000000007]
["Baclab2N4CII-52",137.30000000000001,91.5,0.66642388929351781,null,5.9499999999999997E-2,3.7000000000000002E-3,0.70499999999999996,3.4000000000000002E-2,8.6699999999999999E-2,1.6000000000000001E-3,2.673E-2,2.3999999999999998E-3,-2.8389999999999999E-2,null,536,9.4,541,20,553,140,536,9.4,{"$f":"IF(R55=\"\",\"\",100*(R55-P55)/R55)","v":0.92421441774491686},null,617,12]
["Baclab2N4CII-53",511,262,0.51272015655577297,null,6.4399999999999999E-2,3.3E-3,0.70799999999999996,2.7E-2,8.0399999999999999E-2,1.1999999999999999E-3,2.7560000000000001E-2,2.3E-3,0.30445,null,498.4,7.3,543,16,748,110,498.4,7.3,{"$f":"IF(R56=\"\",\"\",100*(R56-P56)/R56)","v":8.2136279926335209},null,623,13]
["Baclab2N4CII-54",69.5,32.799999999999997,0.47194244604316543,null,8.5099999999999995E-2,5.0000000000000001E-3,2.6680000000000001,0.12,0.22800000000000001,3.8999999999999998E-3,6.5699999999999995E-2,6.1000000000000004E-3,8.6834999999999996E-2,null,1324,21,1316,33,1308,110,1324,21,{"$f":"IF(R57=\"\",\"\",100*(R57-P57)/R57)","v":-0.60790273556231},null,828.6,12]
["Baclab2N4CII-55",248.6,186.4,0.74979887369267906,null,0.1757,1.7000000000000001E-2,1.804,0.23,7.4499999999999997E-2,2.5999999999999999E-3,3.2599999999999997E-2,8.8999999999999999E-3,0.33045999999999998,"rejected",463.1,16,1043,69,2593,140,463.1,16,{"$f":"IF(R58=\"\",\"\",100*(R58-P58)/R58)","v":55.599232981783317},null,842,44]
["Baclab2N4CII-56",87.5,77.900000000000006,0.89028571428571435,null,8.8999999999999996E-2,6.4999999999999997E-3,0.76400000000000001,5.1999999999999998E-2,6.3799999999999996E-2,1.6000000000000001E-3,2.4199999999999999E-2,2.3999999999999998E-3,0.48243999999999998,"rejected",398.3,9.8000000000000007,572,29,1410,130,398.3,9.8000000000000007,{"$f":"IF(R59=\"\",\"\",100*(R59-P59)/R59)","v":30.367132867132867},null,906,23]
["Baclab2N4CII-57",192.1,53.5,0.27850078084331076,null,7.7299999999999994E-2,4.5999999999999999E-3,1.7889999999999999,7.8E-2,0.16980000000000001,2.7000000000000001E-3,5.45E-2,5.1999999999999998E-3,-6.5300999999999996E-3,null,1011,15,1046,28,1116,120,1011,15,{"$f":"IF(R60=\"\",\"\",100*(R60-P60)/R60)","v":3.3460803059273423},null,927.5,14]
["Baclab2N4CII-58",79.900000000000006,29.3,0.36670838548185231,null,7.3200000000000001E-2,4.8999999999999998E-3,1.7310000000000001,9.0999999999999998E-2,0.17100000000000001,3.2000000000000002E-3,5.62E-2,5.7000000000000002E-3,0.19101000000000001,null,1018,17,1023,31,1030,130,1018,17,{"$f":"IF(R61=\"\",\"\",100*(R61-P61)/R61)","v":0.48875855327468232},null,941.6,14]
["Baclab2N4CII-59",216,261.10000000000002,1.2087962962962964,null,5.16E-2,3.3999999999999998E-3,0.38200000000000001,0.02,5.2990000000000002E-2,1E-3,1.5910000000000001E-2,1.4E-3,-0.23341999999999999,null,332.8,6.2,328,15,280,140,332.8,6.2,{"$f":"IF(R62=\"\",\"\",100*(R62-P62)/R62)","v":-1.463414634146345},null,943,18]
["Baclab2N4CII-60",254.2,272.5,1.0719905586152636,null,6.0199999999999997E-2,3.8999999999999998E-3,0.40699999999999997,2.1999999999999999E-2,5.0900000000000001E-2,9.6000000000000002E-4,1.61E-2,1.4E-3,-6.2811000000000006E-2,null,320,5.9,354,15,570,140,320,5.9,{"$f":"IF(R63=\"\",\"\",100*(R63-P63)/R63)","v":9.6045197740112993},null,953.7,15]
["Baclab2N4CII-61",255.6,357.4,1.3982785602503911,null,5.1700000000000003E-2,3.3E-3,0.38300000000000001,2.1000000000000001E-2,5.2600000000000001E-2,9.3999999999999997E-4,1.5730000000000001E-2,1.4E-3,-1.7853000000000001E-2,null,330.4,5.8,328,15,280,150,330.4,5.8,{"$f":"IF(R64=\"\",\"\",100*(R64-P64)/R64)","v":-0.73170731707316383},null,985.2,14]
["Baclab2N4CII-62",330.3,314.39999999999998,0.95186194368755661,null,7.0599999999999996E-2,4.5999999999999999E-3,0.52600000000000002,3.3000000000000002E-2,5.4300000000000001E-2,1.1000000000000001E-3,1.9269999999999999E-2,1.6999999999999999E-3,-0.15892000000000001,null,340.6,6.6,429,21,934,130,340.6,6.6,{"$f":"IF(R65=\"\",\"\",100*(R65-P65)/R65)","v":20.606060606060602},null,1011,15]
["Baclab2N4CII-63",102.7,63.5,0.61830574488802337,null,6.2700000000000006E-2,3.8999999999999998E-3,0.80200000000000005,4.2999999999999997E-2,9.3799999999999994E-2,2.0999999999999999E-3,2.9499999999999998E-2,2.8E-3,0.20408000000000001,null,578,12,601,24,670,140,578,12,{"$f":"IF(R66=\"\",\"\",100*(R66-P66)/R66)","v":3.8269550748752081},null,1011,16]
["Baclab2N4CII-64",303,180,0.59405940594059403,null,6.1400000000000003E-2,3.5000000000000001E-3,0.67800000000000005,2.9000000000000001E-2,0.08,1.2999999999999999E-3,2.7199999999999998E-2,2.3E-3,0.31935999999999998,null,495.8,7.5,524,17,644,120,495.8,7.5,{"$f":"IF(R67=\"\",\"\",100*(R67-P67)/R67)","v":5.3816793893129757},null,1018,17]
["Baclab2N4CII-65",161.80000000000001,72.099999999999994,0.44561186650185408,null,7.1199999999999999E-2,3.8999999999999998E-3,1.58,6.5000000000000002E-2,0.1595,2.5999999999999999E-3,4.99E-2,4.4000000000000003E-3,5.4377000000000002E-2,null,953.7,15,961,25,970,110,953.7,15,{"$f":"IF(R68=\"\",\"\",100*(R68-P68)/R68)","v":0.7596253902185176},null,1019,15]
["Baclab2N4CII-66",177,63.1,{"$f":"IF(B69=\"\",\"\",C69/B69)","v":0.35649717514124296},null,6.8199999999999997E-2,3.5999999999999999E-3,1.425,6.9000000000000006E-2,0.151,4.1000000000000003E-3,4.4499999999999998E-2,3.8E-3,0.35849999999999999,null,906,23,902,31,888,110,{"$f":"IF(P69=\"\",\"\",IF(P69<1400,P69,T69))","v":906},{"$f":"IF(P69=\"\",\"\",IF(V69=P69,Q69,U69))","v":23},{"$f":"IF(R69=\"\",\"\",100*(R69-P69)/R69)","v":-0.44345898004434592},null,1020,15]
["Baclab2N4CII-67",166.2,75.099999999999994,0.45186522262334539,null,7.4499999999999997E-2,4.0000000000000001E-3,1.8120000000000001,7.0999999999999994E-2,0.1759,2.8999999999999998E-3,5.2900000000000003E-2,4.5999999999999999E-3,0.18526000000000001,null,1044,16,1054,25,1050,110,1044,16,0.94876660341555974,null,1022,15]
["Baclab2N4CII-68",131.1,80.7,0.61556064073226546,null,7.5899999999999995E-2,4.1000000000000003E-3,1.88,7.0000000000000007E-2,0.1769,2.8999999999999998E-3,5.4199999999999998E-2,4.7000000000000002E-3,8.5555000000000006E-2,null,1050,16,1072,25,1094,99,1050,16,2.0522388059701493,null,1022,18]
["Baclab2N4CII-69",430.3,527,1.2247269346967231,null,5.9499999999999997E-2,3.5999999999999999E-3,0.59899999999999998,2.5999999999999999E-2,7.2639999999999996E-2,1.1999999999999999E-3,2.12E-2,1.8E-3,-0.29618,null,452,7.2,479,16,565,120,452,7.2,5.6367432150313155,null,1036,19]
["Baclab2N4CII-70",1205,85.1,7.062240663900414E-2,null,6.5299999999999997E-2,4.1000000000000003E-3,0.55700000000000005,0.06,6.1899999999999997E-2,3.5000000000000001E-3,2.3E-2,5.3E-3,-0.36670999999999998,null,387.2,21,449,34,769,120,387.2,21,13.763919821826283,null,1041,16]
["Baclab2N4CII-71",84.5,39,0.46153846153846156,null,0.1003,6.0000000000000001E-3,2.4239999999999999,0.1,0.1744,3.3999999999999998E-3,6.2199999999999998E-2,5.5999999999999999E-3,0.46143000000000001,null,1036,19,1247,30,1620,100,1036,19,16.920609462710505,null,1043,34]
["Baclab2N4CII-72",181.8,210,1.1551155115511551,null,0.10730000000000001,7.1000000000000004E-3,1.0609999999999999,6.7000000000000004E-2,7.1400000000000005E-2,1.9E-3,2.5499999999999998E-2,2.3E-3,0.23916000000000001,"rejected",444,11,733,31,1784,110,444,11,39.427012278308325,null,1044,16]
["Baclab2N4CII-73",421,117.4,0.27885985748218528,null,7.4499999999999997E-2,3.7000000000000002E-3,1.706,5.7000000000000002E-2,0.1651,2.5000000000000001E-3,5.0700000000000002E-2,4.4999999999999997E-3,1.2197E-3,null,985.2,14,1010,21,1061,96,985.2,14,2.455445544554451,null,1050,16]
["Baclab2N4CII-74",42.6,32.4,0.76056338028169013,null,0.10979999999999999,8.9999999999999993E-3,2.13,0.12,0.1396,7.7000000000000002E-3,4.9599999999999998E-2,4.5999999999999999E-3,0.41926000000000002,null,842,44,1155,39,1790,120,842,44,27.0995670995671,null,1055,58]
["Baclab2N4CII-75",141.9,33.6,0.23678646934460887,null,7.5700000000000003E-2,4.4999999999999997E-3,0.85199999999999998,3.7999999999999999E-2,8.0659999999999996E-2,1.4E-3,4.3099999999999999E-2,4.4000000000000003E-3,1.6740999999999999E-2,null,500,8.5,627,22,1075,130,500,8.5,20.25518341307815,null,1110.5,16]
["Baclab2N4CII-76",197.8,184.5,0.93276036400404438,null,7.8700000000000006E-2,4.0000000000000001E-3,2.0449999999999999,6.9000000000000006E-2,0.188,3.0000000000000001E-3,4.8500000000000001E-2,4.4000000000000003E-3,-0.34534999999999999,null,1110.5,16,1130,23,1166,99,1110.5,16,1.7256637168141593,null,1156,18]
["Baclab2N4CII-77",182.3,85.45,0.46873285792649477,null,7.6799999999999993E-2,4.4000000000000003E-3,1.8260000000000001,0.08,0.1714,2.8E-3,4.9099999999999998E-2,4.3E-3,9.7520999999999997E-2,null,1020,15,1054,27,1141,110,1020,15,3.225806451612903,null,1170.5999999999999,16]
["Baclab2N4CII-78",143.30000000000001,123.9,0.86461967899511516,null,7.6600000000000001E-2,5.4000000000000003E-3,0.56899999999999995,3.2000000000000001E-2,5.3620000000000001E-2,1.1000000000000001E-3,1.8450000000000001E-2,1.8E-3,5.5247999999999998E-2,null,336.7,6.9,459,21,1100,140,336.7,6.9,26.644880174291941,null,1182,22]
["Baclab2N4CII-79",112.2,125,1.1140819964349375,null,6.1899999999999997E-2,4.4000000000000003E-3,0.86,4.5999999999999999E-2,0.1004,2.0999999999999999E-3,2.8799999999999999E-2,2.5999999999999999E-3,-0.38335000000000002,null,617,12,627,27,680,140,617,12,1.594896331738437,null,1184,20]
["Baclab2N4CII-80",408,54.1,0.13259803921568628,null,9.0899999999999995E-2,4.4000000000000003E-3,3.1589999999999998,0.1,0.25169999999999998,3.8E-3,7.7899999999999997E-2,6.7999999999999996E-3,0.49570999999999998,null,1447.1,20,1446,25,1441,92,1441,92,-7.6071922544945297E-2,null,1206.3,16]
["Baclab2N4CII-81",224.9,151.5,0.67363272565584698,null,6.2700000000000006E-2,3.7000000000000002E-3,0.76200000000000001,3.7999999999999999E-2,8.8599999999999998E-2,1.5E-3,2.7640000000000001E-2,2.3999999999999998E-3,-6.0198000000000002E-2,null,547.29999999999995,8.6999999999999993,579,21,712,110,547.29999999999995,8.6999999999999993,5.4749568221070888,null,1207,79]
["Baclab2N4CII-82",496,483,0.97379032258064513,null,5.7200000000000001E-2,3.8999999999999998E-3,0.39100000000000001,2.5999999999999999E-2,5.1450000000000003E-2,1.2999999999999999E-3,1.5650000000000001E-2,1.4E-3,0.22161,null,323.39999999999998,8.1,334,19,470,140,323.39999999999998,8.1,3.173652694610785,null,1226,19]
["Baclab2N4CII-83",282,159,0.56382978723404253,null,6.1400000000000003E-2,4.0000000000000001E-3,0.83099999999999996,5.0999999999999997E-2,9.7600000000000006E-2,2E-3,2.86E-2,2.8999999999999998E-3,3.6885000000000001E-2,null,600.6,12,613,28,635,130,600.6,12,2.0228384991843358,null,1232.7,17]
["Baclab2N4CII-84",219,60,0.27397260273972601,null,0.13139999999999999,6.1999999999999998E-3,7.41,0.22,0.40679999999999999,5.8999999999999999E-3,0.08,0.01,0.30337999999999998,null,2200,27,2161,27,2114,83,2114,83,-1.8047200370198981,null,1305,19]
["Baclab2N4CII-85",177.1,33.119999999999997,0.18701298701298699,null,7.6300000000000007E-2,3.8E-3,2.0830000000000002,7.0999999999999994E-2,0.19600000000000001,3.3E-3,6.83E-2,6.4000000000000003E-3,-6.9237000000000007E-2,null,1156,18,1142,23,1124,99,1156,18,-1.2259194395796849,null,1311,20]
["Baclab2N4CII-86",186.1,43.9,0.23589468027941968,null,6.1899999999999997E-2,4.0000000000000001E-3,0.69,3.5000000000000003E-2,7.9299999999999995E-2,1.6000000000000001E-3,2.7E-2,3.0000000000000001E-3,0.11472,null,492.2,9.3000000000000007,535,21,640,140,492.2,9.3000000000000007,8.0000000000000018,null,1324,21]
["Baclab2N4CII-87",64.599999999999994,46.8,0.72445820433436536,null,9.5699999999999993E-2,5.7999999999999996E-3,3.62,0.17,0.26900000000000002,4.7999999999999996E-3,8.6099999999999996E-2,7.6E-3,0.20796000000000001,null,1535,24,1548,36,1551,120,1551,120,0.83979328165374678,null,1441,92]
["Baclab2N4CII-88",230.4,282.2,1.2248263888888888,null,5.3199999999999997E-2,3.7000000000000002E-3,0.30199999999999999,1.7999999999999999E-2,4.1270000000000001E-2,7.3999999999999999E-4,1.2540000000000001E-2,1.1000000000000001E-3,0.36007,null,260.7,4.5999999999999996,267,14,300,150,260.7,4.5999999999999996,2.3595505617977572,null,1551,120]
["Baclab2N4CII-89",303,116.5,0.38448844884488448,null,7.6300000000000007E-2,3.7000000000000002E-3,2.1459999999999999,8.3000000000000004E-2,0.20119999999999999,4.0000000000000001E-3,5.4699999999999999E-2,4.5999999999999999E-3,0.28122999999999998,null,1182,22,1163,28,1096,110,1182,22,-1.6337059329320722,null,1582,95]
["Baclab2N4CII-90",361,112.6,0.31191135734072023,null,5.5100000000000003E-2,3.3E-3,0.498,2.3E-2,6.5110000000000001E-2,1E-3,2.1100000000000001E-2,2E-3,0.18509,null,406.6,6.1,409,16,390,130,406.6,6.1,0.58679706601466441,null,1597,93]
["Baclab2N4CII-91",349,62.7,0.17965616045845273,null,5.9799999999999999E-2,3.5999999999999999E-3,0.55500000000000005,2.5999999999999999E-2,6.6780000000000006E-2,1.1999999999999999E-3,2.6700000000000002E-2,2.7000000000000001E-3,0.21393999999999999,null,416.7,7,448,17,580,130,416.7,7,6.986607142857145,null,2114,83]
["Baclab2N4CII-92",519,115,0.22157996146435452,null,5.7700000000000001E-2,3.0999999999999999E-3,0.52600000000000002,2.1000000000000001E-2,6.6070000000000004E-2,1E-3,2.2919999999999999E-2,2E-3,0.26596999999999998,null,412.4,6.1,428,14,539,110,412.4,6.1,3.6448598130841177,null,2170,83]
["Baclab2N4CII-93",286,135.19999999999999,0.47272727272727266,null,7.4099999999999999E-2,3.8999999999999998E-3,1.7709999999999999,6.7000000000000004E-2,0.1719,3.3E-3,4.82E-2,4.4999999999999997E-3,0.19006999999999999,null,1022,18,1034,23,1053,100,1022,18,1.1605415860735009]
["Baclab2N4CII-94",287,85.8,0.29895470383275258,null,5.7200000000000001E-2,4.0000000000000001E-3,0.40400000000000003,2.3E-2,5.1700000000000003E-2,8.5999999999999998E-4,1.9699999999999999E-2,1.8E-3,8.9982999999999994E-2,null,324.89999999999998,5.3,344,16,470,130,324.89999999999998,5.3,5.5523255813953556]
["Baclab2N4CII-95",156.6,115.7,0.73882503192848026,null,0.1016,7.6E-3,0.83399999999999996,6.6000000000000003E-2,5.96E-2,1.5E-3,2.3400000000000001E-2,2.8E-3,0.30530000000000002,"rejected",372.9,9.1999999999999993,615,34,1641,120,372.9,9.1999999999999993,39.365853658536594]
["Baclab2N4CII-96",80.099999999999994,47.1,0.58801498127340834,null,6.6799999999999998E-2,5.1000000000000004E-3,0.84099999999999997,5.7000000000000002E-2,8.9300000000000004E-2,1.8E-3,3.15E-2,3.0000000000000001E-3,0.28369,null,551,11,615,31,810,150,551,11,10.40650406504065]
["Baclab2N4CII-97",290,61.9,0.21344827586206896,null,7.6999999999999999E-2,3.8999999999999998E-3,1.6619999999999999,5.8999999999999997E-2,0.1573,2.5000000000000001E-3,5.7700000000000001E-2,5.1999999999999998E-3,0.19611000000000001,null,941.6,14,993,23,1127,100,941.6,14,5.1762336354481349]
["Baclab2N4CII-98",235.6,66.099999999999994,0.28056027164685904,null,7.3300000000000004E-2,4.1000000000000003E-3,1.5680000000000001,6.6000000000000003E-2,0.15479999999999999,2.5000000000000001E-3,5.1999999999999998E-2,4.7000000000000002E-3,0.1236,null,927.5,14,955,26,1005,110,927.5,14,2.8795811518324608]
["Baclab2N4CII-99",328,213.2,0.64999999999999991,null,7.9899999999999999E-2,4.5999999999999999E-3,0.754,3.3000000000000002E-2,6.7580000000000001E-2,1.1999999999999999E-3,2.6100000000000002E-2,2.3E-3,0.29957,null,421.5,7.3,570,19,1192,110,421.5,7.3,26.05263157894737]
["Baclab2N4CII-100",352.7,304.8,0.86419053019563374,null,0.1356,6.4000000000000003E-3,6.18,0.2,0.32529999999999998,6.4999999999999997E-3,5.7000000000000002E-2,6.4000000000000003E-3,0.32856999999999997,null,1816,32,2002,32,2170,83,2170,83,9.290709290709291]
[null,null,null,"",null,null,null,null,null,null,null,null,null,null,null,null,null,null,null,null,null,"","",""]
[null,null,null,"",null,null,null,null,null,null,null,null,null,null,null,null,null,null,null,null,null,"","",""]
[null,null,null,"",null,null,null,null,null,null,null,null,null,null,null,null,null,null,null,null,null,"","",""]
[null,null,null,"",null,null,null,null,null,null,null,null,null,null,null,null,null,null,null,null,null,"","",""]
[null,null,null,"",null,null,null,null,null,null,null,null,null,null,null,null,null,null,null,null,null,"","",""]
[null,null,null,"",null,null,null,null,null,null,null,null,null,null,null,null,null,null,null,null,null,"","",""]
[null,null,null,"",null,null,null,null,null,null,null,null,null,null,null,null,null,null,null,null,null,"","",""]
[null,null,null,"",null,null,null,null,null,null,null,null,null,null,null,null,null,null,null,null,null,"","",""]
[null,null,null,"",null,null,null,null,null,null,null,null,null,null,null,null,null,null,null,null,null,"","",""]
[null,null,null,"",null,null,null,null,null,null,null,null,null,null,null,null,null,null,null,null,null,"","",""]
[null,null,null,"",null,null,null,null,null,null,null,null,null,null,null,null,null,null,null,null,null,"","",""]
[null,null,null,"",null,null,null,null,null,null,null,null,null,null,null,null,null,null,null,null,null,"","",""]
[null,null,null,"",null,null,null,null,null,null,null,null,null,null,null,null,null,null,null,null,null,"","",""]
[null,null,null,"",null,null,null,null,null,null,null,null,null,null,null,null,null,null,null,null,null,"","",""]
[null,null,null,"",null,null,null,null,null,null,null,null,null,null,null,null,null,null,null,null,null,"","",""]
[null,null,null,"",null,null,null,null,null,null,null,null,null,null,null,null,null,null,null,null,null,"","",""]
[null,null,null,"",null,null,null,null,null,null,null,null,null,null,null,null,null,null,null,null,null,"","",""]
[null,null,null,"",null,null,null,null,null,null,null,null,null,null,null,null,null,null,null,null,null,"","",""]
[null,null,null,"",null,null,null,null,null,null,null,null,null,null,null,null,null,null,null,null,null,"","",""]
[null,null,null,"",null,null,null,null,null,null,null,null,null,null,null,null,null,null,null,null,null,"","",""]
[null,null,null,"",null,null,null,null,null,null,null,null,null,null,null,null,null,null,null,null,null,"","",""]
[null,null,null,"",null,null,null,null,null,null,null,null,null,null,null,null,null,null,null,null,null,"","",""]
[null,null,null,"",null,null,null,null,null,null,null,null,null,null,null,null,null,null,null,null,null,"","",""]
[null,null,null,"",null,null,null,null,null,null,null,null,null,null,null,null,null,null,null,null,null,"","",""]
[null,null,null,"",null,null,null,null,null,null,null,null,null,null,null,null,null,null,null,null,null,"","",""]
[null,null,null,"",null,null,null,null,null,null,null,null,null,null,null,null,null,null,null,null,null,"","",""]
[null,null,null,"",null,null,null,null,null,null,null,null,null,null,null,null,null,null,null,null,null,"","",""]
[null,null,null,"",null,null,null,null,null,null,null,null,null,null,null,null,null,null,null,null,null,"","",""]
[null,null,null,"",null,null,null,null,null,null,null,null,null,null,null,null,null,null,null,null,null,"","",""]
[null,null,null,{"$f":"IF(B133=\"\",\"\",C133/B133)","v":""},null,null,null,null,null,null,null,null,null,null,null,null,null,null,null,null,null,{"$f":"IF(P133=\"\",\"\",IF(P133<1400,P133,T133))","v":""},{"$f":"IF(P133=\"\",\"\",IF(V133=P133,Q133,U133))","v":""},{"$f":"IF(R133=\"\",\"\",100*(R133-P133)/R133)","v":""}]
[null,null,null,"",null,null,null,null,null,null,null,null,null,null,null,null,null,null,null,null,null,"","",""]
[null,null,null,"",null,null,null,null,null,null,null,null,null,null,null,null,null,null,null,null,null,"","",""]
[null,null,null,"",null,null,null,null,null,null,null,null,null,null,null,null,null,null,null,null,null,"","",""]
[null,null,null,"",null,null,null,null,null,null,null,null,null,null,null,null,null,null,null,null,null,"","",""]
[null,null,null,"",null,null,null,null,null,null,null,null,null,null,null,null,null,null,null,null,null,"","",""]
[null,null,null,"",null,null,null,null,null,null,null,null,null,null,null,null,null,null,null,null,null,"","",""]
[null,null,null,"",null,null,null,null,null,null,null,null,null,null,null,null,null,null,null,null,null,"","",""]
[null,null,null,"",null,null,null,null,null,null,null,null,null,null,null,null,null,null,null,null,null,"","",""]
[null,null,null,"",null,null,null,null,null,null,null,null,null,null,null,null,null,null,null,null,null,"","",""]
[null,null,null,"",null,null,null,null,null,null,null,null,null,null,null,null,null,null,null,null,null,"","",""]
[null,null,null,"",null,null,null,null,null,null,null,null,null,null,null,null,null,null,null,null,null,"","",""]
[null,null,null,"",null,null,null,null,null,null,null,null,null,null,null,null,null,null,null,null,null,"","",""]
[null,null,null,"",null,null,null,null,null,null,null,null,null,null,null,null,null,null,null,null,null,"","",""]
[null,null,null,"",null,null,null,null,null,null,null,null,null,null,null,null,null,null,null,null,null,"","",""]
[null,null,null,"",null,null,null,null,null,null,null,null,null,null,null,null,null,null,null,null,null,"","",""]
[null,null,null,"",null,null,null,null,null,null,null,null,null,null,null,null,null,null,null,null,null,"","",""]
[null,null,null,"",null,null,null,null,null,null,null,null,null,null,null,null,null,null,null,null,null,"","",""]
[null,null,null,"",null,null,null,null,null,null,null,null,null,null,null,null,null,null,null,null,null,"","",""]
[null,null,null,"",null,null,null,null,null,null,null,null,null,null,null,null,null,null,null,null,null,"","",""]
[null,null,null,"",null,null,null,null,null,null,null,null,null,null,null,null,null,null,null,null,null,"","",""]
[null,null,null,"",null,null,null,null,null,null,null,null,null,null,null,null,null,null,null,null,null,"","",""]
[null,null,null,"",null,null,null,null,null,null,null,null,null,null,null,null,null,null,null,null,null,"","",""]
[null,null,null,"",null,null,null,null,null,null,null,null,null,null,null,null,null,null,null,null,null,"","",""]
[null,null,null,"",null,null,null,null,null,null,null,null,null,null,null,null,null,null,null,null,null,"","",""]
[null,null,null,"",null,null,null,null,null,null,null,null,null,null,null,null,null,null,null,null,null,"","",""]
[null,null,null,"",null,null,null,null,null,null,null,null,null,null,null,null,null,null,null,null,null,"","",""]
[null,null,null,"",null,null,null,null,null,null,null,null,null,null,null,null,null,null,null,null,null,"","",""]
[null,null,null,"",null,null,null,null,null,null,null,null,null,null,null,null,null,null,null,null,null,"","",""]
[null,null,null,"",null,null,null,null,null,null,null,null,null,null,null,null,null,null,null,null,null,"","",""]
[null,null,null,"",null,null,null,null,null,null,null,null,null,null,null,null,null,null,null,null,null,"","",""]
[null,null,null,"",null,null,null,null,null,null,null,null,null,null,null,null,null,null,null,null,null,"","",""]
[null,null,null,"",null,null,null,null,null,null,null,null,null,null,null,null,null,null,null,null,null,"","",""]
[null,null,null,"",null,null,null,null,null,null,null,null,null,null,null,null,null,null,null,null,null,"","",""]
[null,null,null,"",null,null,null,null,null,null,null,null,null,null,null,null,null,null,null,null,null,"","",""]
[null,null,null,"",null,null,null,null,null,null,null,null,null,null,null,null,null,null,null,null,null,"","",""]
[null,null,null,"",null,null,null,null,null,null,null,null,null,null,null,null,null,null,null,null,null,"","",""]
[null,null,null,"",null,null,null,null,null,null,null,null,null,null,null,null,null,null,null,null,null,"","",""]
[null,null,null,"",null,null,null,null,null,null,null,null,null,null,null,null,null,null,null,null,null,"","",""]
[null,null,null,"",null,null,null,null,null,null,null,null,null,null,null,null,null,null,null,null,null,"","",""]
[null,null,null,"",null,null,null,null,null,null,null,null,null,null,null,null,null,null,null,null,null,"","",""]
[null,null,null,"",null,null,null,null,null,null,null,null,null,null,null,null,null,null,null,null,null,"","",""]
[null,null,null,"",null,null,null,null,null,null,null,null,null,null,null,null,null,null,null,null,null,"","",""]
[null,null,null,"",null,null,null,null,null,null,null,null,null,null,null,null,null,null,null,null,null,"","",""]
[null,null,null,"",null,null,null,null,null,null,null,null,null,null,null,null,null,null,null,null,null,"","",""]
[null,null,null,"",null,null,null,null,null,null,null,null,null,null,null,null,null,null,null,null,null,"","",""]
[null,null,null,"",null,null,null,null,null,null,null,null,null,null,null,null,null,null,null,null,null,"","",""]
[null,null,null,"",null,null,null,null,null,null,null,null,null,null,null,null,null,null,null,null,null,"","",""]
[null,null,null,"",null,null,null,null,null,null,null,null,null,null,null,null,null,null,null,null,null,"","",""]
[null,null,null,"",null,null,null,null,null,null,null,null,null,null,null,null,null,null,null,null,null,"","",""]
[null,null,null,"",null,null,null,null,null,null,null,null,null,null,null,null,null,null,null,null,null,"","",""]
[null,null,null,"",null,null,null,null,null,null,null,null,null,null,null,null,null,null,null,null,null,"","",""]
[null,null,null,"",null,null,null,null,null,null,null,null,null,null,null,null,null,null,null,null,null,"","",""]
[null,null,null,"",null,null,null,null,null,null,null,null,null,null,null,null,null,null,null,null,null,"","",""]
[null,null,null,"",null,null,null,null,null,null,null,null,null,null,null,null,null,null,null,null,null,"","",""]
[null,null,null,"",null,null,null,null,null,null,null,null,null,null,null,null,null,null,null,null,null,"","",""]
[null,null,null,"",null,null,null,null,null,null,null,null,null,null,null,null,null,null,null,null,null,"","",""]
[null,null,null,"",null,null,null,null,null,null,null,null,null,null,null,null,null,null,null,null,null,"","",""]
[null,null,null,"",null,null,null,null,null,null,null,null,null,null,null,null,null,null,null,null,null,"","",""]
[null,null,null,"",null,null,null,null,null,null,null,null,null,null,null,null,null,null,null,null,null,"","",""]
[null,null,null,"",null,null,null,null,null,null,null,null,null,null,null,null,null,null,null,null,null,"","",""]
[null,null,null,"",null,null,null,null,null,null,null,null,null,null,null,null,null,null,null,null,null,"","",""]
[null,null,null,"",null,null,null,null,null,null,null,null,null,null,null,null,null,null,null,null,null,"","",""]
[null,null,null,"",null,null,null,null,null,null,null,null,null,null,null,null,null,null,null,null,null,"","",""]
[null,null,null,{"$f":"IF(B197=\"\",\"\",C197/B197)","v":""},null,null,null,null,null,null,null,null,null,null,null,null,null,null,null,null,null,{"$f":"IF(P197=\"\",\"\",IF(P197<1400,P197,T197))","v":""},{"$f":"IF(P197=\"\",\"\",IF(V197=P197,Q197,U197))","v":""},{"$f":"IF(R197=\"\",\"\",100*(R197-P197)/R197)","v":""}]
[null,null,null,"",null,null,null,null,null,null,null,null,null,null,null,null,null,null,null,null,null,"","",""]
[null,null,null,"",null,null,null,null,null,null,null,null,null,null,null,null,null,null,null,null,null,"","",""]
[null,null,null,"",null,null,null,null,null,null,null,null,null,null,null,null,null,null,null,null,null,"","",""]
[null,null,null,"",null,null,null,null,null,null,null,null,null,null,null,null,null,null,null,null,null,"","",""]
[null,null,null,"",null,null,null,null,null,null,null,null,null,null,null,null,null,null,null,null,null,"","",""]
[null,null,null,"",null,null,null,null,null,null,null,null,null,null,null,null,null,null,null,null,null,"","",""]
[null,null,null,"",null,null,null,null,null,null,null,null,null,null,null,null,null,null,null,null,null,"","",""]
[null,null,null,"",null,null,null,null,null,null,null,null,null,null,null,null,null,null,null,null,null,"","",""]
[null,null,null,"",null,null,null,null,null,null,null,null,null,null,null,null,null,null,null,null,null,"","",""]
[null,null,null,"",null,null,null,null,null,null,null,null,null,null,null,null,null,null,null,null,null,"","",""]
[null,null,null,"",null,null,null,null,null,null,null,null,null,null,null,null,null,null,null,null,null,"","",""]
[null,null,null,"",null,null,null,null,null,null,null,null,null,null,null,null,null,null,null,null,null,"","",""]
[null,null,null,"",null,null,null,null,null,null,null,null,null,null,null,null,null,null,null,null,null,"","",""]
[null,null,null,"",null,null,null,null,null,null,null,null,null,null,null,null,null,null,null,null,null,"","",""]
[null,null,null,"",null,null,null,null,null,null,null,null,null,null,null,null,null,null,null,null,null,"","",""]
[null,null,null,"",null,null,null,null,null,null,null,null,null,null,null,null,null,null,null,null,null,"","",""]
[null,null,null,"",null,null,null,null,null,null,null,null,null,null,null,null,null,null,null,null,null,"","",""]
[null,null,null,"",null,null,null,null,null,null,null,null,null,null,null,null,null,null,null,null,null,"","",""]
[null,null,null,"",null,null,null,null,null,null,null,null,null,null,null,null,null,null,null,null,null,"","",""]
[null,null,null,"",null,null,null,null,null,null,null,null,null,null,null,null,null,null,null,null,null,"","",""]
[null,null,null,"",null,null,null,null,null,null,null,null,null,null,null,null,null,null,null,null,null,"","",""]
[null,null,null,"",null,null,null,null,null,null,null,null,null,null,null,null,null,null,null,null,null,"","",""]
[null,null,null,"",null,null,null,null,null,null,null,null,null,null,null,null,null,null,null,null,null,"","",""]
[null,null,null,"",null,null,null,null,null,null,null,null,null,null,null,null,null,null,null,null,null,"","",""]
[null,null,null,"",null,null,null,null,null,null,null,null,null,null,null,null,null,null,null,null,null,"","",""]
[null,null,null,"",null,null,null,null,null,null,null,null,null,null,null,null,null,null,null,null,null,"","",""]
[null,null,null,"",null,null,null,null,null,null,null,null,null,null,null,null,null,null,null,null,null,"","",""]
[null,null,null,"",null,null,null,null,null,null,null,null,null,null,null,null,null,null,null,null,null,"","",""]
[null,null,null,"",null,null,null,null,null,null,null,null,null,null,null,null,null,null,null,null,null,"","",""]
[null,null,null,"",null,null,null,null,null,null,null,null,null,null,null,null,null,null,null,null,null,"","",""]
[null,null,null,"",null,null,null,null,null,null,null,null,null,null,null,null,null,null,null,null,null,"","",""]
[null,null,null,"",null,null,null,null,null,null,null,null,null,null,null,null,null,null,null,null,null,"","",""]
[null,null,null,"",null,null,null,null,null,null,null,null,null,null,null,null,null,null,null,null,null,"","",""]
[null,null,null,"",null,null,null,null,null,null,null,null,null,null,null,null,null,null,null,null,null,"","",""]
[null,null,null,"",null,null,null,null,null,null,null,null,null,null,null,null,null,null,null,null,null,"","",""]
[null,null,null,"",null,null,null,null,null,null,null,null,null,null,null,null,null,null,null,null,null,"","",""]
[null,null,null,"",null,null,null,null,null,null,null,null,null,null,null,null,null,null,null,null,null,"","",""]
[null,null,null,"",null,null,null,null,null,null,null,null,null,null,null,null,null,null,null,null,null,"","",""]
[null,null,null,"",null,null,null,null,null,null,null,null,null,null,null,null,null,null,null,null,null,"","",""]
[null,null,null,"",null,null,null,null,null,null,null,null,null,null,null,null,null,null,null,null,null,"","",""]
[null,null,null,"",null,null,null,null,null,null,null,null,null,null,null,null,null,null,null,null,null,"","",""]
[null,null,null,"",null,null,null,null,null,null,null,null,null,null,null,null,null,null,null,null,null,"","",""]
[null,null,null,"",null,null,null,null,null,null,null,null,null,null,null,null,null,null,null,null,null,"","",""]
[null,null,null,"",null,null,null,null,null,null,null,null,null,null,null,null,null,null,null,null,null,"","",""]
[null,null,null,"",null,null,null,null,null,null,null,null,null,null,null,null,null,null,null,null,null,"","",""]
[null,null,null,"",null,null,null,null,null,null,null,null,null,null,null,null,null,null,null,null,null,"","",""]
[null,null,null,"",null,null,null,null,null,null,null,null,null,null,null,null,null,null,null,null,null,"","",""]
[null,null,null,"",null,null,null,null,null,null,null,null,null,null,null,null,null,null,null,null,null,"","",""]
[null,null,null,"",null,null,null,null,null,null,null,null,null,null,null,null,null,null,null,null,null,"","",""]
[null,null,null,"",null,null,null,null,null,null,null,null,null,null,null,null,null,null,null,null,null,"","",""]
[null,null,null,"",null,null,null,null,null,null,null,null,null,null,null,null,null,null,null,null,null,"","",""]
[null,null,null,"",null,null,null,null,null,null,null,null,null,null,null,null,null,null,null,null,null,"","",""]
[null,null,null,"",null,null,null,null,null,null,null,null,null,null,null,null,null,null,null,null,null,"","",""]
[null,null,null,"",null,null,null,null,null,null,null,null,null,null,null,null,null,null,null,null,null,"","",""]
[null,null,null,"",null,null,null,null,null,null,null,null,null,null,null,null,null,null,null,null,null,"","",""]
[null,null,null,"",null,null,null,null,null,null,null,null,null,null,null,null,null,null,null,null,null,"","",""]
[null,null,null,"",null,null,null,null,null,null,null,null,null,null,null,null,null,null,null,null,null,"","",""]
[null,null,null,"",null,null,null,null,null,null,null,null,null,null,null,null,null,null,null,null,null,"","",""]
[null,null,null,"",null,null,null,null,null,null,null,null,null,null,null,null,null,null,null,null,null,"","",""]
[null,null,null,"",null,null,null,null,null,null,null,null,null,null,null,null,null,null,null,null,null,"","",""]
[null,null,null,"",null,null,null,null,null,null,null,null,null,null,null,null,null,null,null,null,null,"","",""]
[null,null,null,"",null,null,null,null,null,null,null,null,null,null,null,null,null,null,null,null,null,"","",""]
[null,null,null,"",null,null,null,null,null,null,null,null,null,null,null,null,null,null,null,null,null,"","",""]
[null,null,null,{"$f":"IF(B261=\"\",\"\",C261/B261)","v":""},null,null,null,null,null,null,null,null,null,null,null,null,null,null,null,null,null,{"$f":"IF(P261=\"\",\"\",IF(P261<1400,P261,T261))","v":""},{"$f":"IF(P261=\"\",\"\",IF(V261=P261,Q261,U261))","v":""},{"$f":"IF(R261=\"\",\"\",100*(R261-P261)/R261)","v":""}]
[null,null,null,"",null,null,null,null,null,null,null,null,null,null,null,null,null,null,null,null,null,"","",""]
[null,null,null,"",null,null,null,null,null,null,null,null,null,null,null,null,null,null,null,null,null,"","",""]
[null,null,null,"",null,null,null,null,null,null,null,null,null,null,null,null,null,null,null,null,null,"","",""]
[null,null,null,"",null,null,null,null,null,null,null,null,null,null,null,null,null,null,null,null,null,"","",""]
[null,null,null,"",null,null,null,null,null,null,null,null,null,null,null,null,null,null,null,null,null,"","",""]
[null,null,null,"",null,null,null,null,null,null,null,null,null,null,null,null,null,null,null,null,null,"","",""]
[null,null,null,"",null,null,null,null,null,null,null,null,null,null,null,null,null,null,null,null,null,"","",""]
[null,null,null,"",null,null,null,null,null,null,null,null,null,null,null,null,null,null,null,null,null,"","",""]
[null,null,null,"",null,null,null,null,null,null,null,null,null,null,null,null,null,null,null,null,null,"","",""]
[null,null,null,"",null,null,null,null,null,null,null,null,null,null,null,null,null,null,null,null,null,"","",""]
[null,null,null,"",null,null,null,null,null,null,null,null,null,null,null,null,null,null,null,null,null,"","",""]
[null,null,null,"",null,null,null,null,null,null,null,null,null,null,null,null,null,null,null,null,null,"","",""]
[null,null,null,"",null,null,null,null,null,null,null,null,null,null,null,null,null,null,null,null,null,"","",""]
[null,null,null,"",null,null,null,null,null,null,null,null,null,null,null,null,null,null,null,null,null,"","",""]
[null,null,null,"",null,null,null,null,null,null,null,null,null,null,null,null,null,null,null,null,null,"","",""]
[null,null,null,"",null,null,null,null,null,null,null,null,null,null,null,null,null,null,null,null,null,"","",""]
[null,null,null,"",null,null,null,null,null,null,null,null,null,null,null,null,null,null,null,null,null,"","",""]
[null,null,null,"",null,null,null,null,null,null,null,null,null,null,null,null,null,null,null,null,null,"","",""]
[null,null,null,"",null,null,null,null,null,null,null,null,null,null,null,null,null,null,null,null,null,"","",""]
[null,null,null,"",null,null,null,null,null,null,null,null,null,null,null,null,null,null,null,null,null,"","",""]
[null,null,null,"",null,null,null,null,null,null,null,null,null,null,null,null,null,null,null,null,null,"","",""]
[null,null,null,"",null,null,null,null,null,null,null,null,null,null,null,null,null,null,null,null,null,"","",""]
[null,null,null,"",null,null,null,null,null,null,null,null,null,null,null,null,null,null,null,null,null,"","",""]
[null,null,null,"",null,null,null,null,null,null,null,null,null,null,null,null,null,null,null,null,null,"","",""]
[null,null,null,"",null,null,null,null,null,null,null,null,null,null,null,null,null,null,null,null,null,"","",""]
[null,null,null,"",null,null,null,null,null,null,null,null,null,null,null,null,null,null,null,null,null,"","",""]
[null,null,null,"",null,null,null,null,null,null,null,null,null,null,null,null,null,null,null,null,null,"","",""]
[null,null,null,"",null,null,null,null,null,null,null,null,null,null,null,null,null,null,null,null,null,"","",""]
[null,null,null,"",null,null,null,null,null,null,null,null,null,null,null,null,null,null,null,null,null,"","",""]
[null,null,null,"",null,null,null,null,null,null,null,null,null,null,null,null,null,null,null,null,null,"","",""]
[null,null,null,"",null,null,null,null,null,null,null,null,null,null,null,null,null,null,null,null,null,"","",""]
[null,null,null,"",null,null,null,null,null,null,null,null,null,null,null,null,null,null,null,null,null,"","",""]
[null,null,null,"",null,null,null,null,null,null,null,null,null,null,null,null,null,null,null,null,null,"","",""]
[null,null,null,"",null,null,null,null,null,null,null,null,null,null,null,null,null,null,null,null,null,"","",""]
[null,null,null,"",null,null,null,null,null,null,null,null,null,null,null,null,null,null,null,null,null,"","",""]
[null,null,null,"",null,null,null,null,null,null,null,null,null,null,null,null,null,null,null,null,null,"","",""]
[null,null,null,"",null,null,null,null,null,null,null,null,null,null,null,null,null,null,null,null,null,"","",""]
[null,null,null,"",null,null,null,null,null,null,null,null,null,null,null,null,null,null,null,null,null,"","",""]
[null,null,null,"",null,null,null,null,null,null,null,null,null,null,null,null,null,null,null,null,null,"","",""]
[null,null,null,"",null,null,null,null,null,null,null,null,null,null,null,null,null,null,null,null,null,"","",""]
[null,null,null,"",null,null,null,null,null,null,null,null,null,null,null,null,null,null,null,null,null,"","",""]
[null,null,null,"",null,null,null,null,null,null,null,null,null,null,null,null,null,null,null,null,null,"","",""]
[null,null,null,"",null,null,null,null,null,null,null,null,null,null,null,null,null,null,null,null,null,"","",""]
[null,null,null,"",null,null,null,null,null,null,null,null,null,null,null,null,null,null,null,null,null,"","",""]
[null,null,null,"",null,null,null,null,null,null,null,null,null,null,null,null,null,null,null,null,null,"","",""]
[null,null,null,"",null,null,null,null,null,null,null,null,null,null,null,null,null,null,null,null,null,"","",""]
[null,null,null,"",null,null,null,null,null,null,null,null,null,null,null,null,null,null,null,null,null,"","",""]
[null,null,null,"",null,null,null,null,null,null,null,null,null,null,null,null,null,null,null,null,null,"","",""]
[null,null,null,"",null,null,null,null,null,null,null,null,null,null,null,null,null,null,null,null,null,"","",""]
[null,null,null,"",null,null,null,null,null,null,null,null,null,null,null,null,null,null,null,null,null,"","",""]
[null,null,null,"",null,null,null,null,null,null,null,null,null,null,null,null,null,null,null,null,null,"","",""]
[null,null,null,"",null,null,null,null,null,null,null,null,null,null,null,null,null,null,null,null,null,"","",""]
[null,null,null,"",null,null,null,null,null,null,null,null,null,null,null,null,null,null,null,null,null,"","",""]
[null,null,null,"",null,null,null,null,null,null,null,null,null,null,null,null,null,null,null,null,null,"","",""]
[null,null,null,"",null,null,null,null,null,null,null,null,null,null,null,null,null,null,null,null,null,"","",""]
[null,null,null,"",null,null,null,null,null,null,null,null,null,null,null,null,null,null,null,null,null,"","",""]
[null,null,null,"",null,null,null,null,null,null,null,null,null,null,null,null,null,null,null,null,null,"","",""]
[null,null,null,"",null,null,null,null,null,null,null,null,null,null,null,null,null,null,null,null,null,"","",""]
[null,null,null,"",null,null,null,null,null,null,null,null,null,null,null,null,null,null,null,null,null,"","",""]
[null,null,null,"",null,null,null,null,null,null,null,null,null,null,null,null,null,null,null,null,null,"","",""]
[null,null,null,"",null,null,null,null,null,null,null,null,null,null,null,null,null,null,null,null,null,"","",""]
[null,null,null,"",null,null,null,null,null,null,null,null,null,null,null,null,null,null,null,null,null,"","",""]
[null,null,null,"",null,null,null,null,null,null,null,null,null,null,null,null,null,null,null,null,null,"","",""]
[null,null,null,{"$f":"IF(B325=\"\",\"\",C325/B325)","v":""},null,null,null,null,null,null,null,null,null,null,null,null,null,null,null,null,null,{"$f":"IF(P325=\"\",\"\",IF(P325<1400,P325,T325))","v":""},{"$f":"IF(P325=\"\",\"\",IF(V325=P325,Q325,U325))","v":""},{"$f":"IF(R325=\"\",\"\",100*(R325-P325)/R325)","v":""}]
[null,null,null,"",null,null,null,null,null,null,null,null,null,null,null,null,null,null,null,null,null,"","",""]
[null,null,null,"",null,null,null,null,null,null,null,null,null,null,null,null,null,null,null,null,null,"","",""]
[null,null,null,"",null,null,null,null,null,null,null,null,null,null,null,null,null,null,null,null,null,"","",""]
[null,null,null,"",null,null,null,null,null,null,null,null,null,null,null,null,null,null,null,null,null,"","",""]
[null,null,null,"",null,null,null,null,null,null,null,null,null,null,null,null,null,null,null,null,null,"","",""]
[null,null,null,"",null,null,null,null,null,null,null,null,null,null,null,null,null,null,null,null,null,"","",""]
[null,null,null,"",null,null,null,null,null,null,null,null,null,null,null,null,null,null,null,null,null,"","",""]
[null,null,null,"",null,null,null,null,null,null,null,null,null,null,null,null,null,null,null,null,null,"","",""]
[null,null,null,"",null,null,null,null,null,null,null,null,null,null,null,null,null,null,null,null,null,"","",""]
[null,null,null,"",null,null,null,null,null,null,null,null,null,null,null,null,null,null,null,null,null,"","",""]
[null,null,null,"",null,null,null,null,null,null,null,null,null,null,null,null,null,null,null,null,null,"","",""]
[null,null,null,"",null,null,null,null,null,null,null,null,null,null,null,null,null,null,null,null,null,"","",""]
[null,null,null,"",null,null,null,null,null,null,null,null,null,null,null,null,null,null,null,null,null,"","",""]
[null,null,null,"",null,null,null,null,null,null,null,null,null,null,null,null,null,null,null,null,null,"","",""]
[null,null,null,"",null,null,null,null,null,null,null,null,null,null,null,null,null,null,null,null,null,"","",""]
[null,null,null,"",null,null,null,null,null,null,null,null,null,null,null,null,null,null,null,null,null,"","",""]
[null,null,null,"",null,null,null,null,null,null,null,null,null,null,null,null,null,null,null,null,null,"","",""]
[null,null,null,"",null,null,null,null,null,null,null,null,null,null,null,null,null,null,null,null,null,"","",""]
[null,null,null,"",null,null,null,null,null,null,null,null,null,null,null,null,null,null,null,null,null,"","",""]
[null,null,null,"",null,null,null,null,null,null,null,null,null,null,null,null,null,null,null,null,null,"","",""]
[null,null,null,"",null,null,null,null,null,null,null,null,null,null,null,null,null,null,null,null,null,"","",""]
[null,null,null,"",null,null,null,null,null,null,null,null,null,null,null,null,null,null,null,null,null,"","",""]
[null,null,null,"",null,null,null,null,null,null,null,null,null,null,null,null,null,null,null,null,null,"","",""]
[null,null,null,"",null,null,null,null,null,null,null,null,null,null,null,null,null,null,null,null,null,"","",""]
[null,null,null,"",null,null,null,null,null,null,null,null,null,null,null,null,null,null,null,null,null,"","",""]
[null,null,null,"",null,null,null,null,null,null,null,null,null,null,null,null,null,null,null,null,null,"","",""]
[null,null,null,"",null,null,null,null,null,null,null,null,null,null,null,null,null,null,null,null,null,"","",""]
[null,null,null,"",null,null,null,null,null,null,null,null,null,null,null,null,null,null,null,null,null,"","",""]
[null,null,null,"",null,null,null,null,null,null,null,null,null,null,null,null,null,null,null,null,null,"","",""]
[null,null,null,"",null,null,null,null,null,null,null,null,null,null,null,null,null,null,null,null,null,"","",""]
[null,null,null,"",null,null,null,null,null,null,null,null,null,null,null,null,null,null,null,null,null,"","",""]
[null,null,null,"",null,null,null,null,null,null,null,null,null,null,null,null,null,null,null,null,null,"","",""]
[null,null,null,"",null,null,null,null,null,null,null,null,null,null,null,null,null,null,null,null,null,"","",""]
[null,null,null,"",null,null,null,null,null,null,null,null,null,null,null,null,null,null,null,null,null,"","",""]
[null,null,null,"",null,null,null,null,null,null,null,null,null,null,null,null,null,null,null,null,null,"","",""]
[null,null,null,"",null,null,null,null,null,null,null,null,null,null,null,null,null,null,null,null,null,"","",""]
[null,null,null,"",null,null,null,null,null,null,null,null,null,null,null,null,null,null,null,null,null,"","",""]
[null,null,null,"",null,null,null,null,null,null,null,null,null,null,null,null,null,null,null,null,null,"","",""]
[null,null,null,"",null,null,null,null,null,null,null,null,null,null,null,null,null,null,null,null,null,"","",""]
[null,null,null,"",null,null,null,null,null,null,null,null,null,null,null,null,null,null,null,null,null,"","",""]
[null,null,null,"",null,null,null,null,null,null,null,null,null,null,null,null,null,null,null,null,null,"","",""]
[null,null,null,"",null,null,null,null,null,null,null,null,null,null,null,null,null,null,null,null,null,"","",""]
[null,null,null,"",null,null,null,null,null,null,null,null,null,null,null,null,null,null,null,null,null,"","",""]
[null,null,null,"",null,null,null,null,null,null,null,null,null,null,null,null,null,null,null,null,null,"","",""]
[null,null,null,"",null,null,null,null,null,null,null,null,null,null,null,null,null,null,null,null,null,"","",""]
[null,null,null,"",null,null,null,null,null,null,null,null,null,null,null,null,null,null,null,null,null,"","",""]
[null,null,null,"",null,null,null,null,null,null,null,null,null,null,null,null,null,null,null,null,null,"","",""]
[null,null,null,"",null,null,null,null,null,null,null,null,null,null,null,null,null,null,null,null,null,"","",""]
[null,null,null,"",null,null,null,null,null,null,null,null,null,null,null,null,null,null,null,null,null,"","",""]
[null,null,null,"",null,null,null,null,null,null,null,null,null,null,null,null,null,null,null,null,null,"","",""]
[null,null,null,"",null,null,null,null,null,null,null,null,null,null,null,null,null,null,null,null,null,"","",""]
[null,null,null,"",null,null,null,null,null,null,null,null,null,null,null,null,null,null,null,null,null,"","",""]
[null,null,null,"",null,null,null,null,null,null,null,null,null,null,null,null,null,null,null,null,null,"","",""]
[null,null,null,"",null,null,null,null,null,null,null,null,null,null,null,null,null,null,null,null,null,"","",""]
[null,null,null,"",null,null,null,null,null,null,null,null,null,null,null,null,null,null,null,null,null,"","",""]
[null,null,null,"",null,null,null,null,null,null,null,null,null,null,null,null,null,null,null,null,null,"","",""]
[null,null,null,"",null,null,null,null,null,null,null,null,null,null,null,null,null,null,null,null,null,"","",""]
[null,null,null,"",null,null,null,null,null,null,null,null,null,null,null,null,null,null,null,null,null,"","",""]
[null,null,null,"",null,null,null,null,null,null,null,null,null,null,null,null,null,null,null,null,null,"","",""]
[null,null,null,"",null,null,null,null,null,null,null,null,null,null,null,null,null,null,null,null,null,"","",""]
[null,null,null,"",null,null,null,null,null,null,null,null,null,null,null,null,null,null,null,null,null,"","",""]
[null,null,null,"",null,null,null,null,null,null,null,null,null,null,null,null,null,null,null,null,null,"","",""]
[null,null,null,"",null,null,null,null,null,null,null,null,null,null,null,null,null,null,null,null,null,"","",""]
[null,null,null,{"$f":"IF(B389=\"\",\"\",C389/B389)","v":""},null,null,null,null,null,null,null,null,null,null,null,null,null,null,null,null,null,{"$f":"IF(P389=\"\",\"\",IF(P389<1400,P389,T389))","v":""},{"$f":"IF(P389=\"\",\"\",IF(V389=P389,Q389,U389))","v":""},{"$f":"IF(R389=\"\",\"\",100*(R389-P389)/R389)","v":""}]
[null,null,null,"",null,null,null,null,null,null,null,null,null,null,null,null,null,null,null,null,null,"","",""]
[null,null,null,"",null,null,null,null,null,null,null,null,null,null,null,null,null,null,null,null,null,"","",""]
[null,null,null,"",null,null,null,null,null,null,null,null,null,null,null,null,null,null,null,null,null,"","",""]
[null,null,null,"",null,null,null,null,null,null,null,null,null,null,null,null,null,null,null,null,null,"","",""]
[null,null,null,"",null,null,null,null,null,null,null,null,null,null,null,null,null,null,null,null,null,"","",""]
[null,null,null,"",null,null,null,null,null,null,null,null,null,null,null,null,null,null,null,null,null,"","",""]
[null,null,null,"",null,null,null,null,null,null,null,null,null,null,null,null,null,null,null,null,null,"","",""]
[null,null,null,"",null,null,null,null,null,null,null,null,null,null,null,null,null,null,null,null,null,"","",""]
[null,null,null,"",null,null,null,null,null,null,null,null,null,null,null,null,null,null,null,null,null,"","",""]
[null,null,null,"",null,null,null,null,null,null,null,null,null,null,null,null,null,null,null,null,null,"","",""]
[null,null,null,"",null,null,null,null,null,null,null,null,null,null,null,null,null,null,null,null,null,"","",""]
[null,null,null,"",null,null,null,null,null,null,null,null,null,null,null,null,null,null,null,null,null,"","",""]
[null,null,null,"",null,null,null,null,null,null,null,null,null,null,null,null,null,null,null,null,null,"","",""]
[null,null,null,"",null,null,null,null,null,null,null,null,null,null,null,null,null,null,null,null,null,"","",""]
[null,null,null,"",null,null,null,null,null,null,null,null,null,null,null,null,null,null,null,null,null,"","",""]
[null,null,null,"",null,null,null,null,null,null,null,null,null,null,null,null,null,null,null,null,null,"","",""]
[null,null,null,"",null,null,null,null,null,null,null,null,null,null,null,null,null,null,null,null,null,"","",""]
[null,null,null,"",null,null,null,null,null,null,null,null,null,null,null,null,null,null,null,null,null,"","",""]
[null,null,null,"",null,null,null,null,null,null,null,null,null,null,null,null,null,null,null,null,null,"","",""]
[null,null,null,"",null,null,null,null,null,null,null,null,null,null,null,null,null,null,null,null,null,"","",""]
[null,null,null,"",null,null,null,null,null,null,null,null,null,null,null,null,null,null,null,null,null,"","",""]
[null,null,null,"",null,null,null,null,null,null,null,null,null,null,null,null,null,null,null,null,null,"","",""]
[null,null,null,"",null,null,null,null,null,null,null,null,null,null,null,null,null,null,null,null,null,"","",""]
[null,null,null,"",null,null,null,null,null,null,null,null,null,null,null,null,null,null,null,null,null,"","",""]
[null,null,null,"",null,null,null,null,null,null,null,null,null,null,null,null,null,null,null,null,null,"","",""]
[null,null,null,"",null,null,null,null,null,null,null,null,null,null,null,null,null,null,null,null,null,"","",""]
[null,null,null,"",null,null,null,null,null,null,null,null,null,null,null,null,null,null,null,null,null,"","",""]
[null,null,null,"",null,null,null,null,null,null,null,null,null,null,null,null,null,null,null,null,null,"","",""]
[null,null,null,"",null,null,null,null,null,null,null,null,null,null,null,null,null,null,null,null,null,"","",""]
[null,null,null,"",null,null,null,null,null,null,null,null,null,null,null,null,null,null,null,null,null,"","",""]
[null,null,null,"",null,null,null,null,null,null,null,null,null,null,null,null,null,null,null,null,null,"","",""]
[null,null,null,"",null,null,null,null,null,null,null,null,null,null,null,null,null,null,null,null,null,"","",""]
[null,null,null,"",null,null,null,null,null,null,null,null,null,null,null,null,null,null,null,null,null,"","",""]
[null,null,null,"",null,null,null,null,null,null,null,null,null,null,null,null,null,null,null,null,null,"","",""]
[null,null,null,"",null,null,null,null,null,null,null,null,null,null,null,null,null,null,null,null,null,"","",""]
[null,null,null,"",null,null,null,null,null,null,null,null,null,null,null,null,null,null,null,null,null,"","",""]
[null,null,null,"",null,null,null,null,null,null,null,null,null,null,null,null,null,null,null,null,null,"","",""]
[null,null,null,"",null,null,null,null,null,null,null,null,null,null,null,null,null,null,null,null,null,"","",""]
[null,null,null,"",null,null,null,null,null,null,null,null,null,null,null,null,null,null,null,null,null,"","",""]
[null,null,null,"",null,null,null,null,null,null,null,null,null,null,null,null,null,null,null,null,null,"","",""]
[null,null,null,"",null,null,null,null,null,null,null,null,null,null,null,null,null,null,null,null,null,"","",""]
[null,null,null,"",null,null,null,null,null,null,null,null,null,null,null,null,null,null,null,null,null,"","",""]
[null,null,null,"",null,null,null,null,null,null,null,null,null,null,null,null,null,null,null,null,null,"","",""]
[null,null,null,"",null,null,null,null,null,null,null,null,null,null,null,null,null,null,null,null,null,"","",""]
[null,null,null,"",null,null,null,null,null,null,null,null,null,null,null,null,null,null,null,null,null,"","",""]
[null,null,null,"",null,null,null,null,null,null,null,null,null,null,null,null,null,null,null,null,null,"","",""]
[null,null,null,"",null,null,null,null,null,null,null,null,null,null,null,null,null,null,null,null,null,"","",""]
[null,null,null,"",null,null,null,null,null,null,null,null,null,null,null,null,null,null,null,null,null,"","",""]
[null,null,null,"",null,null,null,null,null,null,null,null,null,null,null,null,null,null,null,null,null,"","",""]
[null,null,null,"",null,null,null,null,null,null,null,null,null,null,null,null,null,null,null,null,null,"","",""]
[null,null,null,"",null,null,null,null,null,null,null,null,null,null,null,null,null,null,null,null,null,"","",""]
[null,null,null,"",null,null,null,null,null,null,null,null,null,null,null,null,null,null,null,null,null,"","",""]
[null,null,null,"",null,null,null,null,null,null,null,null,null,null,null,null,null,null,null,null,null,"","",""]
[null,null,null,"",null,null,null,null,null,null,null,null,null,null,null,null,null,null,null,null,null,"","",""]
[null,null,null,"",null,null,null,null,null,null,null,null,null,null,null,null,null,null,null,null,null,"","",""]
[null,null,null,"",null,null,null,null,null,null,null,null,null,null,null,null,null,null,null,null,null,"","",""]
[null,null,null,"",null,null,null,null,null,null,null,null,null,null,null,null,null,null,null,null,null,"","",""]
[null,null,null,"",null,null,null,null,null,null,null,null,null,null,null,null,null,null,null,null,null,"","",""]
[null,null,null,"",null,null,null,null,null,null,null,null,null,null,null,null,null,null,null,null,null,"","",""]
[null,null,null,"",null,null,null,null,null,null,null,null,null,null,null,null,null,null,null,null,null,"","",""]
[null,null,null,"",null,null,null,null,null,null,null,null,null,null,null,null,null,null,null,null,null,"","",""]
[null,null,null,"",null,null,null,null,null,null,null,null,null,null,null,null,null,null,null,null,null,"","",""]
[null,null,null,"",null,null,null,null,null,null,null,null,null,null,null,null,null,null,null,null,null,"","",""]
[null,null,null,{"$f":"IF(B453=\"\",\"\",C453/B453)","v":""},null,null,null,null,null,null,null,null,null,null,null,null,null,null,null,null,null,{"$f":"IF(P453=\"\",\"\",IF(P453<1400,P453,T453))","v":""},{"$f":"IF(P453=\"\",\"\",IF(V453=P453,Q453,U453))","v":""},{"$f":"IF(R453=\"\",\"\",100*(R453-P453)/R453)","v":""}]
[null,null,null,"",null,null,null,null,null,null,null,null,null,null,null,null,null,null,null,null,null,"","",""]
[null,null,null,"",null,null,null,null,null,null,null,null,null,null,null,null,null,null,null,null,null,"","",""]
[null,null,null,"",null,null,null,null,null,null,null,null,null,null,null,null,null,null,null,null,null,"","",""]
[null,null,null,"",null,null,null,null,null,null,null,null,null,null,null,null,null,null,null,null,null,"","",""]
[null,null,null,"",null,null,null,null,null,null,null,null,null,null,null,null,null,null,null,null,null,"","",""]
[null,null,null,"",null,null,null,null,null,null,null,null,null,null,null,null,null,null,null,null,null,"","",""]
[null,null,null,"",null,null,null,null,null,null,null,null,null,null,null,null,null,null,null,null,null,"","",""]
[null,null,null,"",null,null,null,null,null,null,null,null,null,null,null,null,null,null,null,null,null,"","",""]
[null,null,null,"",null,null,null,null,null,null,null,null,null,null,null,null,null,null,null,null,null,"","",""]
[null,null,null,"",null,null,null,null,null,null,null,null,null,null,null,null,null,null,null,null,null,"","",""]
[null,null,null,"",null,null,null,null,null,null,null,null,null,null,null,null,null,null,null,null,null,"","",""]
[null,null,null,"",null,null,null,null,null,null,null,null,null,null,null,null,null,null,null,null,null,"","",""]
[null,null,null,"",null,null,null,null,null,null,null,null,null,null,null,null,null,null,null,null,null,"","",""]
[null,null,null,"",null,null,null,null,null,null,null,null,null,null,null,null,null,null,null,null,null,"","",""]
[null,null,null,"",null,null,null,null,null,null,null,null,null,null,null,null,null,null,null,null,null,"","",""]
[null,null,null,"",null,null,null,null,null,null,null,null,null,null,null,null,null,null,null,null,null,"","",""]
[null,null,null,"",null,null,null,null,null,null,null,null,null,null,null,null,null,null,null,null,null,"","",""]
[null,null,null,"",null,null,null,null,null,null,null,null,null,null,null,null,null,null,null,null,null,"","",""]
[null,null,null,"",null,null,null,null,null,null,null,null,null,null,null,null,null,null,null,null,null,"","",""]
[null,null,null,"",null,null,null,null,null,null,null,null,null,null,null,null,null,null,null,null,null,"","",""]
[null,null,null,"",null,null,null,null,null,null,null,null,null,null,null,null,null,null,null,null,null,"","",""]
[null,null,null,"",null,null,null,null,null,null,null,null,null,null,null,null,null,null,null,null,null,"","",""]
[null,null,null,"",null,null,null,null,null,null,null,null,null,null,null,null,null,null,null,null,null,"","",""]
[null,null,null,"",null,null,null,null,null,null,null,null,null,null,null,null,null,null,null,null,null,"","",""]
[null,null,null,"",null,null,null,null,null,null,null,null,null,null,null,null,null,null,null,null,null,"","",""]
[null,null,null,"",null,null,null,null,null,null,null,null,null,null,null,null,null,null,null,null,null,"","",""]
[null,null,null,"",null,null,null,null,null,null,null,null,null,null,null,null,null,null,null,null,null,"","",""]
[null,null,null,"",null,null,null,null,null,null,null,null,null,null,null,null,null,null,null,null,null,"","",""]
[null,null,null,"",null,null,null,null,null,null,null,null,null,null,null,null,null,null,null,null,null,"","",""]
[null,null,null,"",null,null,null,null,null,null,null,null,null,null,null,null,null,null,null,null,null,"","",""]
[null,null,null,"",null,null,null,null,null,null,null,null,null,null,null,null,null,null,null,null,null,"","",""]
[null,null,null,"",null,null,null,null,null,null,null,null,null,null,null,null,null,null,null,null,null,"","",""]
[null,null,null,"",null,null,null,null,null,null,null,null,null,null,null,null,null,null,null,null,null,"","",""]
[null,null,null,"",null,null,null,null,null,null,null,null,null,null,null,null,null,null,null,null,null,"","",""]
[null,null,null,"",null,null,null,null,null,null,null,null,null,null,null,null,null,null,null,null,null,"","",""]
[null,null,null,"",null,null,null,null,null,null,null,null,null,null,null,null,null,null,null,null,null,"","",""]
[null,null,null,"",null,null,null,null,null,null,null,null,null,null,null,null,null,null,null,null,null,"","",""]
[null,null,null,"",null,null,null,null,null,null,null,null,null,null,null,null,null,null,null,null,null,"","",""]
[null,null,null,"",null,null,null,null,null,null,null,null,null,null,null,null,null,null,null,null,null,"","",""]
[null,null,null,"",null,null,null,null,null,null,null,null,null,null,null,null,null,null,null,null,null,"","",""]
[null,null,null,"",null,null,null,null,null,null,null,null,null,null,null,null,null,null,null,null,null,"","",""]
[null,null,null,"",null,null,null,null,null,null,null,null,null,null,null,null,null,null,null,null,null,"","",""]
[null,null,null,"",null,null,null,null,null,null,null,null,null,null,null,null,null,null,null,null,null,"","",""]
[null,null,null,"",null,null,null,null,null,null,null,null,null,null,null,null,null,null,null,null,null,"","",""]
[null,null,null,"",null,null,null,null,null,null,null,null,null,null,null,null,null,null,null,null,null,"","",""]
[null,null,null,"",null,null,null,null,null,null,null,null,null,null,null,null,null,null,null,null,null,"","",""]
[null,null,null,"",null,null,null,null,null,null,null,null,null,null,null,null,null,null,null,null,null,"","",""]
[null,null,null,"",null,null,null,null,null,null,null,null,null,null,null,null,null,null,null,null,null,"","",""]
[null,null,null,"",null,null,null,null,null,null,null,null,null,null,null,null,null,null,null,null,null,"","",""]
[null,null,null,"",null,null,null,null,null,null,null,null,null,null,null,null,null,null,null,null,null,"","",""]
[null,null,null,"",null,null,null,null,null,null,null,null,null,null,null,null,null,null,null,null,null,"","",""]
[null,null,null,"",null,null,null,null,null,null,null,null,null,null,null,null,null,null,null,null,null,"","",""]
[null,null,null,"",null,null,null,null,null,null,null,null,null,null,null,null,null,null,null,null,null,"","",""]
[null,null,null,"",null,null,null,null,null,null,null,null,null,null,null,null,null,null,null,null,null,"","",""]
[null,null,null,"",null,null,null,null,null,null,null,null,null,null,null,null,null,null,null,null,null,"","",""]
[null,null,null,"",null,null,null,null,null,null,null,null,null,null,null,null,null,null,null,null,null,"","",""]
[null,null,null,"",null,null,null,null,null,null,null,null,null,null,null,null,null,null,null,null,null,"","",""]
[null,null,null,"",null,null,null,null,null,null,null,null,null,null,null,null,null,null,null,null,null,"","",""]
[null,null,null,"",null,null,null,null,null,null,null,null,null,null,null,null,null,null,null,null,null,"","",""]
[null,null,null,"",null,null,null,null,null,null,null,null,null,null,null,null,null,null,null,null,null,"","",""]
[null,null,null,"",null,null,null,null,null,null,null,null,null,null,null,null,null,null,null,null,null,"","",""]
[null,null,null,"",null,null,null,null,null,null,null,null,null,null,null,null,null,null,null,null,null,"","",""]
[null,null,null,"",null,null,null,null,null,null,null,null,null,null,null,null,null,null,null,null,null,"","",""]
[null,null,null,{"$f":"IF(B517=\"\",\"\",C517/B517)","v":""},null,null,null,null,null,null,null,null,null,null,null,null,null,null,null,null,null,{"$f":"IF(P517=\"\",\"\",IF(P517<1400,P517,T517))","v":""},{"$f":"IF(P517=\"\",\"\",IF(V517=P517,Q517,U517))","v":""},{"$f":"IF(R517=\"\",\"\",100*(R517-P517)/R517)","v":""}]
[null,null,null,"",null,null,null,null,null,null,null,null,null,null,null,null,null,null,null,null,null,"","",""]
[null,null,null,"",null,null,null,null,null,null,null,null,null,null,null,null,null,null,null,null,null,"","",""]
[null,null,null,"",null,null,null,null,null,null,null,null,null,null,null,null,null,null,null,null,null,"","",""]
[null,null,null,"",null,null,null,null,null,null,null,null,null,null,null,null,null,null,null,null,null,"","",""]
[null,null,null,"",null,null,null,null,null,null,null,null,null,null,null,null,null,null,null,null,null,"","",""]
[null,null,null,"",null,null,null,null,null,null,null,null,null,null,null,null,null,null,null,null,null,"","",""]
[null,null,null,"",null,null,null,null,null,null,null,null,null,null,null,null,null,null,null,null,null,"","",""]
[null,null,null,"",null,null,null,null,null,null,null,null,null,null,null,null,null,null,null,null,null,"","",""]
[null,null,null,"",null,null,null,null,null,null,null,null,null,null,null,null,null,null,null,null,null,"","",""]
[null,null,null,"",null,null,null,null,null,null,null,null,null,null,null,null,null,null,null,null,null,"","",""]
[null,null,null,"",null,null,null,null,null,null,null,null,null,null,null,null,null,null,null,null,null,"","",""]
[null,null,null,"",null,null,null,null,null,null,null,null,null,null,null,null,null,null,null,null,null,"","",""]
[null,null,null,"",null,null,null,null,null,null,null,null,null,null,null,null,null,null,null,null,null,"","",""]
[null,null,null,"",null,null,null,null,null,null,null,null,null,null,null,null,null,null,null,null,null,"","",""]
[null,null,null,"",null,null,null,null,null,null,null,null,null,null,null,null,null,null,null,null,null,"","",""]
[null,null,null,"",null,null,null,null,null,null,null,null,null,null,null,null,null,null,null,null,null,"","",""]
[null,null,null,"",null,null,null,null,null,null,null,null,null,null,null,null,null,null,null,null,null,"","",""]
[null,null,null,"",null,null,null,null,null,null,null,null,null,null,null,null,null,null,null,null,null,"","",""]
[null,null,null,"",null,null,null,null,null,null,null,null,null,null,null,null,null,null,null,null,null,"","",""]
[null,null,null,"",null,null,null,null,null,null,null,null,null,null,null,null,null,null,null,null,null,"","",""]
[null,null,null,"",null,null,null,null,null,null,null,null,null,null,null,null,null,null,null,null,null,"","",""]
[null,null,null,"",null,null,null,null,null,null,null,null,null,null,null,null,null,null,null,null,null,"","",""]
[null,null,null,"",null,null,null,null,null,null,null,null,null,null,null,null,null,null,null,null,null,"","",""]
[null,null,null,"",null,null,null,null,null,null,null,null,null,null,null,null,null,null,null,null,null,"","",""]
[null,null,null,"",null,null,null,null,null,null,null,null,null,null,null,null,null,null,null,null,null,"","",""]
[null,null,null,"",null,null,null,null,null,null,null,null,null,null,null,null,null,null,null,null,null,"","",""]
[null,null,null,"",null,null,null,null,null,null,null,null,null,null,null,null,null,null,null,null,null,"","",""]
[null,null,null,"",null,null,null,null,null,null,null,null,null,null,null,null,null,null,null,null,null,"","",""]
[null,null,null,"",null,null,null,null,null,null,null,null,null,null,null,null,null,null,null,null,null,"","",""]
[null,null,null,"",null,null,null,null,null,null,null,null,null,null,null,null,null,null,null,null,null,"","",""]
[null,null,null,"",null,null,null,null,null,null,null,null,null,null,null,null,null,null,null,null,null,"","",""]
[null,null,null,"",null,null,null,null,null,null,null,null,null,null,null,null,null,null,null,null,null,"","",""]
[null,null,null,"",null,null,null,null,null,null,null,null,null,null,null,null,null,null,null,null,null,"","",""]
[null,null,null,"",null,null,null,null,null,null,null,null,null,null,null,null,null,null,null,null,null,"","",""]
[null,null,null,"",null,null,null,null,null,null,null,null,null,null,null,null,null,null,null,null,null,"","",""]
[null,null,null,"",null,null,null,null,null,null,null,null,null,null,null,null,null,null,null,null,null,"","",""]
[null,null,null,"",null,null,null,null,null,null,null,null,null,null,null,null,null,null,null,null,null,"","",""]
[null,null,null,"",null,null,null,null,null,null,null,null,null,null,null,null,null,null,null,null,null,"","",""]
[null,null,null,"",null,null,null,null,null,null,null,null,null,null,null,null,null,null,null,null,null,"","",""]
[null,null,null,"",null,null,null,null,null,null,null,null,null,null,null,null,null,null,null,null,null,"","",""]
[null,null,null,"",null,null,null,null,null,null,null,null,null,null,null,null,null,null,null,null,null,"","",""]
[null,null,null,"",null,null,null,null,null,null,null,null,null,null,null,null,null,null,null,null,null,"","",""]
[null,null,null,"",null,null,null,null,null,null,null,null,null,null,null,null,null,null,null,null,null,"","",""]
[null,null,null,"",null,null,null,null,null,null,null,null,null,null,null,null,null,null,null,null,null,"","",""]
[null,null,null,"",null,null,null,null,null,null,null,null,null,null,null,null,null,null,null,null,null,"","",""]
[null,null,null,"",null,null,null,null,null,null,null,null,null,null,null,null,null,null,null,null,null,"","",""]
[null,null,null,"",null,null,null,null,null,null,null,null,null,null,null,null,null,null,null,null,null,"","",""]
[null,null,null,"",null,null,null,null,null,null,null,null,null,null,null,null,null,null,null,null,null,"","",""]
[null,null,null,"",null,null,null,null,null,null,null,null,null,null,null,null,null,null,null,null,null,"","",""]
[null,null,null,"",null,null,null,null,null,null,null,null,null,null,null,null,null,null,null,null,null,"","",""]
[null,null,null,"",null,null,null,null,null,null,null,null,null,null,null,null,null,null,null,null,null,"","",""]
[null,null,null,"",null,null,null,null,null,null,null,null,null,null,null,null,null,null,null,null,null,"","",""]
[null,null,null,"",null,null,null,null,null,null,null,null,null,null,null,null,null,null,null,null,null,"","",""]
[null,null,null,"",null,null,null,null,null,null,null,null,null,null,null,null,null,null,null,null,null,"","",""]
[null,null,null,"",null,null,null,null,null,null,null,null,null,null,null,null,null,null,null,null,null,"","",""]
[null,null,null,"",null,null,null,null,null,null,null,null,null,null,null,null,null,null,null,null,null,"","",""]
[null,null,null,"",null,null,null,null,null,null,null,null,null,null,null,null,null,null,null,null,null,"","",""]
[null,null,null,"",null,null,null,null,null,null,null,null,null,null,null,null,null,null,null,null,null,"","",""]
[null,null,null,"",null,null,null,null,null,null,null,null,null,null,null,null,null,null,null,null,null,"","",""]
[null,null,null,"",null,null,null,null,null,null,null,null,null,null,null,null,null,null,null,null,null,"","",""]
[null,null,null,"",null,null,null,null,null,null,null,null,null,null,null,null,null,null,null,null,null,"","",""]
[null,null,null,"",null,null,null,null,null,null,null,null,null,null,null,null,null,null,null,null,null,"","",""]
[null,null,null,"",null,null,null,null,null,null,null,null,null,null,null,null,null,null,null,null,null,"","",""]
[null,null,null,{"$f":"IF(B581=\"\",\"\",C581/B581)","v":""},null,null,null,null,null,null,null,null,null,null,null,null,null,null,null,null,null,{"$f":"IF(P581=\"\",\"\",IF(P581<1400,P581,T581))","v":""},{"$f":"IF(P581=\"\",\"\",IF(V581=P581,Q581,U581))","v":""},{"$f":"IF(R581=\"\",\"\",100*(R581-P581)/R581)","v":""}]
[null,null,null,"",null,null,null,null,null,null,null,null,null,null,null,null,null,null,null,null,null,"","",""]
[null,null,null,"",null,null,null,null,null,null,null,null,null,null,null,null,null,null,null,null,null,"","",""]
[null,null,null,"",null,null,null,null,null,null,null,null,null,null,null,null,null,null,null,null,null,"","",""]
[null,null,null,"",null,null,null,null,null,null,null,null,null,null,null,null,null,null,null,null,null,"","",""]
[null,null,null,"",null,null,null,null,null,null,null,null,null,null,null,null,null,null,null,null,null,"","",""]
[null,null,null,"",null,null,null,null,null,null,null,null,null,null,null,null,null,null,null,null,null,"","",""]
[null,null,null,"",null,null,null,null,null,null,null,null,null,null,null,null,null,null,null,null,null,"","",""]
[null,null,null,"",null,null,null,null,null,null,null,null,null,null,null,null,null,null,null,null,null,"","",""]
[null,null,null,"",null,null,null,null,null,null,null,null,null,null,null,null,null,null,null,null,null,"","",""]
[null,null,null,"",null,null,null,null,null,null,null,null,null,null,null,null,null,null,null,null,null,"","",""]
[null,null,null,"",null,null,null,null,null,null,null,null,null,null,null,null,null,null,null,null,null,"","",""]
[null,null,null,"",null,null,null,null,null,null,null,null,null,null,null,null,null,null,null,null,null,"","",""]
[null,null,null,"",null,null,null,null,null,null,null,null,null,null,null,null,null,null,null,null,null,"","",""]
[null,null,null,"",null,null,null,null,null,null,null,null,null,null,null,null,null,null,null,null,null,"","",""]
[null,null,null,"",null,null,null,null,null,null,null,null,null,null,null,null,null,null,null,null,null,"","",""]
[null,null,null,"",null,null,null,null,null,null,null,null,null,null,null,null,null,null,null,null,null,"","",""]
[null,null,null,"",null,null,null,null,null,null,null,null,null,null,null,null,null,null,null,null,null,"","",""]
[null,null,null,"",null,null,null,null,null,null,null,null,null,null,null,null,null,null,null,null,null,"","",""]
[null,null,null,"",null,null,null,null,null,null,null,null,null,null,null,null,null,null,null,null,null,"","",""]
[null,null,null,"",null,null,null,null,null,null,null,null,null,null,null,null,null,null,null,null,null,"","",""]
[null,null,null,"",null,null,null,null,null,null,null,null,null,null,null,null,null,null,null,null,null,"","",""]
[null,null,null,"",null,null,null,null,null,null,null,null,null,null,null,null,null,null,null,null,null,"","",""]
[null,null,null,"",null,null,null,null,null,null,null,null,null,null,null,null,null,null,null,null,null,"","",""]
[null,null,null,"",null,null,null,null,null,null,null,null,null,null,null,null,null,null,null,null,null,"","",""]
[null,null,null,"",null,null,null,null,null,null,null,null,null,null,null,null,null,null,null,null,null,"","",""]
[null,null,null,"",null,null,null,null,null,null,null,null,null,null,null,null,null,null,null,null,null,"","",""]
[null,null,null,"",null,null,null,null,null,null,null,null,null,null,null,null,null,null,null,null,null,"","",""]
[null,null,null,"",null,null,null,null,null,null,null,null,null,null,null,null,null,null,null,null,null,"","",""]
[null,null,null,"",null,null,null,null,null,null,null,null,null,null,null,null,null,null,null,null,null,"","",""]
[null,null,null,"",null,null,null,null,null,null,null,null,null,null,null,null,null,null,null,null,null,"","",""]
[null,null,null,"",null,null,null,null,null,null,null,null,null,null,null,null,null,null,null,null,null,"","",""]
[null,null,null,"",null,null,null,null,null,null,null,null,null,null,null,null,null,null,null,null,null,"","",""]
[null,null,null,"",null,null,null,null,null,null,null,null,null,null,null,null,null,null,null,null,null,"","",""]
[null,null,null,"",null,null,null,null,null,null,null,null,null,null,null,null,null,null,null,null,null,"","",""]
[null,null,null,"",null,null,null,null,null,null,null,null,null,null,null,null,null,null,null,null,null,"","",""]
[null,null,null,"",null,null,null,null,null,null,null,null,null,null,null,null,null,null,null,null,null,"","",""]
[null,null,null,"",null,null,null,null,null,null,null,null,null,null,null,null,null,null,null,null,null,"","",""]
[null,null,null,"",null,null,null,null,null,null,null,null,null,null,null,null,null,null,null,null,null,"","",""]
[null,null,null,"",null,null,null,null,null,null,null,null,null,null,null,null,null,null,null,null,null,"","",""]
[null,null,null,"",null,null,null,null,null,null,null,null,null,null,null,null,null,null,null,null,null,"","",""]
[null,null,null,"",null,null,null,null,null,null,null,null,null,null,null,null,null,null,null,null,null,"","",""]
[null,null,null,"",null,null,null,null,null,null,null,null,null,null,null,null,null,null,null,null,null,"","",""]
[null,null,null,"",null,null,null,null,null,null,null,null,null,null,null,null,null,null,null,null,null,"","",""]
[null,null,null,"",null,null,null,null,null,null,null,null,null,null,null,null,null,null,null,null,null,"","",""]
[null,null,null,"",null,null,null,null,null,null,null,null,null,null,null,null,null,null,null,null,null,"","",""]
[null,null,null,"",null,null,null,null,null,null,null,null,null,null,null,null,null,null,null,null,null,"","",""]
[null,null,null,"",null,null,null,null,null,null,null,null,null,null,null,null,null,null,null,null,null,"","",""]
[null,null,null,"",null,null,null,null,null,null,null,null,null,null,null,null,null,null,null,null,null,"","",""]
[null,null,null,"",null,null,null,null,null,null,null,null,null,null,null,null,null,null,null,null,null,"","",""]
[null,null,null,"",null,null,null,null,null,null,null,null,null,null,null,null,null,null,null,null,null,"","",""]
[null,null,null,"",null,null,null,null,null,null,null,null,null,null,null,null,null,null,null,null,null,"","",""]
[null,null,null,"",null,null,null,null,null,null,null,null,null,null,null,null,null,null,null,null,null,"","",""]
[null,null,null,"",null,null,null,null,null,null,null,null,null,null,null,null,null,null,null,null,null,"","",""]
[null,null,null,"",null,null,null,null,null,null,null,null,null,null,null,null,null,null,null,null,null,"","",""]
[null,null,null,"",null,null,null,null,null,null,null,null,null,null,null,null,null,null,null,null,null,"","",""]
[null,null,null,"",null,null,null,null,null,null,null,null,null,null,null,null,null,null,null,null,null,"","",""]
[null,null,null,"",null,null,null,null,null,null,null,null,null,null,null,null,null,null,null,null,null,"","",""]
[null,null,null,"",null,null,null,null,null,null,null,null,null,null,null,null,null,null,null,null,null,"","",""]
[null,null,null,"",null,null,null,null,null,null,null,null,null,null,null,null,null,null,null,null,null,"","",""]
[null,null,null,"",null,null,null,null,null,null,null,null,null,null,null,null,null,null,null,null,null,"","",""]
[null,null,null,"",null,null,null,null,null,null,null,null,null,null,null,null,null,null,null,null,null,"","",""]
[null,null,null,"",null,null,null,null,null,null,null,null,null,null,null,null,null,null,null,null,null,"","",""]
[null,null,null,"",null,null,null,null,null,null,null,null,null,null,null,null,null,null,null,null,null,"","",""]
[null,null,null,{"$f":"IF(B645=\"\",\"\",C645/B645)","v":""},null,null,null,null,null,null,null,null,null,null,null,null,null,null,null,null,null,{"$f":"IF(P645=\"\",\"\",IF(P645<1400,P645,T645))","v":""},{"$f":"IF(P645=\"\",\"\",IF(V645=P645,Q645,U645))","v":""},{"$f":"IF(R645=\"\",\"\",100*(R645-P645)/R645)","v":""}]
[null,null,null,"",null,null,null,null,null,null,null,null,null,null,null,null,null,null,null,null,null,"","",""]
[null,null,null,"",null,null,null,null,null,null,null,null,null,null,null,null,null,null,null,null,null,"","",""]
[null,null,null,"",null,null,null,null,null,null,null,null,null,null,null,null,null,null,null,null,null,"","",""]
[null,null,null,"",null,null,null,null,null,null,null,null,null,null,null,null,null,null,null,null,null,"","",""]
[null,null,null,"",null,null,null,null,null,null,null,null,null,null,null,null,null,null,null,null,null,"","",""]
[null,null,null,"",null,null,null,null,null,null,null,null,null,null,null,null,null,null,null,null,null,"","",""]
[null,null,null,"",null,null,null,null,null,null,null,null,null,null,null,null,null,null,null,null,null,"","",""]
[null,null,null,"",null,null,null,null,null,null,null,null,null,null,null,null,null,null,null,null,null,"","",""]
[null,null,null,"",null,null,null,null,null,null,null,null,null,null,null,null,null,null,null,null,null,"","",""]
[null,null,null,"",null,null,null,null,null,null,null,null,null,null,null,null,null,null,null,null,null,"","",""]
[null,null,null,"",null,null,null,null,null,null,null,null,null,null,null,null,null,null,null,null,null,"","",""]
[null,null,null,"",null,null,null,null,null,null,null,null,null,null,null,null,null,null,null,null,null,"","",""]
[null,null,null,"",null,null,null,null,null,null,null,null,null,null,null,null,null,null,null,null,null,"","",""]
[null,null,null,"",null,null,null,null,null,null,null,null,null,null,null,null,null,null,null,null,null,"","",""]
[null,null,null,"",null,null,null,null,null,null,null,null,null,null,null,null,null,null,null,null,null,"","",""]
[null,null,null,"",null,null,null,null,null,null,null,null,null,null,null,null,null,null,null,null,null,"","",""]
[null,null,null,"",null,null,null,null,null,null,null,null,null,null,null,null,null,null,null,null,null,"","",""]
[null,null,null,"",null,null,null,null,null,null,null,null,null,null,null,null,null,null,null,null,null,"","",""]
[null,null,null,"",null,null,null,null,null,null,null,null,null,null,null,null,null,null,null,null,null,"","",""]
[null,null,null,"",null,null,null,null,null,null,null,null,null,null,null,null,null,null,null,null,null,"","",""]
[null,null,null,"",null,null,null,null,null,null,null,null,null,null,null,null,null,null,null,null,null,"","",""]
[null,null,null,"",null,null,null,null,null,null,null,null,null,null,null,null,null,null,null,null,null,"","",""]
[null,null,null,"",null,null,null,null,null,null,null,null,null,null,null,null,null,null,null,null,null,"","",""]
[null,null,null,"",null,null,null,null,null,null,null,null,null,null,null,null,null,null,null,null,null,"","",""]
[null,null,null,"",null,null,null,null,null,null,null,null,null,null,null,null,null,null,null,null,null,"","",""]
[null,null,null,"",null,null,null,null,null,null,null,null,null,null,null,null,null,null,null,null,null,"","",""]
[null,null,null,"",null,null,null,null,null,null,null,null,null,null,null,null,null,null,null,null,null,"","",""]
[null,null,null,"",null,null,null,null,null,null,null,null,null,null,null,null,null,null,null,null,null,"","",""]
[null,null,null,"",null,null,null,null,null,null,null,null,null,null,null,null,null,null,null,null,null,"","",""]
[null,null,null,"",null,null,null,null,null,null,null,null,null,null,null,null,null,null,null,null,null,"","",""]
[null,null,null,"",null,null,null,null,null,null,null,null,null,null,null,null,null,null,null,null,null,"","",""]
[null,null,null,"",null,null,null,null,null,null,null,null,null,null,null,null,null,null,null,null,null,"","",""]
[null,null,null,"",null,null,null,null,null,null,null,null,null,null,null,null,null,null,null,null,null,"","",""]
[null,null,null,"",null,null,null,null,null,null,null,null,null,null,null,null,null,null,null,null,null,"","",""]
[null,null,null,"",null,null,null,null,null,null,null,null,null,null,null,null,null,null,null,null,null,"","",""]
[null,null,null,"",null,null,null,null,null,null,null,null,null,null,null,null,null,null,null,null,null,"","",""]
[null,null,null,"",null,null,null,null,null,null,null,null,null,null,null,null,null,null,null,null,null,"","",""]
[null,null,null,"",null,null,null,null,null,null,null,null,null,null,null,null,null,null,null,null,null,"","",""]
[null,null,null,"",null,null,null,null,null,null,null,null,null,null,null,null,null,null,null,null,null,"","",""]
[null,null,null,"",null,null,null,null,null,null,null,null,null,null,null,null,null,null,null,null,null,"","",""]
[null,null,null,"",null,null,null,null,null,null,null,null,null,null,null,null,null,null,null,null,null,"","",""]
[null,null,null,"",null,null,null,null,null,null,null,null,null,null,null,null,null,null,null,null,null,"","",""]
[null,null,null,"",null,null,null,null,null,null,null,null,null,null,null,null,null,null,null,null,null,"","",""]
[null,null,null,"",null,null,null,null,null,null,null,null,null,null,null,null,null,null,null,null,null,"","",""]
[null,null,null,"",null,null,null,null,null,null,null,null,null,null,null,null,null,null,null,null,null,"","",""]
[null,null,null,"",null,null,null,null,null,null,null,null,null,null,null,null,null,null,null,null,null,"","",""]
[null,null,null,"",null,null,null,null,null,null,null,null,null,null,null,null,null,null,null,null,null,"","",""]
[null,null,null,"",null,null,null,null,null,null,null,null,null,null,null,null,null,null,null,null,null,"","",""]
[null,null,null,"",null,null,null,null,null,null,null,null,null,null,null,null,null,null,null,null,null,"","",""]
[null,null,null,"",null,null,null,null,null,null,null,null,null,null,null,null,null,null,null,null,null,"","",""]
[null,null,null,"",null,null,null,null,null,null,null,null,null,null,null,null,null,null,null,null,null,"","",""]
[null,null,null,"",null,null,null,null,null,null,null,null,null,null,null,null,null,null,null,null,null,"","",""]
[null,null,null,"",null,null,null,null,null,null,null,null,null,null,null,null,null,null,null,null,null,"","",""]
[null,null,null,"",null,null,null,null,null,null,null,null,null,null,null,null,null,null,null,null,null,"","",""]
[null,null,null,"",null,null,null,null,null,null,null,null,null,null,null,null,null,null,null,null,null,"","",""]
[null,null,null,"",null,null,null,null,null,null,null,null,null,null,null,null,null,null,null,null,null,"","",""]
[null,null,null,"",null,null,null,null,null,null,null,null,null,null,null,null,null,null,null,null,null,"","",""]
[null,null,null,"",null,null,null,null,null,null,null,null,null,null,null,null,null,null,null,null,null,"","",""]
[null,null,null,"",null,null,null,null,null,null,null,null,null,null,null,null,null,null,null,null,null,"","",""]
[null,null,null,"",null,null,null,null,null,null,null,null,null,null,null,null,null,null,null,null,null,"","",""]
[null,null,null,"",null,null,null,null,null,null,null,null,null,null,null,null,null,null,null,null,null,"","",""]
[null,null,null,"",null,null,null,null,null,null,null,null,null,null,null,null,null,null,null,null,null,"","",""]
[null,null,null,"",null,null,null,null,null,null,null,null,null,null,null,null,null,null,null,null,null,"","",""]
[null,null,null,{"$f":"IF(B709=\"\",\"\",C709/B709)","v":""},null,null,null,null,null,null,null,null,null,null,null,null,null,null,null,null,null,{"$f":"IF(P709=\"\",\"\",IF(P709<1400,P709,T709))","v":""},{"$f":"IF(P709=\"\",\"\",IF(V709=P709,Q709,U709))","v":""},{"$f":"IF(R709=\"\",\"\",100*(R709-P709)/R709)","v":""}]
[null,null,null,"",null,null,null,null,null,null,null,null,null,null,null,null,null,null,null,null,null,"","",""]
[null,null,null,"",null,null,null,null,null,null,null,null,null,null,null,null,null,null,null,null,null,"","",""]
[null,null,null,"",null,null,null,null,null,null,null,null,null,null,null,null,null,null,null,null,null,"","",""]
[null,null,null,"",null,null,null,null,null,null,null,null,null,null,null,null,null,null,null,null,null,"","",""]
[null,null,null,"",null,null,null,null,null,null,null,null,null,null,null,null,null,null,null,null,null,"","",""]
[null,null,null,"",null,null,null,null,null,null,null,null,null,null,null,null,null,null,null,null,null,"","",""]
[null,null,null,"",null,null,null,null,null,null,null,null,null,null,null,null,null,null,null,null,null,"","",""]
[null,null,null,"",null,null,null,null,null,null,null,null,null,null,null,null,null,null,null,null,null,"","",""]
[null,null,null,"",null,null,null,null,null,null,null,null,null,null,null,null,null,null,null,null,null,"","",""]
[null,null,null,"",null,null,null,null,null,null,null,null,null,null,null,null,null,null,null,null,null,"","",""]
[null,null,null,"",null,null,null,null,null,null,null,null,null,null,null,null,null,null,null,null,null,"","",""]
[null,null,null,"",null,null,null,null,null,null,null,null,null,null,null,null,null,null,null,null,null,"","",""]
[null,null,null,"",null,null,null,null,null,null,null,null,null,null,null,null,null,null,null,null,null,"","",""]
[null,null,null,"",null,null,null,null,null,null,null,null,null,null,null,null,null,null,null,null,null,"","",""]
[null,null,null,"",null,null,null,null,null,null,null,null,null,null,null,null,null,null,null,null,null,"","",""]
[null,null,null,"",null,null,null,null,null,null,null,null,null,null,null,null,null,null,null,null,null,"","",""]
[null,null,null,"",null,null,null,null,null,null,null,null,null,null,null,null,null,null,null,null,null,"","",""]
[null,null,null,"",null,null,null,null,null,null,null,null,null,null,null,null,null,null,null,null,null,"","",""]
[null,null,null,"",null,null,null,null,null,null,null,null,null,null,null,null,null,null,null,null,null,"","",""]
[null,null,null,"",null,null,null,null,null,null,null,null,null,null,null,null,null,null,null,null,null,"","",""]
[null,null,null,"",null,null,null,null,null,null,null,null,null,null,null,null,null,null,null,null,null,"","",""]
[null,null,null,"",null,null,null,null,null,null,null,null,null,null,null,null,null,null,null,null,null,"","",""]
[null,null,null,"",null,null,null,null,null,null,null,null,null,null,null,null,null,null,null,null,null,"","",""]
[null,null,null,"",null,null,null,null,null,null,null,null,null,null,null,null,null,null,null,null,null,"","",""]
[null,null,null,"",null,null,null,null,null,null,null,null,null,null,null,null,null,null,null,null,null,"","",""]
[null,null,null,"",null,null,null,null,null,null,null,null,null,null,null,null,null,null,null,null,null,"","",""]
[null,null,null,"",null,null,null,null,null,null,null,null,null,null,null,null,null,null,null,null,null,"","",""]
[null,null,null,"",null,null,null,null,null,null,null,null,null,null,null,null,null,null,null,null,null,"","",""]
[null,null,null,"",null,null,null,null,null,null,null,null,null,null,null,null,null,null,null,null,null,"","",""]
[null,null,null,"",null,null,null,null,null,null,null,null,null,null,null,null,null,null,null,null,null,"","",""]
[null,null,null,"",null,null,null,null,null,null,null,null,null,null,null,null,null,null,null,null,null,"","",""]
[null,null,null,"",null,null,null,null,null,null,null,null,null,null,null,null,null,null,null,null,null,"","",""]
[null,null,null,"",null,null,null,null,null,null,null,null,null,null,null,null,null,null,null,null,null,"","",""]
[null,null,null,"",null,null,null,null,null,null,null,null,null,null,null,null,null,null,null,null,null,"","",""]
[null,null,null,"",null,null,null,null,null,null,null,null,null,null,null,null,null,null,null,null,null,"","",""]
[null,null,null,"",null,null,null,null,null,null,null,null,null,null,null,null,null,null,null,null,null,"","",""]
[null,null,null,"",null,null,null,null,null,null,null,null,null,null,null,null,null,null,null,null,null,"","",""]
[null,null,null,"",null,null,null,null,null,null,null,null,null,null,null,null,null,null,null,null,null,"","",""]
[null,null,null,"",null,null,null,null,null,null,null,null,null,null,null,null,null,null,null,null,null,"","",""]
[null,null,null,"",null,null,null,null,null,null,null,null,null,null,null,null,null,null,null,null,null,"","",""]
[null,null,null,"",null,null,null,null,null,null,null,null,null,null,null,null,null,null,null,null,null,"","",""]
[null,null,null,"",null,null,null,null,null,null,null,null,null,null,null,null,null,null,null,null,null,"","",""]
[null,null,null,"",null,null,null,null,null,null,null,null,null,null,null,null,null,null,null,null,null,"","",""]
[null,null,null,"",null,null,null,null,null,null,null,null,null,null,null,null,null,null,null,null,null,"","",""]
[null,null,null,"",null,null,null,null,null,null,null,null,null,null,null,null,null,null,null,null,null,"","",""]
[null,null,null,"",null,null,null,null,null,null,null,null,null,null,null,null,null,null,null,null,null,"","",""]
[null,null,null,"",null,null,null,null,null,null,null,null,null,null,null,null,null,null,null,null,null,"","",""]
[null,null,null,"",null,null,null,null,null,null,null,null,null,null,null,null,null,null,null,null,null,"","",""]
[null,null,null,"",null,null,null,null,null,null,null,null,null,null,null,null,null,null,null,null,null,"","",""]
[null,null,null,"",null,null,null,null,null,null,null,null,null,null,null,null,null,null,null,null,null,"","",""]
[null,null,null,"",null,null,null,null,null,null,null,null,null,null,null,null,null,null,null,null,null,"","",""]
[null,null,null,"",null,null,null,null,null,null,null,null,null,null,null,null,null,null,null,null,null,"","",""]
[null,null,null,"",null,null,null,null,null,null,null,null,null,null,null,null,null,null,null,null,null,"","",""]
[null,null,null,"",null,null,null,null,null,null,null,null,null,null,null,null,null,null,null,null,null,"","",""]
[null,null,null,"",null,null,null,null,null,null,null,null,null,null,null,null,null,null,null,null,null,"","",""]
[null,null,null,"",null,null,null,null,null,null,null,null,null,null,null,null,null,null,null,null,null,"","",""]
[null,null,null,"",null,null,null,null,null,null,null,null,null,null,null,null,null,null,null,null,null,"","",""]
[null,null,null,"",null,null,null,null,null,null,null,null,null,null,null,null,null,null,null,null,null,"","",""]
[null,null,null,"",null,null,null,null,null,null,null,null,null,null,null,null,null,null,null,null,null,"","",""]
[null,null,null,"",null,null,null,null,null,null,null,null,null,null,null,null,null,null,null,null,null,"","",""]
[null,null,null,"",null,null,null,null,null,null,null,null,null,null,null,null,null,null,null,null,null,"","",""]
[null,null,null,"",null,null,null,null,null,null,null,null,null,null,null,null,null,null,null,null,null,"","",""]
[null,null,null,"",null,null,null,null,null,null,null,null,null,null,null,null,null,null,null,null,null,"","",""]
[null,null,null,{"$f":"IF(B773=\"\",\"\",C773/B773)","v":""},null,null,null,null,null,null,null,null,null,null,null,null,null,null,null,null,null,{"$f":"IF(P773=\"\",\"\",IF(P773<1400,P773,T773))","v":""},{"$f":"IF(P773=\"\",\"\",IF(V773=P773,Q773,U773))","v":""},{"$f":"IF(R773=\"\",\"\",100*(R773-P773)/R773)","v":""}]
[null,null,null,"",null,null,null,null,null,null,null,null,null,null,null,null,null,null,null,null,null,"","",""]
[null,null,null,"",null,null,null,null,null,null,null,null,null,null,null,null,null,null,null,null,null,"","",""]
[null,null,null,"",null,null,null,null,null,null,null,null,null,null,null,null,null,null,null,null,null,"","",""]
[null,null,null,"",null,null,null,null,null,null,null,null,null,null,null,null,null,null,null,null,null,"","",""]
[null,null,null,"",null,null,null,null,null,null,null,null,null,null,null,null,null,null,null,null,null,"","",""]
[null,null,null,"",null,null,null,null,null,null,null,null,null,null,null,null,null,null,null,null,null,"","",""]
[null,null,null,"",null,null,null,null,null,null,null,null,null,null,null,null,null,null,null,null,null,"","",""]
[null,null,null,"",null,null,null,null,null,null,null,null,null,null,null,null,null,null,null,null,null,"","",""]
[null,null,null,"",null,null,null,null,null,null,null,null,null,null,null,null,null,null,null,null,null,"","",""]
[null,null,null,"",null,null,null,null,null,null,null,null,null,null,null,null,null,null,null,null,null,"","",""]
[null,null,null,"",null,null,null,null,null,null,null,null,null,null,null,null,null,null,null,null,null,"","",""]
[null,null,null,"",null,null,null,null,null,null,null,null,null,null,null,null,null,null,null,null,null,"","",""]
[null,null,null,"",null,null,null,null,null,null,null,null,null,null,null,null,null,null,null,null,null,"","",""]
[null,null,null,"",null,null,null,null,null,null,null,null,null,null,null,null,null,null,null,null,null,"","",""]
[null,null,null,"",null,null,null,null,null,null,null,null,null,null,null,null,null,null,null,null,null,"","",""]
[null,null,null,"",null,null,null,null,null,null,null,null,null,null,null,null,null,null,null,null,null,"","",""]
[null,null,null,"",null,null,null,null,null,null,null,null,null,null,null,null,null,null,null,null,null,"","",""]
[null,null,null,"",null,null,null,null,null,null,null,null,null,null,null,null,null,null,null,null,null,"","",""]
[null,null,null,"",null,null,null,null,null,null,null,null,null,null,null,null,null,null,null,null,null,"","",""]
[null,null,null,"",null,null,null,null,null,null,null,null,null,null,null,null,null,null,null,null,null,"","",""]
[null,null,null,"",null,null,null,null,null,null,null,null,null,null,null,null,null,null,null,null,null,"","",""]
[null,null,null,"",null,null,null,null,null,null,null,null,null,null,null,null,null,null,null,null,null,"","",""]
[null,null,null,"",null,null,null,null,null,null,null,null,null,null,null,null,null,null,null,null,null,"","",""]
[null,null,null,"",null,null,null,null,null,null,null,null,null,null,null,null,null,null,null,null,null,"","",""]
[null,null,null,"",null,null,null,null,null,null,null,null,null,null,null,null,null,null,null,null,null,"","",""]
[null,null,null,"",null,null,null,null,null,null,null,null,null,null,null,null,null,null,null,null,null,"","",""]
[null,null,null,"",null,null,null,null,null,null,null,null,null,null,null,null,null,null,null,null,null,"","",""]
[null,null,null,"",null,null,null,null,null,null,null,null,null,null,null,null,null,null,null,null,null,"","",""]
[null,null,null,"",null,null,null,null,null,null,null,null,null,null,null,null,null,null,null,null,null,"","",""]
[null,null,null,"",null,null,null,null,null,null,null,null,null,null,null,null,null,null,null,null,null,"","",""]
[null,null,null,"",null,null,null,null,null,null,null,null,null,null,null,null,null,null,null,null,null,"","",""]
[null,null,null,"",null,null,null,null,null,null,null,null,null,null,null,null,null,null,null,null,null,"","",""]
[null,null,null,"",null,null,null,null,null,null,null,null,null,null,null,null,null,null,null,null,null,"","",""]
[null,null,null,"",null,null,null,null,null,null,null,null,null,null,null,null,null,null,null,null,null,"","",""]
[null,null,null,"",null,null,null,null,null,null,null,null,null,null,null,null,null,null,null,null,null,"","",""]
[null,null,null,"",null,null,null,null,null,null,null,null,null,null,null,null,null,null,null,null,null,"","",""]
[null,null,null,"",null,null,null,null,null,null,null,null,null,null,null,null,null,null,null,null,null,"","",""]
[null,null,null,"",null,null,null,null,null,null,null,null,null,null,null,null,null,null,null,null,null,"","",""]
[null,null,null,"",null,null,null,null,null,null,null,null,null,null,null,null,null,null,null,null,null,"","",""]
[null,null,null,"",null,null,null,null,null,null,null,null,null,null,null,null,null,null,null,null,null,"","",""]
[null,null,null,"",null,null,null,null,null,null,null,null,null,null,null,null,null,null,null,null,null,"","",""]
[null,null,null,"",null,null,null,null,null,null,null,null,null,null,null,null,null,null,null,null,null,"","",""]
[null,null,null,"",null,null,null,null,null,null,null,null,null,null,null,null,null,null,null,null,null,"","",""]
[null,null,null,"",null,null,null,null,null,null,null,null,null,null,null,null,null,null,null,null,null,"","",""]
[null,null,null,"",null,null,null,null,null,null,null,null,null,null,null,null,null,null,null,null,null,"","",""]
[null,null,null,"",null,null,null,null,null,null,null,null,null,null,null,null,null,null,null,null,null,"","",""]
[null,null,null,"",null,null,null,null,null,null,null,null,null,null,null,null,null,null,null,null,null,"","",""]
[null,null,null,"",null,null,null,null,null,null,null,null,null,null,null,null,null,null,null,null,null,"","",""]
[null,null,null,"",null,null,null,null,null,null,null,null,null,null,null,null,null,null,null,null,null,"","",""]
[null,null,null,"",null,null,null,null,null,null,null,null,null,null,null,null,null,null,null,null,null,"","",""]
[null,null,null,"",null,null,null,null,null,null,null,null,null,null,null,null,null,null,null,null,null,"","",""]
[null,null,null,"",null,null,null,null,null,null,null,null,null,null,null,null,null,null,null,null,null,"","",""]
[null,null,null,"",null,null,null,null,null,null,null,null,null,null,null,null,null,null,null,null,null,"","",""]
[null,null,null,"",null,null,null,null,null,null,null,null,null,null,null,null,null,null,null,null,null,"","",""]
[null,null,null,"",null,null,null,null,null,null,null,null,null,null,null,null,null,null,null,null,null,"","",""]
[null,null,null,"",null,null,null,null,null,null,null,null,null,null,null,null,null,null,null,null,null,"","",""]
[null,null,null,"",null,null,null,null,null,null,null,null,null,null,null,null,null,null,null,null,null,"","",""]
[null,null,null,"",null,null,null,null,null,null,null,null,null,null,null,null,null,null,null,null,null,"","",""]
[null,null,null,"",null,null,null,null,null,null,null,null,null,null,null,null,null,null,null,null,null,"","",""]
[null,null,null,"",null,null,null,null,null,null,null,null,null,null,null,null,null,null,null,null,null,"","",""]
[null,null,null,"",null,null,null,null,null,null,null,null,null,null,null,null,null,null,null,null,null,"","",""]
[null,null,null,"",null,null,null,null,null,null,null,null,null,null,null,null,null,null,null,null,null,"","",""]
[null,null,null,"",null,null,null,null,null,null,null,null,null,null,null,null,null,null,null,null,null,"","",""]
[null,null,null,{"$f":"IF(B837=\"\",\"\",C837/B837)","v":""},null,null,null,null,null,null,null,null,null,null,null,null,null,null,null,null,null,{"$f":"IF(P837=\"\",\"\",IF(P837<1400,P837,T837))","v":""},{"$f":"IF(P837=\"\",\"\",IF(V837=P837,Q837,U837))","v":""},{"$f":"IF(R837=\"\",\"\",100*(R837-P837)/R837)","v":""}]
[null,null,null,"",null,null,null,null,null,null,null,null,null,null,null,null,null,null,null,null,null,"","",""]
[null,null,null,"",null,null,null,null,null,null,null,null,null,null,null,null,null,null,null,null,null,"","",""]
[null,null,null,"",null,null,null,null,null,null,null,null,null,null,null,null,null,null,null,null,null,"","",""]
[null,null,null,"",null,null,null,null,null,null,null,null,null,null,null,null,null,null,null,null,null,"","",""]
[null,null,null,"",null,null,null,null,null,null,null,null,null,null,null,null,null,null,null,null,null,"","",""]
[null,null,null,"",null,null,null,null,null,null,null,null,null,null,null,null,null,null,null,null,null,"","",""]
[null,null,null,"",null,null,null,null,null,null,null,null,null,null,null,null,null,null,null,null,null,"","",""]
[null,null,null,"",null,null,null,null,null,null,null,null,null,null,null,null,null,null,null,null,null,"","",""]
[null,null,null,"",null,null,null,null,null,null,null,null,null,null,null,null,null,null,null,null,null,"","",""]
[null,null,null,"",null,null,null,null,null,null,null,null,null,null,null,null,null,null,null,null,null,"","",""]
[null,null,null,"",null,null,null,null,null,null,null,null,null,null,null,null,null,null,null,null,null,"","",""]
[null,null,null,"",null,null,null,null,null,null,null,null,null,null,null,null,null,null,null,null,null,"","",""]
[null,null,null,"",null,null,null,null,null,null,null,null,null,null,null,null,null,null,null,null,null,"","",""]
[null,null,null,"",null,null,null,null,null,null,null,null,null,null,null,null,null,null,null,null,null,"","",""]
[null,null,null,"",null,null,null,null,null,null,null,null,null,null,null,null,null,null,null,null,null,"","",""]
[null,null,null,"",null,null,null,null,null,null,null,null,null,null,null,null,null,null,null,null,null,"","",""]
[null,null,null,"",null,null,null,null,null,null,null,null,null,null,null,null,null,null,null,null,null,"","",""]
[null,null,null,"",null,null,null,null,null,null,null,null,null,null,null,null,null,null,null,null,null,"","",""]
[null,null,null,"",null,null,null,null,null,null,null,null,null,null,null,null,null,null,null,null,null,"","",""]
[null,null,null,"",null,null,null,null,null,null,null,null,null,null,null,null,null,null,null,null,null,"","",""]
[null,null,null,"",null,null,null,null,null,null,null,null,null,null,null,null,null,null,null,null,null,"","",""]
[null,null,null,"",null,null,null,null,null,null,null,null,null,null,null,null,null,null,null,null,null,"","",""]
[null,null,null,"",null,null,null,null,null,null,null,null,null,null,null,null,null,null,null,null,null,"","",""]
[null,null,null,"",null,null,null,null,null,null,null,null,null,null,null,null,null,null,null,null,null,"","",""]
[null,null,null,"",null,null,null,null,null,null,null,null,null,null,null,null,null,null,null,null,null,"","",""]
[null,null,null,"",null,null,null,null,null,null,null,null,null,null,null,null,null,null,null,null,null,"","",""]
[null,null,null,"",null,null,null,null,null,null,null,null,null,null,null,null,null,null,null,null,null,"","",""]
[null,null,null,"",null,null,null,null,null,null,null,null,null,null,null,null,null,null,null,null,null,"","",""]
[null,null,null,"",null,null,null,null,null,null,null,null,null,null,null,null,null,null,null,null,null,"","",""]
[null,null,null,"",null,null,null,null,null,null,null,null,null,null,null,null,null,null,null,null,null,"","",""]
[null,null,null,"",null,null,null,null,null,null,null,null,null,null,null,null,null,null,null,null,null,"","",""]
[null,null,null,"",null,null,null,null,null,null,null,null,null,null,null,null,null,null,null,null,null,"","",""]
[null,null,null,"",null,null,null,null,null,null,null,null,null,null,null,null,null,null,null,null,null,"","",""]
[null,null,null,"",null,null,null,null,null,null,null,null,null,null,null,null,null,null,null,null,null,"","",""]
[null,null,null,"",null,null,null,null,null,null,null,null,null,null,null,null,null,null,null,null,null,"","",""]
[null,null,null,"",null,null,null,null,null,null,null,null,null,null,null,null,null,null,null,null,null,"","",""]
[null,null,null,"",null,null,null,null,null,null,null,null,null,null,null,null,null,null,null,null,null,"","",""]
[null,null,null,"",null,null,null,null,null,null,null,null,null,null,null,null,null,null,null,null,null,"","",""]
[null,null,null,"",null,null,null,null,null,null,null,null,null,null,null,null,null,null,null,null,null,"","",""]
[null,null,null,"",null,null,null,null,null,null,null,null,null,null,null,null,null,null,null,null,null,"","",""]
[null,null,null,"",null,null,null,null,null,null,null,null,null,null,null,null,null,null,null,null,null,"","",""]
[null,null,null,"",null,null,null,null,null,null,null,null,null,null,null,null,null,null,null,null,null,"","",""]
[null,null,null,"",null,null,null,null,null,null,null,null,null,null,null,null,null,null,null,null,null,"","",""]
[null,null,null,"",null,null,null,null,null,null,null,null,null,null,null,null,null,null,null,null,null,"","",""]
[null,null,null,"",null,null,null,null,null,null,null,null,null,null,null,null,null,null,null,null,null,"","",""]
[null,null,null,"",null,null,null,null,null,null,null,null,null,null,null,null,null,null,null,null,null,"","",""]
[null,null,null,"",null,null,null,null,null,null,null,null,null,null,null,null,null,null,null,null,null,"","",""]
[null,null,null,"",null,null,null,null,null,null,null,null,null,null,null,null,null,null,null,null,null,"","",""]
[null,null,null,"",null,null,null,null,null,null,null,null,null,null,null,null,null,null,null,null,null,"","",""]
[null,null,null,"",null,null,null,null,null,null,null,null,null,null,null,null,null,null,null,null,null,"","",""]
[null,null,null,"",null,null,null,null,null,null,null,null,null,null,null,null,null,null,null,null,null,"","",""]
[null,null,null,"",null,null,null,null,null,null,null,null,null,null,null,null,null,null,null,null,null,"","",""]
[null,null,null,"",null,null,null,null,null,null,null,null,null,null,null,null,null,null,null,null,null,"","",""]
[null,null,null,"",null,null,null,null,null,null,null,null,null,null,null,null,null,null,null,null,null,"","",""]
[null,null,null,"",null,null,null,null,null,null,null,null,null,null,null,null,null,null,null,null,null,"","",""]
[null,null,null,"",null,null,null,null,null,null,null,null,null,null,null,null,null,null,null,null,null,"","",""]
[null,null,null,"",null,null,null,null,null,null,null,null,null,null,null,null,null,null,null,null,null,"","",""]
[null,null,null,"",null,null,null,null,null,null,null,null,null,null,null,null,null,null,null,null,null,"","",""]
[null,null,null,"",null,null,null,null,null,null,null,null,null,null,null,null,null,null,null,null,null,"","",""]
[null,null,null,"",null,null,null,null,null,null,null,null,null,null,null,null,null,null,null,null,null,"","",""]
[null,null,null,"",null,null,null,null,null,null,null,null,null,null,null,null,null,null,null,null,null,"","",""]
[null,null,null,"",null,null,null,null,null,null,null,null,null,null,null,null,null,null,null,null,null,"","",""]
[null,null,null,"",null,null,null,null,null,null,null,null,null,null,null,null,null,null,null,null,null,"","",""]
[null,null,null,{"$f":"IF(B901=\"\",\"\",C901/B901)","v":""},null,null,null,null,null,null,null,null,null,null,null,null,null,null,null,null,null,{"$f":"IF(P901=\"\",\"\",IF(P901<1400,P901,T901))","v":""},{"$f":"IF(P901=\"\",\"\",IF(V901=P901,Q901,U901))","v":""},{"$f":"IF(R901=\"\",\"\",100*(R901-P901)/R901)","v":""}]
[null,null,null,"",null,null,null,null,null,null,null,null,null,null,null,null,null,null,null,null,null,"","",""]
[null,null,null,"",null,null,null,null,null,null,null,null,null,null,null,null,null,null,null,null,null,"","",""]
[null,null,null,"",null,null,null,null,null,null,null,null,null,null,null,null,null,null,null,null,null,"","",""]
[null,null,null,"",null,null,null,null,null,null,null,null,null,null,null,null,null,null,null,null,null,"","",""]
[null,null,null,"",null,null,null,null,null,null,null,null,null,null,null,null,null,null,null,null,null,"","",""]
[null,null,null,"",null,null,null,null,null,null,null,null,null,null,null,null,null,null,null,null,null,"","",""]
[null,null,null,"",null,null,null,null,null,null,null,null,null,null,null,null,null,null,null,null,null,"","",""]
[null,null,null,"",null,null,null,null,null,null,null,null,null,null,null,null,null,null,null,null,null,"","",""]
[null,null,null,"",null,null,null,null,null,null,null,null,null,null,null,null,null,null,null,null,null,"","",""]
[null,null,null,"",null,null,null,null,null,null,null,null,null,null,null,null,null,null,null,null,null,"","",""]
[null,null,null,"",null,null,null,null,null,null,null,null,null,null,null,null,null,null,null,null,null,"","",""]
[null,null,null,"",null,null,null,null,null,null,null,null,null,null,null,null,null,null,null,null,null,"","",""]
[null,null,null,"",null,null,null,null,null,null,null,null,null,null,null,null,null,null,null,null,null,"","",""]
[null,null,null,"",null,null,null,null,null,null,null,null,null,null,null,null,null,null,null,null,null,"","",""]
[null,null,null,"",null,null,null,null,null,null,null,null,null,null,null,null,null,null,null,null,null,"","",""]
[null,null,null,"",null,null,null,null,null,null,null,null,null,null,null,null,null,null,null,null,null,"","",""]
[null,null,null,"",null,null,null,null,null,null,null,null,null,null,null,null,null,null,null,null,null,"","",""]
[null,null,null,"",null,null,null,null,null,null,null,null,null,null,null,null,null,null,null,null,null,"","",""]
[null,null,null,"",null,null,null,null,null,null,null,null,null,null,null,null,null,null,null,null,null,"","",""]
[null,null,null,"",null,null,null,null,null,null,null,null,null,null,null,null,null,null,null,null,null,"","",""]
[null,null,null,"",null,null,null,null,null,null,null,null,null,null,null,null,null,null,null,null,null,"","",""]
[null,null,null,"",null,null,null,null,null,null,null,null,null,null,null,null,null,null,null,null,null,"","",""]
[null,null,null,"",null,null,null,null,null,null,null,null,null,null,null,null,null,null,null,null,null,"","",""]
[null,null,null,"",null,null,null,null,null,null,null,null,null,null,null,null,null,null,null,null,null,"","",""]
[null,null,null,"",null,null,null,null,null,null,null,null,null,null,null,null,null,null,null,null,null,"","",""]
[null,null,null,"",null,null,null,null,null,null,null,null,null,null,null,null,null,null,null,null,null,"","",""]
[null,null,null,"",null,null,null,null,null,null,null,null,null,null,null,null,null,null,null,null,null,"","",""]
[null,null,null,"",null,null,null,null,null,null,null,null,null,null,null,null,null,null,null,null,null,"","",""]
[null,null,null,"",null,null,null,null,null,null,null,null,null,null,null,null,null,null,null,null,null,"","",""]

{"sheet":"DT_IsoplotR","index":9,"n_rows":450,"n_cols":10,"rows_kept":450,"cut":false,"hidden":false,"merged":[]}
[]
[]
["7/5","7/5 (1s)","6/8","6/8 (1s)","7/6","7/6 (1s)","Rho(xy)","Rho(yz)","(c)","Muestra"]
[{"$f":"IF($J4=\"\",\"\",Datatable_t!H4)","v":1.744},{"$f":"IF($J4=\"\",\"\",Datatable_t!I4/2)","v":3.2000000000000001E-2},{"$f":"IF($J4=\"\",\"\",Datatable_t!J4)","v":0.17130000000000001},{"$f":"IF($J4=\"\",\"\",Datatable_t!K4/2)","v":1.4E-3},{"$f":"IF($J4=\"\",\"\",Datatable_t!F4)","v":7.3499999999999996E-2},{"$f":"IF($J4=\"\",\"\",Datatable_t!G4/2)","v":1.9E-3},null,null,{"$f":"IF(J4=\"\",\"\",IF(AND(Datatable_t!X4>15,Datatable_t!X4<30),2,IF(OR(Datatable_t!X4>30,Datatable_t!X4<-10),3,1)))","v":1},{"$f":"IF(Datatable_t!A4=\"\",\"\",Datatable_t!A4)","v":"Baclab2N4CII-1"}]
[{"$f":"IF($J5=\"\",\"\",Datatable_t!H5)","v":0.18},{"$f":"IF($J5=\"\",\"\",Datatable_t!I5/2)","v":8.5000000000000006E-3},{"$f":"IF($J5=\"\",\"\",Datatable_t!J5)","v":1.4590000000000001E-2},{"$f":"IF($J5=\"\",\"\",Datatable_t!K5/2)","v":2.05E-4},{"$f":"IF($J5=\"\",\"\",Datatable_t!F5)","v":8.8900000000000007E-2},{"$f":"IF($J5=\"\",\"\",Datatable_t!G5/2)","v":4.1999999999999997E-3},null,null,{"$f":"IF(J5=\"\",\"\",IF(AND(Datatable_t!X5>15,Datatable_t!X5<30),2,IF(OR(Datatable_t!X5>30,Datatable_t!X5<-10),3,1)))","v":3},{"$f":"IF(Datatable_t!A5=\"\",\"\",Datatable_t!A5)","v":"Baclab2N4CII-2"}]
[{"$f":"IF($J6=\"\",\"\",Datatable_t!H6)","v":1.361},{"$f":"IF($J6=\"\",\"\",Datatable_t!I6/2)","v":2.4E-2},{"$f":"IF($J6=\"\",\"\",Datatable_t!J6)","v":0.13719999999999999},{"$f":"IF($J6=\"\",\"\",Datatable_t!K6/2)","v":1.1000000000000001E-3},{"$f":"IF($J6=\"\",\"\",Datatable_t!F6)","v":7.17E-2},{"$f":"IF($J6=\"\",\"\",Datatable_t!G6/2)","v":1.75E-3},null,null,{"$f":"IF(J6=\"\",\"\",IF(AND(Datatable_t!X6>15,Datatable_t!X6<30),2,IF(OR(Datatable_t!X6>30,Datatable_t!X6<-10),3,1)))","v":1},{"$f":"IF(Datatable_t!A6=\"\",\"\",Datatable_t!A6)","v":"Baclab2N4CII-3"}]
[{"$f":"IF($J7=\"\",\"\",Datatable_t!H7)","v":1.92},{"$f":"IF($J7=\"\",\"\",Datatable_t!I7/2)","v":3.5999999999999997E-2},{"$f":"IF($J7=\"\",\"\",Datatable_t!J7)","v":0.17530000000000001},{"$f":"IF($J7=\"\",\"\",Datatable_t!K7/2)","v":1.5E-3},{"$f":"IF($J7=\"\",\"\",Datatable_t!F7)","v":7.8299999999999995E-2},{"$f":"IF($J7=\"\",\"\",Datatable_t!G7/2)","v":1.9499999999999999E-3},null,null,{"$f":"IF(J7=\"\",\"\",IF(AND(Datatable_t!X7>15,Datatable_t!X7<30),2,IF(OR(Datatable_t!X7>30,Datatable_t!X7<-10),3,1)))","v":1},{"$f":"IF(Datatable_t!A7=\"\",\"\",Datatable_t!A7)","v":"Baclab2N4CII-4"}]
[{"$f":"IF($J8=\"\",\"\",Datatable_t!H8)","v":2.3170000000000002},{"$f":"IF($J8=\"\",\"\",Datatable_t!I8/2)","v":3.9E-2},{"$f":"IF($J8=\"\",\"\",Datatable_t!J8)","v":0.20580000000000001},{"$f":"IF($J8=\"\",\"\",Datatable_t!K8/2)","v":1.5E-3},{"$f":"IF($J8=\"\",\"\",Datatable_t!F8)","v":8.1699999999999995E-2},{"$f":"IF($J8=\"\",\"\",Datatable_t!G8/2)","v":2E-3},null,null,{"$f":"IF(J8=\"\",\"\",IF(AND(Datatable_t!X8>15,Datatable_t!X8<30),2,IF(OR(Datatable_t!X8>30,Datatable_t!X8<-10),3,1)))","v":1},{"$f":"IF(Datatable_t!A8=\"\",\"\",Datatable_t!A8)","v":"Baclab2N4CII-5"}]
[{"$f":"IF($J9=\"\",\"\",Datatable_t!H9)","v":0.45700000000000002},{"$f":"IF($J9=\"\",\"\",Datatable_t!I9/2)","v":1.15E-2},{"$f":"IF($J9=\"\",\"\",Datatable_t!J9)","v":5.9139999999999998E-2},{"$f":"IF($J9=\"\",\"\",Datatable_t!K9/2)","v":4.95E-4},{"$f":"IF($J9=\"\",\"\",Datatable_t!F9)","v":5.7200000000000001E-2},{"$f":"IF($J9=\"\",\"\",Datatable_t!G9/2)","v":1.8E-3},null,null,{"$f":"IF(J9=\"\",\"\",IF(AND(Datatable_t!X9>15,Datatable_t!X9<30),2,IF(OR(Datatable_t!X9>30,Datatable_t!X9<-10),3,1)))","v":1},{"$f":"IF(Datatable_t!A9=\"\",\"\",Datatable_t!A9)","v":"Baclab2N4CII-6"}]
[{"$f":"IF($J10=\"\",\"\",Datatable_t!H10)","v":0.52300000000000002},{"$f":"IF($J10=\"\",\"\",Datatable_t!I10/2)","v":1.2E-2},{"$f":"IF($J10=\"\",\"\",Datatable_t!J10)","v":6.6710000000000005E-2},{"$f":"IF($J10=\"\",\"\",Datatable_t!K10/2)","v":5.9999999999999995E-4},{"$f":"IF($J10=\"\",\"\",Datatable_t!F10)","v":5.7099999999999998E-2},{"$f":"IF($J10=\"\",\"\",Datatable_t!G10/2)","v":1.6999999999999999E-3},null,null,{"$f":"IF(J10=\"\",\"\",IF(AND(Datatable_t!X10>15,Datatable_t!X10<30),2,IF(OR(Datatable_t!X10>30,Datatable_t!X10<-10),3,1)))","v":1},{"$f":"IF(Datatable_t!A10=\"\",\"\",Datatable_t!A10)","v":"Baclab2N4CII-7"}]
[{"$f":"IF($J11=\"\",\"\",Datatable_t!H11)","v":0.52300000000000002},{"$f":"IF($J11=\"\",\"\",Datatable_t!I11/2)","v":1.0500000000000001E-2},{"$f":"IF($J11=\"\",\"\",Datatable_t!J11)","v":6.6780000000000006E-2},{"$f":"IF($J11=\"\",\"\",Datatable_t!K11/2)","v":5.5000000000000003E-4},{"$f":"IF($J11=\"\",\"\",Datatable_t!F11)","v":5.6899999999999999E-2},{"$f":"IF($J11=\"\",\"\",Datatable_t!G11/2)","v":1.5499999999999999E-3},null,null,{"$f":"IF(J11=\"\",\"\",IF(AND(Datatable_t!X11>15,Datatable_t!X11<30),2,IF(OR(Datatable_t!X11>30,Datatable_t!X11<-10),3,1)))","v":1},{"$f":"IF(Datatable_t!A11=\"\",\"\",Datatable_t!A11)","v":"Baclab2N4CII-8"}]
[{"$f":"IF($J12=\"\",\"\",Datatable_t!H12)","v":0.76700000000000002},{"$f":"IF($J12=\"\",\"\",Datatable_t!I12/2)","v":1.6500000000000001E-2},{"$f":"IF($J12=\"\",\"\",Datatable_t!J12)","v":9.0300000000000005E-2},{"$f":"IF($J12=\"\",\"\",Datatable_t!K12/2)","v":7.5000000000000002E-4},{"$f":"IF($J12=\"\",\"\",Datatable_t!F12)","v":6.1699999999999998E-2},{"$f":"IF($J12=\"\",\"\",Datatable_t!G12/2)","v":1.75E-3},null,null,{"$f":"IF(J12=\"\",\"\",IF(AND(Datatable_t!X12>15,Datatable_t!X12<30),2,IF(OR(Datatable_t!X12>30,Datatable_t!X12<-10),3,1)))","v":1},{"$f":"IF(Datatable_t!A12=\"\",\"\",Datatable_t!A12)","v":"Baclab2N4CII-9"}]
[{"$f":"IF($J13=\"\",\"\",Datatable_t!H13)","v":0.439},{"$f":"IF($J13=\"\",\"\",Datatable_t!I13/2)","v":1.6500000000000001E-2},{"$f":"IF($J13=\"\",\"\",Datatable_t!J13)","v":5.2299999999999999E-2},{"$f":"IF($J13=\"\",\"\",Datatable_t!K13/2)","v":5.9999999999999995E-4},{"$f":"IF($J13=\"\",\"\",Datatable_t!F13)","v":5.9400000000000001E-2},{"$f":"IF($J13=\"\",\"\",Datatable_t!G13/2)","v":2.8500000000000001E-3},null,null,{"$f":"IF(J13=\"\",\"\",IF(AND(Datatable_t!X13>15,Datatable_t!X13<30),2,IF(OR(Datatable_t!X13>30,Datatable_t!X13<-10),3,1)))","v":1},{"$f":"IF(Datatable_t!A13=\"\",\"\",Datatable_t!A13)","v":"Baclab2N4CII-10"}]
[{"$f":"IF($J14=\"\",\"\",Datatable_t!H14)","v":0.96599999999999997},{"$f":"IF($J14=\"\",\"\",Datatable_t!I14/2)","v":1.9E-2},{"$f":"IF($J14=\"\",\"\",Datatable_t!J14)","v":6.4350000000000004E-2},{"$f":"IF($J14=\"\",\"\",Datatable_t!K14/2)","v":6.9999999999999999E-4},{"$f":"IF($J14=\"\",\"\",Datatable_t!F14)","v":0.1075},{"$f":"IF($J14=\"\",\"\",Datatable_t!G14/2)","v":2.8999999999999998E-3},null,null,{"$f":"IF(J14=\"\",\"\",IF(AND(Datatable_t!X14>15,Datatable_t!X14<30),2,IF(OR(Datatable_t!X14>30,Datatable_t!X14<-10),3,1)))","v":3},{"$f":"IF(Datatable_t!A14=\"\",\"\",Datatable_t!A14)","v":"Baclab2N4CII-11"}]
[{"$f":"IF($J15=\"\",\"\",Datatable_t!H15)","v":0.52010000000000001},{"$f":"IF($J15=\"\",\"\",Datatable_t!I15/2)","v":8.5000000000000006E-3},{"$f":"IF($J15=\"\",\"\",Datatable_t!J15)","v":6.8309999999999996E-2},{"$f":"IF($J15=\"\",\"\",Datatable_t!K15/2)","v":5.5000000000000003E-4},{"$f":"IF($J15=\"\",\"\",Datatable_t!F15)","v":5.4510000000000003E-2},{"$f":"IF($J15=\"\",\"\",Datatable_t!G15/2)","v":1.3500000000000001E-3},null,null,{"$f":"IF(J15=\"\",\"\",IF(AND(Datatable_t!X15>15,Datatable_t!X15<30),2,IF(OR(Datatable_t!X15>30,Datatable_t!X15<-10),3,1)))","v":1},{"$f":"IF(Datatable_t!A15=\"\",\"\",Datatable_t!A15)","v":"Baclab2N4CII-12"}]
[{"$f":"IF($J16=\"\",\"\",Datatable_t!H16)","v":0.41899999999999998},{"$f":"IF($J16=\"\",\"\",Datatable_t!I16/2)","v":7.4999999999999997E-3},{"$f":"IF($J16=\"\",\"\",Datatable_t!J16)","v":5.1389999999999998E-2},{"$f":"IF($J16=\"\",\"\",Datatable_t!K16/2)","v":4.6500000000000003E-4},{"$f":"IF($J16=\"\",\"\",Datatable_t!F16)","v":5.8400000000000001E-2},{"$f":"IF($J16=\"\",\"\",Datatable_t!G16/2)","v":1.5E-3},null,null,{"$f":"IF(J16=\"\",\"\",IF(AND(Datatable_t!X16>15,Datatable_t!X16<30),2,IF(OR(Datatable_t!X16>30,Datatable_t!X16<-10),3,1)))","v":1},{"$f":"IF(Datatable_t!A16=\"\",\"\",Datatable_t!A16)","v":"Baclab2N4CII-13"}]
[{"$f":"IF($J17=\"\",\"\",Datatable_t!H17)","v":1.4730000000000001},{"$f":"IF($J17=\"\",\"\",Datatable_t!I17/2)","v":4.1000000000000002E-2},{"$f":"IF($J17=\"\",\"\",Datatable_t!J17)","v":6.6500000000000004E-2},{"$f":"IF($J17=\"\",\"\",Datatable_t!K17/2)","v":6.4999999999999997E-4},{"$f":"IF($J17=\"\",\"\",Datatable_t!F17)","v":0.1573},{"$f":"IF($J17=\"\",\"\",Datatable_t!G17/2)","v":5.4999999999999997E-3},null,null,{"$f":"IF(J17=\"\",\"\",IF(AND(Datatable_t!X17>15,Datatable_t!X17<30),2,IF(OR(Datatable_t!X17>30,Datatable_t!X17<-10),3,1)))","v":3},{"$f":"IF(Datatable_t!A17=\"\",\"\",Datatable_t!A17)","v":"Baclab2N4CII-14"}]
[{"$f":"IF($J18=\"\",\"\",Datatable_t!H18)","v":0.52200000000000002},{"$f":"IF($J18=\"\",\"\",Datatable_t!I18/2)","v":9.4999999999999998E-3},{"$f":"IF($J18=\"\",\"\",Datatable_t!J18)","v":6.9620000000000001E-2},{"$f":"IF($J18=\"\",\"\",Datatable_t!K18/2)","v":5.5000000000000003E-4},{"$f":"IF($J18=\"\",\"\",Datatable_t!F18)","v":5.3699999999999998E-2},{"$f":"IF($J18=\"\",\"\",Datatable_t!G18/2)","v":1.4E-3},null,null,{"$f":"IF(J18=\"\",\"\",IF(AND(Datatable_t!X18>15,Datatable_t!X18<30),2,IF(OR(Datatable_t!X18>30,Datatable_t!X18<-10),3,1)))","v":1},{"$f":"IF(Datatable_t!A18=\"\",\"\",Datatable_t!A18)","v":"Baclab2N4CII-15"}]
[{"$f":"IF($J19=\"\",\"\",Datatable_t!H19)","v":2.19},{"$f":"IF($J19=\"\",\"\",Datatable_t!I19/2)","v":8.5000000000000006E-2},{"$f":"IF($J19=\"\",\"\",Datatable_t!J19)","v":0.2059},{"$f":"IF($J19=\"\",\"\",Datatable_t!K19/2)","v":7.0000000000000001E-3},{"$f":"IF($J19=\"\",\"\",Datatable_t!F19)","v":7.6499999999999999E-2},{"$f":"IF($J19=\"\",\"\",Datatable_t!G19/2)","v":1.9499999999999999E-3},null,null,{"$f":"IF(J19=\"\",\"\",IF(AND(Datatable_t!X19>15,Datatable_t!X19<30),2,IF(OR(Datatable_t!X19>30,Datatable_t!X19<-10),3,1)))","v":1},{"$f":"IF(Datatable_t!A19=\"\",\"\",Datatable_t!A19)","v":"Baclab2N4CII-16"}]
[{"$f":"IF($J20=\"\",\"\",Datatable_t!H20)","v":0.39400000000000002},{"$f":"IF($J20=\"\",\"\",Datatable_t!I20/2)","v":0.01},{"$f":"IF($J20=\"\",\"\",Datatable_t!J20)","v":5.0909999999999997E-2},{"$f":"IF($J20=\"\",\"\",Datatable_t!K20/2)","v":4.35E-4},{"$f":"IF($J20=\"\",\"\",Datatable_t!F20)","v":5.4600000000000003E-2},{"$f":"IF($J20=\"\",\"\",Datatable_t!G20/2)","v":1.8E-3},null,null,{"$f":"IF(J20=\"\",\"\",IF(AND(Datatable_t!X20>15,Datatable_t!X20<30),2,IF(OR(Datatable_t!X20>30,Datatable_t!X20<-10),3,1)))","v":1},{"$f":"IF(Datatable_t!A20=\"\",\"\",Datatable_t!A20)","v":"Baclab2N4CII-17"}]
[{"$f":"IF($J21=\"\",\"\",Datatable_t!H21)","v":0.67700000000000005},{"$f":"IF($J21=\"\",\"\",Datatable_t!I21/2)","v":1.2999999999999999E-2},{"$f":"IF($J21=\"\",\"\",Datatable_t!J21)","v":8.6470000000000005E-2},{"$f":"IF($J21=\"\",\"\",Datatable_t!K21/2)","v":6.9999999999999999E-4},{"$f":"IF($J21=\"\",\"\",Datatable_t!F21)","v":5.6000000000000001E-2},{"$f":"IF($J21=\"\",\"\",Datatable_t!G21/2)","v":1.5E-3},null,null,{"$f":"IF(J21=\"\",\"\",IF(AND(Datatable_t!X21>15,Datatable_t!X21<30),2,IF(OR(Datatable_t!X21>30,Datatable_t!X21<-10),3,1)))","v":1},{"$f":"IF(Datatable_t!A21=\"\",\"\",Datatable_t!A21)","v":"Baclab2N4CII-18"}]
[{"$f":"IF($J22=\"\",\"\",Datatable_t!H22)","v":1.5029999999999999},{"$f":"IF($J22=\"\",\"\",Datatable_t!I22/2)","v":3.3000000000000002E-2},{"$f":"IF($J22=\"\",\"\",Datatable_t!J22)","v":0.1575},{"$f":"IF($J22=\"\",\"\",Datatable_t!K22/2)","v":1.6000000000000001E-3},{"$f":"IF($J22=\"\",\"\",Datatable_t!F22)","v":6.8500000000000005E-2},{"$f":"IF($J22=\"\",\"\",Datatable_t!G22/2)","v":1.8E-3},null,null,{"$f":"IF(J22=\"\",\"\",IF(AND(Datatable_t!X22>15,Datatable_t!X22<30),2,IF(OR(Datatable_t!X22>30,Datatable_t!X22<-10),3,1)))","v":1},{"$f":"IF(Datatable_t!A22=\"\",\"\",Datatable_t!A22)","v":"Baclab2N4CII-19"}]
[{"$f":"IF($J23=\"\",\"\",Datatable_t!H23)","v":0.64600000000000002},{"$f":"IF($J23=\"\",\"\",Datatable_t!I23/2)","v":1.4E-2},{"$f":"IF($J23=\"\",\"\",Datatable_t!J23)","v":8.0699999999999994E-2},{"$f":"IF($J23=\"\",\"\",Datatable_t!K23/2)","v":6.9999999999999999E-4},{"$f":"IF($J23=\"\",\"\",Datatable_t!F23)","v":5.7200000000000001E-2},{"$f":"IF($J23=\"\",\"\",Datatable_t!G23/2)","v":1.6999999999999999E-3},null,null,{"$f":"IF(J23=\"\",\"\",IF(AND(Datatable_t!X23>15,Datatable_t!X23<30),2,IF(OR(Datatable_t!X23>30,Datatable_t!X23<-10),3,1)))","v":1},{"$f":"IF(Datatable_t!A23=\"\",\"\",Datatable_t!A23)","v":"Baclab2N4CII-20"}]
[{"$f":"IF($J24=\"\",\"\",Datatable_t!H24)","v":0.68700000000000006},{"$f":"IF($J24=\"\",\"\",Datatable_t!I24/2)","v":2.1000000000000001E-2},{"$f":"IF($J24=\"\",\"\",Datatable_t!J24)","v":6.4570000000000002E-2},{"$f":"IF($J24=\"\",\"\",Datatable_t!K24/2)","v":5.5000000000000003E-4},{"$f":"IF($J24=\"\",\"\",Datatable_t!F24)","v":7.6700000000000004E-2},{"$f":"IF($J24=\"\",\"\",Datatable_t!G24/2)","v":2.5999999999999999E-3},null,null,{"$f":"IF(J24=\"\",\"\",IF(AND(Datatable_t!X24>15,Datatable_t!X24<30),2,IF(OR(Datatable_t!X24>30,Datatable_t!X24<-10),3,1)))","v":2},{"$f":"IF(Datatable_t!A24=\"\",\"\",Datatable_t!A24)","v":"Baclab2N4CII-21"}]
[{"$f":"IF($J25=\"\",\"\",Datatable_t!H25)","v":1.8979999999999999},{"$f":"IF($J25=\"\",\"\",Datatable_t!I25/2)","v":6.5000000000000002E-2},{"$f":"IF($J25=\"\",\"\",Datatable_t!J25)","v":0.17780000000000001},{"$f":"IF($J25=\"\",\"\",Datatable_t!K25/2)","v":5.0000000000000001E-3},{"$f":"IF($J25=\"\",\"\",Datatable_t!F25)","v":7.7100000000000002E-2},{"$f":"IF($J25=\"\",\"\",Datatable_t!G25/2)","v":1.9E-3},null,null,{"$f":"IF(J25=\"\",\"\",IF(AND(Datatable_t!X25>15,Datatable_t!X25<30),2,IF(OR(Datatable_t!X25>30,Datatable_t!X25<-10),3,1)))","v":1},{"$f":"IF(Datatable_t!A25=\"\",\"\",Datatable_t!A25)","v":"Baclab2N4CII-22"}]
[{"$f":"IF($J26=\"\",\"\",Datatable_t!H26)","v":0.72499999999999998},{"$f":"IF($J26=\"\",\"\",Datatable_t!I26/2)","v":1.7500000000000002E-2},{"$f":"IF($J26=\"\",\"\",Datatable_t!J26)","v":8.77E-2},{"$f":"IF($J26=\"\",\"\",Datatable_t!K26/2)","v":6.9999999999999999E-4},{"$f":"IF($J26=\"\",\"\",Datatable_t!F26)","v":0.06},{"$f":"IF($J26=\"\",\"\",Datatable_t!G26/2)","v":1.8500000000000001E-3},null,null,{"$f":"IF(J26=\"\",\"\",IF(AND(Datatable_t!X26>15,Datatable_t!X26<30),2,IF(OR(Datatable_t!X26>30,Datatable_t!X26<-10),3,1)))","v":1},{"$f":"IF(Datatable_t!A26=\"\",\"\",Datatable_t!A26)","v":"Baclab2N4CII-23"}]
[{"$f":"IF($J27=\"\",\"\",Datatable_t!H27)","v":0.81499999999999995},{"$f":"IF($J27=\"\",\"\",Datatable_t!I27/2)","v":2.5000000000000001E-2},{"$f":"IF($J27=\"\",\"\",Datatable_t!J27)","v":0.1014},{"$f":"IF($J27=\"\",\"\",Datatable_t!K27/2)","v":1.15E-3},{"$f":"IF($J27=\"\",\"\",Datatable_t!F27)","v":5.74E-2},{"$f":"IF($J27=\"\",\"\",Datatable_t!G27/2)","v":2.2000000000000001E-3},null,null,{"$f":"IF(J27=\"\",\"\",IF(AND(Datatable_t!X27>15,Datatable_t!X27<30),2,IF(OR(Datatable_t!X27>30,Datatable_t!X27<-10),3,1)))","v":1},{"$f":"IF(Datatable_t!A27=\"\",\"\",Datatable_t!A27)","v":"Baclab2N4CII-24"}]
[{"$f":"IF($J28=\"\",\"\",Datatable_t!H28)","v":2.6509999999999998},{"$f":"IF($J28=\"\",\"\",Datatable_t!I28/2)","v":4.8000000000000001E-2},{"$f":"IF($J28=\"\",\"\",Datatable_t!J28)","v":0.20949999999999999},{"$f":"IF($J28=\"\",\"\",Datatable_t!K28/2)","v":1.75E-3},{"$f":"IF($J28=\"\",\"\",Datatable_t!F28)","v":9.0999999999999998E-2},{"$f":"IF($J28=\"\",\"\",Datatable_t!G28/2)","v":2.3E-3},null,null,{"$f":"IF(J28=\"\",\"\",IF(AND(Datatable_t!X28>15,Datatable_t!X28<30),2,IF(OR(Datatable_t!X28>30,Datatable_t!X28<-10),3,1)))","v":1},{"$f":"IF(Datatable_t!A28=\"\",\"\",Datatable_t!A28)","v":"Baclab2N4CII-25"}]
[{"$f":"IF($J29=\"\",\"\",Datatable_t!H29)","v":0.91900000000000004},{"$f":"IF($J29=\"\",\"\",Datatable_t!I29/2)","v":2.0500000000000001E-2},{"$f":"IF($J29=\"\",\"\",Datatable_t!J29)","v":8.7859999999999994E-2},{"$f":"IF($J29=\"\",\"\",Datatable_t!K29/2)","v":7.5000000000000002E-4},{"$f":"IF($J29=\"\",\"\",Datatable_t!F29)","v":7.4899999999999994E-2},{"$f":"IF($J29=\"\",\"\",Datatable_t!G29/2)","v":2.0999999999999999E-3},null,null,{"$f":"IF(J29=\"\",\"\",IF(AND(Datatable_t!X29>15,Datatable_t!X29<30),2,IF(OR(Datatable_t!X29>30,Datatable_t!X29<-10),3,1)))","v":2},{"$f":"IF(Datatable_t!A29=\"\",\"\",Datatable_t!A29)","v":"Baclab2N4CII-26"}]
[{"$f":"IF($J30=\"\",\"\",Datatable_t!H30)","v":2.38},{"$f":"IF($J30=\"\",\"\",Datatable_t!I30/2)","v":4.1000000000000002E-2},{"$f":"IF($J30=\"\",\"\",Datatable_t!J30)","v":0.2107},{"$f":"IF($J30=\"\",\"\",Datatable_t!K30/2)","v":1.6000000000000001E-3},{"$f":"IF($J30=\"\",\"\",Datatable_t!F30)","v":8.1299999999999997E-2},{"$f":"IF($J30=\"\",\"\",Datatable_t!G30/2)","v":2.0500000000000002E-3},null,null,{"$f":"IF(J30=\"\",\"\",IF(AND(Datatable_t!X30>15,Datatable_t!X30<30),2,IF(OR(Datatable_t!X30>30,Datatable_t!X30<-10),3,1)))","v":1},{"$f":"IF(Datatable_t!A30=\"\",\"\",Datatable_t!A30)","v":"Baclab2N4CII-27"}]
[{"$f":"IF($J31=\"\",\"\",Datatable_t!H31)","v":0.96699999999999997},{"$f":"IF($J31=\"\",\"\",Datatable_t!I31/2)","v":4.5999999999999999E-2},{"$f":"IF($J31=\"\",\"\",Datatable_t!J31)","v":6.9699999999999998E-2},{"$f":"IF($J31=\"\",\"\",Datatable_t!K31/2)","v":8.0000000000000004E-4},{"$f":"IF($J31=\"\",\"\",Datatable_t!F31)","v":9.9000000000000005E-2},{"$f":"IF($J31=\"\",\"\",Datatable_t!G31/2)","v":4.5500000000000002E-3},null,null,{"$f":"IF(J31=\"\",\"\",IF(AND(Datatable_t!X31>15,Datatable_t!X31<30),2,IF(OR(Datatable_t!X31>30,Datatable_t!X31<-10),3,1)))","v":3},{"$f":"IF(Datatable_t!A31=\"\",\"\",Datatable_t!A31)","v":"Baclab2N4CII-28"}]
[{"$f":"IF($J32=\"\",\"\",Datatable_t!H32)","v":0.88},{"$f":"IF($J32=\"\",\"\",Datatable_t!I32/2)","v":1.6E-2},{"$f":"IF($J32=\"\",\"\",Datatable_t!J32)","v":8.8200000000000001E-2},{"$f":"IF($J32=\"\",\"\",Datatable_t!K32/2)","v":7.5000000000000002E-4},{"$f":"IF($J32=\"\",\"\",Datatable_t!F32)","v":7.2499999999999995E-2},{"$f":"IF($J32=\"\",\"\",Datatable_t!G32/2)","v":1.9E-3},null,null,{"$f":"IF(J32=\"\",\"\",IF(AND(Datatable_t!X32>15,Datatable_t!X32<30),2,IF(OR(Datatable_t!X32>30,Datatable_t!X32<-10),3,1)))","v":1},{"$f":"IF(Datatable_t!A32=\"\",\"\",Datatable_t!A32)","v":"Baclab2N4CII-29"}]
[{"$f":"IF($J33=\"\",\"\",Datatable_t!H33)","v":0.73599999999999999},{"$f":"IF($J33=\"\",\"\",Datatable_t!I33/2)","v":2.1499999999999998E-2},{"$f":"IF($J33=\"\",\"\",Datatable_t!J33)","v":8.5099999999999995E-2},{"$f":"IF($J33=\"\",\"\",Datatable_t!K33/2)","v":8.0000000000000004E-4},{"$f":"IF($J33=\"\",\"\",Datatable_t!F33)","v":6.3500000000000001E-2},{"$f":"IF($J33=\"\",\"\",Datatable_t!G33/2)","v":2.15E-3},null,null,{"$f":"IF(J33=\"\",\"\",IF(AND(Datatable_t!X33>15,Datatable_t!X33<30),2,IF(OR(Datatable_t!X33>30,Datatable_t!X33<-10),3,1)))","v":1},{"$f":"IF(Datatable_t!A33=\"\",\"\",Datatable_t!A33)","v":"Baclab2N4CII-30"}]
[{"$f":"IF($J34=\"\",\"\",Datatable_t!H34)","v":1.92},{"$f":"IF($J34=\"\",\"\",Datatable_t!I34/2)","v":3.7499999999999999E-2},{"$f":"IF($J34=\"\",\"\",Datatable_t!J34)","v":0.1757},{"$f":"IF($J34=\"\",\"\",Datatable_t!K34/2)","v":3.0000000000000001E-3},{"$f":"IF($J34=\"\",\"\",Datatable_t!F34)","v":8.0500000000000002E-2},{"$f":"IF($J34=\"\",\"\",Datatable_t!G34/2)","v":2.3E-3},null,null,{"$f":"IF(J34=\"\",\"\",IF(AND(Datatable_t!X34>15,Datatable_t!X34<30),2,IF(OR(Datatable_t!X34>30,Datatable_t!X34<-10),3,1)))","v":1},{"$f":"IF(Datatable_t!A34=\"\",\"\",Datatable_t!A34)","v":"Baclab2N4CII-31"}]
[{"$f":"IF($J35=\"\",\"\",Datatable_t!H35)","v":0.73399999999999999},{"$f":"IF($J35=\"\",\"\",Datatable_t!I35/2)","v":1.4500000000000001E-2},{"$f":"IF($J35=\"\",\"\",Datatable_t!J35)","v":8.7599999999999997E-2},{"$f":"IF($J35=\"\",\"\",Datatable_t!K35/2)","v":6.9999999999999999E-4},{"$f":"IF($J35=\"\",\"\",Datatable_t!F35)","v":6.1499999999999999E-2},{"$f":"IF($J35=\"\",\"\",Datatable_t!G35/2)","v":1.65E-3},null,null,{"$f":"IF(J35=\"\",\"\",IF(AND(Datatable_t!X35>15,Datatable_t!X35<30),2,IF(OR(Datatable_t!X35>30,Datatable_t!X35<-10),3,1)))","v":1},{"$f":"IF(Datatable_t!A35=\"\",\"\",Datatable_t!A35)","v":"Baclab2N4CII-32"}]
[{"$f":"IF($J36=\"\",\"\",Datatable_t!H36)","v":1.68},{"$f":"IF($J36=\"\",\"\",Datatable_t!I36/2)","v":3.3000000000000002E-2},{"$f":"IF($J36=\"\",\"\",Datatable_t!J36)","v":0.16980000000000001},{"$f":"IF($J36=\"\",\"\",Datatable_t!K36/2)","v":1.4499999999999999E-3},{"$f":"IF($J36=\"\",\"\",Datatable_t!F36)","v":7.2300000000000003E-2},{"$f":"IF($J36=\"\",\"\",Datatable_t!G36/2)","v":1.9499999999999999E-3},null,null,{"$f":"IF(J36=\"\",\"\",IF(AND(Datatable_t!X36>15,Datatable_t!X36<30),2,IF(OR(Datatable_t!X36>30,Datatable_t!X36<-10),3,1)))","v":1},{"$f":"IF(Datatable_t!A36=\"\",\"\",Datatable_t!A36)","v":"Baclab2N4CII-33"}]
[{"$f":"IF($J37=\"\",\"\",Datatable_t!H37)","v":3.6389999999999998},{"$f":"IF($J37=\"\",\"\",Datatable_t!I37/2)","v":6.5000000000000002E-2},{"$f":"IF($J37=\"\",\"\",Datatable_t!J37)","v":0.27150000000000002},{"$f":"IF($J37=\"\",\"\",Datatable_t!K37/2)","v":2.15E-3},{"$f":"IF($J37=\"\",\"\",Datatable_t!F37)","v":9.8500000000000004E-2},{"$f":"IF($J37=\"\",\"\",Datatable_t!G37/2)","v":2.5000000000000001E-3},null,null,{"$f":"IF(J37=\"\",\"\",IF(AND(Datatable_t!X37>15,Datatable_t!X37<30),2,IF(OR(Datatable_t!X37>30,Datatable_t!X37<-10),3,1)))","v":1},{"$f":"IF(Datatable_t!A37=\"\",\"\",Datatable_t!A37)","v":"Baclab2N4CII-34"}]
[{"$f":"IF($J38=\"\",\"\",Datatable_t!H38)","v":2.149},{"$f":"IF($J38=\"\",\"\",Datatable_t!I38/2)","v":3.7999999999999999E-2},{"$f":"IF($J38=\"\",\"\",Datatable_t!J38)","v":0.1991},{"$f":"IF($J38=\"\",\"\",Datatable_t!K38/2)","v":1.4499999999999999E-3},{"$f":"IF($J38=\"\",\"\",Datatable_t!F38)","v":7.8100000000000003E-2},{"$f":"IF($J38=\"\",\"\",Datatable_t!G38/2)","v":2E-3},null,null,{"$f":"IF(J38=\"\",\"\",IF(AND(Datatable_t!X38>15,Datatable_t!X38<30),2,IF(OR(Datatable_t!X38>30,Datatable_t!X38<-10),3,1)))","v":1},{"$f":"IF(Datatable_t!A38=\"\",\"\",Datatable_t!A38)","v":"Baclab2N4CII-35"}]
[{"$f":"IF($J39=\"\",\"\",Datatable_t!H39)","v":0.55500000000000005},{"$f":"IF($J39=\"\",\"\",Datatable_t!I39/2)","v":1.2500000000000001E-2},{"$f":"IF($J39=\"\",\"\",Datatable_t!J39)","v":6.9970000000000004E-2},{"$f":"IF($J39=\"\",\"\",Datatable_t!K39/2)","v":5.9999999999999995E-4},{"$f":"IF($J39=\"\",\"\",Datatable_t!F39)","v":5.9200000000000003E-2},{"$f":"IF($J39=\"\",\"\",Datatable_t!G39/2)","v":1.6999999999999999E-3},null,null,{"$f":"IF(J39=\"\",\"\",IF(AND(Datatable_t!X39>15,Datatable_t!X39<30),2,IF(OR(Datatable_t!X39>30,Datatable_t!X39<-10),3,1)))","v":1},{"$f":"IF(Datatable_t!A39=\"\",\"\",Datatable_t!A39)","v":"Baclab2N4CII-36"}]
[{"$f":"IF($J40=\"\",\"\",Datatable_t!H40)","v":0.45500000000000002},{"$f":"IF($J40=\"\",\"\",Datatable_t!I40/2)","v":2.1999999999999999E-2},{"$f":"IF($J40=\"\",\"\",Datatable_t!J40)","v":6.2300000000000001E-2},{"$f":"IF($J40=\"\",\"\",Datatable_t!K40/2)","v":8.4999999999999995E-4},{"$f":"IF($J40=\"\",\"\",Datatable_t!F40)","v":5.3199999999999997E-2},{"$f":"IF($J40=\"\",\"\",Datatable_t!G40/2)","v":2.8500000000000001E-3},null,null,{"$f":"IF(J40=\"\",\"\",IF(AND(Datatable_t!X40>15,Datatable_t!X40<30),2,IF(OR(Datatable_t!X40>30,Datatable_t!X40<-10),3,1)))","v":1},{"$f":"IF(Datatable_t!A40=\"\",\"\",Datatable_t!A40)","v":"Baclab2N4CII-37"}]
[{"$f":"IF($J41=\"\",\"\",Datatable_t!H41)","v":0.54200000000000004},{"$f":"IF($J41=\"\",\"\",Datatable_t!I41/2)","v":5.5E-2},{"$f":"IF($J41=\"\",\"\",Datatable_t!J41)","v":5.3999999999999999E-2},{"$f":"IF($J41=\"\",\"\",Datatable_t!K41/2)","v":6.9999999999999999E-4},{"$f":"IF($J41=\"\",\"\",Datatable_t!F41)","v":7.6899999999999996E-2},{"$f":"IF($J41=\"\",\"\",Datatable_t!G41/2)","v":7.0000000000000001E-3},null,null,{"$f":"IF(J41=\"\",\"\",IF(AND(Datatable_t!X41>15,Datatable_t!X41<30),2,IF(OR(Datatable_t!X41>30,Datatable_t!X41<-10),3,1)))","v":2},{"$f":"IF(Datatable_t!A41=\"\",\"\",Datatable_t!A41)","v":"Baclab2N4CII-38"}]
[{"$f":"IF($J42=\"\",\"\",Datatable_t!H42)","v":2.6619999999999999},{"$f":"IF($J42=\"\",\"\",Datatable_t!I42/2)","v":0.05},{"$f":"IF($J42=\"\",\"\",Datatable_t!J42)","v":0.22550000000000001},{"$f":"IF($J42=\"\",\"\",Datatable_t!K42/2)","v":1.9E-3},{"$f":"IF($J42=\"\",\"\",Datatable_t!F42)","v":8.7599999999999997E-2},{"$f":"IF($J42=\"\",\"\",Datatable_t!G42/2)","v":2.4499999999999999E-3},null,null,{"$f":"IF(J42=\"\",\"\",IF(AND(Datatable_t!X42>15,Datatable_t!X42<30),2,IF(OR(Datatable_t!X42>30,Datatable_t!X42<-10),3,1)))","v":1},{"$f":"IF(Datatable_t!A42=\"\",\"\",Datatable_t!A42)","v":"Baclab2N4CII-39"}]
[{"$f":"IF($J43=\"\",\"\",Datatable_t!H43)","v":0.52200000000000002},{"$f":"IF($J43=\"\",\"\",Datatable_t!I43/2)","v":1.15E-2},{"$f":"IF($J43=\"\",\"\",Datatable_t!J43)","v":6.5509999999999999E-2},{"$f":"IF($J43=\"\",\"\",Datatable_t!K43/2)","v":5.0000000000000001E-4},{"$f":"IF($J43=\"\",\"\",Datatable_t!F43)","v":5.8700000000000002E-2},{"$f":"IF($J43=\"\",\"\",Datatable_t!G43/2)","v":1.6999999999999999E-3},null,null,{"$f":"IF(J43=\"\",\"\",IF(AND(Datatable_t!X43>15,Datatable_t!X43<30),2,IF(OR(Datatable_t!X43>30,Datatable_t!X43<-10),3,1)))","v":1},{"$f":"IF(Datatable_t!A43=\"\",\"\",Datatable_t!A43)","v":"Baclab2N4CII-40"}]
[{"$f":"IF($J44=\"\",\"\",Datatable_t!H44)","v":3.5920000000000001},{"$f":"IF($J44=\"\",\"\",Datatable_t!I44/2)","v":0.06},{"$f":"IF($J44=\"\",\"\",Datatable_t!J44)","v":0.26900000000000002},{"$f":"IF($J44=\"\",\"\",Datatable_t!K44/2)","v":2.0500000000000002E-3},{"$f":"IF($J44=\"\",\"\",Datatable_t!F44)","v":9.8100000000000007E-2},{"$f":"IF($J44=\"\",\"\",Datatable_t!G44/2)","v":2.5000000000000001E-3},null,null,{"$f":"IF(J44=\"\",\"\",IF(AND(Datatable_t!X44>15,Datatable_t!X44<30),2,IF(OR(Datatable_t!X44>30,Datatable_t!X44<-10),3,1)))","v":1},{"$f":"IF(Datatable_t!A44=\"\",\"\",Datatable_t!A44)","v":"Baclab2N4CII-41"}]
[{"$f":"IF($J45=\"\",\"\",Datatable_t!H45)","v":0.82599999999999996},{"$f":"IF($J45=\"\",\"\",Datatable_t!I45/2)","v":1.9E-2},{"$f":"IF($J45=\"\",\"\",Datatable_t!J45)","v":9.3299999999999994E-2},{"$f":"IF($J45=\"\",\"\",Datatable_t!K45/2)","v":8.9999999999999998E-4},{"$f":"IF($J45=\"\",\"\",Datatable_t!F45)","v":6.54E-2},{"$f":"IF($J45=\"\",\"\",Datatable_t!G45/2)","v":1.9E-3},null,null,{"$f":"IF(J45=\"\",\"\",IF(AND(Datatable_t!X45>15,Datatable_t!X45<30),2,IF(OR(Datatable_t!X45>30,Datatable_t!X45<-10),3,1)))","v":1},{"$f":"IF(Datatable_t!A45=\"\",\"\",Datatable_t!A45)","v":"Baclab2N4CII-42"}]
[{"$f":"IF($J46=\"\",\"\",Datatable_t!H46)","v":0.67200000000000004},{"$f":"IF($J46=\"\",\"\",Datatable_t!I46/2)","v":1.8499999999999999E-2},{"$f":"IF($J46=\"\",\"\",Datatable_t!J46)","v":8.0799999999999997E-2},{"$f":"IF($J46=\"\",\"\",Datatable_t!K46/2)","v":8.4999999999999995E-4},{"$f":"IF($J46=\"\",\"\",Datatable_t!F46)","v":6.1800000000000001E-2},{"$f":"IF($J46=\"\",\"\",Datatable_t!G46/2)","v":2.2000000000000001E-3},null,null,{"$f":"IF(J46=\"\",\"\",IF(AND(Datatable_t!X46>15,Datatable_t!X46<30),2,IF(OR(Datatable_t!X46>30,Datatable_t!X46<-10),3,1)))","v":1},{"$f":"IF(Datatable_t!A46=\"\",\"\",Datatable_t!A46)","v":"Baclab2N4CII-43"}]
[{"$f":"IF($J47=\"\",\"\",Datatable_t!H47)","v":0.40400000000000003},{"$f":"IF($J47=\"\",\"\",Datatable_t!I47/2)","v":8.0000000000000002E-3},{"$f":"IF($J47=\"\",\"\",Datatable_t!J47)","v":5.1529999999999999E-2},{"$f":"IF($J47=\"\",\"\",Datatable_t!K47/2)","v":4.0999999999999999E-4},{"$f":"IF($J47=\"\",\"\",Datatable_t!F47)","v":5.74E-2},{"$f":"IF($J47=\"\",\"\",Datatable_t!G47/2)","v":1.6000000000000001E-3},null,null,{"$f":"IF(J47=\"\",\"\",IF(AND(Datatable_t!X47>15,Datatable_t!X47<30),2,IF(OR(Datatable_t!X47>30,Datatable_t!X47<-10),3,1)))","v":1},{"$f":"IF(Datatable_t!A47=\"\",\"\",Datatable_t!A47)","v":"Baclab2N4CII-44"}]
[{"$f":"IF($J48=\"\",\"\",Datatable_t!H48)","v":0.93300000000000005},{"$f":"IF($J48=\"\",\"\",Datatable_t!I48/2)","v":1.7999999999999999E-2},{"$f":"IF($J48=\"\",\"\",Datatable_t!J48)","v":9.9099999999999994E-2},{"$f":"IF($J48=\"\",\"\",Datatable_t!K48/2)","v":8.4999999999999995E-4},{"$f":"IF($J48=\"\",\"\",Datatable_t!F48)","v":6.7799999999999999E-2},{"$f":"IF($J48=\"\",\"\",Datatable_t!G48/2)","v":1.75E-3},null,null,{"$f":"IF(J48=\"\",\"\",IF(AND(Datatable_t!X48>15,Datatable_t!X48<30),2,IF(OR(Datatable_t!X48>30,Datatable_t!X48<-10),3,1)))","v":1},{"$f":"IF(Datatable_t!A48=\"\",\"\",Datatable_t!A48)","v":"Baclab2N4CII-45"}]
[{"$f":"IF($J49=\"\",\"\",Datatable_t!H49)","v":0.876},{"$f":"IF($J49=\"\",\"\",Datatable_t!I49/2)","v":1.7500000000000002E-2},{"$f":"IF($J49=\"\",\"\",Datatable_t!J49)","v":9.8400000000000001E-2},{"$f":"IF($J49=\"\",\"\",Datatable_t!K49/2)","v":8.0000000000000004E-4},{"$f":"IF($J49=\"\",\"\",Datatable_t!F49)","v":6.4699999999999994E-2},{"$f":"IF($J49=\"\",\"\",Datatable_t!G49/2)","v":1.75E-3},null,null,{"$f":"IF(J49=\"\",\"\",IF(AND(Datatable_t!X49>15,Datatable_t!X49<30),2,IF(OR(Datatable_t!X49>30,Datatable_t!X49<-10),3,1)))","v":1},{"$f":"IF(Datatable_t!A49=\"\",\"\",Datatable_t!A49)","v":"Baclab2N4CII-46"}]
[{"$f":"IF($J50=\"\",\"\",Datatable_t!H50)","v":2.44},{"$f":"IF($J50=\"\",\"\",Datatable_t!I50/2)","v":0.05},{"$f":"IF($J50=\"\",\"\",Datatable_t!J50)","v":0.2016},{"$f":"IF($J50=\"\",\"\",Datatable_t!K50/2)","v":1.8500000000000001E-3},{"$f":"IF($J50=\"\",\"\",Datatable_t!F50)","v":8.8300000000000003E-2},{"$f":"IF($J50=\"\",\"\",Datatable_t!G50/2)","v":2.5000000000000001E-3},null,null,{"$f":"IF(J50=\"\",\"\",IF(AND(Datatable_t!X50>15,Datatable_t!X50<30),2,IF(OR(Datatable_t!X50>30,Datatable_t!X50<-10),3,1)))","v":1},{"$f":"IF(Datatable_t!A50=\"\",\"\",Datatable_t!A50)","v":"Baclab2N4CII-47"}]
[{"$f":"IF($J51=\"\",\"\",Datatable_t!H51)","v":2.766},{"$f":"IF($J51=\"\",\"\",Datatable_t!I51/2)","v":4.8500000000000001E-2},{"$f":"IF($J51=\"\",\"\",Datatable_t!J51)","v":0.22450000000000001},{"$f":"IF($J51=\"\",\"\",Datatable_t!K51/2)","v":1.8500000000000001E-3},{"$f":"IF($J51=\"\",\"\",Datatable_t!F51)","v":8.9300000000000004E-2},{"$f":"IF($J51=\"\",\"\",Datatable_t!G51/2)","v":2.3999999999999998E-3},null,null,{"$f":"IF(J51=\"\",\"\",IF(AND(Datatable_t!X51>15,Datatable_t!X51<30),2,IF(OR(Datatable_t!X51>30,Datatable_t!X51<-10),3,1)))","v":1},{"$f":"IF(Datatable_t!A51=\"\",\"\",Datatable_t!A51)","v":"Baclab2N4CII-48"}]
[{"$f":"IF($J52=\"\",\"\",Datatable_t!H52)","v":0.61899999999999999},{"$f":"IF($J52=\"\",\"\",Datatable_t!I52/2)","v":2.5999999999999999E-2},{"$f":"IF($J52=\"\",\"\",Datatable_t!J52)","v":6.0900000000000003E-2},{"$f":"IF($J52=\"\",\"\",Datatable_t!K52/2)","v":6.4999999999999997E-4},{"$f":"IF($J52=\"\",\"\",Datatable_t!F52)","v":7.4300000000000005E-2},{"$f":"IF($J52=\"\",\"\",Datatable_t!G52/2)","v":3.3E-3},null,null,{"$f":"IF(J52=\"\",\"\",IF(AND(Datatable_t!X52>15,Datatable_t!X52<30),2,IF(OR(Datatable_t!X52>30,Datatable_t!X52<-10),3,1)))","v":2},{"$f":"IF(Datatable_t!A52=\"\",\"\",Datatable_t!A52)","v":"Baclab2N4CII-49"}]
[{"$f":"IF($J53=\"\",\"\",Datatable_t!H53)","v":1.8420000000000001},{"$f":"IF($J53=\"\",\"\",Datatable_t!I53/2)","v":3.3500000000000002E-2},{"$f":"IF($J53=\"\",\"\",Datatable_t!J53)","v":0.1719},{"$f":"IF($J53=\"\",\"\",Datatable_t!K53/2)","v":1.4E-3},{"$f":"IF($J53=\"\",\"\",Datatable_t!F53)","v":7.7100000000000002E-2},{"$f":"IF($J53=\"\",\"\",Datatable_t!G53/2)","v":1.9499999999999999E-3},null,null,{"$f":"IF(J53=\"\",\"\",IF(AND(Datatable_t!X53>15,Datatable_t!X53<30),2,IF(OR(Datatable_t!X53>30,Datatable_t!X53<-10),3,1)))","v":1},{"$f":"IF(Datatable_t!A53=\"\",\"\",Datatable_t!A53)","v":"Baclab2N4CII-50"}]
[{"$f":"IF($J54=\"\",\"\",Datatable_t!H54)","v":0.38800000000000001},{"$f":"IF($J54=\"\",\"\",Datatable_t!I54/2)","v":1.4E-2},{"$f":"IF($J54=\"\",\"\",Datatable_t!J54)","v":5.2159999999999998E-2},{"$f":"IF($J54=\"\",\"\",Datatable_t!K54/2)","v":5.5000000000000003E-4},{"$f":"IF($J54=\"\",\"\",Datatable_t!F54)","v":5.4300000000000001E-2},{"$f":"IF($J54=\"\",\"\",Datatable_t!G54/2)","v":2.3E-3},null,null,{"$f":"IF(J54=\"\",\"\",IF(AND(Datatable_t!X54>15,Datatable_t!X54<30),2,IF(OR(Datatable_t!X54>30,Datatable_t!X54<-10),3,1)))","v":1},{"$f":"IF(Datatable_t!A54=\"\",\"\",Datatable_t!A54)","v":"Baclab2N4CII-51"}]
[{"$f":"IF($J55=\"\",\"\",Datatable_t!H55)","v":0.70499999999999996},{"$f":"IF($J55=\"\",\"\",Datatable_t!I55/2)","v":1.7000000000000001E-2},{"$f":"IF($J55=\"\",\"\",Datatable_t!J55)","v":8.6699999999999999E-2},{"$f":"IF($J55=\"\",\"\",Datatable_t!K55/2)","v":8.0000000000000004E-4},{"$f":"IF($J55=\"\",\"\",Datatable_t!F55)","v":5.9499999999999997E-2},{"$f":"IF($J55=\"\",\"\",Datatable_t!G55/2)","v":1.8500000000000001E-3},null,null,{"$f":"IF(J55=\"\",\"\",IF(AND(Datatable_t!X55>15,Datatable_t!X55<30),2,IF(OR(Datatable_t!X55>30,Datatable_t!X55<-10),3,1)))","v":1},{"$f":"IF(Datatable_t!A55=\"\",\"\",Datatable_t!A55)","v":"Baclab2N4CII-52"}]
[{"$f":"IF($J56=\"\",\"\",Datatable_t!H56)","v":0.70799999999999996},{"$f":"IF($J56=\"\",\"\",Datatable_t!I56/2)","v":1.35E-2},{"$f":"IF($J56=\"\",\"\",Datatable_t!J56)","v":8.0399999999999999E-2},{"$f":"IF($J56=\"\",\"\",Datatable_t!K56/2)","v":5.9999999999999995E-4},{"$f":"IF($J56=\"\",\"\",Datatable_t!F56)","v":6.4399999999999999E-2},{"$f":"IF($J56=\"\",\"\",Datatable_t!G56/2)","v":1.65E-3},null,null,{"$f":"IF(J56=\"\",\"\",IF(AND(Datatable_t!X56>15,Datatable_t!X56<30),2,IF(OR(Datatable_t!X56>30,Datatable_t!X56<-10),3,1)))","v":1},{"$f":"IF(Datatable_t!A56=\"\",\"\",Datatable_t!A56)","v":"Baclab2N4CII-53"}]
[{"$f":"IF($J57=\"\",\"\",Datatable_t!H57)","v":2.6680000000000001},{"$f":"IF($J57=\"\",\"\",Datatable_t!I57/2)","v":0.06},{"$f":"IF($J57=\"\",\"\",Datatable_t!J57)","v":0.22800000000000001},{"$f":"IF($J57=\"\",\"\",Datatable_t!K57/2)","v":1.9499999999999999E-3},{"$f":"IF($J57=\"\",\"\",Datatable_t!F57)","v":8.5099999999999995E-2},{"$f":"IF($J57=\"\",\"\",Datatable_t!G57/2)","v":2.5000000000000001E-3},null,null,{"$f":"IF(J57=\"\",\"\",IF(AND(Datatable_t!X57>15,Datatable_t!X57<30),2,IF(OR(Datatable_t!X57>30,Datatable_t!X57<-10),3,1)))","v":1},{"$f":"IF(Datatable_t!A57=\"\",\"\",Datatable_t!A57)","v":"Baclab2N4CII-54"}]
[{"$f":"IF($J58=\"\",\"\",Datatable_t!H58)","v":1.804},{"$f":"IF($J58=\"\",\"\",Datatable_t!I58/2)","v":0.115},{"$f":"IF($J58=\"\",\"\",Datatable_t!J58)","v":7.4499999999999997E-2},{"$f":"IF($J58=\"\",\"\",Datatable_t!K58/2)","v":1.2999999999999999E-3},{"$f":"IF($J58=\"\",\"\",Datatable_t!F58)","v":0.1757},{"$f":"IF($J58=\"\",\"\",Datatable_t!G58/2)","v":8.5000000000000006E-3},null,null,{"$f":"IF(J58=\"\",\"\",IF(AND(Datatable_t!X58>15,Datatable_t!X58<30),2,IF(OR(Datatable_t!X58>30,Datatable_t!X58<-10),3,1)))","v":3},{"$f":"IF(Datatable_t!A58=\"\",\"\",Datatable_t!A58)","v":"Baclab2N4CII-55"}]
[{"$f":"IF($J59=\"\",\"\",Datatable_t!H59)","v":0.76400000000000001},{"$f":"IF($J59=\"\",\"\",Datatable_t!I59/2)","v":2.5999999999999999E-2},{"$f":"IF($J59=\"\",\"\",Datatable_t!J59)","v":6.3799999999999996E-2},{"$f":"IF($J59=\"\",\"\",Datatable_t!K59/2)","v":8.0000000000000004E-4},{"$f":"IF($J59=\"\",\"\",Datatable_t!F59)","v":8.8999999999999996E-2},{"$f":"IF($J59=\"\",\"\",Datatable_t!G59/2)","v":3.2499999999999999E-3},null,null,{"$f":"IF(J59=\"\",\"\",IF(AND(Datatable_t!X59>15,Datatable_t!X59<30),2,IF(OR(Datatable_t!X59>30,Datatable_t!X59<-10),3,1)))","v":3},{"$f":"IF(Datatable_t!A59=\"\",\"\",Datatable_t!A59)","v":"Baclab2N4CII-56"}]
[{"$f":"IF($J60=\"\",\"\",Datatable_t!H60)","v":1.7889999999999999},{"$f":"IF($J60=\"\",\"\",Datatable_t!I60/2)","v":3.9E-2},{"$f":"IF($J60=\"\",\"\",Datatable_t!J60)","v":0.16980000000000001},{"$f":"IF($J60=\"\",\"\",Datatable_t!K60/2)","v":1.3500000000000001E-3},{"$f":"IF($J60=\"\",\"\",Datatable_t!F60)","v":7.7299999999999994E-2},{"$f":"IF($J60=\"\",\"\",Datatable_t!G60/2)","v":2.3E-3},null,null,{"$f":"IF(J60=\"\",\"\",IF(AND(Datatable_t!X60>15,Datatable_t!X60<30),2,IF(OR(Datatable_t!X60>30,Datatable_t!X60<-10),3,1)))","v":1},{"$f":"IF(Datatable_t!A60=\"\",\"\",Datatable_t!A60)","v":"Baclab2N4CII-57"}]
[{"$f":"IF($J61=\"\",\"\",Datatable_t!H61)","v":1.7310000000000001},{"$f":"IF($J61=\"\",\"\",Datatable_t!I61/2)","v":4.5499999999999999E-2},{"$f":"IF($J61=\"\",\"\",Datatable_t!J61)","v":0.17100000000000001},{"$f":"IF($J61=\"\",\"\",Datatable_t!K61/2)","v":1.6000000000000001E-3},{"$f":"IF($J61=\"\",\"\",Datatable_t!F61)","v":7.3200000000000001E-2},{"$f":"IF($J61=\"\",\"\",Datatable_t!G61/2)","v":2.4499999999999999E-3},null,null,{"$f":"IF(J61=\"\",\"\",IF(AND(Datatable_t!X61>15,Datatable_t!X61<30),2,IF(OR(Datatable_t!X61>30,Datatable_t!X61<-10),3,1)))","v":1},{"$f":"IF(Datatable_t!A61=\"\",\"\",Datatable_t!A61)","v":"Baclab2N4CII-58"}]
[{"$f":"IF($J62=\"\",\"\",Datatable_t!H62)","v":0.38200000000000001},{"$f":"IF($J62=\"\",\"\",Datatable_t!I62/2)","v":0.01},{"$f":"IF($J62=\"\",\"\",Datatable_t!J62)","v":5.2990000000000002E-2},{"$f":"IF($J62=\"\",\"\",Datatable_t!K62/2)","v":5.0000000000000001E-4},{"$f":"IF($J62=\"\",\"\",Datatable_t!F62)","v":5.16E-2},{"$f":"IF($J62=\"\",\"\",Datatable_t!G62/2)","v":1.6999999999999999E-3},null,null,{"$f":"IF(J62=\"\",\"\",IF(AND(Datatable_t!X62>15,Datatable_t!X62<30),2,IF(OR(Datatable_t!X62>30,Datatable_t!X62<-10),3,1)))","v":1},{"$f":"IF(Datatable_t!A62=\"\",\"\",Datatable_t!A62)","v":"Baclab2N4CII-59"}]
[{"$f":"IF($J63=\"\",\"\",Datatable_t!H63)","v":0.40699999999999997},{"$f":"IF($J63=\"\",\"\",Datatable_t!I63/2)","v":1.0999999999999999E-2},{"$f":"IF($J63=\"\",\"\",Datatable_t!J63)","v":5.0900000000000001E-2},{"$f":"IF($J63=\"\",\"\",Datatable_t!K63/2)","v":4.8000000000000001E-4},{"$f":"IF($J63=\"\",\"\",Datatable_t!F63)","v":6.0199999999999997E-2},{"$f":"IF($J63=\"\",\"\",Datatable_t!G63/2)","v":1.9499999999999999E-3},null,null,{"$f":"IF(J63=\"\",\"\",IF(AND(Datatable_t!X63>15,Datatable_t!X63<30),2,IF(OR(Datatable_t!X63>30,Datatable_t!X63<-10),3,1)))","v":1},{"$f":"IF(Datatable_t!A63=\"\",\"\",Datatable_t!A63)","v":"Baclab2N4CII-60"}]
[{"$f":"IF($J64=\"\",\"\",Datatable_t!H64)","v":0.38300000000000001},{"$f":"IF($J64=\"\",\"\",Datatable_t!I64/2)","v":1.0500000000000001E-2},{"$f":"IF($J64=\"\",\"\",Datatable_t!J64)","v":5.2600000000000001E-2},{"$f":"IF($J64=\"\",\"\",Datatable_t!K64/2)","v":4.6999999999999999E-4},{"$f":"IF($J64=\"\",\"\",Datatable_t!F64)","v":5.1700000000000003E-2},{"$f":"IF($J64=\"\",\"\",Datatable_t!G64/2)","v":1.65E-3},null,null,{"$f":"IF(J64=\"\",\"\",IF(AND(Datatable_t!X64>15,Datatable_t!X64<30),2,IF(OR(Datatable_t!X64>30,Datatable_t!X64<-10),3,1)))","v":1},{"$f":"IF(Datatable_t!A64=\"\",\"\",Datatable_t!A64)","v":"Baclab2N4CII-61"}]
[{"$f":"IF($J65=\"\",\"\",Datatable_t!H65)","v":0.52600000000000002},{"$f":"IF($J65=\"\",\"\",Datatable_t!I65/2)","v":1.6500000000000001E-2},{"$f":"IF($J65=\"\",\"\",Datatable_t!J65)","v":5.4300000000000001E-2},{"$f":"IF($J65=\"\",\"\",Datatable_t!K65/2)","v":5.5000000000000003E-4},{"$f":"IF($J65=\"\",\"\",Datatable_t!F65)","v":7.0599999999999996E-2},{"$f":"IF($J65=\"\",\"\",Datatable_t!G65/2)","v":2.3E-3},null,null,{"$f":"IF(J65=\"\",\"\",IF(AND(Datatable_t!X65>15,Datatable_t!X65<30),2,IF(OR(Datatable_t!X65>30,Datatable_t!X65<-10),3,1)))","v":2},{"$f":"IF(Datatable_t!A65=\"\",\"\",Datatable_t!A65)","v":"Baclab2N4CII-62"}]
[{"$f":"IF($J66=\"\",\"\",Datatable_t!H66)","v":0.80200000000000005},{"$f":"IF($J66=\"\",\"\",Datatable_t!I66/2)","v":2.1499999999999998E-2},{"$f":"IF($J66=\"\",\"\",Datatable_t!J66)","v":9.3799999999999994E-2},{"$f":"IF($J66=\"\",\"\",Datatable_t!K66/2)","v":1.0499999999999999E-3},{"$f":"IF($J66=\"\",\"\",Datatable_t!F66)","v":6.2700000000000006E-2},{"$f":"IF($J66=\"\",\"\",Datatable_t!G66/2)","v":1.9499999999999999E-3},null,null,{"$f":"IF(J66=\"\",\"\",IF(AND(Datatable_t!X66>15,Datatable_t!X66<30),2,IF(OR(Datatable_t!X66>30,Datatable_t!X66<-10),3,1)))","v":1},{"$f":"IF(Datatable_t!A66=\"\",\"\",Datatable_t!A66)","v":"Baclab2N4CII-63"}]
[{"$f":"IF($J67=\"\",\"\",Datatable_t!H67)","v":0.67800000000000005},{"$f":"IF($J67=\"\",\"\",Datatable_t!I67/2)","v":1.4500000000000001E-2},{"$f":"IF($J67=\"\",\"\",Datatable_t!J67)","v":0.08},{"$f":"IF($J67=\"\",\"\",Datatable_t!K67/2)","v":6.4999999999999997E-4},{"$f":"IF($J67=\"\",\"\",Datatable_t!F67)","v":6.1400000000000003E-2},{"$f":"IF($J67=\"\",\"\",Datatable_t!G67/2)","v":1.75E-3},null,null,{"$f":"IF(J67=\"\",\"\",IF(AND(Datatable_t!X67>15,Datatable_t!X67<30),2,IF(OR(Datatable_t!X67>30,Datatable_t!X67<-10),3,1)))","v":1},{"$f":"IF(Datatable_t!A67=\"\",\"\",Datatable_t!A67)","v":"Baclab2N4CII-64"}]
[{"$f":"IF($J68=\"\",\"\",Datatable_t!H68)","v":1.58},{"$f":"IF($J68=\"\",\"\",Datatable_t!I68/2)","v":3.2500000000000001E-2},{"$f":"IF($J68=\"\",\"\",Datatable_t!J68)","v":0.1595},{"$f":"IF($J68=\"\",\"\",Datatable_t!K68/2)","v":1.2999999999999999E-3},{"$f":"IF($J68=\"\",\"\",Datatable_t!F68)","v":7.1199999999999999E-2},{"$f":"IF($J68=\"\",\"\",Datatable_t!G68/2)","v":1.9499999999999999E-3},null,null,{"$f":"IF(J68=\"\",\"\",IF(AND(Datatable_t!X68>15,Datatable_t!X68<30),2,IF(OR(Datatable_t!X68>30,Datatable_t!X68<-10),3,1)))","v":1},{"$f":"IF(Datatable_t!A68=\"\",\"\",Datatable_t!A68)","v":"Baclab2N4CII-65"}]
[{"$f":"IF($J69=\"\",\"\",Datatable_t!H69)","v":1.425},{"$f":"IF($J69=\"\",\"\",Datatable_t!I69/2)","v":3.4500000000000003E-2},{"$f":"IF($J69=\"\",\"\",Datatable_t!J69)","v":0.151},{"$f":"IF($J69=\"\",\"\",Datatable_t!K69/2)","v":2.0500000000000002E-3},{"$f":"IF($J69=\"\",\"\",Datatable_t!F69)","v":6.8199999999999997E-2},{"$f":"IF($J69=\"\",\"\",Datatable_t!G69/2)","v":1.8E-3},null,null,{"$f":"IF(J69=\"\",\"\",IF(AND(Datatable_t!X69>15,Datatable_t!X69<30),2,IF(OR(Datatable_t!X69>30,Datatable_t!X69<-10),3,1)))","v":1},{"$f":"IF(Datatable_t!A69=\"\",\"\",Datatable_t!A69)","v":"Baclab2N4CII-66"}]
[{"$f":"IF($J70=\"\",\"\",Datatable_t!H70)","v":1.8120000000000001},{"$f":"IF($J70=\"\",\"\",Datatable_t!I70/2)","v":3.5499999999999997E-2},{"$f":"IF($J70=\"\",\"\",Datatable_t!J70)","v":0.1759},{"$f":"IF($J70=\"\",\"\",Datatable_t!K70/2)","v":1.4499999999999999E-3},{"$f":"IF($J70=\"\",\"\",Datatable_t!F70)","v":7.4499999999999997E-2},{"$f":"IF($J70=\"\",\"\",Datatable_t!G70/2)","v":2E-3},null,null,{"$f":"IF(J70=\"\",\"\",IF(AND(Datatable_t!X70>15,Datatable_t!X70<30),2,IF(OR(Datatable_t!X70>30,Datatable_t!X70<-10),3,1)))","v":1},{"$f":"IF(Datatable_t!A70=\"\",\"\",Datatable_t!A70)","v":"Baclab2N4CII-67"}]
[{"$f":"IF($J71=\"\",\"\",Datatable_t!H71)","v":1.88},{"$f":"IF($J71=\"\",\"\",Datatable_t!I71/2)","v":3.5000000000000003E-2},{"$f":"IF($J71=\"\",\"\",Datatable_t!J71)","v":0.1769},{"$f":"IF($J71=\"\",\"\",Datatable_t!K71/2)","v":1.4499999999999999E-3},{"$f":"IF($J71=\"\",\"\",Datatable_t!F71)","v":7.5899999999999995E-2},{"$f":"IF($J71=\"\",\"\",Datatable_t!G71/2)","v":2.0500000000000002E-3},null,null,{"$f":"IF(J71=\"\",\"\",IF(AND(Datatable_t!X71>15,Datatable_t!X71<30),2,IF(OR(Datatable_t!X71>30,Datatable_t!X71<-10),3,1)))","v":1},{"$f":"IF(Datatable_t!A71=\"\",\"\",Datatable_t!A71)","v":"Baclab2N4CII-68"}]
[{"$f":"IF($J72=\"\",\"\",Datatable_t!H72)","v":0.59899999999999998},{"$f":"IF($J72=\"\",\"\",Datatable_t!I72/2)","v":1.2999999999999999E-2},{"$f":"IF($J72=\"\",\"\",Datatable_t!J72)","v":7.2639999999999996E-2},{"$f":"IF($J72=\"\",\"\",Datatable_t!K72/2)","v":5.9999999999999995E-4},{"$f":"IF($J72=\"\",\"\",Datatable_t!F72)","v":5.9499999999999997E-2},{"$f":"IF($J72=\"\",\"\",Datatable_t!G72/2)","v":1.8E-3},null,null,{"$f":"IF(J72=\"\",\"\",IF(AND(Datatable_t!X72>15,Datatable_t!X72<30),2,IF(OR(Datatable_t!X72>30,Datatable_t!X72<-10),3,1)))","v":1},{"$f":"IF(Datatable_t!A72=\"\",\"\",Datatable_t!A72)","v":"Baclab2N4CII-69"}]
[{"$f":"IF($J73=\"\",\"\",Datatable_t!H73)","v":0.55700000000000005},{"$f":"IF($J73=\"\",\"\",Datatable_t!I73/2)","v":0.03},{"$f":"IF($J73=\"\",\"\",Datatable_t!J73)","v":6.1899999999999997E-2},{"$f":"IF($J73=\"\",\"\",Datatable_t!K73/2)","v":1.75E-3},{"$f":"IF($J73=\"\",\"\",Datatable_t!F73)","v":6.5299999999999997E-2},{"$f":"IF($J73=\"\",\"\",Datatable_t!G73/2)","v":2.0500000000000002E-3},null,null,{"$f":"IF(J73=\"\",\"\",IF(AND(Datatable_t!X73>15,Datatable_t!X73<30),2,IF(OR(Datatable_t!X73>30,Datatable_t!X73<-10),3,1)))","v":1},{"$f":"IF(Datatable_t!A73=\"\",\"\",Datatable_t!A73)","v":"Baclab2N4CII-70"}]
[{"$f":"IF($J74=\"\",\"\",Datatable_t!H74)","v":2.4239999999999999},{"$f":"IF($J74=\"\",\"\",Datatable_t!I74/2)","v":0.05},{"$f":"IF($J74=\"\",\"\",Datatable_t!J74)","v":0.1744},{"$f":"IF($J74=\"\",\"\",Datatable_t!K74/2)","v":1.6999999999999999E-3},{"$f":"IF($J74=\"\",\"\",Datatable_t!F74)","v":0.1003},{"$f":"IF($J74=\"\",\"\",Datatable_t!G74/2)","v":3.0000000000000001E-3},null,null,{"$f":"IF(J74=\"\",\"\",IF(AND(Datatable_t!X74>15,Datatable_t!X74<30),2,IF(OR(Datatable_t!X74>30,Datatable_t!X74<-10),3,1)))","v":2},{"$f":"IF(Datatable_t!A74=\"\",\"\",Datatable_t!A74)","v":"Baclab2N4CII-71"}]
[{"$f":"IF($J75=\"\",\"\",Datatable_t!H75)","v":1.0609999999999999},{"$f":"IF($J75=\"\",\"\",Datatable_t!I75/2)","v":3.3500000000000002E-2},{"$f":"IF($J75=\"\",\"\",Datatable_t!J75)","v":7.1400000000000005E-2},{"$f":"IF($J75=\"\",\"\",Datatable_t!K75/2)","v":9.5E-4},{"$f":"IF($J75=\"\",\"\",Datatable_t!F75)","v":0.10730000000000001},{"$f":"IF($J75=\"\",\"\",Datatable_t!G75/2)","v":3.5500000000000002E-3},null,null,{"$f":"IF(J75=\"\",\"\",IF(AND(Datatable_t!X75>15,Datatable_t!X75<30),2,IF(OR(Datatable_t!X75>30,Datatable_t!X75<-10),3,1)))","v":3},{"$f":"IF(Datatable_t!A75=\"\",\"\",Datatable_t!A75)","v":"Baclab2N4CII-72"}]
[{"$f":"IF($J76=\"\",\"\",Datatable_t!H76)","v":1.706},{"$f":"IF($J76=\"\",\"\",Datatable_t!I76/2)","v":2.8500000000000001E-2},{"$f":"IF($J76=\"\",\"\",Datatable_t!J76)","v":0.1651},{"$f":"IF($J76=\"\",\"\",Datatable_t!K76/2)","v":1.25E-3},{"$f":"IF($J76=\"\",\"\",Datatable_t!F76)","v":7.4499999999999997E-2},{"$f":"IF($J76=\"\",\"\",Datatable_t!G76/2)","v":1.8500000000000001E-3},null,null,{"$f":"IF(J76=\"\",\"\",IF(AND(Datatable_t!X76>15,Datatable_t!X76<30),2,IF(OR(Datatable_t!X76>30,Datatable_t!X76<-10),3,1)))","v":1},{"$f":"IF(Datatable_t!A76=\"\",\"\",Datatable_t!A76)","v":"Baclab2N4CII-73"}]
[{"$f":"IF($J77=\"\",\"\",Datatable_t!H77)","v":2.13},{"$f":"IF($J77=\"\",\"\",Datatable_t!I77/2)","v":0.06},{"$f":"IF($J77=\"\",\"\",Datatable_t!J77)","v":0.1396},{"$f":"IF($J77=\"\",\"\",Datatable_t!K77/2)","v":3.8500000000000001E-3},{"$f":"IF($J77=\"\",\"\",Datatable_t!F77)","v":0.10979999999999999},{"$f":"IF($J77=\"\",\"\",Datatable_t!G77/2)","v":4.4999999999999997E-3},null,null,{"$f":"IF(J77=\"\",\"\",IF(AND(Datatable_t!X77>15,Datatable_t!X77<30),2,IF(OR(Datatable_t!X77>30,Datatable_t!X77<-10),3,1)))","v":2},{"$f":"IF(Datatable_t!A77=\"\",\"\",Datatable_t!A77)","v":"Baclab2N4CII-74"}]
[{"$f":"IF($J78=\"\",\"\",Datatable_t!H78)","v":0.85199999999999998},{"$f":"IF($J78=\"\",\"\",Datatable_t!I78/2)","v":1.9E-2},{"$f":"IF($J78=\"\",\"\",Datatable_t!J78)","v":8.0659999999999996E-2},{"$f":"IF($J78=\"\",\"\",Datatable_t!K78/2)","v":6.9999999999999999E-4},{"$f":"IF($J78=\"\",\"\",Datatable_t!F78)","v":7.5700000000000003E-2},{"$f":"IF($J78=\"\",\"\",Datatable_t!G78/2)","v":2.2499999999999998E-3},null,null,{"$f":"IF(J78=\"\",\"\",IF(AND(Datatable_t!X78>15,Datatable_t!X78<30),2,IF(OR(Datatable_t!X78>30,Datatable_t!X78<-10),3,1)))","v":2},{"$f":"IF(Datatable_t!A78=\"\",\"\",Datatable_t!A78)","v":"Baclab2N4CII-75"}]
[{"$f":"IF($J79=\"\",\"\",Datatable_t!H79)","v":2.0449999999999999},{"$f":"IF($J79=\"\",\"\",Datatable_t!I79/2)","v":3.4500000000000003E-2},{"$f":"IF($J79=\"\",\"\",Datatable_t!J79)","v":0.188},{"$f":"IF($J79=\"\",\"\",Datatable_t!K79/2)","v":1.5E-3},{"$f":"IF($J79=\"\",\"\",Datatable_t!F79)","v":7.8700000000000006E-2},{"$f":"IF($J79=\"\",\"\",Datatable_t!G79/2)","v":2E-3},null,null,{"$f":"IF(J79=\"\",\"\",IF(AND(Datatable_t!X79>15,Datatable_t!X79<30),2,IF(OR(Datatable_t!X79>30,Datatable_t!X79<-10),3,1)))","v":1},{"$f":"IF(Datatable_t!A79=\"\",\"\",Datatable_t!A79)","v":"Baclab2N4CII-76"}]
[{"$f":"IF($J80=\"\",\"\",Datatable_t!H80)","v":1.8260000000000001},{"$f":"IF($J80=\"\",\"\",Datatable_t!I80/2)","v":0.04},{"$f":"IF($J80=\"\",\"\",Datatable_t!J80)","v":0.1714},{"$f":"IF($J80=\"\",\"\",Datatable_t!K80/2)","v":1.4E-3},{"$f":"IF($J80=\"\",\"\",Datatable_t!F80)","v":7.6799999999999993E-2},{"$f":"IF($J80=\"\",\"\",Datatable_t!G80/2)","v":2.2000000000000001E-3},null,null,{"$f":"IF(J80=\"\",\"\",IF(AND(Datatable_t!X80>15,Datatable_t!X80<30),2,IF(OR(Datatable_t!X80>30,Datatable_t!X80<-10),3,1)))","v":1},{"$f":"IF(Datatable_t!A80=\"\",\"\",Datatable_t!A80)","v":"Baclab2N4CII-77"}]
[{"$f":"IF($J81=\"\",\"\",Datatable_t!H81)","v":0.56899999999999995},{"$f":"IF($J81=\"\",\"\",Datatable_t!I81/2)","v":1.6E-2},{"$f":"IF($J81=\"\",\"\",Datatable_t!J81)","v":5.3620000000000001E-2},{"$f":"IF($J81=\"\",\"\",Datatable_t!K81/2)","v":5.5000000000000003E-4},{"$f":"IF($J81=\"\",\"\",Datatable_t!F81)","v":7.6600000000000001E-2},{"$f":"IF($J81=\"\",\"\",Datatable_t!G81/2)","v":2.7000000000000001E-3},null,null,{"$f":"IF(J81=\"\",\"\",IF(AND(Datatable_t!X81>15,Datatable_t!X81<30),2,IF(OR(Datatable_t!X81>30,Datatable_t!X81<-10),3,1)))","v":2},{"$f":"IF(Datatable_t!A81=\"\",\"\",Datatable_t!A81)","v":"Baclab2N4CII-78"}]
[{"$f":"IF($J82=\"\",\"\",Datatable_t!H82)","v":0.86},{"$f":"IF($J82=\"\",\"\",Datatable_t!I82/2)","v":2.3E-2},{"$f":"IF($J82=\"\",\"\",Datatable_t!J82)","v":0.1004},{"$f":"IF($J82=\"\",\"\",Datatable_t!K82/2)","v":1.0499999999999999E-3},{"$f":"IF($J82=\"\",\"\",Datatable_t!F82)","v":6.1899999999999997E-2},{"$f":"IF($J82=\"\",\"\",Datatable_t!G82/2)","v":2.2000000000000001E-3},null,null,{"$f":"IF(J82=\"\",\"\",IF(AND(Datatable_t!X82>15,Datatable_t!X82<30),2,IF(OR(Datatable_t!X82>30,Datatable_t!X82<-10),3,1)))","v":1},{"$f":"IF(Datatable_t!A82=\"\",\"\",Datatable_t!A82)","v":"Baclab2N4CII-79"}]
[{"$f":"IF($J83=\"\",\"\",Datatable_t!H83)","v":3.1589999999999998},{"$f":"IF($J83=\"\",\"\",Datatable_t!I83/2)","v":0.05},{"$f":"IF($J83=\"\",\"\",Datatable_t!J83)","v":0.25169999999999998},{"$f":"IF($J83=\"\",\"\",Datatable_t!K83/2)","v":1.9E-3},{"$f":"IF($J83=\"\",\"\",Datatable_t!F83)","v":9.0899999999999995E-2},{"$f":"IF($J83=\"\",\"\",Datatable_t!G83/2)","v":2.2000000000000001E-3},null,null,{"$f":"IF(J83=\"\",\"\",IF(AND(Datatable_t!X83>15,Datatable_t!X83<30),2,IF(OR(Datatable_t!X83>30,Datatable_t!X83<-10),3,1)))","v":1},{"$f":"IF(Datatable_t!A83=\"\",\"\",Datatable_t!A83)","v":"Baclab2N4CII-80"}]
[{"$f":"IF($J84=\"\",\"\",Datatable_t!H84)","v":0.76200000000000001},{"$f":"IF($J84=\"\",\"\",Datatable_t!I84/2)","v":1.9E-2},{"$f":"IF($J84=\"\",\"\",Datatable_t!J84)","v":8.8599999999999998E-2},{"$f":"IF($J84=\"\",\"\",Datatable_t!K84/2)","v":7.5000000000000002E-4},{"$f":"IF($J84=\"\",\"\",Datatable_t!F84)","v":6.2700000000000006E-2},{"$f":"IF($J84=\"\",\"\",Datatable_t!G84/2)","v":1.8500000000000001E-3},null,null,{"$f":"IF(J84=\"\",\"\",IF(AND(Datatable_t!X84>15,Datatable_t!X84<30),2,IF(OR(Datatable_t!X84>30,Datatable_t!X84<-10),3,1)))","v":1},{"$f":"IF(Datatable_t!A84=\"\",\"\",Datatable_t!A84)","v":"Baclab2N4CII-81"}]
[{"$f":"IF($J85=\"\",\"\",Datatable_t!H85)","v":0.39100000000000001},{"$f":"IF($J85=\"\",\"\",Datatable_t!I85/2)","v":1.2999999999999999E-2},{"$f":"IF($J85=\"\",\"\",Datatable_t!J85)","v":5.1450000000000003E-2},{"$f":"IF($J85=\"\",\"\",Datatable_t!K85/2)","v":6.4999999999999997E-4},{"$f":"IF($J85=\"\",\"\",Datatable_t!F85)","v":5.7200000000000001E-2},{"$f":"IF($J85=\"\",\"\",Datatable_t!G85/2)","v":1.9499999999999999E-3},null,null,{"$f":"IF(J85=\"\",\"\",IF(AND(Datatable_t!X85>15,Datatable_t!X85<30),2,IF(OR(Datatable_t!X85>30,Datatable_t!X85<-10),3,1)))","v":1},{"$f":"IF(Datatable_t!A85=\"\",\"\",Datatable_t!A85)","v":"Baclab2N4CII-82"}]
[{"$f":"IF($J86=\"\",\"\",Datatable_t!H86)","v":0.83099999999999996},{"$f":"IF($J86=\"\",\"\",Datatable_t!I86/2)","v":2.5499999999999998E-2},{"$f":"IF($J86=\"\",\"\",Datatable_t!J86)","v":9.7600000000000006E-2},{"$f":"IF($J86=\"\",\"\",Datatable_t!K86/2)","v":1E-3},{"$f":"IF($J86=\"\",\"\",Datatable_t!F86)","v":6.1400000000000003E-2},{"$f":"IF($J86=\"\",\"\",Datatable_t!G86/2)","v":2E-3},null,null,{"$f":"IF(J86=\"\",\"\",IF(AND(Datatable_t!X86>15,Datatable_t!X86<30),2,IF(OR(Datatable_t!X86>30,Datatable_t!X86<-10),3,1)))","v":1},{"$f":"IF(Datatable_t!A86=\"\",\"\",Datatable_t!A86)","v":"Baclab2N4CII-83"}]
[{"$f":"IF($J87=\"\",\"\",Datatable_t!H87)","v":7.41},{"$f":"IF($J87=\"\",\"\",Datatable_t!I87/2)","v":0.11},{"$f":"IF($J87=\"\",\"\",Datatable_t!J87)","v":0.40679999999999999},{"$f":"IF($J87=\"\",\"\",Datatable_t!K87/2)","v":2.9499999999999999E-3},{"$f":"IF($J87=\"\",\"\",Datatable_t!F87)","v":0.13139999999999999},{"$f":"IF($J87=\"\",\"\",Datatable_t!G87/2)","v":3.0999999999999999E-3},null,null,{"$f":"IF(J87=\"\",\"\",IF(AND(Datatable_t!X87>15,Datatable_t!X87<30),2,IF(OR(Datatable_t!X87>30,Datatable_t!X87<-10),3,1)))","v":1},{"$f":"IF(Datatable_t!A87=\"\",\"\",Datatable_t!A87)","v":"Baclab2N4CII-84"}]
[{"$f":"IF($J88=\"\",\"\",Datatable_t!H88)","v":2.0830000000000002},{"$f":"IF($J88=\"\",\"\",Datatable_t!I88/2)","v":3.5499999999999997E-2},{"$f":"IF($J88=\"\",\"\",Datatable_t!J88)","v":0.19600000000000001},{"$f":"IF($J88=\"\",\"\",Datatable_t!K88/2)","v":1.65E-3},{"$f":"IF($J88=\"\",\"\",Datatable_t!F88)","v":7.6300000000000007E-2},{"$f":"IF($J88=\"\",\"\",Datatable_t!G88/2)","v":1.9E-3},null,null,{"$f":"IF(J88=\"\",\"\",IF(AND(Datatable_t!X88>15,Datatable_t!X88<30),2,IF(OR(Datatable_t!X88>30,Datatable_t!X88<-10),3,1)))","v":1},{"$f":"IF(Datatable_t!A88=\"\",\"\",Datatable_t!A88)","v":"Baclab2N4CII-85"}]
[{"$f":"IF($J89=\"\",\"\",Datatable_t!H89)","v":0.69},{"$f":"IF($J89=\"\",\"\",Datatable_t!I89/2)","v":1.7500000000000002E-2},{"$f":"IF($J89=\"\",\"\",Datatable_t!J89)","v":7.9299999999999995E-2},{"$f":"IF($J89=\"\",\"\",Datatable_t!K89/2)","v":8.0000000000000004E-4},{"$f":"IF($J89=\"\",\"\",Datatable_t!F89)","v":6.1899999999999997E-2},{"$f":"IF($J89=\"\",\"\",Datatable_t!G89/2)","v":2E-3},null,null,{"$f":"IF(J89=\"\",\"\",IF(AND(Datatable_t!X89>15,Datatable_t!X89<30),2,IF(OR(Datatable_t!X89>30,Datatable_t!X89<-10),3,1)))","v":1},{"$f":"IF(Datatable_t!A89=\"\",\"\",Datatable_t!A89)","v":"Baclab2N4CII-86"}]
[{"$f":"IF($J90=\"\",\"\",Datatable_t!H90)","v":3.62},{"$f":"IF($J90=\"\",\"\",Datatable_t!I90/2)","v":8.5000000000000006E-2},{"$f":"IF($J90=\"\",\"\",Datatable_t!J90)","v":0.26900000000000002},{"$f":"IF($J90=\"\",\"\",Datatable_t!K90/2)","v":2.3999999999999998E-3},{"$f":"IF($J90=\"\",\"\",Datatable_t!F90)","v":9.5699999999999993E-2},{"$f":"IF($J90=\"\",\"\",Datatable_t!G90/2)","v":2.8999999999999998E-3},null,null,{"$f":"IF(J90=\"\",\"\",IF(AND(Datatable_t!X90>15,Datatable_t!X90<30),2,IF(OR(Datatable_t!X90>30,Datatable_t!X90<-10),3,1)))","v":1},{"$f":"IF(Datatable_t!A90=\"\",\"\",Datatable_t!A90)","v":"Baclab2N4CII-87"}]
[{"$f":"IF($J91=\"\",\"\",Datatable_t!H91)","v":0.30199999999999999},{"$f":"IF($J91=\"\",\"\",Datatable_t!I91/2)","v":8.9999999999999993E-3},{"$f":"IF($J91=\"\",\"\",Datatable_t!J91)","v":4.1270000000000001E-2},{"$f":"IF($J91=\"\",\"\",Datatable_t!K91/2)","v":3.6999999999999999E-4},{"$f":"IF($J91=\"\",\"\",Datatable_t!F91)","v":5.3199999999999997E-2},{"$f":"IF($J91=\"\",\"\",Datatable_t!G91/2)","v":1.8500000000000001E-3},null,null,{"$f":"IF(J91=\"\",\"\",IF(AND(Datatable_t!X91>15,Datatable_t!X91<30),2,IF(OR(Datatable_t!X91>30,Datatable_t!X91<-10),3,1)))","v":1},{"$f":"IF(Datatable_t!A91=\"\",\"\",Datatable_t!A91)","v":"Baclab2N4CII-88"}]
[{"$f":"IF($J92=\"\",\"\",Datatable_t!H92)","v":2.1459999999999999},{"$f":"IF($J92=\"\",\"\",Datatable_t!I92/2)","v":4.1500000000000002E-2},{"$f":"IF($J92=\"\",\"\",Datatable_t!J92)","v":0.20119999999999999},{"$f":"IF($J92=\"\",\"\",Datatable_t!K92/2)","v":2E-3},{"$f":"IF($J92=\"\",\"\",Datatable_t!F92)","v":7.6300000000000007E-2},{"$f":"IF($J92=\"\",\"\",Datatable_t!G92/2)","v":1.8500000000000001E-3},null,null,{"$f":"IF(J92=\"\",\"\",IF(AND(Datatable_t!X92>15,Datatable_t!X92<30),2,IF(OR(Datatable_t!X92>30,Datatable_t!X92<-10),3,1)))","v":1},{"$f":"IF(Datatable_t!A92=\"\",\"\",Datatable_t!A92)","v":"Baclab2N4CII-89"}]
[{"$f":"IF($J93=\"\",\"\",Datatable_t!H93)","v":0.498},{"$f":"IF($J93=\"\",\"\",Datatable_t!I93/2)","v":1.15E-2},{"$f":"IF($J93=\"\",\"\",Datatable_t!J93)","v":6.5110000000000001E-2},{"$f":"IF($J93=\"\",\"\",Datatable_t!K93/2)","v":5.0000000000000001E-4},{"$f":"IF($J93=\"\",\"\",Datatable_t!F93)","v":5.5100000000000003E-2},{"$f":"IF($J93=\"\",\"\",Datatable_t!G93/2)","v":1.65E-3},null,null,{"$f":"IF(J93=\"\",\"\",IF(AND(Datatable_t!X93>15,Datatable_t!X93<30),2,IF(OR(Datatable_t!X93>30,Datatable_t!X93<-10),3,1)))","v":1},{"$f":"IF(Datatable_t!A93=\"\",\"\",Datatable_t!A93)","v":"Baclab2N4CII-90"}]
[{"$f":"IF($J94=\"\",\"\",Datatable_t!H94)","v":0.55500000000000005},{"$f":"IF($J94=\"\",\"\",Datatable_t!I94/2)","v":1.2999999999999999E-2},{"$f":"IF($J94=\"\",\"\",Datatable_t!J94)","v":6.6780000000000006E-2},{"$f":"IF($J94=\"\",\"\",Datatable_t!K94/2)","v":5.9999999999999995E-4},{"$f":"IF($J94=\"\",\"\",Datatable_t!F94)","v":5.9799999999999999E-2},{"$f":"IF($J94=\"\",\"\",Datatable_t!G94/2)","v":1.8E-3},null,null,{"$f":"IF(J94=\"\",\"\",IF(AND(Datatable_t!X94>15,Datatable_t!X94<30),2,IF(OR(Datatable_t!X94>30,Datatable_t!X94<-10),3,1)))","v":1},{"$f":"IF(Datatable_t!A94=\"\",\"\",Datatable_t!A94)","v":"Baclab2N4CII-91"}]
[{"$f":"IF($J95=\"\",\"\",Datatable_t!H95)","v":0.52600000000000002},{"$f":"IF($J95=\"\",\"\",Datatable_t!I95/2)","v":1.0500000000000001E-2},{"$f":"IF($J95=\"\",\"\",Datatable_t!J95)","v":6.6070000000000004E-2},{"$f":"IF($J95=\"\",\"\",Datatable_t!K95/2)","v":5.0000000000000001E-4},{"$f":"IF($J95=\"\",\"\",Datatable_t!F95)","v":5.7700000000000001E-2},{"$f":"IF($J95=\"\",\"\",Datatable_t!G95/2)","v":1.5499999999999999E-3},null,null,{"$f":"IF(J95=\"\",\"\",IF(AND(Datatable_t!X95>15,Datatable_t!X95<30),2,IF(OR(Datatable_t!X95>30,Datatable_t!X95<-10),3,1)))","v":1},{"$f":"IF(Datatable_t!A95=\"\",\"\",Datatable_t!A95)","v":"Baclab2N4CII-92"}]
[{"$f":"IF($J96=\"\",\"\",Datatable_t!H96)","v":1.7709999999999999},{"$f":"IF($J96=\"\",\"\",Datatable_t!I96/2)","v":3.3500000000000002E-2},{"$f":"IF($J96=\"\",\"\",Datatable_t!J96)","v":0.1719},{"$f":"IF($J96=\"\",\"\",Datatable_t!K96/2)","v":1.65E-3},{"$f":"IF($J96=\"\",\"\",Datatable_t!F96)","v":7.4099999999999999E-2},{"$f":"IF($J96=\"\",\"\",Datatable_t!G96/2)","v":1.9499999999999999E-3},null,null,{"$f":"IF(J96=\"\",\"\",IF(AND(Datatable_t!X96>15,Datatable_t!X96<30),2,IF(OR(Datatable_t!X96>30,Datatable_t!X96<-10),3,1)))","v":1},{"$f":"IF(Datatable_t!A96=\"\",\"\",Datatable_t!A96)","v":"Baclab2N4CII-93"}]
[{"$f":"IF($J97=\"\",\"\",Datatable_t!H97)","v":0.40400000000000003},{"$f":"IF($J97=\"\",\"\",Datatable_t!I97/2)","v":1.15E-2},{"$f":"IF($J97=\"\",\"\",Datatable_t!J97)","v":5.1700000000000003E-2},{"$f":"IF($J97=\"\",\"\",Datatable_t!K97/2)","v":4.2999999999999999E-4},{"$f":"IF($J97=\"\",\"\",Datatable_t!F97)","v":5.7200000000000001E-2},{"$f":"IF($J97=\"\",\"\",Datatable_t!G97/2)","v":2E-3},null,null,{"$f":"IF(J97=\"\",\"\",IF(AND(Datatable_t!X97>15,Datatable_t!X97<30),2,IF(OR(Datatable_t!X97>30,Datatable_t!X97<-10),3,1)))","v":1},{"$f":"IF(Datatable_t!A97=\"\",\"\",Datatable_t!A97)","v":"Baclab2N4CII-94"}]
[{"$f":"IF($J98=\"\",\"\",Datatable_t!H98)","v":0.83399999999999996},{"$f":"IF($J98=\"\",\"\",Datatable_t!I98/2)","v":3.3000000000000002E-2},{"$f":"IF($J98=\"\",\"\",Datatable_t!J98)","v":5.96E-2},{"$f":"IF($J98=\"\",\"\",Datatable_t!K98/2)","v":7.5000000000000002E-4},{"$f":"IF($J98=\"\",\"\",Datatable_t!F98)","v":0.1016},{"$f":"IF($J98=\"\",\"\",Datatable_t!G98/2)","v":3.8E-3},null,null,{"$f":"IF(J98=\"\",\"\",IF(AND(Datatable_t!X98>15,Datatable_t!X98<30),2,IF(OR(Datatable_t!X98>30,Datatable_t!X98<-10),3,1)))","v":3},{"$f":"IF(Datatable_t!A98=\"\",\"\",Datatable_t!A98)","v":"Baclab2N4CII-95"}]
[{"$f":"IF($J99=\"\",\"\",Datatable_t!H99)","v":0.84099999999999997},{"$f":"IF($J99=\"\",\"\",Datatable_t!I99/2)","v":2.8500000000000001E-2},{"$f":"IF($J99=\"\",\"\",Datatable_t!J99)","v":8.9300000000000004E-2},{"$f":"IF($J99=\"\",\"\",Datatable_t!K99/2)","v":8.9999999999999998E-4},{"$f":"IF($J99=\"\",\"\",Datatable_t!F99)","v":6.6799999999999998E-2},{"$f":"IF($J99=\"\",\"\",Datatable_t!G99/2)","v":2.5500000000000002E-3},null,null,{"$f":"IF(J99=\"\",\"\",IF(AND(Datatable_t!X99>15,Datatable_t!X99<30),2,IF(OR(Datatable_t!X99>30,Datatable_t!X99<-10),3,1)))","v":1},{"$f":"IF(Datatable_t!A99=\"\",\"\",Datatable_t!A99)","v":"Baclab2N4CII-96"}]
[{"$f":"IF($J100=\"\",\"\",Datatable_t!H100)","v":1.6619999999999999},{"$f":"IF($J100=\"\",\"\",Datatable_t!I100/2)","v":2.9499999999999998E-2},{"$f":"IF($J100=\"\",\"\",Datatable_t!J100)","v":0.1573},{"$f":"IF($J100=\"\",\"\",Datatable_t!K100/2)","v":1.25E-3},{"$f":"IF($J100=\"\",\"\",Datatable_t!F100)","v":7.6999999999999999E-2},{"$f":"IF($J100=\"\",\"\",Datatable_t!G100/2)","v":1.9499999999999999E-3},null,null,{"$f":"IF(J100=\"\",\"\",IF(AND(Datatable_t!X100>15,Datatable_t!X100<30),2,IF(OR(Datatable_t!X100>30,Datatable_t!X100<-10),3,1)))","v":1},{"$f":"IF(Datatable_t!A100=\"\",\"\",Datatable_t!A100)","v":"Baclab2N4CII-97"}]
[{"$f":"IF($J101=\"\",\"\",Datatable_t!H101)","v":1.5680000000000001},{"$f":"IF($J101=\"\",\"\",Datatable_t!I101/2)","v":3.3000000000000002E-2},{"$f":"IF($J101=\"\",\"\",Datatable_t!J101)","v":0.15479999999999999},{"$f":"IF($J101=\"\",\"\",Datatable_t!K101/2)","v":1.25E-3},{"$f":"IF($J101=\"\",\"\",Datatable_t!F101)","v":7.3300000000000004E-2},{"$f":"IF($J101=\"\",\"\",Datatable_t!G101/2)","v":2.0500000000000002E-3},null,null,{"$f":"IF(J101=\"\",\"\",IF(AND(Datatable_t!X101>15,Datatable_t!X101<30),2,IF(OR(Datatable_t!X101>30,Datatable_t!X101<-10),3,1)))","v":1},{"$f":"IF(Datatable_t!A101=\"\",\"\",Datatable_t!A101)","v":"Baclab2N4CII-98"}]
[{"$f":"IF($J102=\"\",\"\",Datatable_t!H102)","v":0.754},{"$f":"IF($J102=\"\",\"\",Datatable_t!I102/2)","v":1.6500000000000001E-2},{"$f":"IF($J102=\"\",\"\",Datatable_t!J102)","v":6.7580000000000001E-2},{"$f":"IF($J102=\"\",\"\",Datatable_t!K102/2)","v":5.9999999999999995E-4},{"$f":"IF($J102=\"\",\"\",Datatable_t!F102)","v":7.9899999999999999E-2},{"$f":"IF($J102=\"\",\"\",Datatable_t!G102/2)","v":2.3E-3},null,null,{"$f":"IF(J102=\"\",\"\",IF(AND(Datatable_t!X102>15,Datatable_t!X102<30),2,IF(OR(Datatable_t!X102>30,Datatable_t!X102<-10),3,1)))","v":2},{"$f":"IF(Datatable_t!A102=\"\",\"\",Datatable_t!A102)","v":"Baclab2N4CII-99"}]
[{"$f":"IF($J103=\"\",\"\",Datatable_t!H103)","v":6.18},{"$f":"IF($J103=\"\",\"\",Datatable_t!I103/2)","v":0.1},{"$f":"IF($J103=\"\",\"\",Datatable_t!J103)","v":0.32529999999999998},{"$f":"IF($J103=\"\",\"\",Datatable_t!K103/2)","v":3.2499999999999999E-3},{"$f":"IF($J103=\"\",\"\",Datatable_t!F103)","v":0.1356},{"$f":"IF($J103=\"\",\"\",Datatable_t!G103/2)","v":3.2000000000000002E-3},null,null,{"$f":"IF(J103=\"\",\"\",IF(AND(Datatable_t!X103>15,Datatable_t!X103<30),2,IF(OR(Datatable_t!X103>30,Datatable_t!X103<-10),3,1)))","v":1},{"$f":"IF(Datatable_t!A103=\"\",\"\",Datatable_t!A103)","v":"Baclab2N4CII-100"}]
[{"$f":"IF($J104=\"\",\"\",Datatable_t!H104)","v":""},{"$f":"IF($J104=\"\",\"\",Datatable_t!I104/2)","v":""},{"$f":"IF($J104=\"\",\"\",Datatable_t!J104)","v":""},{"$f":"IF($J104=\"\",\"\",Datatable_t!K104/2)","v":""},{"$f":"IF($J104=\"\",\"\",Datatable_t!F104)","v":""},{"$f":"IF($J104=\"\",\"\",Datatable_t!G104/2)","v":""},null,null,{"$f":"IF(J104=\"\",\"\",IF(AND(Datatable_t!X104>15,Datatable_t!X104<30),2,IF(OR(Datatable_t!X104>30,Datatable_t!X104<-10),3,1)))","v":""},{"$f":"IF(Datatable_t!A104=\"\",\"\",Datatable_t!A104)","v":""}]
[{"$f":"IF($J105=\"\",\"\",Datatable_t!H105)","v":""},{"$f":"IF($J105=\"\",\"\",Datatable_t!I105/2)","v":""},{"$f":"IF($J105=\"\",\"\",Datatable_t!J105)","v":""},{"$f":"IF($J105=\"\",\"\",Datatable_t!K105/2)","v":""},{"$f":"IF($J105=\"\",\"\",Datatable_t!F105)","v":""},{"$f":"IF($J105=\"\",\"\",Datatable_t!G105/2)","v":""},null,null,{"$f":"IF(J105=\"\",\"\",IF(AND(Datatable_t!X105>15,Datatable_t!X105<30),2,IF(OR(Datatable_t!X105>30,Datatable_t!X105<-10),3,1)))","v":""},{"$f":"IF(Datatable_t!A105=\"\",\"\",Datatable_t!A105)","v":""}]
[{"$f":"IF($J106=\"\",\"\",Datatable_t!H106)","v":""},{"$f":"IF($J106=\"\",\"\",Datatable_t!I106/2)","v":""},{"$f":"IF($J106=\"\",\"\",Datatable_t!J106)","v":""},{"$f":"IF($J106=\"\",\"\",Datatable_t!K106/2)","v":""},{"$f":"IF($J106=\"\",\"\",Datatable_t!F106)","v":""},{"$f":"IF($J106=\"\",\"\",Datatable_t!G106/2)","v":""},null,null,{"$f":"IF(J106=\"\",\"\",IF(AND(Datatable_t!X106>15,Datatable_t!X106<30),2,IF(OR(Datatable_t!X106>30,Datatable_t!X106<-10),3,1)))","v":""},{"$f":"IF(Datatable_t!A106=\"\",\"\",Datatable_t!A106)","v":""}]
[{"$f":"IF($J107=\"\",\"\",Datatable_t!H107)","v":""},{"$f":"IF($J107=\"\",\"\",Datatable_t!I107/2)","v":""},{"$f":"IF($J107=\"\",\"\",Datatable_t!J107)","v":""},{"$f":"IF($J107=\"\",\"\",Datatable_t!K107/2)","v":""},{"$f":"IF($J107=\"\",\"\",Datatable_t!F107)","v":""},{"$f":"IF($J107=\"\",\"\",Datatable_t!G107/2)","v":""},null,null,{"$f":"IF(J107=\"\",\"\",IF(AND(Datatable_t!X107>15,Datatable_t!X107<30),2,IF(OR(Datatable_t!X107>30,Datatable_t!X107<-10),3,1)))","v":""},{"$f":"IF(Datatable_t!A107=\"\",\"\",Datatable_t!A107)","v":""}]
[{"$f":"IF($J108=\"\",\"\",Datatable_t!H108)","v":""},{"$f":"IF($J108=\"\",\"\",Datatable_t!I108/2)","v":""},{"$f":"IF($J108=\"\",\"\",Datatable_t!J108)","v":""},{"$f":"IF($J108=\"\",\"\",Datatable_t!K108/2)","v":""},{"$f":"IF($J108=\"\",\"\",Datatable_t!F108)","v":""},{"$f":"IF($J108=\"\",\"\",Datatable_t!G108/2)","v":""},null,null,{"$f":"IF(J108=\"\",\"\",IF(AND(Datatable_t!X108>15,Datatable_t!X108<30),2,IF(OR(Datatable_t!X108>30,Datatable_t!X108<-10),3,1)))","v":""},{"$f":"IF(Datatable_t!A108=\"\",\"\",Datatable_t!A108)","v":""}]
[{"$f":"IF($J109=\"\",\"\",Datatable_t!H109)","v":""},{"$f":"IF($J109=\"\",\"\",Datatable_t!I109/2)","v":""},{"$f":"IF($J109=\"\",\"\",Datatable_t!J109)","v":""},{"$f":"IF($J109=\"\",\"\",Datatable_t!K109/2)","v":""},{"$f":"IF($J109=\"\",\"\",Datatable_t!F109)","v":""},{"$f":"IF($J109=\"\",\"\",Datatable_t!G109/2)","v":""},null,null,{"$f":"IF(J109=\"\",\"\",IF(AND(Datatable_t!X109>15,Datatable_t!X109<30),2,IF(OR(Datatable_t!X109>30,Datatable_t!X109<-10),3,1)))","v":""},{"$f":"IF(Datatable_t!A109=\"\",\"\",Datatable_t!A109)","v":""}]
[{"$f":"IF($J110=\"\",\"\",Datatable_t!H110)","v":""},{"$f":"IF($J110=\"\",\"\",Datatable_t!I110/2)","v":""},{"$f":"IF($J110=\"\",\"\",Datatable_t!J110)","v":""},{"$f":"IF($J110=\"\",\"\",Datatable_t!K110/2)","v":""},{"$f":"IF($J110=\"\",\"\",Datatable_t!F110)","v":""},{"$f":"IF($J110=\"\",\"\",Datatable_t!G110/2)","v":""},null,null,{"$f":"IF(J110=\"\",\"\",IF(AND(Datatable_t!X110>15,Datatable_t!X110<30),2,IF(OR(Datatable_t!X110>30,Datatable_t!X110<-10),3,1)))","v":""},{"$f":"IF(Datatable_t!A110=\"\",\"\",Datatable_t!A110)","v":""}]
[{"$f":"IF($J111=\"\",\"\",Datatable_t!H111)","v":""},{"$f":"IF($J111=\"\",\"\",Datatable_t!I111/2)","v":""},{"$f":"IF($J111=\"\",\"\",Datatable_t!J111)","v":""},{"$f":"IF($J111=\"\",\"\",Datatable_t!K111/2)","v":""},{"$f":"IF($J111=\"\",\"\",Datatable_t!F111)","v":""},{"$f":"IF($J111=\"\",\"\",Datatable_t!G111/2)","v":""},null,null,{"$f":"IF(J111=\"\",\"\",IF(AND(Datatable_t!X111>15,Datatable_t!X111<30),2,IF(OR(Datatable_t!X111>30,Datatable_t!X111<-10),3,1)))","v":""},{"$f":"IF(Datatable_t!A111=\"\",\"\",Datatable_t!A111)","v":""}]
[{"$f":"IF($J112=\"\",\"\",Datatable_t!H112)","v":""},{"$f":"IF($J112=\"\",\"\",Datatable_t!I112/2)","v":""},{"$f":"IF($J112=\"\",\"\",Datatable_t!J112)","v":""},{"$f":"IF($J112=\"\",\"\",Datatable_t!K112/2)","v":""},{"$f":"IF($J112=\"\",\"\",Datatable_t!F112)","v":""},{"$f":"IF($J112=\"\",\"\",Datatable_t!G112/2)","v":""},null,null,{"$f":"IF(J112=\"\",\"\",IF(AND(Datatable_t!X112>15,Datatable_t!X112<30),2,IF(OR(Datatable_t!X112>30,Datatable_t!X112<-10),3,1)))","v":""},{"$f":"IF(Datatable_t!A112=\"\",\"\",Datatable_t!A112)","v":""}]
[{"$f":"IF($J113=\"\",\"\",Datatable_t!H113)","v":""},{"$f":"IF($J113=\"\",\"\",Datatable_t!I113/2)","v":""},{"$f":"IF($J113=\"\",\"\",Datatable_t!J113)","v":""},{"$f":"IF($J113=\"\",\"\",Datatable_t!K113/2)","v":""},{"$f":"IF($J113=\"\",\"\",Datatable_t!F113)","v":""},{"$f":"IF($J113=\"\",\"\",Datatable_t!G113/2)","v":""},null,null,{"$f":"IF(J113=\"\",\"\",IF(AND(Datatable_t!X113>15,Datatable_t!X113<30),2,IF(OR(Datatable_t!X113>30,Datatable_t!X113<-10),3,1)))","v":""},{"$f":"IF(Datatable_t!A113=\"\",\"\",Datatable_t!A113)","v":""}]
[{"$f":"IF($J114=\"\",\"\",Datatable_t!H114)","v":""},{"$f":"IF($J114=\"\",\"\",Datatable_t!I114/2)","v":""},{"$f":"IF($J114=\"\",\"\",Datatable_t!J114)","v":""},{"$f":"IF($J114=\"\",\"\",Datatable_t!K114/2)","v":""},{"$f":"IF($J114=\"\",\"\",Datatable_t!F114)","v":""},{"$f":"IF($J114=\"\",\"\",Datatable_t!G114/2)","v":""},null,null,{"$f":"IF(J114=\"\",\"\",IF(AND(Datatable_t!X114>15,Datatable_t!X114<30),2,IF(OR(Datatable_t!X114>30,Datatable_t!X114<-10),3,1)))","v":""},{"$f":"IF(Datatable_t!A114=\"\",\"\",Datatable_t!A114)","v":""}]
[{"$f":"IF($J115=\"\",\"\",Datatable_t!H115)","v":""},{"$f":"IF($J115=\"\",\"\",Datatable_t!I115/2)","v":""},{"$f":"IF($J115=\"\",\"\",Datatable_t!J115)","v":""},{"$f":"IF($J115=\"\",\"\",Datatable_t!K115/2)","v":""},{"$f":"IF($J115=\"\",\"\",Datatable_t!F115)","v":""},{"$f":"IF($J115=\"\",\"\",Datatable_t!G115/2)","v":""},null,null,{"$f":"IF(J115=\"\",\"\",IF(AND(Datatable_t!X115>15,Datatable_t!X115<30),2,IF(OR(Datatable_t!X115>30,Datatable_t!X115<-10),3,1)))","v":""},{"$f":"IF(Datatable_t!A115=\"\",\"\",Datatable_t!A115)","v":""}]
[{"$f":"IF($J116=\"\",\"\",Datatable_t!H116)","v":""},{"$f":"IF($J116=\"\",\"\",Datatable_t!I116/2)","v":""},{"$f":"IF($J116=\"\",\"\",Datatable_t!J116)","v":""},{"$f":"IF($J116=\"\",\"\",Datatable_t!K116/2)","v":""},{"$f":"IF($J116=\"\",\"\",Datatable_t!F116)","v":""},{"$f":"IF($J116=\"\",\"\",Datatable_t!G116/2)","v":""},null,null,{"$f":"IF(J116=\"\",\"\",IF(AND(Datatable_t!X116>15,Datatable_t!X116<30),2,IF(OR(Datatable_t!X116>30,Datatable_t!X116<-10),3,1)))","v":""},{"$f":"IF(Datatable_t!A116=\"\",\"\",Datatable_t!A116)","v":""}]
[{"$f":"IF($J117=\"\",\"\",Datatable_t!H117)","v":""},{"$f":"IF($J117=\"\",\"\",Datatable_t!I117/2)","v":""},{"$f":"IF($J117=\"\",\"\",Datatable_t!J117)","v":""},{"$f":"IF($J117=\"\",\"\",Datatable_t!K117/2)","v":""},{"$f":"IF($J117=\"\",\"\",Datatable_t!F117)","v":""},{"$f":"IF($J117=\"\",\"\",Datatable_t!G117/2)","v":""},null,null,{"$f":"IF(J117=\"\",\"\",IF(AND(Datatable_t!X117>15,Datatable_t!X117<30),2,IF(OR(Datatable_t!X117>30,Datatable_t!X117<-10),3,1)))","v":""},{"$f":"IF(Datatable_t!A117=\"\",\"\",Datatable_t!A117)","v":""}]
[{"$f":"IF($J118=\"\",\"\",Datatable_t!H118)","v":""},{"$f":"IF($J118=\"\",\"\",Datatable_t!I118/2)","v":""},{"$f":"IF($J118=\"\",\"\",Datatable_t!J118)","v":""},{"$f":"IF($J118=\"\",\"\",Datatable_t!K118/2)","v":""},{"$f":"IF($J118=\"\",\"\",Datatable_t!F118)","v":""},{"$f":"IF($J118=\"\",\"\",Datatable_t!G118/2)","v":""},null,null,{"$f":"IF(J118=\"\",\"\",IF(AND(Datatable_t!X118>15,Datatable_t!X118<30),2,IF(OR(Datatable_t!X118>30,Datatable_t!X118<-10),3,1)))","v":""},{"$f":"IF(Datatable_t!A118=\"\",\"\",Datatable_t!A118)","v":""}]
[{"$f":"IF($J119=\"\",\"\",Datatable_t!H119)","v":""},{"$f":"IF($J119=\"\",\"\",Datatable_t!I119/2)","v":""},{"$f":"IF($J119=\"\",\"\",Datatable_t!J119)","v":""},{"$f":"IF($J119=\"\",\"\",Datatable_t!K119/2)","v":""},{"$f":"IF($J119=\"\",\"\",Datatable_t!F119)","v":""},{"$f":"IF($J119=\"\",\"\",Datatable_t!G119/2)","v":""},null,null,{"$f":"IF(J119=\"\",\"\",IF(AND(Datatable_t!X119>15,Datatable_t!X119<30),2,IF(OR(Datatable_t!X119>30,Datatable_t!X119<-10),3,1)))","v":""},{"$f":"IF(Datatable_t!A119=\"\",\"\",Datatable_t!A119)","v":""}]
[{"$f":"IF($J120=\"\",\"\",Datatable_t!H120)","v":""},{"$f":"IF($J120=\"\",\"\",Datatable_t!I120/2)","v":""},{"$f":"IF($J120=\"\",\"\",Datatable_t!J120)","v":""},{"$f":"IF($J120=\"\",\"\",Datatable_t!K120/2)","v":""},{"$f":"IF($J120=\"\",\"\",Datatable_t!F120)","v":""},{"$f":"IF($J120=\"\",\"\",Datatable_t!G120/2)","v":""},null,null,{"$f":"IF(J120=\"\",\"\",IF(AND(Datatable_t!X120>15,Datatable_t!X120<30),2,IF(OR(Datatable_t!X120>30,Datatable_t!X120<-10),3,1)))","v":""},{"$f":"IF(Datatable_t!A120=\"\",\"\",Datatable_t!A120)","v":""}]
[{"$f":"IF($J121=\"\",\"\",Datatable_t!H121)","v":""},{"$f":"IF($J121=\"\",\"\",Datatable_t!I121/2)","v":""},{"$f":"IF($J121=\"\",\"\",Datatable_t!J121)","v":""},{"$f":"IF($J121=\"\",\"\",Datatable_t!K121/2)","v":""},{"$f":"IF($J121=\"\",\"\",Datatable_t!F121)","v":""},{"$f":"IF($J121=\"\",\"\",Datatable_t!G121/2)","v":""},null,null,{"$f":"IF(J121=\"\",\"\",IF(AND(Datatable_t!X121>15,Datatable_t!X121<30),2,IF(OR(Datatable_t!X121>30,Datatable_t!X121<-10),3,1)))","v":""},{"$f":"IF(Datatable_t!A121=\"\",\"\",Datatable_t!A121)","v":""}]
[{"$f":"IF($J122=\"\",\"\",Datatable_t!H122)","v":""},{"$f":"IF($J122=\"\",\"\",Datatable_t!I122/2)","v":""},{"$f":"IF($J122=\"\",\"\",Datatable_t!J122)","v":""},{"$f":"IF($J122=\"\",\"\",Datatable_t!K122/2)","v":""},{"$f":"IF($J122=\"\",\"\",Datatable_t!F122)","v":""},{"$f":"IF($J122=\"\",\"\",Datatable_t!G122/2)","v":""},null,null,{"$f":"IF(J122=\"\",\"\",IF(AND(Datatable_t!X122>15,Datatable_t!X122<30),2,IF(OR(Datatable_t!X122>30,Datatable_t!X122<-10),3,1)))","v":""},{"$f":"IF(Datatable_t!A122=\"\",\"\",Datatable_t!A122)","v":""}]
[{"$f":"IF($J123=\"\",\"\",Datatable_t!H123)","v":""},{"$f":"IF($J123=\"\",\"\",Datatable_t!I123/2)","v":""},{"$f":"IF($J123=\"\",\"\",Datatable_t!J123)","v":""},{"$f":"IF($J123=\"\",\"\",Datatable_t!K123/2)","v":""},{"$f":"IF($J123=\"\",\"\",Datatable_t!F123)","v":""},{"$f":"IF($J123=\"\",\"\",Datatable_t!G123/2)","v":""},null,null,{"$f":"IF(J123=\"\",\"\",IF(AND(Datatable_t!X123>15,Datatable_t!X123<30),2,IF(OR(Datatable_t!X123>30,Datatable_t!X123<-10),3,1)))","v":""},{"$f":"IF(Datatable_t!A123=\"\",\"\",Datatable_t!A123)","v":""}]
[{"$f":"IF($J124=\"\",\"\",Datatable_t!H124)","v":""},{"$f":"IF($J124=\"\",\"\",Datatable_t!I124/2)","v":""},{"$f":"IF($J124=\"\",\"\",Datatable_t!J124)","v":""},{"$f":"IF($J124=\"\",\"\",Datatable_t!K124/2)","v":""},{"$f":"IF($J124=\"\",\"\",Datatable_t!F124)","v":""},{"$f":"IF($J124=\"\",\"\",Datatable_t!G124/2)","v":""},null,null,{"$f":"IF(J124=\"\",\"\",IF(AND(Datatable_t!X124>15,Datatable_t!X124<30),2,IF(OR(Datatable_t!X124>30,Datatable_t!X124<-10),3,1)))","v":""},{"$f":"IF(Datatable_t!A124=\"\",\"\",Datatable_t!A124)","v":""}]
[{"$f":"IF($J125=\"\",\"\",Datatable_t!H125)","v":""},{"$f":"IF($J125=\"\",\"\",Datatable_t!I125/2)","v":""},{"$f":"IF($J125=\"\",\"\",Datatable_t!J125)","v":""},{"$f":"IF($J125=\"\",\"\",Datatable_t!K125/2)","v":""},{"$f":"IF($J125=\"\",\"\",Datatable_t!F125)","v":""},{"$f":"IF($J125=\"\",\"\",Datatable_t!G125/2)","v":""},null,null,{"$f":"IF(J125=\"\",\"\",IF(AND(Datatable_t!X125>15,Datatable_t!X125<30),2,IF(OR(Datatable_t!X125>30,Datatable_t!X125<-10),3,1)))","v":""},{"$f":"IF(Datatable_t!A125=\"\",\"\",Datatable_t!A125)","v":""}]
[{"$f":"IF($J126=\"\",\"\",Datatable_t!H126)","v":""},{"$f":"IF($J126=\"\",\"\",Datatable_t!I126/2)","v":""},{"$f":"IF($J126=\"\",\"\",Datatable_t!J126)","v":""},{"$f":"IF($J126=\"\",\"\",Datatable_t!K126/2)","v":""},{"$f":"IF($J126=\"\",\"\",Datatable_t!F126)","v":""},{"$f":"IF($J126=\"\",\"\",Datatable_t!G126/2)","v":""},null,null,{"$f":"IF(J126=\"\",\"\",IF(AND(Datatable_t!X126>15,Datatable_t!X126<30),2,IF(OR(Datatable_t!X126>30,Datatable_t!X126<-10),3,1)))","v":""},{"$f":"IF(Datatable_t!A126=\"\",\"\",Datatable_t!A126)","v":""}]
[{"$f":"IF($J127=\"\",\"\",Datatable_t!H127)","v":""},{"$f":"IF($J127=\"\",\"\",Datatable_t!I127/2)","v":""},{"$f":"IF($J127=\"\",\"\",Datatable_t!J127)","v":""},{"$f":"IF($J127=\"\",\"\",Datatable_t!K127/2)","v":""},{"$f":"IF($J127=\"\",\"\",Datatable_t!F127)","v":""},{"$f":"IF($J127=\"\",\"\",Datatable_t!G127/2)","v":""},null,null,{"$f":"IF(J127=\"\",\"\",IF(AND(Datatable_t!X127>15,Datatable_t!X127<30),2,IF(OR(Datatable_t!X127>30,Datatable_t!X127<-10),3,1)))","v":""},{"$f":"IF(Datatable_t!A127=\"\",\"\",Datatable_t!A127)","v":""}]
[{"$f":"IF($J128=\"\",\"\",Datatable_t!H128)","v":""},{"$f":"IF($J128=\"\",\"\",Datatable_t!I128/2)","v":""},{"$f":"IF($J128=\"\",\"\",Datatable_t!J128)","v":""},{"$f":"IF($J128=\"\",\"\",Datatable_t!K128/2)","v":""},{"$f":"IF($J128=\"\",\"\",Datatable_t!F128)","v":""},{"$f":"IF($J128=\"\",\"\",Datatable_t!G128/2)","v":""},null,null,{"$f":"IF(J128=\"\",\"\",IF(AND(Datatable_t!X128>15,Datatable_t!X128<30),2,IF(OR(Datatable_t!X128>30,Datatable_t!X128<-10),3,1)))","v":""},{"$f":"IF(Datatable_t!A128=\"\",\"\",Datatable_t!A128)","v":""}]
[{"$f":"IF($J129=\"\",\"\",Datatable_t!H129)","v":""},{"$f":"IF($J129=\"\",\"\",Datatable_t!I129/2)","v":""},{"$f":"IF($J129=\"\",\"\",Datatable_t!J129)","v":""},{"$f":"IF($J129=\"\",\"\",Datatable_t!K129/2)","v":""},{"$f":"IF($J129=\"\",\"\",Datatable_t!F129)","v":""},{"$f":"IF($J129=\"\",\"\",Datatable_t!G129/2)","v":""},null,null,{"$f":"IF(J129=\"\",\"\",IF(AND(Datatable_t!X129>15,Datatable_t!X129<30),2,IF(OR(Datatable_t!X129>30,Datatable_t!X129<-10),3,1)))","v":""},{"$f":"IF(Datatable_t!A129=\"\",\"\",Datatable_t!A129)","v":""}]
[{"$f":"IF($J130=\"\",\"\",Datatable_t!H130)","v":""},{"$f":"IF($J130=\"\",\"\",Datatable_t!I130/2)","v":""},{"$f":"IF($J130=\"\",\"\",Datatable_t!J130)","v":""},{"$f":"IF($J130=\"\",\"\",Datatable_t!K130/2)","v":""},{"$f":"IF($J130=\"\",\"\",Datatable_t!F130)","v":""},{"$f":"IF($J130=\"\",\"\",Datatable_t!G130/2)","v":""},null,null,{"$f":"IF(J130=\"\",\"\",IF(AND(Datatable_t!X130>15,Datatable_t!X130<30),2,IF(OR(Datatable_t!X130>30,Datatable_t!X130<-10),3,1)))","v":""},{"$f":"IF(Datatable_t!A130=\"\",\"\",Datatable_t!A130)","v":""}]
[{"$f":"IF($J131=\"\",\"\",Datatable_t!H131)","v":""},{"$f":"IF($J131=\"\",\"\",Datatable_t!I131/2)","v":""},{"$f":"IF($J131=\"\",\"\",Datatable_t!J131)","v":""},{"$f":"IF($J131=\"\",\"\",Datatable_t!K131/2)","v":""},{"$f":"IF($J131=\"\",\"\",Datatable_t!F131)","v":""},{"$f":"IF($J131=\"\",\"\",Datatable_t!G131/2)","v":""},null,null,{"$f":"IF(J131=\"\",\"\",IF(AND(Datatable_t!X131>15,Datatable_t!X131<30),2,IF(OR(Datatable_t!X131>30,Datatable_t!X131<-10),3,1)))","v":""},{"$f":"IF(Datatable_t!A131=\"\",\"\",Datatable_t!A131)","v":""}]
[{"$f":"IF($J132=\"\",\"\",Datatable_t!H132)","v":""},{"$f":"IF($J132=\"\",\"\",Datatable_t!I132/2)","v":""},{"$f":"IF($J132=\"\",\"\",Datatable_t!J132)","v":""},{"$f":"IF($J132=\"\",\"\",Datatable_t!K132/2)","v":""},{"$f":"IF($J132=\"\",\"\",Datatable_t!F132)","v":""},{"$f":"IF($J132=\"\",\"\",Datatable_t!G132/2)","v":""},null,null,{"$f":"IF(J132=\"\",\"\",IF(AND(Datatable_t!X132>15,Datatable_t!X132<30),2,IF(OR(Datatable_t!X132>30,Datatable_t!X132<-10),3,1)))","v":""},{"$f":"IF(Datatable_t!A132=\"\",\"\",Datatable_t!A132)","v":""}]
[{"$f":"IF($J133=\"\",\"\",Datatable_t!H133)","v":""},{"$f":"IF($J133=\"\",\"\",Datatable_t!I133/2)","v":""},{"$f":"IF($J133=\"\",\"\",Datatable_t!J133)","v":""},{"$f":"IF($J133=\"\",\"\",Datatable_t!K133/2)","v":""},{"$f":"IF($J133=\"\",\"\",Datatable_t!F133)","v":""},{"$f":"IF($J133=\"\",\"\",Datatable_t!G133/2)","v":""},null,null,{"$f":"IF(J133=\"\",\"\",IF(AND(Datatable_t!X133>15,Datatable_t!X133<30),2,IF(OR(Datatable_t!X133>30,Datatable_t!X133<-10),3,1)))","v":""},{"$f":"IF(Datatable_t!A133=\"\",\"\",Datatable_t!A133)","v":""}]
[{"$f":"IF($J134=\"\",\"\",Datatable_t!H134)","v":""},{"$f":"IF($J134=\"\",\"\",Datatable_t!I134/2)","v":""},{"$f":"IF($J134=\"\",\"\",Datatable_t!J134)","v":""},{"$f":"IF($J134=\"\",\"\",Datatable_t!K134/2)","v":""},{"$f":"IF($J134=\"\",\"\",Datatable_t!F134)","v":""},{"$f":"IF($J134=\"\",\"\",Datatable_t!G134/2)","v":""},null,null,{"$f":"IF(J134=\"\",\"\",IF(AND(Datatable_t!X134>15,Datatable_t!X134<30),2,IF(OR(Datatable_t!X134>30,Datatable_t!X134<-10),3,1)))","v":""},{"$f":"IF(Datatable_t!A134=\"\",\"\",Datatable_t!A134)","v":""}]
[{"$f":"IF($J135=\"\",\"\",Datatable_t!H135)","v":""},{"$f":"IF($J135=\"\",\"\",Datatable_t!I135/2)","v":""},{"$f":"IF($J135=\"\",\"\",Datatable_t!J135)","v":""},{"$f":"IF($J135=\"\",\"\",Datatable_t!K135/2)","v":""},{"$f":"IF($J135=\"\",\"\",Datatable_t!F135)","v":""},{"$f":"IF($J135=\"\",\"\",Datatable_t!G135/2)","v":""},null,null,{"$f":"IF(J135=\"\",\"\",IF(AND(Datatable_t!X135>15,Datatable_t!X135<30),2,IF(OR(Datatable_t!X135>30,Datatable_t!X135<-10),3,1)))","v":""},{"$f":"IF(Datatable_t!A135=\"\",\"\",Datatable_t!A135)","v":""}]
[{"$f":"IF($J136=\"\",\"\",Datatable_t!H136)","v":""},{"$f":"IF($J136=\"\",\"\",Datatable_t!I136/2)","v":""},{"$f":"IF($J136=\"\",\"\",Datatable_t!J136)","v":""},{"$f":"IF($J136=\"\",\"\",Datatable_t!K136/2)","v":""},{"$f":"IF($J136=\"\",\"\",Datatable_t!F136)","v":""},{"$f":"IF($J136=\"\",\"\",Datatable_t!G136/2)","v":""},null,null,{"$f":"IF(J136=\"\",\"\",IF(AND(Datatable_t!X136>15,Datatable_t!X136<30),2,IF(OR(Datatable_t!X136>30,Datatable_t!X136<-10),3,1)))","v":""},{"$f":"IF(Datatable_t!A136=\"\",\"\",Datatable_t!A136)","v":""}]
[{"$f":"IF($J137=\"\",\"\",Datatable_t!H137)","v":""},{"$f":"IF($J137=\"\",\"\",Datatable_t!I137/2)","v":""},{"$f":"IF($J137=\"\",\"\",Datatable_t!J137)","v":""},{"$f":"IF($J137=\"\",\"\",Datatable_t!K137/2)","v":""},{"$f":"IF($J137=\"\",\"\",Datatable_t!F137)","v":""},{"$f":"IF($J137=\"\",\"\",Datatable_t!G137/2)","v":""},null,null,{"$f":"IF(J137=\"\",\"\",IF(AND(Datatable_t!X137>15,Datatable_t!X137<30),2,IF(OR(Datatable_t!X137>30,Datatable_t!X137<-10),3,1)))","v":""},{"$f":"IF(Datatable_t!A137=\"\",\"\",Datatable_t!A137)","v":""}]
[{"$f":"IF($J138=\"\",\"\",Datatable_t!H138)","v":""},{"$f":"IF($J138=\"\",\"\",Datatable_t!I138/2)","v":""},{"$f":"IF($J138=\"\",\"\",Datatable_t!J138)","v":""},{"$f":"IF($J138=\"\",\"\",Datatable_t!K138/2)","v":""},{"$f":"IF($J138=\"\",\"\",Datatable_t!F138)","v":""},{"$f":"IF($J138=\"\",\"\",Datatable_t!G138/2)","v":""},null,null,{"$f":"IF(J138=\"\",\"\",IF(AND(Datatable_t!X138>15,Datatable_t!X138<30),2,IF(OR(Datatable_t!X138>30,Datatable_t!X138<-10),3,1)))","v":""},{"$f":"IF(Datatable_t!A138=\"\",\"\",Datatable_t!A138)","v":""}]
[{"$f":"IF($J139=\"\",\"\",Datatable_t!H139)","v":""},{"$f":"IF($J139=\"\",\"\",Datatable_t!I139/2)","v":""},{"$f":"IF($J139=\"\",\"\",Datatable_t!J139)","v":""},{"$f":"IF($J139=\"\",\"\",Datatable_t!K139/2)","v":""},{"$f":"IF($J139=\"\",\"\",Datatable_t!F139)","v":""},{"$f":"IF($J139=\"\",\"\",Datatable_t!G139/2)","v":""},null,null,{"$f":"IF(J139=\"\",\"\",IF(AND(Datatable_t!X139>15,Datatable_t!X139<30),2,IF(OR(Datatable_t!X139>30,Datatable_t!X139<-10),3,1)))","v":""},{"$f":"IF(Datatable_t!A139=\"\",\"\",Datatable_t!A139)","v":""}]
[{"$f":"IF($J140=\"\",\"\",Datatable_t!H140)","v":""},{"$f":"IF($J140=\"\",\"\",Datatable_t!I140/2)","v":""},{"$f":"IF($J140=\"\",\"\",Datatable_t!J140)","v":""},{"$f":"IF($J140=\"\",\"\",Datatable_t!K140/2)","v":""},{"$f":"IF($J140=\"\",\"\",Datatable_t!F140)","v":""},{"$f":"IF($J140=\"\",\"\",Datatable_t!G140/2)","v":""},null,null,{"$f":"IF(J140=\"\",\"\",IF(AND(Datatable_t!X140>15,Datatable_t!X140<30),2,IF(OR(Datatable_t!X140>30,Datatable_t!X140<-10),3,1)))","v":""},{"$f":"IF(Datatable_t!A140=\"\",\"\",Datatable_t!A140)","v":""}]
[{"$f":"IF($J141=\"\",\"\",Datatable_t!H141)","v":""},{"$f":"IF($J141=\"\",\"\",Datatable_t!I141/2)","v":""},{"$f":"IF($J141=\"\",\"\",Datatable_t!J141)","v":""},{"$f":"IF($J141=\"\",\"\",Datatable_t!K141/2)","v":""},{"$f":"IF($J141=\"\",\"\",Datatable_t!F141)","v":""},{"$f":"IF($J141=\"\",\"\",Datatable_t!G141/2)","v":""},null,null,{"$f":"IF(J141=\"\",\"\",IF(AND(Datatable_t!X141>15,Datatable_t!X141<30),2,IF(OR(Datatable_t!X141>30,Datatable_t!X141<-10),3,1)))","v":""},{"$f":"IF(Datatable_t!A141=\"\",\"\",Datatable_t!A141)","v":""}]
[{"$f":"IF($J142=\"\",\"\",Datatable_t!H142)","v":""},{"$f":"IF($J142=\"\",\"\",Datatable_t!I142/2)","v":""},{"$f":"IF($J142=\"\",\"\",Datatable_t!J142)","v":""},{"$f":"IF($J142=\"\",\"\",Datatable_t!K142/2)","v":""},{"$f":"IF($J142=\"\",\"\",Datatable_t!F142)","v":""},{"$f":"IF($J142=\"\",\"\",Datatable_t!G142/2)","v":""},null,null,{"$f":"IF(J142=\"\",\"\",IF(AND(Datatable_t!X142>15,Datatable_t!X142<30),2,IF(OR(Datatable_t!X142>30,Datatable_t!X142<-10),3,1)))","v":""},{"$f":"IF(Datatable_t!A142=\"\",\"\",Datatable_t!A142)","v":""}]
[{"$f":"IF($J143=\"\",\"\",Datatable_t!H143)","v":""},{"$f":"IF($J143=\"\",\"\",Datatable_t!I143/2)","v":""},{"$f":"IF($J143=\"\",\"\",Datatable_t!J143)","v":""},{"$f":"IF($J143=\"\",\"\",Datatable_t!K143/2)","v":""},{"$f":"IF($J143=\"\",\"\",Datatable_t!F143)","v":""},{"$f":"IF($J143=\"\",\"\",Datatable_t!G143/2)","v":""},null,null,{"$f":"IF(J143=\"\",\"\",IF(AND(Datatable_t!X143>15,Datatable_t!X143<30),2,IF(OR(Datatable_t!X143>30,Datatable_t!X143<-10),3,1)))","v":""},{"$f":"IF(Datatable_t!A143=\"\",\"\",Datatable_t!A143)","v":""}]
[{"$f":"IF($J144=\"\",\"\",Datatable_t!H144)","v":""},{"$f":"IF($J144=\"\",\"\",Datatable_t!I144/2)","v":""},{"$f":"IF($J144=\"\",\"\",Datatable_t!J144)","v":""},{"$f":"IF($J144=\"\",\"\",Datatable_t!K144/2)","v":""},{"$f":"IF($J144=\"\",\"\",Datatable_t!F144)","v":""},{"$f":"IF($J144=\"\",\"\",Datatable_t!G144/2)","v":""},null,null,{"$f":"IF(J144=\"\",\"\",IF(AND(Datatable_t!X144>15,Datatable_t!X144<30),2,IF(OR(Datatable_t!X144>30,Datatable_t!X144<-10),3,1)))","v":""},{"$f":"IF(Datatable_t!A144=\"\",\"\",Datatable_t!A144)","v":""}]
[{"$f":"IF($J145=\"\",\"\",Datatable_t!H145)","v":""},{"$f":"IF($J145=\"\",\"\",Datatable_t!I145/2)","v":""},{"$f":"IF($J145=\"\",\"\",Datatable_t!J145)","v":""},{"$f":"IF($J145=\"\",\"\",Datatable_t!K145/2)","v":""},{"$f":"IF($J145=\"\",\"\",Datatable_t!F145)","v":""},{"$f":"IF($J145=\"\",\"\",Datatable_t!G145/2)","v":""},null,null,{"$f":"IF(J145=\"\",\"\",IF(AND(Datatable_t!X145>15,Datatable_t!X145<30),2,IF(OR(Datatable_t!X145>30,Datatable_t!X145<-10),3,1)))","v":""},{"$f":"IF(Datatable_t!A145=\"\",\"\",Datatable_t!A145)","v":""}]
[{"$f":"IF($J146=\"\",\"\",Datatable_t!H146)","v":""},{"$f":"IF($J146=\"\",\"\",Datatable_t!I146/2)","v":""},{"$f":"IF($J146=\"\",\"\",Datatable_t!J146)","v":""},{"$f":"IF($J146=\"\",\"\",Datatable_t!K146/2)","v":""},{"$f":"IF($J146=\"\",\"\",Datatable_t!F146)","v":""},{"$f":"IF($J146=\"\",\"\",Datatable_t!G146/2)","v":""},null,null,{"$f":"IF(J146=\"\",\"\",IF(AND(Datatable_t!X146>15,Datatable_t!X146<30),2,IF(OR(Datatable_t!X146>30,Datatable_t!X146<-10),3,1)))","v":""},{"$f":"IF(Datatable_t!A146=\"\",\"\",Datatable_t!A146)","v":""}]
[{"$f":"IF($J147=\"\",\"\",Datatable_t!H147)","v":""},{"$f":"IF($J147=\"\",\"\",Datatable_t!I147/2)","v":""},{"$f":"IF($J147=\"\",\"\",Datatable_t!J147)","v":""},{"$f":"IF($J147=\"\",\"\",Datatable_t!K147/2)","v":""},{"$f":"IF($J147=\"\",\"\",Datatable_t!F147)","v":""},{"$f":"IF($J147=\"\",\"\",Datatable_t!G147/2)","v":""},null,null,{"$f":"IF(J147=\"\",\"\",IF(AND(Datatable_t!X147>15,Datatable_t!X147<30),2,IF(OR(Datatable_t!X147>30,Datatable_t!X147<-10),3,1)))","v":""},{"$f":"IF(Datatable_t!A147=\"\",\"\",Datatable_t!A147)","v":""}]
[{"$f":"IF($J148=\"\",\"\",Datatable_t!H148)","v":""},{"$f":"IF($J148=\"\",\"\",Datatable_t!I148/2)","v":""},{"$f":"IF($J148=\"\",\"\",Datatable_t!J148)","v":""},{"$f":"IF($J148=\"\",\"\",Datatable_t!K148/2)","v":""},{"$f":"IF($J148=\"\",\"\",Datatable_t!F148)","v":""},{"$f":"IF($J148=\"\",\"\",Datatable_t!G148/2)","v":""},null,null,{"$f":"IF(J148=\"\",\"\",IF(AND(Datatable_t!X148>15,Datatable_t!X148<30),2,IF(OR(Datatable_t!X148>30,Datatable_t!X148<-10),3,1)))","v":""},{"$f":"IF(Datatable_t!A148=\"\",\"\",Datatable_t!A148)","v":""}]
[{"$f":"IF($J149=\"\",\"\",Datatable_t!H149)","v":""},{"$f":"IF($J149=\"\",\"\",Datatable_t!I149/2)","v":""},{"$f":"IF($J149=\"\",\"\",Datatable_t!J149)","v":""},{"$f":"IF($J149=\"\",\"\",Datatable_t!K149/2)","v":""},{"$f":"IF($J149=\"\",\"\",Datatable_t!F149)","v":""},{"$f":"IF($J149=\"\",\"\",Datatable_t!G149/2)","v":""},null,null,{"$f":"IF(J149=\"\",\"\",IF(AND(Datatable_t!X149>15,Datatable_t!X149<30),2,IF(OR(Datatable_t!X149>30,Datatable_t!X149<-10),3,1)))","v":""},{"$f":"IF(Datatable_t!A149=\"\",\"\",Datatable_t!A149)","v":""}]
[{"$f":"IF($J150=\"\",\"\",Datatable_t!H150)","v":""},{"$f":"IF($J150=\"\",\"\",Datatable_t!I150/2)","v":""},{"$f":"IF($J150=\"\",\"\",Datatable_t!J150)","v":""},{"$f":"IF($J150=\"\",\"\",Datatable_t!K150/2)","v":""},{"$f":"IF($J150=\"\",\"\",Datatable_t!F150)","v":""},{"$f":"IF($J150=\"\",\"\",Datatable_t!G150/2)","v":""},null,null,{"$f":"IF(J150=\"\",\"\",IF(AND(Datatable_t!X150>15,Datatable_t!X150<30),2,IF(OR(Datatable_t!X150>30,Datatable_t!X150<-10),3,1)))","v":""},{"$f":"IF(Datatable_t!A150=\"\",\"\",Datatable_t!A150)","v":""}]
[{"$f":"IF($J151=\"\",\"\",Datatable_t!H151)","v":""},{"$f":"IF($J151=\"\",\"\",Datatable_t!I151/2)","v":""},{"$f":"IF($J151=\"\",\"\",Datatable_t!J151)","v":""},{"$f":"IF($J151=\"\",\"\",Datatable_t!K151/2)","v":""},{"$f":"IF($J151=\"\",\"\",Datatable_t!F151)","v":""},{"$f":"IF($J151=\"\",\"\",Datatable_t!G151/2)","v":""},null,null,{"$f":"IF(J151=\"\",\"\",IF(AND(Datatable_t!X151>15,Datatable_t!X151<30),2,IF(OR(Datatable_t!X151>30,Datatable_t!X151<-10),3,1)))","v":""},{"$f":"IF(Datatable_t!A151=\"\",\"\",Datatable_t!A151)","v":""}]
[{"$f":"IF($J152=\"\",\"\",Datatable_t!H152)","v":""},{"$f":"IF($J152=\"\",\"\",Datatable_t!I152/2)","v":""},{"$f":"IF($J152=\"\",\"\",Datatable_t!J152)","v":""},{"$f":"IF($J152=\"\",\"\",Datatable_t!K152/2)","v":""},{"$f":"IF($J152=\"\",\"\",Datatable_t!F152)","v":""},{"$f":"IF($J152=\"\",\"\",Datatable_t!G152/2)","v":""},null,null,{"$f":"IF(J152=\"\",\"\",IF(AND(Datatable_t!X152>15,Datatable_t!X152<30),2,IF(OR(Datatable_t!X152>30,Datatable_t!X152<-10),3,1)))","v":""},{"$f":"IF(Datatable_t!A152=\"\",\"\",Datatable_t!A152)","v":""}]
[{"$f":"IF($J153=\"\",\"\",Datatable_t!H153)","v":""},{"$f":"IF($J153=\"\",\"\",Datatable_t!I153/2)","v":""},{"$f":"IF($J153=\"\",\"\",Datatable_t!J153)","v":""},{"$f":"IF($J153=\"\",\"\",Datatable_t!K153/2)","v":""},{"$f":"IF($J153=\"\",\"\",Datatable_t!F153)","v":""},{"$f":"IF($J153=\"\",\"\",Datatable_t!G153/2)","v":""},null,null,{"$f":"IF(J153=\"\",\"\",IF(AND(Datatable_t!X153>15,Datatable_t!X153<30),2,IF(OR(Datatable_t!X153>30,Datatable_t!X153<-10),3,1)))","v":""},{"$f":"IF(Datatable_t!A153=\"\",\"\",Datatable_t!A153)","v":""}]
[{"$f":"IF($J154=\"\",\"\",Datatable_t!H154)","v":""},{"$f":"IF($J154=\"\",\"\",Datatable_t!I154/2)","v":""},{"$f":"IF($J154=\"\",\"\",Datatable_t!J154)","v":""},{"$f":"IF($J154=\"\",\"\",Datatable_t!K154/2)","v":""},{"$f":"IF($J154=\"\",\"\",Datatable_t!F154)","v":""},{"$f":"IF($J154=\"\",\"\",Datatable_t!G154/2)","v":""},null,null,{"$f":"IF(J154=\"\",\"\",IF(AND(Datatable_t!X154>15,Datatable_t!X154<30),2,IF(OR(Datatable_t!X154>30,Datatable_t!X154<-10),3,1)))","v":""},{"$f":"IF(Datatable_t!A154=\"\",\"\",Datatable_t!A154)","v":""}]
[{"$f":"IF($J155=\"\",\"\",Datatable_t!H155)","v":""},{"$f":"IF($J155=\"\",\"\",Datatable_t!I155/2)","v":""},{"$f":"IF($J155=\"\",\"\",Datatable_t!J155)","v":""},{"$f":"IF($J155=\"\",\"\",Datatable_t!K155/2)","v":""},{"$f":"IF($J155=\"\",\"\",Datatable_t!F155)","v":""},{"$f":"IF($J155=\"\",\"\",Datatable_t!G155/2)","v":""},null,null,{"$f":"IF(J155=\"\",\"\",IF(AND(Datatable_t!X155>15,Datatable_t!X155<30),2,IF(OR(Datatable_t!X155>30,Datatable_t!X155<-10),3,1)))","v":""},{"$f":"IF(Datatable_t!A155=\"\",\"\",Datatable_t!A155)","v":""}]
[{"$f":"IF($J156=\"\",\"\",Datatable_t!H156)","v":""},{"$f":"IF($J156=\"\",\"\",Datatable_t!I156/2)","v":""},{"$f":"IF($J156=\"\",\"\",Datatable_t!J156)","v":""},{"$f":"IF($J156=\"\",\"\",Datatable_t!K156/2)","v":""},{"$f":"IF($J156=\"\",\"\",Datatable_t!F156)","v":""},{"$f":"IF($J156=\"\",\"\",Datatable_t!G156/2)","v":""},null,null,{"$f":"IF(J156=\"\",\"\",IF(AND(Datatable_t!X156>15,Datatable_t!X156<30),2,IF(OR(Datatable_t!X156>30,Datatable_t!X156<-10),3,1)))","v":""},{"$f":"IF(Datatable_t!A156=\"\",\"\",Datatable_t!A156)","v":""}]
[{"$f":"IF($J157=\"\",\"\",Datatable_t!H157)","v":""},{"$f":"IF($J157=\"\",\"\",Datatable_t!I157/2)","v":""},{"$f":"IF($J157=\"\",\"\",Datatable_t!J157)","v":""},{"$f":"IF($J157=\"\",\"\",Datatable_t!K157/2)","v":""},{"$f":"IF($J157=\"\",\"\",Datatable_t!F157)","v":""},{"$f":"IF($J157=\"\",\"\",Datatable_t!G157/2)","v":""},null,null,{"$f":"IF(J157=\"\",\"\",IF(AND(Datatable_t!X157>15,Datatable_t!X157<30),2,IF(OR(Datatable_t!X157>30,Datatable_t!X157<-10),3,1)))","v":""},{"$f":"IF(Datatable_t!A157=\"\",\"\",Datatable_t!A157)","v":""}]
[{"$f":"IF($J158=\"\",\"\",Datatable_t!H158)","v":""},{"$f":"IF($J158=\"\",\"\",Datatable_t!I158/2)","v":""},{"$f":"IF($J158=\"\",\"\",Datatable_t!J158)","v":""},{"$f":"IF($J158=\"\",\"\",Datatable_t!K158/2)","v":""},{"$f":"IF($J158=\"\",\"\",Datatable_t!F158)","v":""},{"$f":"IF($J158=\"\",\"\",Datatable_t!G158/2)","v":""},null,null,{"$f":"IF(J158=\"\",\"\",IF(AND(Datatable_t!X158>15,Datatable_t!X158<30),2,IF(OR(Datatable_t!X158>30,Datatable_t!X158<-10),3,1)))","v":""},{"$f":"IF(Datatable_t!A158=\"\",\"\",Datatable_t!A158)","v":""}]
[{"$f":"IF($J159=\"\",\"\",Datatable_t!H159)","v":""},{"$f":"IF($J159=\"\",\"\",Datatable_t!I159/2)","v":""},{"$f":"IF($J159=\"\",\"\",Datatable_t!J159)","v":""},{"$f":"IF($J159=\"\",\"\",Datatable_t!K159/2)","v":""},{"$f":"IF($J159=\"\",\"\",Datatable_t!F159)","v":""},{"$f":"IF($J159=\"\",\"\",Datatable_t!G159/2)","v":""},null,null,{"$f":"IF(J159=\"\",\"\",IF(AND(Datatable_t!X159>15,Datatable_t!X159<30),2,IF(OR(Datatable_t!X159>30,Datatable_t!X159<-10),3,1)))","v":""},{"$f":"IF(Datatable_t!A159=\"\",\"\",Datatable_t!A159)","v":""}]
[{"$f":"IF($J160=\"\",\"\",Datatable_t!H160)","v":""},{"$f":"IF($J160=\"\",\"\",Datatable_t!I160/2)","v":""},{"$f":"IF($J160=\"\",\"\",Datatable_t!J160)","v":""},{"$f":"IF($J160=\"\",\"\",Datatable_t!K160/2)","v":""},{"$f":"IF($J160=\"\",\"\",Datatable_t!F160)","v":""},{"$f":"IF($J160=\"\",\"\",Datatable_t!G160/2)","v":""},null,null,{"$f":"IF(J160=\"\",\"\",IF(AND(Datatable_t!X160>15,Datatable_t!X160<30),2,IF(OR(Datatable_t!X160>30,Datatable_t!X160<-10),3,1)))","v":""},{"$f":"IF(Datatable_t!A160=\"\",\"\",Datatable_t!A160)","v":""}]
[{"$f":"IF($J161=\"\",\"\",Datatable_t!H161)","v":""},{"$f":"IF($J161=\"\",\"\",Datatable_t!I161/2)","v":""},{"$f":"IF($J161=\"\",\"\",Datatable_t!J161)","v":""},{"$f":"IF($J161=\"\",\"\",Datatable_t!K161/2)","v":""},{"$f":"IF($J161=\"\",\"\",Datatable_t!F161)","v":""},{"$f":"IF($J161=\"\",\"\",Datatable_t!G161/2)","v":""},null,null,{"$f":"IF(J161=\"\",\"\",IF(AND(Datatable_t!X161>15,Datatable_t!X161<30),2,IF(OR(Datatable_t!X161>30,Datatable_t!X161<-10),3,1)))","v":""},{"$f":"IF(Datatable_t!A161=\"\",\"\",Datatable_t!A161)","v":""}]
[{"$f":"IF($J162=\"\",\"\",Datatable_t!H162)","v":""},{"$f":"IF($J162=\"\",\"\",Datatable_t!I162/2)","v":""},{"$f":"IF($J162=\"\",\"\",Datatable_t!J162)","v":""},{"$f":"IF($J162=\"\",\"\",Datatable_t!K162/2)","v":""},{"$f":"IF($J162=\"\",\"\",Datatable_t!F162)","v":""},{"$f":"IF($J162=\"\",\"\",Datatable_t!G162/2)","v":""},null,null,{"$f":"IF(J162=\"\",\"\",IF(AND(Datatable_t!X162>15,Datatable_t!X162<30),2,IF(OR(Datatable_t!X162>30,Datatable_t!X162<-10),3,1)))","v":""},{"$f":"IF(Datatable_t!A162=\"\",\"\",Datatable_t!A162)","v":""}]
[{"$f":"IF($J163=\"\",\"\",Datatable_t!H163)","v":""},{"$f":"IF($J163=\"\",\"\",Datatable_t!I163/2)","v":""},{"$f":"IF($J163=\"\",\"\",Datatable_t!J163)","v":""},{"$f":"IF($J163=\"\",\"\",Datatable_t!K163/2)","v":""},{"$f":"IF($J163=\"\",\"\",Datatable_t!F163)","v":""},{"$f":"IF($J163=\"\",\"\",Datatable_t!G163/2)","v":""},null,null,{"$f":"IF(J163=\"\",\"\",IF(AND(Datatable_t!X163>15,Datatable_t!X163<30),2,IF(OR(Datatable_t!X163>30,Datatable_t!X163<-10),3,1)))","v":""},{"$f":"IF(Datatable_t!A163=\"\",\"\",Datatable_t!A163)","v":""}]
[{"$f":"IF($J164=\"\",\"\",Datatable_t!H164)","v":""},{"$f":"IF($J164=\"\",\"\",Datatable_t!I164/2)","v":""},{"$f":"IF($J164=\"\",\"\",Datatable_t!J164)","v":""},{"$f":"IF($J164=\"\",\"\",Datatable_t!K164/2)","v":""},{"$f":"IF($J164=\"\",\"\",Datatable_t!F164)","v":""},{"$f":"IF($J164=\"\",\"\",Datatable_t!G164/2)","v":""},null,null,{"$f":"IF(J164=\"\",\"\",IF(AND(Datatable_t!X164>15,Datatable_t!X164<30),2,IF(OR(Datatable_t!X164>30,Datatable_t!X164<-10),3,1)))","v":""},{"$f":"IF(Datatable_t!A164=\"\",\"\",Datatable_t!A164)","v":""}]
[{"$f":"IF($J165=\"\",\"\",Datatable_t!H165)","v":""},{"$f":"IF($J165=\"\",\"\",Datatable_t!I165/2)","v":""},{"$f":"IF($J165=\"\",\"\",Datatable_t!J165)","v":""},{"$f":"IF($J165=\"\",\"\",Datatable_t!K165/2)","v":""},{"$f":"IF($J165=\"\",\"\",Datatable_t!F165)","v":""},{"$f":"IF($J165=\"\",\"\",Datatable_t!G165/2)","v":""},null,null,{"$f":"IF(J165=\"\",\"\",IF(AND(Datatable_t!X165>15,Datatable_t!X165<30),2,IF(OR(Datatable_t!X165>30,Datatable_t!X165<-10),3,1)))","v":""},{"$f":"IF(Datatable_t!A165=\"\",\"\",Datatable_t!A165)","v":""}]
[{"$f":"IF($J166=\"\",\"\",Datatable_t!H166)","v":""},{"$f":"IF($J166=\"\",\"\",Datatable_t!I166/2)","v":""},{"$f":"IF($J166=\"\",\"\",Datatable_t!J166)","v":""},{"$f":"IF($J166=\"\",\"\",Datatable_t!K166/2)","v":""},{"$f":"IF($J166=\"\",\"\",Datatable_t!F166)","v":""},{"$f":"IF($J166=\"\",\"\",Datatable_t!G166/2)","v":""},null,null,{"$f":"IF(J166=\"\",\"\",IF(AND(Datatable_t!X166>15,Datatable_t!X166<30),2,IF(OR(Datatable_t!X166>30,Datatable_t!X166<-10),3,1)))","v":""},{"$f":"IF(Datatable_t!A166=\"\",\"\",Datatable_t!A166)","v":""}]
[{"$f":"IF($J167=\"\",\"\",Datatable_t!H167)","v":""},{"$f":"IF($J167=\"\",\"\",Datatable_t!I167/2)","v":""},{"$f":"IF($J167=\"\",\"\",Datatable_t!J167)","v":""},{"$f":"IF($J167=\"\",\"\",Datatable_t!K167/2)","v":""},{"$f":"IF($J167=\"\",\"\",Datatable_t!F167)","v":""},{"$f":"IF($J167=\"\",\"\",Datatable_t!G167/2)","v":""},null,null,{"$f":"IF(J167=\"\",\"\",IF(AND(Datatable_t!X167>15,Datatable_t!X167<30),2,IF(OR(Datatable_t!X167>30,Datatable_t!X167<-10),3,1)))","v":""},{"$f":"IF(Datatable_t!A167=\"\",\"\",Datatable_t!A167)","v":""}]
[{"$f":"IF($J168=\"\",\"\",Datatable_t!H168)","v":""},{"$f":"IF($J168=\"\",\"\",Datatable_t!I168/2)","v":""},{"$f":"IF($J168=\"\",\"\",Datatable_t!J168)","v":""},{"$f":"IF($J168=\"\",\"\",Datatable_t!K168/2)","v":""},{"$f":"IF($J168=\"\",\"\",Datatable_t!F168)","v":""},{"$f":"IF($J168=\"\",\"\",Datatable_t!G168/2)","v":""},null,null,{"$f":"IF(J168=\"\",\"\",IF(AND(Datatable_t!X168>15,Datatable_t!X168<30),2,IF(OR(Datatable_t!X168>30,Datatable_t!X168<-10),3,1)))","v":""},{"$f":"IF(Datatable_t!A168=\"\",\"\",Datatable_t!A168)","v":""}]
[{"$f":"IF($J169=\"\",\"\",Datatable_t!H169)","v":""},{"$f":"IF($J169=\"\",\"\",Datatable_t!I169/2)","v":""},{"$f":"IF($J169=\"\",\"\",Datatable_t!J169)","v":""},{"$f":"IF($J169=\"\",\"\",Datatable_t!K169/2)","v":""},{"$f":"IF($J169=\"\",\"\",Datatable_t!F169)","v":""},{"$f":"IF($J169=\"\",\"\",Datatable_t!G169/2)","v":""},null,null,{"$f":"IF(J169=\"\",\"\",IF(AND(Datatable_t!X169>15,Datatable_t!X169<30),2,IF(OR(Datatable_t!X169>30,Datatable_t!X169<-10),3,1)))","v":""},{"$f":"IF(Datatable_t!A169=\"\",\"\",Datatable_t!A169)","v":""}]
[{"$f":"IF($J170=\"\",\"\",Datatable_t!H170)","v":""},{"$f":"IF($J170=\"\",\"\",Datatable_t!I170/2)","v":""},{"$f":"IF($J170=\"\",\"\",Datatable_t!J170)","v":""},{"$f":"IF($J170=\"\",\"\",Datatable_t!K170/2)","v":""},{"$f":"IF($J170=\"\",\"\",Datatable_t!F170)","v":""},{"$f":"IF($J170=\"\",\"\",Datatable_t!G170/2)","v":""},null,null,{"$f":"IF(J170=\"\",\"\",IF(AND(Datatable_t!X170>15,Datatable_t!X170<30),2,IF(OR(Datatable_t!X170>30,Datatable_t!X170<-10),3,1)))","v":""},{"$f":"IF(Datatable_t!A170=\"\",\"\",Datatable_t!A170)","v":""}]
[{"$f":"IF($J171=\"\",\"\",Datatable_t!H171)","v":""},{"$f":"IF($J171=\"\",\"\",Datatable_t!I171/2)","v":""},{"$f":"IF($J171=\"\",\"\",Datatable_t!J171)","v":""},{"$f":"IF($J171=\"\",\"\",Datatable_t!K171/2)","v":""},{"$f":"IF($J171=\"\",\"\",Datatable_t!F171)","v":""},{"$f":"IF($J171=\"\",\"\",Datatable_t!G171/2)","v":""},null,null,{"$f":"IF(J171=\"\",\"\",IF(AND(Datatable_t!X171>15,Datatable_t!X171<30),2,IF(OR(Datatable_t!X171>30,Datatable_t!X171<-10),3,1)))","v":""},{"$f":"IF(Datatable_t!A171=\"\",\"\",Datatable_t!A171)","v":""}]
[{"$f":"IF($J172=\"\",\"\",Datatable_t!H172)","v":""},{"$f":"IF($J172=\"\",\"\",Datatable_t!I172/2)","v":""},{"$f":"IF($J172=\"\",\"\",Datatable_t!J172)","v":""},{"$f":"IF($J172=\"\",\"\",Datatable_t!K172/2)","v":""},{"$f":"IF($J172=\"\",\"\",Datatable_t!F172)","v":""},{"$f":"IF($J172=\"\",\"\",Datatable_t!G172/2)","v":""},null,null,{"$f":"IF(J172=\"\",\"\",IF(AND(Datatable_t!X172>15,Datatable_t!X172<30),2,IF(OR(Datatable_t!X172>30,Datatable_t!X172<-10),3,1)))","v":""},{"$f":"IF(Datatable_t!A172=\"\",\"\",Datatable_t!A172)","v":""}]
[{"$f":"IF($J173=\"\",\"\",Datatable_t!H173)","v":""},{"$f":"IF($J173=\"\",\"\",Datatable_t!I173/2)","v":""},{"$f":"IF($J173=\"\",\"\",Datatable_t!J173)","v":""},{"$f":"IF($J173=\"\",\"\",Datatable_t!K173/2)","v":""},{"$f":"IF($J173=\"\",\"\",Datatable_t!F173)","v":""},{"$f":"IF($J173=\"\",\"\",Datatable_t!G173/2)","v":""},null,null,{"$f":"IF(J173=\"\",\"\",IF(AND(Datatable_t!X173>15,Datatable_t!X173<30),2,IF(OR(Datatable_t!X173>30,Datatable_t!X173<-10),3,1)))","v":""},{"$f":"IF(Datatable_t!A173=\"\",\"\",Datatable_t!A173)","v":""}]
[{"$f":"IF($J174=\"\",\"\",Datatable_t!H174)","v":""},{"$f":"IF($J174=\"\",\"\",Datatable_t!I174/2)","v":""},{"$f":"IF($J174=\"\",\"\",Datatable_t!J174)","v":""},{"$f":"IF($J174=\"\",\"\",Datatable_t!K174/2)","v":""},{"$f":"IF($J174=\"\",\"\",Datatable_t!F174)","v":""},{"$f":"IF($J174=\"\",\"\",Datatable_t!G174/2)","v":""},null,null,{"$f":"IF(J174=\"\",\"\",IF(AND(Datatable_t!X174>15,Datatable_t!X174<30),2,IF(OR(Datatable_t!X174>30,Datatable_t!X174<-10),3,1)))","v":""},{"$f":"IF(Datatable_t!A174=\"\",\"\",Datatable_t!A174)","v":""}]
[{"$f":"IF($J175=\"\",\"\",Datatable_t!H175)","v":""},{"$f":"IF($J175=\"\",\"\",Datatable_t!I175/2)","v":""},{"$f":"IF($J175=\"\",\"\",Datatable_t!J175)","v":""},{"$f":"IF($J175=\"\",\"\",Datatable_t!K175/2)","v":""},{"$f":"IF($J175=\"\",\"\",Datatable_t!F175)","v":""},{"$f":"IF($J175=\"\",\"\",Datatable_t!G175/2)","v":""},null,null,{"$f":"IF(J175=\"\",\"\",IF(AND(Datatable_t!X175>15,Datatable_t!X175<30),2,IF(OR(Datatable_t!X175>30,Datatable_t!X175<-10),3,1)))","v":""},{"$f":"IF(Datatable_t!A175=\"\",\"\",Datatable_t!A175)","v":""}]
[{"$f":"IF($J176=\"\",\"\",Datatable_t!H176)","v":""},{"$f":"IF($J176=\"\",\"\",Datatable_t!I176/2)","v":""},{"$f":"IF($J176=\"\",\"\",Datatable_t!J176)","v":""},{"$f":"IF($J176=\"\",\"\",Datatable_t!K176/2)","v":""},{"$f":"IF($J176=\"\",\"\",Datatable_t!F176)","v":""},{"$f":"IF($J176=\"\",\"\",Datatable_t!G176/2)","v":""},null,null,{"$f":"IF(J176=\"\",\"\",IF(AND(Datatable_t!X176>15,Datatable_t!X176<30),2,IF(OR(Datatable_t!X176>30,Datatable_t!X176<-10),3,1)))","v":""},{"$f":"IF(Datatable_t!A176=\"\",\"\",Datatable_t!A176)","v":""}]
[{"$f":"IF($J177=\"\",\"\",Datatable_t!H177)","v":""},{"$f":"IF($J177=\"\",\"\",Datatable_t!I177/2)","v":""},{"$f":"IF($J177=\"\",\"\",Datatable_t!J177)","v":""},{"$f":"IF($J177=\"\",\"\",Datatable_t!K177/2)","v":""},{"$f":"IF($J177=\"\",\"\",Datatable_t!F177)","v":""},{"$f":"IF($J177=\"\",\"\",Datatable_t!G177/2)","v":""},null,null,{"$f":"IF(J177=\"\",\"\",IF(AND(Datatable_t!X177>15,Datatable_t!X177<30),2,IF(OR(Datatable_t!X177>30,Datatable_t!X177<-10),3,1)))","v":""},{"$f":"IF(Datatable_t!A177=\"\",\"\",Datatable_t!A177)","v":""}]
[{"$f":"IF($J178=\"\",\"\",Datatable_t!H178)","v":""},{"$f":"IF($J178=\"\",\"\",Datatable_t!I178/2)","v":""},{"$f":"IF($J178=\"\",\"\",Datatable_t!J178)","v":""},{"$f":"IF($J178=\"\",\"\",Datatable_t!K178/2)","v":""},{"$f":"IF($J178=\"\",\"\",Datatable_t!F178)","v":""},{"$f":"IF($J178=\"\",\"\",Datatable_t!G178/2)","v":""},null,null,{"$f":"IF(J178=\"\",\"\",IF(AND(Datatable_t!X178>15,Datatable_t!X178<30),2,IF(OR(Datatable_t!X178>30,Datatable_t!X178<-10),3,1)))","v":""},{"$f":"IF(Datatable_t!A178=\"\",\"\",Datatable_t!A178)","v":""}]
[{"$f":"IF($J179=\"\",\"\",Datatable_t!H179)","v":""},{"$f":"IF($J179=\"\",\"\",Datatable_t!I179/2)","v":""},{"$f":"IF($J179=\"\",\"\",Datatable_t!J179)","v":""},{"$f":"IF($J179=\"\",\"\",Datatable_t!K179/2)","v":""},{"$f":"IF($J179=\"\",\"\",Datatable_t!F179)","v":""},{"$f":"IF($J179=\"\",\"\",Datatable_t!G179/2)","v":""},null,null,{"$f":"IF(J179=\"\",\"\",IF(AND(Datatable_t!X179>15,Datatable_t!X179<30),2,IF(OR(Datatable_t!X179>30,Datatable_t!X179<-10),3,1)))","v":""},{"$f":"IF(Datatable_t!A179=\"\",\"\",Datatable_t!A179)","v":""}]
[{"$f":"IF($J180=\"\",\"\",Datatable_t!H180)","v":""},{"$f":"IF($J180=\"\",\"\",Datatable_t!I180/2)","v":""},{"$f":"IF($J180=\"\",\"\",Datatable_t!J180)","v":""},{"$f":"IF($J180=\"\",\"\",Datatable_t!K180/2)","v":""},{"$f":"IF($J180=\"\",\"\",Datatable_t!F180)","v":""},{"$f":"IF($J180=\"\",\"\",Datatable_t!G180/2)","v":""},null,null,{"$f":"IF(J180=\"\",\"\",IF(AND(Datatable_t!X180>15,Datatable_t!X180<30),2,IF(OR(Datatable_t!X180>30,Datatable_t!X180<-10),3,1)))","v":""},{"$f":"IF(Datatable_t!A180=\"\",\"\",Datatable_t!A180)","v":""}]
[{"$f":"IF($J181=\"\",\"\",Datatable_t!H181)","v":""},{"$f":"IF($J181=\"\",\"\",Datatable_t!I181/2)","v":""},{"$f":"IF($J181=\"\",\"\",Datatable_t!J181)","v":""},{"$f":"IF($J181=\"\",\"\",Datatable_t!K181/2)","v":""},{"$f":"IF($J181=\"\",\"\",Datatable_t!F181)","v":""},{"$f":"IF($J181=\"\",\"\",Datatable_t!G181/2)","v":""},null,null,{"$f":"IF(J181=\"\",\"\",IF(AND(Datatable_t!X181>15,Datatable_t!X181<30),2,IF(OR(Datatable_t!X181>30,Datatable_t!X181<-10),3,1)))","v":""},{"$f":"IF(Datatable_t!A181=\"\",\"\",Datatable_t!A181)","v":""}]
[{"$f":"IF($J182=\"\",\"\",Datatable_t!H182)","v":""},{"$f":"IF($J182=\"\",\"\",Datatable_t!I182/2)","v":""},{"$f":"IF($J182=\"\",\"\",Datatable_t!J182)","v":""},{"$f":"IF($J182=\"\",\"\",Datatable_t!K182/2)","v":""},{"$f":"IF($J182=\"\",\"\",Datatable_t!F182)","v":""},{"$f":"IF($J182=\"\",\"\",Datatable_t!G182/2)","v":""},null,null,{"$f":"IF(J182=\"\",\"\",IF(AND(Datatable_t!X182>15,Datatable_t!X182<30),2,IF(OR(Datatable_t!X182>30,Datatable_t!X182<-10),3,1)))","v":""},{"$f":"IF(Datatable_t!A182=\"\",\"\",Datatable_t!A182)","v":""}]
[{"$f":"IF($J183=\"\",\"\",Datatable_t!H183)","v":""},{"$f":"IF($J183=\"\",\"\",Datatable_t!I183/2)","v":""},{"$f":"IF($J183=\"\",\"\",Datatable_t!J183)","v":""},{"$f":"IF($J183=\"\",\"\",Datatable_t!K183/2)","v":""},{"$f":"IF($J183=\"\",\"\",Datatable_t!F183)","v":""},{"$f":"IF($J183=\"\",\"\",Datatable_t!G183/2)","v":""},null,null,{"$f":"IF(J183=\"\",\"\",IF(AND(Datatable_t!X183>15,Datatable_t!X183<30),2,IF(OR(Datatable_t!X183>30,Datatable_t!X183<-10),3,1)))","v":""},{"$f":"IF(Datatable_t!A183=\"\",\"\",Datatable_t!A183)","v":""}]
[{"$f":"IF($J184=\"\",\"\",Datatable_t!H184)","v":""},{"$f":"IF($J184=\"\",\"\",Datatable_t!I184/2)","v":""},{"$f":"IF($J184=\"\",\"\",Datatable_t!J184)","v":""},{"$f":"IF($J184=\"\",\"\",Datatable_t!K184/2)","v":""},{"$f":"IF($J184=\"\",\"\",Datatable_t!F184)","v":""},{"$f":"IF($J184=\"\",\"\",Datatable_t!G184/2)","v":""},null,null,{"$f":"IF(J184=\"\",\"\",IF(AND(Datatable_t!X184>15,Datatable_t!X184<30),2,IF(OR(Datatable_t!X184>30,Datatable_t!X184<-10),3,1)))","v":""},{"$f":"IF(Datatable_t!A184=\"\",\"\",Datatable_t!A184)","v":""}]
[{"$f":"IF($J185=\"\",\"\",Datatable_t!H185)","v":""},{"$f":"IF($J185=\"\",\"\",Datatable_t!I185/2)","v":""},{"$f":"IF($J185=\"\",\"\",Datatable_t!J185)","v":""},{"$f":"IF($J185=\"\",\"\",Datatable_t!K185/2)","v":""},{"$f":"IF($J185=\"\",\"\",Datatable_t!F185)","v":""},{"$f":"IF($J185=\"\",\"\",Datatable_t!G185/2)","v":""},null,null,{"$f":"IF(J185=\"\",\"\",IF(AND(Datatable_t!X185>15,Datatable_t!X185<30),2,IF(OR(Datatable_t!X185>30,Datatable_t!X185<-10),3,1)))","v":""},{"$f":"IF(Datatable_t!A185=\"\",\"\",Datatable_t!A185)","v":""}]
[{"$f":"IF($J186=\"\",\"\",Datatable_t!H186)","v":""},{"$f":"IF($J186=\"\",\"\",Datatable_t!I186/2)","v":""},{"$f":"IF($J186=\"\",\"\",Datatable_t!J186)","v":""},{"$f":"IF($J186=\"\",\"\",Datatable_t!K186/2)","v":""},{"$f":"IF($J186=\"\",\"\",Datatable_t!F186)","v":""},{"$f":"IF($J186=\"\",\"\",Datatable_t!G186/2)","v":""},null,null,{"$f":"IF(J186=\"\",\"\",IF(AND(Datatable_t!X186>15,Datatable_t!X186<30),2,IF(OR(Datatable_t!X186>30,Datatable_t!X186<-10),3,1)))","v":""},{"$f":"IF(Datatable_t!A186=\"\",\"\",Datatable_t!A186)","v":""}]
[{"$f":"IF($J187=\"\",\"\",Datatable_t!H187)","v":""},{"$f":"IF($J187=\"\",\"\",Datatable_t!I187/2)","v":""},{"$f":"IF($J187=\"\",\"\",Datatable_t!J187)","v":""},{"$f":"IF($J187=\"\",\"\",Datatable_t!K187/2)","v":""},{"$f":"IF($J187=\"\",\"\",Datatable_t!F187)","v":""},{"$f":"IF($J187=\"\",\"\",Datatable_t!G187/2)","v":""},null,null,{"$f":"IF(J187=\"\",\"\",IF(AND(Datatable_t!X187>15,Datatable_t!X187<30),2,IF(OR(Datatable_t!X187>30,Datatable_t!X187<-10),3,1)))","v":""},{"$f":"IF(Datatable_t!A187=\"\",\"\",Datatable_t!A187)","v":""}]
[{"$f":"IF($J188=\"\",\"\",Datatable_t!H188)","v":""},{"$f":"IF($J188=\"\",\"\",Datatable_t!I188/2)","v":""},{"$f":"IF($J188=\"\",\"\",Datatable_t!J188)","v":""},{"$f":"IF($J188=\"\",\"\",Datatable_t!K188/2)","v":""},{"$f":"IF($J188=\"\",\"\",Datatable_t!F188)","v":""},{"$f":"IF($J188=\"\",\"\",Datatable_t!G188/2)","v":""},null,null,{"$f":"IF(J188=\"\",\"\",IF(AND(Datatable_t!X188>15,Datatable_t!X188<30),2,IF(OR(Datatable_t!X188>30,Datatable_t!X188<-10),3,1)))","v":""},{"$f":"IF(Datatable_t!A188=\"\",\"\",Datatable_t!A188)","v":""}]
[{"$f":"IF($J189=\"\",\"\",Datatable_t!H189)","v":""},{"$f":"IF($J189=\"\",\"\",Datatable_t!I189/2)","v":""},{"$f":"IF($J189=\"\",\"\",Datatable_t!J189)","v":""},{"$f":"IF($J189=\"\",\"\",Datatable_t!K189/2)","v":""},{"$f":"IF($J189=\"\",\"\",Datatable_t!F189)","v":""},{"$f":"IF($J189=\"\",\"\",Datatable_t!G189/2)","v":""},null,null,{"$f":"IF(J189=\"\",\"\",IF(AND(Datatable_t!X189>15,Datatable_t!X189<30),2,IF(OR(Datatable_t!X189>30,Datatable_t!X189<-10),3,1)))","v":""},{"$f":"IF(Datatable_t!A189=\"\",\"\",Datatable_t!A189)","v":""}]
[{"$f":"IF($J190=\"\",\"\",Datatable_t!H190)","v":""},{"$f":"IF($J190=\"\",\"\",Datatable_t!I190/2)","v":""},{"$f":"IF($J190=\"\",\"\",Datatable_t!J190)","v":""},{"$f":"IF($J190=\"\",\"\",Datatable_t!K190/2)","v":""},{"$f":"IF($J190=\"\",\"\",Datatable_t!F190)","v":""},{"$f":"IF($J190=\"\",\"\",Datatable_t!G190/2)","v":""},null,null,{"$f":"IF(J190=\"\",\"\",IF(AND(Datatable_t!X190>15,Datatable_t!X190<30),2,IF(OR(Datatable_t!X190>30,Datatable_t!X190<-10),3,1)))","v":""},{"$f":"IF(Datatable_t!A190=\"\",\"\",Datatable_t!A190)","v":""}]
[{"$f":"IF($J191=\"\",\"\",Datatable_t!H191)","v":""},{"$f":"IF($J191=\"\",\"\",Datatable_t!I191/2)","v":""},{"$f":"IF($J191=\"\",\"\",Datatable_t!J191)","v":""},{"$f":"IF($J191=\"\",\"\",Datatable_t!K191/2)","v":""},{"$f":"IF($J191=\"\",\"\",Datatable_t!F191)","v":""},{"$f":"IF($J191=\"\",\"\",Datatable_t!G191/2)","v":""},null,null,{"$f":"IF(J191=\"\",\"\",IF(AND(Datatable_t!X191>15,Datatable_t!X191<30),2,IF(OR(Datatable_t!X191>30,Datatable_t!X191<-10),3,1)))","v":""},{"$f":"IF(Datatable_t!A191=\"\",\"\",Datatable_t!A191)","v":""}]
[{"$f":"IF($J192=\"\",\"\",Datatable_t!H192)","v":""},{"$f":"IF($J192=\"\",\"\",Datatable_t!I192/2)","v":""},{"$f":"IF($J192=\"\",\"\",Datatable_t!J192)","v":""},{"$f":"IF($J192=\"\",\"\",Datatable_t!K192/2)","v":""},{"$f":"IF($J192=\"\",\"\",Datatable_t!F192)","v":""},{"$f":"IF($J192=\"\",\"\",Datatable_t!G192/2)","v":""},null,null,{"$f":"IF(J192=\"\",\"\",IF(AND(Datatable_t!X192>15,Datatable_t!X192<30),2,IF(OR(Datatable_t!X192>30,Datatable_t!X192<-10),3,1)))","v":""},{"$f":"IF(Datatable_t!A192=\"\",\"\",Datatable_t!A192)","v":""}]
[{"$f":"IF($J193=\"\",\"\",Datatable_t!H193)","v":""},{"$f":"IF($J193=\"\",\"\",Datatable_t!I193/2)","v":""},{"$f":"IF($J193=\"\",\"\",Datatable_t!J193)","v":""},{"$f":"IF($J193=\"\",\"\",Datatable_t!K193/2)","v":""},{"$f":"IF($J193=\"\",\"\",Datatable_t!F193)","v":""},{"$f":"IF($J193=\"\",\"\",Datatable_t!G193/2)","v":""},null,null,{"$f":"IF(J193=\"\",\"\",IF(AND(Datatable_t!X193>15,Datatable_t!X193<30),2,IF(OR(Datatable_t!X193>30,Datatable_t!X193<-10),3,1)))","v":""},{"$f":"IF(Datatable_t!A193=\"\",\"\",Datatable_t!A193)","v":""}]
[{"$f":"IF($J194=\"\",\"\",Datatable_t!H194)","v":""},{"$f":"IF($J194=\"\",\"\",Datatable_t!I194/2)","v":""},{"$f":"IF($J194=\"\",\"\",Datatable_t!J194)","v":""},{"$f":"IF($J194=\"\",\"\",Datatable_t!K194/2)","v":""},{"$f":"IF($J194=\"\",\"\",Datatable_t!F194)","v":""},{"$f":"IF($J194=\"\",\"\",Datatable_t!G194/2)","v":""},null,null,{"$f":"IF(J194=\"\",\"\",IF(AND(Datatable_t!X194>15,Datatable_t!X194<30),2,IF(OR(Datatable_t!X194>30,Datatable_t!X194<-10),3,1)))","v":""},{"$f":"IF(Datatable_t!A194=\"\",\"\",Datatable_t!A194)","v":""}]
[{"$f":"IF($J195=\"\",\"\",Datatable_t!H195)","v":""},{"$f":"IF($J195=\"\",\"\",Datatable_t!I195/2)","v":""},{"$f":"IF($J195=\"\",\"\",Datatable_t!J195)","v":""},{"$f":"IF($J195=\"\",\"\",Datatable_t!K195/2)","v":""},{"$f":"IF($J195=\"\",\"\",Datatable_t!F195)","v":""},{"$f":"IF($J195=\"\",\"\",Datatable_t!G195/2)","v":""},null,null,{"$f":"IF(J195=\"\",\"\",IF(AND(Datatable_t!X195>15,Datatable_t!X195<30),2,IF(OR(Datatable_t!X195>30,Datatable_t!X195<-10),3,1)))","v":""},{"$f":"IF(Datatable_t!A195=\"\",\"\",Datatable_t!A195)","v":""}]
[{"$f":"IF($J196=\"\",\"\",Datatable_t!H196)","v":""},{"$f":"IF($J196=\"\",\"\",Datatable_t!I196/2)","v":""},{"$f":"IF($J196=\"\",\"\",Datatable_t!J196)","v":""},{"$f":"IF($J196=\"\",\"\",Datatable_t!K196/2)","v":""},{"$f":"IF($J196=\"\",\"\",Datatable_t!F196)","v":""},{"$f":"IF($J196=\"\",\"\",Datatable_t!G196/2)","v":""},null,null,{"$f":"IF(J196=\"\",\"\",IF(AND(Datatable_t!X196>15,Datatable_t!X196<30),2,IF(OR(Datatable_t!X196>30,Datatable_t!X196<-10),3,1)))","v":""},{"$f":"IF(Datatable_t!A196=\"\",\"\",Datatable_t!A196)","v":""}]
[{"$f":"IF($J197=\"\",\"\",Datatable_t!H197)","v":""},{"$f":"IF($J197=\"\",\"\",Datatable_t!I197/2)","v":""},{"$f":"IF($J197=\"\",\"\",Datatable_t!J197)","v":""},{"$f":"IF($J197=\"\",\"\",Datatable_t!K197/2)","v":""},{"$f":"IF($J197=\"\",\"\",Datatable_t!F197)","v":""},{"$f":"IF($J197=\"\",\"\",Datatable_t!G197/2)","v":""},null,null,{"$f":"IF(J197=\"\",\"\",IF(AND(Datatable_t!X197>15,Datatable_t!X197<30),2,IF(OR(Datatable_t!X197>30,Datatable_t!X197<-10),3,1)))","v":""},{"$f":"IF(Datatable_t!A197=\"\",\"\",Datatable_t!A197)","v":""}]
[{"$f":"IF($J198=\"\",\"\",Datatable_t!H198)","v":""},{"$f":"IF($J198=\"\",\"\",Datatable_t!I198/2)","v":""},{"$f":"IF($J198=\"\",\"\",Datatable_t!J198)","v":""},{"$f":"IF($J198=\"\",\"\",Datatable_t!K198/2)","v":""},{"$f":"IF($J198=\"\",\"\",Datatable_t!F198)","v":""},{"$f":"IF($J198=\"\",\"\",Datatable_t!G198/2)","v":""},null,null,{"$f":"IF(J198=\"\",\"\",IF(AND(Datatable_t!X198>15,Datatable_t!X198<30),2,IF(OR(Datatable_t!X198>30,Datatable_t!X198<-10),3,1)))","v":""},{"$f":"IF(Datatable_t!A198=\"\",\"\",Datatable_t!A198)","v":""}]
[{"$f":"IF($J199=\"\",\"\",Datatable_t!H199)","v":""},{"$f":"IF($J199=\"\",\"\",Datatable_t!I199/2)","v":""},{"$f":"IF($J199=\"\",\"\",Datatable_t!J199)","v":""},{"$f":"IF($J199=\"\",\"\",Datatable_t!K199/2)","v":""},{"$f":"IF($J199=\"\",\"\",Datatable_t!F199)","v":""},{"$f":"IF($J199=\"\",\"\",Datatable_t!G199/2)","v":""},null,null,{"$f":"IF(J199=\"\",\"\",IF(AND(Datatable_t!X199>15,Datatable_t!X199<30),2,IF(OR(Datatable_t!X199>30,Datatable_t!X199<-10),3,1)))","v":""},{"$f":"IF(Datatable_t!A199=\"\",\"\",Datatable_t!A199)","v":""}]
[{"$f":"IF($J200=\"\",\"\",Datatable_t!H200)","v":""},{"$f":"IF($J200=\"\",\"\",Datatable_t!I200/2)","v":""},{"$f":"IF($J200=\"\",\"\",Datatable_t!J200)","v":""},{"$f":"IF($J200=\"\",\"\",Datatable_t!K200/2)","v":""},{"$f":"IF($J200=\"\",\"\",Datatable_t!F200)","v":""},{"$f":"IF($J200=\"\",\"\",Datatable_t!G200/2)","v":""},null,null,{"$f":"IF(J200=\"\",\"\",IF(AND(Datatable_t!X200>15,Datatable_t!X200<30),2,IF(OR(Datatable_t!X200>30,Datatable_t!X200<-10),3,1)))","v":""},{"$f":"IF(Datatable_t!A200=\"\",\"\",Datatable_t!A200)","v":""}]
[{"$f":"IF($J201=\"\",\"\",Datatable_t!H201)","v":""},{"$f":"IF($J201=\"\",\"\",Datatable_t!I201/2)","v":""},{"$f":"IF($J201=\"\",\"\",Datatable_t!J201)","v":""},{"$f":"IF($J201=\"\",\"\",Datatable_t!K201/2)","v":""},{"$f":"IF($J201=\"\",\"\",Datatable_t!F201)","v":""},{"$f":"IF($J201=\"\",\"\",Datatable_t!G201/2)","v":""},null,null,{"$f":"IF(J201=\"\",\"\",IF(AND(Datatable_t!X201>15,Datatable_t!X201<30),2,IF(OR(Datatable_t!X201>30,Datatable_t!X201<-10),3,1)))","v":""},{"$f":"IF(Datatable_t!A201=\"\",\"\",Datatable_t!A201)","v":""}]
[{"$f":"IF($J202=\"\",\"\",Datatable_t!H202)","v":""},{"$f":"IF($J202=\"\",\"\",Datatable_t!I202/2)","v":""},{"$f":"IF($J202=\"\",\"\",Datatable_t!J202)","v":""},{"$f":"IF($J202=\"\",\"\",Datatable_t!K202/2)","v":""},{"$f":"IF($J202=\"\",\"\",Datatable_t!F202)","v":""},{"$f":"IF($J202=\"\",\"\",Datatable_t!G202/2)","v":""},null,null,{"$f":"IF(J202=\"\",\"\",IF(AND(Datatable_t!X202>15,Datatable_t!X202<30),2,IF(OR(Datatable_t!X202>30,Datatable_t!X202<-10),3,1)))","v":""},{"$f":"IF(Datatable_t!A202=\"\",\"\",Datatable_t!A202)","v":""}]
[{"$f":"IF($J203=\"\",\"\",Datatable_t!H203)","v":""},{"$f":"IF($J203=\"\",\"\",Datatable_t!I203/2)","v":""},{"$f":"IF($J203=\"\",\"\",Datatable_t!J203)","v":""},{"$f":"IF($J203=\"\",\"\",Datatable_t!K203/2)","v":""},{"$f":"IF($J203=\"\",\"\",Datatable_t!F203)","v":""},{"$f":"IF($J203=\"\",\"\",Datatable_t!G203/2)","v":""},null,null,{"$f":"IF(J203=\"\",\"\",IF(AND(Datatable_t!X203>15,Datatable_t!X203<30),2,IF(OR(Datatable_t!X203>30,Datatable_t!X203<-10),3,1)))","v":""},{"$f":"IF(Datatable_t!A203=\"\",\"\",Datatable_t!A203)","v":""}]
[{"$f":"IF($J204=\"\",\"\",Datatable_t!H204)","v":""},{"$f":"IF($J204=\"\",\"\",Datatable_t!I204/2)","v":""},{"$f":"IF($J204=\"\",\"\",Datatable_t!J204)","v":""},{"$f":"IF($J204=\"\",\"\",Datatable_t!K204/2)","v":""},{"$f":"IF($J204=\"\",\"\",Datatable_t!F204)","v":""},{"$f":"IF($J204=\"\",\"\",Datatable_t!G204/2)","v":""},null,null,{"$f":"IF(J204=\"\",\"\",IF(AND(Datatable_t!X204>15,Datatable_t!X204<30),2,IF(OR(Datatable_t!X204>30,Datatable_t!X204<-10),3,1)))","v":""},{"$f":"IF(Datatable_t!A204=\"\",\"\",Datatable_t!A204)","v":""}]
[{"$f":"IF($J205=\"\",\"\",Datatable_t!H205)","v":""},{"$f":"IF($J205=\"\",\"\",Datatable_t!I205/2)","v":""},{"$f":"IF($J205=\"\",\"\",Datatable_t!J205)","v":""},{"$f":"IF($J205=\"\",\"\",Datatable_t!K205/2)","v":""},{"$f":"IF($J205=\"\",\"\",Datatable_t!F205)","v":""},{"$f":"IF($J205=\"\",\"\",Datatable_t!G205/2)","v":""},null,null,{"$f":"IF(J205=\"\",\"\",IF(AND(Datatable_t!X205>15,Datatable_t!X205<30),2,IF(OR(Datatable_t!X205>30,Datatable_t!X205<-10),3,1)))","v":""},{"$f":"IF(Datatable_t!A205=\"\",\"\",Datatable_t!A205)","v":""}]
[{"$f":"IF($J206=\"\",\"\",Datatable_t!H206)","v":""},{"$f":"IF($J206=\"\",\"\",Datatable_t!I206/2)","v":""},{"$f":"IF($J206=\"\",\"\",Datatable_t!J206)","v":""},{"$f":"IF($J206=\"\",\"\",Datatable_t!K206/2)","v":""},{"$f":"IF($J206=\"\",\"\",Datatable_t!F206)","v":""},{"$f":"IF($J206=\"\",\"\",Datatable_t!G206/2)","v":""},null,null,{"$f":"IF(J206=\"\",\"\",IF(AND(Datatable_t!X206>15,Datatable_t!X206<30),2,IF(OR(Datatable_t!X206>30,Datatable_t!X206<-10),3,1)))","v":""},{"$f":"IF(Datatable_t!A206=\"\",\"\",Datatable_t!A206)","v":""}]
[{"$f":"IF($J207=\"\",\"\",Datatable_t!H207)","v":""},{"$f":"IF($J207=\"\",\"\",Datatable_t!I207/2)","v":""},{"$f":"IF($J207=\"\",\"\",Datatable_t!J207)","v":""},{"$f":"IF($J207=\"\",\"\",Datatable_t!K207/2)","v":""},{"$f":"IF($J207=\"\",\"\",Datatable_t!F207)","v":""},{"$f":"IF($J207=\"\",\"\",Datatable_t!G207/2)","v":""},null,null,{"$f":"IF(J207=\"\",\"\",IF(AND(Datatable_t!X207>15,Datatable_t!X207<30),2,IF(OR(Datatable_t!X207>30,Datatable_t!X207<-10),3,1)))","v":""},{"$f":"IF(Datatable_t!A207=\"\",\"\",Datatable_t!A207)","v":""}]
[{"$f":"IF($J208=\"\",\"\",Datatable_t!H208)","v":""},{"$f":"IF($J208=\"\",\"\",Datatable_t!I208/2)","v":""},{"$f":"IF($J208=\"\",\"\",Datatable_t!J208)","v":""},{"$f":"IF($J208=\"\",\"\",Datatable_t!K208/2)","v":""},{"$f":"IF($J208=\"\",\"\",Datatable_t!F208)","v":""},{"$f":"IF($J208=\"\",\"\",Datatable_t!G208/2)","v":""},null,null,{"$f":"IF(J208=\"\",\"\",IF(AND(Datatable_t!X208>15,Datatable_t!X208<30),2,IF(OR(Datatable_t!X208>30,Datatable_t!X208<-10),3,1)))","v":""},{"$f":"IF(Datatable_t!A208=\"\",\"\",Datatable_t!A208)","v":""}]
[{"$f":"IF($J209=\"\",\"\",Datatable_t!H209)","v":""},{"$f":"IF($J209=\"\",\"\",Datatable_t!I209/2)","v":""},{"$f":"IF($J209=\"\",\"\",Datatable_t!J209)","v":""},{"$f":"IF($J209=\"\",\"\",Datatable_t!K209/2)","v":""},{"$f":"IF($J209=\"\",\"\",Datatable_t!F209)","v":""},{"$f":"IF($J209=\"\",\"\",Datatable_t!G209/2)","v":""},null,null,{"$f":"IF(J209=\"\",\"\",IF(AND(Datatable_t!X209>15,Datatable_t!X209<30),2,IF(OR(Datatable_t!X209>30,Datatable_t!X209<-10),3,1)))","v":""},{"$f":"IF(Datatable_t!A209=\"\",\"\",Datatable_t!A209)","v":""}]
[{"$f":"IF($J210=\"\",\"\",Datatable_t!H210)","v":""},{"$f":"IF($J210=\"\",\"\",Datatable_t!I210/2)","v":""},{"$f":"IF($J210=\"\",\"\",Datatable_t!J210)","v":""},{"$f":"IF($J210=\"\",\"\",Datatable_t!K210/2)","v":""},{"$f":"IF($J210=\"\",\"\",Datatable_t!F210)","v":""},{"$f":"IF($J210=\"\",\"\",Datatable_t!G210/2)","v":""},null,null,{"$f":"IF(J210=\"\",\"\",IF(AND(Datatable_t!X210>15,Datatable_t!X210<30),2,IF(OR(Datatable_t!X210>30,Datatable_t!X210<-10),3,1)))","v":""},{"$f":"IF(Datatable_t!A210=\"\",\"\",Datatable_t!A210)","v":""}]
[{"$f":"IF($J211=\"\",\"\",Datatable_t!H211)","v":""},{"$f":"IF($J211=\"\",\"\",Datatable_t!I211/2)","v":""},{"$f":"IF($J211=\"\",\"\",Datatable_t!J211)","v":""},{"$f":"IF($J211=\"\",\"\",Datatable_t!K211/2)","v":""},{"$f":"IF($J211=\"\",\"\",Datatable_t!F211)","v":""},{"$f":"IF($J211=\"\",\"\",Datatable_t!G211/2)","v":""},null,null,{"$f":"IF(J211=\"\",\"\",IF(AND(Datatable_t!X211>15,Datatable_t!X211<30),2,IF(OR(Datatable_t!X211>30,Datatable_t!X211<-10),3,1)))","v":""},{"$f":"IF(Datatable_t!A211=\"\",\"\",Datatable_t!A211)","v":""}]
[{"$f":"IF($J212=\"\",\"\",Datatable_t!H212)","v":""},{"$f":"IF($J212=\"\",\"\",Datatable_t!I212/2)","v":""},{"$f":"IF($J212=\"\",\"\",Datatable_t!J212)","v":""},{"$f":"IF($J212=\"\",\"\",Datatable_t!K212/2)","v":""},{"$f":"IF($J212=\"\",\"\",Datatable_t!F212)","v":""},{"$f":"IF($J212=\"\",\"\",Datatable_t!G212/2)","v":""},null,null,{"$f":"IF(J212=\"\",\"\",IF(AND(Datatable_t!X212>15,Datatable_t!X212<30),2,IF(OR(Datatable_t!X212>30,Datatable_t!X212<-10),3,1)))","v":""},{"$f":"IF(Datatable_t!A212=\"\",\"\",Datatable_t!A212)","v":""}]
[{"$f":"IF($J213=\"\",\"\",Datatable_t!H213)","v":""},{"$f":"IF($J213=\"\",\"\",Datatable_t!I213/2)","v":""},{"$f":"IF($J213=\"\",\"\",Datatable_t!J213)","v":""},{"$f":"IF($J213=\"\",\"\",Datatable_t!K213/2)","v":""},{"$f":"IF($J213=\"\",\"\",Datatable_t!F213)","v":""},{"$f":"IF($J213=\"\",\"\",Datatable_t!G213/2)","v":""},null,null,{"$f":"IF(J213=\"\",\"\",IF(AND(Datatable_t!X213>15,Datatable_t!X213<30),2,IF(OR(Datatable_t!X213>30,Datatable_t!X213<-10),3,1)))","v":""},{"$f":"IF(Datatable_t!A213=\"\",\"\",Datatable_t!A213)","v":""}]
[{"$f":"IF($J214=\"\",\"\",Datatable_t!H214)","v":""},{"$f":"IF($J214=\"\",\"\",Datatable_t!I214/2)","v":""},{"$f":"IF($J214=\"\",\"\",Datatable_t!J214)","v":""},{"$f":"IF($J214=\"\",\"\",Datatable_t!K214/2)","v":""},{"$f":"IF($J214=\"\",\"\",Datatable_t!F214)","v":""},{"$f":"IF($J214=\"\",\"\",Datatable_t!G214/2)","v":""},null,null,{"$f":"IF(J214=\"\",\"\",IF(AND(Datatable_t!X214>15,Datatable_t!X214<30),2,IF(OR(Datatable_t!X214>30,Datatable_t!X214<-10),3,1)))","v":""},{"$f":"IF(Datatable_t!A214=\"\",\"\",Datatable_t!A214)","v":""}]
[{"$f":"IF($J215=\"\",\"\",Datatable_t!H215)","v":""},{"$f":"IF($J215=\"\",\"\",Datatable_t!I215/2)","v":""},{"$f":"IF($J215=\"\",\"\",Datatable_t!J215)","v":""},{"$f":"IF($J215=\"\",\"\",Datatable_t!K215/2)","v":""},{"$f":"IF($J215=\"\",\"\",Datatable_t!F215)","v":""},{"$f":"IF($J215=\"\",\"\",Datatable_t!G215/2)","v":""},null,null,{"$f":"IF(J215=\"\",\"\",IF(AND(Datatable_t!X215>15,Datatable_t!X215<30),2,IF(OR(Datatable_t!X215>30,Datatable_t!X215<-10),3,1)))","v":""},{"$f":"IF(Datatable_t!A215=\"\",\"\",Datatable_t!A215)","v":""}]
[{"$f":"IF($J216=\"\",\"\",Datatable_t!H216)","v":""},{"$f":"IF($J216=\"\",\"\",Datatable_t!I216/2)","v":""},{"$f":"IF($J216=\"\",\"\",Datatable_t!J216)","v":""},{"$f":"IF($J216=\"\",\"\",Datatable_t!K216/2)","v":""},{"$f":"IF($J216=\"\",\"\",Datatable_t!F216)","v":""},{"$f":"IF($J216=\"\",\"\",Datatable_t!G216/2)","v":""},null,null,{"$f":"IF(J216=\"\",\"\",IF(AND(Datatable_t!X216>15,Datatable_t!X216<30),2,IF(OR(Datatable_t!X216>30,Datatable_t!X216<-10),3,1)))","v":""},{"$f":"IF(Datatable_t!A216=\"\",\"\",Datatable_t!A216)","v":""}]
[{"$f":"IF($J217=\"\",\"\",Datatable_t!H217)","v":""},{"$f":"IF($J217=\"\",\"\",Datatable_t!I217/2)","v":""},{"$f":"IF($J217=\"\",\"\",Datatable_t!J217)","v":""},{"$f":"IF($J217=\"\",\"\",Datatable_t!K217/2)","v":""},{"$f":"IF($J217=\"\",\"\",Datatable_t!F217)","v":""},{"$f":"IF($J217=\"\",\"\",Datatable_t!G217/2)","v":""},null,null,{"$f":"IF(J217=\"\",\"\",IF(AND(Datatable_t!X217>15,Datatable_t!X217<30),2,IF(OR(Datatable_t!X217>30,Datatable_t!X217<-10),3,1)))","v":""},{"$f":"IF(Datatable_t!A217=\"\",\"\",Datatable_t!A217)","v":""}]
[{"$f":"IF($J218=\"\",\"\",Datatable_t!H218)","v":""},{"$f":"IF($J218=\"\",\"\",Datatable_t!I218/2)","v":""},{"$f":"IF($J218=\"\",\"\",Datatable_t!J218)","v":""},{"$f":"IF($J218=\"\",\"\",Datatable_t!K218/2)","v":""},{"$f":"IF($J218=\"\",\"\",Datatable_t!F218)","v":""},{"$f":"IF($J218=\"\",\"\",Datatable_t!G218/2)","v":""},null,null,{"$f":"IF(J218=\"\",\"\",IF(AND(Datatable_t!X218>15,Datatable_t!X218<30),2,IF(OR(Datatable_t!X218>30,Datatable_t!X218<-10),3,1)))","v":""},{"$f":"IF(Datatable_t!A218=\"\",\"\",Datatable_t!A218)","v":""}]
[{"$f":"IF($J219=\"\",\"\",Datatable_t!H219)","v":""},{"$f":"IF($J219=\"\",\"\",Datatable_t!I219/2)","v":""},{"$f":"IF($J219=\"\",\"\",Datatable_t!J219)","v":""},{"$f":"IF($J219=\"\",\"\",Datatable_t!K219/2)","v":""},{"$f":"IF($J219=\"\",\"\",Datatable_t!F219)","v":""},{"$f":"IF($J219=\"\",\"\",Datatable_t!G219/2)","v":""},null,null,{"$f":"IF(J219=\"\",\"\",IF(AND(Datatable_t!X219>15,Datatable_t!X219<30),2,IF(OR(Datatable_t!X219>30,Datatable_t!X219<-10),3,1)))","v":""},{"$f":"IF(Datatable_t!A219=\"\",\"\",Datatable_t!A219)","v":""}]
[{"$f":"IF($J220=\"\",\"\",Datatable_t!H220)","v":""},{"$f":"IF($J220=\"\",\"\",Datatable_t!I220/2)","v":""},{"$f":"IF($J220=\"\",\"\",Datatable_t!J220)","v":""},{"$f":"IF($J220=\"\",\"\",Datatable_t!K220/2)","v":""},{"$f":"IF($J220=\"\",\"\",Datatable_t!F220)","v":""},{"$f":"IF($J220=\"\",\"\",Datatable_t!G220/2)","v":""},null,null,{"$f":"IF(J220=\"\",\"\",IF(AND(Datatable_t!X220>15,Datatable_t!X220<30),2,IF(OR(Datatable_t!X220>30,Datatable_t!X220<-10),3,1)))","v":""},{"$f":"IF(Datatable_t!A220=\"\",\"\",Datatable_t!A220)","v":""}]
[{"$f":"IF($J221=\"\",\"\",Datatable_t!H221)","v":""},{"$f":"IF($J221=\"\",\"\",Datatable_t!I221/2)","v":""},{"$f":"IF($J221=\"\",\"\",Datatable_t!J221)","v":""},{"$f":"IF($J221=\"\",\"\",Datatable_t!K221/2)","v":""},{"$f":"IF($J221=\"\",\"\",Datatable_t!F221)","v":""},{"$f":"IF($J221=\"\",\"\",Datatable_t!G221/2)","v":""},null,null,{"$f":"IF(J221=\"\",\"\",IF(AND(Datatable_t!X221>15,Datatable_t!X221<30),2,IF(OR(Datatable_t!X221>30,Datatable_t!X221<-10),3,1)))","v":""},{"$f":"IF(Datatable_t!A221=\"\",\"\",Datatable_t!A221)","v":""}]
[{"$f":"IF($J222=\"\",\"\",Datatable_t!H222)","v":""},{"$f":"IF($J222=\"\",\"\",Datatable_t!I222/2)","v":""},{"$f":"IF($J222=\"\",\"\",Datatable_t!J222)","v":""},{"$f":"IF($J222=\"\",\"\",Datatable_t!K222/2)","v":""},{"$f":"IF($J222=\"\",\"\",Datatable_t!F222)","v":""},{"$f":"IF($J222=\"\",\"\",Datatable_t!G222/2)","v":""},null,null,{"$f":"IF(J222=\"\",\"\",IF(AND(Datatable_t!X222>15,Datatable_t!X222<30),2,IF(OR(Datatable_t!X222>30,Datatable_t!X222<-10),3,1)))","v":""},{"$f":"IF(Datatable_t!A222=\"\",\"\",Datatable_t!A222)","v":""}]
[{"$f":"IF($J223=\"\",\"\",Datatable_t!H223)","v":""},{"$f":"IF($J223=\"\",\"\",Datatable_t!I223/2)","v":""},{"$f":"IF($J223=\"\",\"\",Datatable_t!J223)","v":""},{"$f":"IF($J223=\"\",\"\",Datatable_t!K223/2)","v":""},{"$f":"IF($J223=\"\",\"\",Datatable_t!F223)","v":""},{"$f":"IF($J223=\"\",\"\",Datatable_t!G223/2)","v":""},null,null,{"$f":"IF(J223=\"\",\"\",IF(AND(Datatable_t!X223>15,Datatable_t!X223<30),2,IF(OR(Datatable_t!X223>30,Datatable_t!X223<-10),3,1)))","v":""},{"$f":"IF(Datatable_t!A223=\"\",\"\",Datatable_t!A223)","v":""}]
[{"$f":"IF($J224=\"\",\"\",Datatable_t!H224)","v":""},{"$f":"IF($J224=\"\",\"\",Datatable_t!I224/2)","v":""},{"$f":"IF($J224=\"\",\"\",Datatable_t!J224)","v":""},{"$f":"IF($J224=\"\",\"\",Datatable_t!K224/2)","v":""},{"$f":"IF($J224=\"\",\"\",Datatable_t!F224)","v":""},{"$f":"IF($J224=\"\",\"\",Datatable_t!G224/2)","v":""},null,null,{"$f":"IF(J224=\"\",\"\",IF(AND(Datatable_t!X224>15,Datatable_t!X224<30),2,IF(OR(Datatable_t!X224>30,Datatable_t!X224<-10),3,1)))","v":""},{"$f":"IF(Datatable_t!A224=\"\",\"\",Datatable_t!A224)","v":""}]
[{"$f":"IF($J225=\"\",\"\",Datatable_t!H225)","v":""},{"$f":"IF($J225=\"\",\"\",Datatable_t!I225/2)","v":""},{"$f":"IF($J225=\"\",\"\",Datatable_t!J225)","v":""},{"$f":"IF($J225=\"\",\"\",Datatable_t!K225/2)","v":""},{"$f":"IF($J225=\"\",\"\",Datatable_t!F225)","v":""},{"$f":"IF($J225=\"\",\"\",Datatable_t!G225/2)","v":""},null,null,{"$f":"IF(J225=\"\",\"\",IF(AND(Datatable_t!X225>15,Datatable_t!X225<30),2,IF(OR(Datatable_t!X225>30,Datatable_t!X225<-10),3,1)))","v":""},{"$f":"IF(Datatable_t!A225=\"\",\"\",Datatable_t!A225)","v":""}]
[{"$f":"IF($J226=\"\",\"\",Datatable_t!H226)","v":""},{"$f":"IF($J226=\"\",\"\",Datatable_t!I226/2)","v":""},{"$f":"IF($J226=\"\",\"\",Datatable_t!J226)","v":""},{"$f":"IF($J226=\"\",\"\",Datatable_t!K226/2)","v":""},{"$f":"IF($J226=\"\",\"\",Datatable_t!F226)","v":""},{"$f":"IF($J226=\"\",\"\",Datatable_t!G226/2)","v":""},null,null,{"$f":"IF(J226=\"\",\"\",IF(AND(Datatable_t!X226>15,Datatable_t!X226<30),2,IF(OR(Datatable_t!X226>30,Datatable_t!X226<-10),3,1)))","v":""},{"$f":"IF(Datatable_t!A226=\"\",\"\",Datatable_t!A226)","v":""}]
[{"$f":"IF($J227=\"\",\"\",Datatable_t!H227)","v":""},{"$f":"IF($J227=\"\",\"\",Datatable_t!I227/2)","v":""},{"$f":"IF($J227=\"\",\"\",Datatable_t!J227)","v":""},{"$f":"IF($J227=\"\",\"\",Datatable_t!K227/2)","v":""},{"$f":"IF($J227=\"\",\"\",Datatable_t!F227)","v":""},{"$f":"IF($J227=\"\",\"\",Datatable_t!G227/2)","v":""},null,null,{"$f":"IF(J227=\"\",\"\",IF(AND(Datatable_t!X227>15,Datatable_t!X227<30),2,IF(OR(Datatable_t!X227>30,Datatable_t!X227<-10),3,1)))","v":""},{"$f":"IF(Datatable_t!A227=\"\",\"\",Datatable_t!A227)","v":""}]
[{"$f":"IF($J228=\"\",\"\",Datatable_t!H228)","v":""},{"$f":"IF($J228=\"\",\"\",Datatable_t!I228/2)","v":""},{"$f":"IF($J228=\"\",\"\",Datatable_t!J228)","v":""},{"$f":"IF($J228=\"\",\"\",Datatable_t!K228/2)","v":""},{"$f":"IF($J228=\"\",\"\",Datatable_t!F228)","v":""},{"$f":"IF($J228=\"\",\"\",Datatable_t!G228/2)","v":""},null,null,{"$f":"IF(J228=\"\",\"\",IF(AND(Datatable_t!X228>15,Datatable_t!X228<30),2,IF(OR(Datatable_t!X228>30,Datatable_t!X228<-10),3,1)))","v":""},{"$f":"IF(Datatable_t!A228=\"\",\"\",Datatable_t!A228)","v":""}]
[{"$f":"IF($J229=\"\",\"\",Datatable_t!H229)","v":""},{"$f":"IF($J229=\"\",\"\",Datatable_t!I229/2)","v":""},{"$f":"IF($J229=\"\",\"\",Datatable_t!J229)","v":""},{"$f":"IF($J229=\"\",\"\",Datatable_t!K229/2)","v":""},{"$f":"IF($J229=\"\",\"\",Datatable_t!F229)","v":""},{"$f":"IF($J229=\"\",\"\",Datatable_t!G229/2)","v":""},null,null,{"$f":"IF(J229=\"\",\"\",IF(AND(Datatable_t!X229>15,Datatable_t!X229<30),2,IF(OR(Datatable_t!X229>30,Datatable_t!X229<-10),3,1)))","v":""},{"$f":"IF(Datatable_t!A229=\"\",\"\",Datatable_t!A229)","v":""}]
[{"$f":"IF($J230=\"\",\"\",Datatable_t!H230)","v":""},{"$f":"IF($J230=\"\",\"\",Datatable_t!I230/2)","v":""},{"$f":"IF($J230=\"\",\"\",Datatable_t!J230)","v":""},{"$f":"IF($J230=\"\",\"\",Datatable_t!K230/2)","v":""},{"$f":"IF($J230=\"\",\"\",Datatable_t!F230)","v":""},{"$f":"IF($J230=\"\",\"\",Datatable_t!G230/2)","v":""},null,null,{"$f":"IF(J230=\"\",\"\",IF(AND(Datatable_t!X230>15,Datatable_t!X230<30),2,IF(OR(Datatable_t!X230>30,Datatable_t!X230<-10),3,1)))","v":""},{"$f":"IF(Datatable_t!A230=\"\",\"\",Datatable_t!A230)","v":""}]
[{"$f":"IF($J231=\"\",\"\",Datatable_t!H231)","v":""},{"$f":"IF($J231=\"\",\"\",Datatable_t!I231/2)","v":""},{"$f":"IF($J231=\"\",\"\",Datatable_t!J231)","v":""},{"$f":"IF($J231=\"\",\"\",Datatable_t!K231/2)","v":""},{"$f":"IF($J231=\"\",\"\",Datatable_t!F231)","v":""},{"$f":"IF($J231=\"\",\"\",Datatable_t!G231/2)","v":""},null,null,{"$f":"IF(J231=\"\",\"\",IF(AND(Datatable_t!X231>15,Datatable_t!X231<30),2,IF(OR(Datatable_t!X231>30,Datatable_t!X231<-10),3,1)))","v":""},{"$f":"IF(Datatable_t!A231=\"\",\"\",Datatable_t!A231)","v":""}]
[{"$f":"IF($J232=\"\",\"\",Datatable_t!H232)","v":""},{"$f":"IF($J232=\"\",\"\",Datatable_t!I232/2)","v":""},{"$f":"IF($J232=\"\",\"\",Datatable_t!J232)","v":""},{"$f":"IF($J232=\"\",\"\",Datatable_t!K232/2)","v":""},{"$f":"IF($J232=\"\",\"\",Datatable_t!F232)","v":""},{"$f":"IF($J232=\"\",\"\",Datatable_t!G232/2)","v":""},null,null,{"$f":"IF(J232=\"\",\"\",IF(AND(Datatable_t!X232>15,Datatable_t!X232<30),2,IF(OR(Datatable_t!X232>30,Datatable_t!X232<-10),3,1)))","v":""},{"$f":"IF(Datatable_t!A232=\"\",\"\",Datatable_t!A232)","v":""}]
[{"$f":"IF($J233=\"\",\"\",Datatable_t!H233)","v":""},{"$f":"IF($J233=\"\",\"\",Datatable_t!I233/2)","v":""},{"$f":"IF($J233=\"\",\"\",Datatable_t!J233)","v":""},{"$f":"IF($J233=\"\",\"\",Datatable_t!K233/2)","v":""},{"$f":"IF($J233=\"\",\"\",Datatable_t!F233)","v":""},{"$f":"IF($J233=\"\",\"\",Datatable_t!G233/2)","v":""},null,null,{"$f":"IF(J233=\"\",\"\",IF(AND(Datatable_t!X233>15,Datatable_t!X233<30),2,IF(OR(Datatable_t!X233>30,Datatable_t!X233<-10),3,1)))","v":""},{"$f":"IF(Datatable_t!A233=\"\",\"\",Datatable_t!A233)","v":""}]
[{"$f":"IF($J234=\"\",\"\",Datatable_t!H234)","v":""},{"$f":"IF($J234=\"\",\"\",Datatable_t!I234/2)","v":""},{"$f":"IF($J234=\"\",\"\",Datatable_t!J234)","v":""},{"$f":"IF($J234=\"\",\"\",Datatable_t!K234/2)","v":""},{"$f":"IF($J234=\"\",\"\",Datatable_t!F234)","v":""},{"$f":"IF($J234=\"\",\"\",Datatable_t!G234/2)","v":""},null,null,{"$f":"IF(J234=\"\",\"\",IF(AND(Datatable_t!X234>15,Datatable_t!X234<30),2,IF(OR(Datatable_t!X234>30,Datatable_t!X234<-10),3,1)))","v":""},{"$f":"IF(Datatable_t!A234=\"\",\"\",Datatable_t!A234)","v":""}]
[{"$f":"IF($J235=\"\",\"\",Datatable_t!H235)","v":""},{"$f":"IF($J235=\"\",\"\",Datatable_t!I235/2)","v":""},{"$f":"IF($J235=\"\",\"\",Datatable_t!J235)","v":""},{"$f":"IF($J235=\"\",\"\",Datatable_t!K235/2)","v":""},{"$f":"IF($J235=\"\",\"\",Datatable_t!F235)","v":""},{"$f":"IF($J235=\"\",\"\",Datatable_t!G235/2)","v":""},null,null,{"$f":"IF(J235=\"\",\"\",IF(AND(Datatable_t!X235>15,Datatable_t!X235<30),2,IF(OR(Datatable_t!X235>30,Datatable_t!X235<-10),3,1)))","v":""},{"$f":"IF(Datatable_t!A235=\"\",\"\",Datatable_t!A235)","v":""}]
[{"$f":"IF($J236=\"\",\"\",Datatable_t!H236)","v":""},{"$f":"IF($J236=\"\",\"\",Datatable_t!I236/2)","v":""},{"$f":"IF($J236=\"\",\"\",Datatable_t!J236)","v":""},{"$f":"IF($J236=\"\",\"\",Datatable_t!K236/2)","v":""},{"$f":"IF($J236=\"\",\"\",Datatable_t!F236)","v":""},{"$f":"IF($J236=\"\",\"\",Datatable_t!G236/2)","v":""},null,null,{"$f":"IF(J236=\"\",\"\",IF(AND(Datatable_t!X236>15,Datatable_t!X236<30),2,IF(OR(Datatable_t!X236>30,Datatable_t!X236<-10),3,1)))","v":""},{"$f":"IF(Datatable_t!A236=\"\",\"\",Datatable_t!A236)","v":""}]
[{"$f":"IF($J237=\"\",\"\",Datatable_t!H237)","v":""},{"$f":"IF($J237=\"\",\"\",Datatable_t!I237/2)","v":""},{"$f":"IF($J237=\"\",\"\",Datatable_t!J237)","v":""},{"$f":"IF($J237=\"\",\"\",Datatable_t!K237/2)","v":""},{"$f":"IF($J237=\"\",\"\",Datatable_t!F237)","v":""},{"$f":"IF($J237=\"\",\"\",Datatable_t!G237/2)","v":""},null,null,{"$f":"IF(J237=\"\",\"\",IF(AND(Datatable_t!X237>15,Datatable_t!X237<30),2,IF(OR(Datatable_t!X237>30,Datatable_t!X237<-10),3,1)))","v":""},{"$f":"IF(Datatable_t!A237=\"\",\"\",Datatable_t!A237)","v":""}]
[{"$f":"IF($J238=\"\",\"\",Datatable_t!H238)","v":""},{"$f":"IF($J238=\"\",\"\",Datatable_t!I238/2)","v":""},{"$f":"IF($J238=\"\",\"\",Datatable_t!J238)","v":""},{"$f":"IF($J238=\"\",\"\",Datatable_t!K238/2)","v":""},{"$f":"IF($J238=\"\",\"\",Datatable_t!F238)","v":""},{"$f":"IF($J238=\"\",\"\",Datatable_t!G238/2)","v":""},null,null,{"$f":"IF(J238=\"\",\"\",IF(AND(Datatable_t!X238>15,Datatable_t!X238<30),2,IF(OR(Datatable_t!X238>30,Datatable_t!X238<-10),3,1)))","v":""},{"$f":"IF(Datatable_t!A238=\"\",\"\",Datatable_t!A238)","v":""}]
[{"$f":"IF($J239=\"\",\"\",Datatable_t!H239)","v":""},{"$f":"IF($J239=\"\",\"\",Datatable_t!I239/2)","v":""},{"$f":"IF($J239=\"\",\"\",Datatable_t!J239)","v":""},{"$f":"IF($J239=\"\",\"\",Datatable_t!K239/2)","v":""},{"$f":"IF($J239=\"\",\"\",Datatable_t!F239)","v":""},{"$f":"IF($J239=\"\",\"\",Datatable_t!G239/2)","v":""},null,null,{"$f":"IF(J239=\"\",\"\",IF(AND(Datatable_t!X239>15,Datatable_t!X239<30),2,IF(OR(Datatable_t!X239>30,Datatable_t!X239<-10),3,1)))","v":""},{"$f":"IF(Datatable_t!A239=\"\",\"\",Datatable_t!A239)","v":""}]
[{"$f":"IF($J240=\"\",\"\",Datatable_t!H240)","v":""},{"$f":"IF($J240=\"\",\"\",Datatable_t!I240/2)","v":""},{"$f":"IF($J240=\"\",\"\",Datatable_t!J240)","v":""},{"$f":"IF($J240=\"\",\"\",Datatable_t!K240/2)","v":""},{"$f":"IF($J240=\"\",\"\",Datatable_t!F240)","v":""},{"$f":"IF($J240=\"\",\"\",Datatable_t!G240/2)","v":""},null,null,{"$f":"IF(J240=\"\",\"\",IF(AND(Datatable_t!X240>15,Datatable_t!X240<30),2,IF(OR(Datatable_t!X240>30,Datatable_t!X240<-10),3,1)))","v":""},{"$f":"IF(Datatable_t!A240=\"\",\"\",Datatable_t!A240)","v":""}]
[{"$f":"IF($J241=\"\",\"\",Datatable_t!H241)","v":""},{"$f":"IF($J241=\"\",\"\",Datatable_t!I241/2)","v":""},{"$f":"IF($J241=\"\",\"\",Datatable_t!J241)","v":""},{"$f":"IF($J241=\"\",\"\",Datatable_t!K241/2)","v":""},{"$f":"IF($J241=\"\",\"\",Datatable_t!F241)","v":""},{"$f":"IF($J241=\"\",\"\",Datatable_t!G241/2)","v":""},null,null,{"$f":"IF(J241=\"\",\"\",IF(AND(Datatable_t!X241>15,Datatable_t!X241<30),2,IF(OR(Datatable_t!X241>30,Datatable_t!X241<-10),3,1)))","v":""},{"$f":"IF(Datatable_t!A241=\"\",\"\",Datatable_t!A241)","v":""}]
[{"$f":"IF($J242=\"\",\"\",Datatable_t!H242)","v":""},{"$f":"IF($J242=\"\",\"\",Datatable_t!I242/2)","v":""},{"$f":"IF($J242=\"\",\"\",Datatable_t!J242)","v":""},{"$f":"IF($J242=\"\",\"\",Datatable_t!K242/2)","v":""},{"$f":"IF($J242=\"\",\"\",Datatable_t!F242)","v":""},{"$f":"IF($J242=\"\",\"\",Datatable_t!G242/2)","v":""},null,null,{"$f":"IF(J242=\"\",\"\",IF(AND(Datatable_t!X242>15,Datatable_t!X242<30),2,IF(OR(Datatable_t!X242>30,Datatable_t!X242<-10),3,1)))","v":""},{"$f":"IF(Datatable_t!A242=\"\",\"\",Datatable_t!A242)","v":""}]
[{"$f":"IF($J243=\"\",\"\",Datatable_t!H243)","v":""},{"$f":"IF($J243=\"\",\"\",Datatable_t!I243/2)","v":""},{"$f":"IF($J243=\"\",\"\",Datatable_t!J243)","v":""},{"$f":"IF($J243=\"\",\"\",Datatable_t!K243/2)","v":""},{"$f":"IF($J243=\"\",\"\",Datatable_t!F243)","v":""},{"$f":"IF($J243=\"\",\"\",Datatable_t!G243/2)","v":""},null,null,{"$f":"IF(J243=\"\",\"\",IF(AND(Datatable_t!X243>15,Datatable_t!X243<30),2,IF(OR(Datatable_t!X243>30,Datatable_t!X243<-10),3,1)))","v":""},{"$f":"IF(Datatable_t!A243=\"\",\"\",Datatable_t!A243)","v":""}]
[{"$f":"IF($J244=\"\",\"\",Datatable_t!H244)","v":""},{"$f":"IF($J244=\"\",\"\",Datatable_t!I244/2)","v":""},{"$f":"IF($J244=\"\",\"\",Datatable_t!J244)","v":""},{"$f":"IF($J244=\"\",\"\",Datatable_t!K244/2)","v":""},{"$f":"IF($J244=\"\",\"\",Datatable_t!F244)","v":""},{"$f":"IF($J244=\"\",\"\",Datatable_t!G244/2)","v":""},null,null,{"$f":"IF(J244=\"\",\"\",IF(AND(Datatable_t!X244>15,Datatable_t!X244<30),2,IF(OR(Datatable_t!X244>30,Datatable_t!X244<-10),3,1)))","v":""},{"$f":"IF(Datatable_t!A244=\"\",\"\",Datatable_t!A244)","v":""}]
[{"$f":"IF($J245=\"\",\"\",Datatable_t!H245)","v":""},{"$f":"IF($J245=\"\",\"\",Datatable_t!I245/2)","v":""},{"$f":"IF($J245=\"\",\"\",Datatable_t!J245)","v":""},{"$f":"IF($J245=\"\",\"\",Datatable_t!K245/2)","v":""},{"$f":"IF($J245=\"\",\"\",Datatable_t!F245)","v":""},{"$f":"IF($J245=\"\",\"\",Datatable_t!G245/2)","v":""},null,null,{"$f":"IF(J245=\"\",\"\",IF(AND(Datatable_t!X245>15,Datatable_t!X245<30),2,IF(OR(Datatable_t!X245>30,Datatable_t!X245<-10),3,1)))","v":""},{"$f":"IF(Datatable_t!A245=\"\",\"\",Datatable_t!A245)","v":""}]
[{"$f":"IF($J246=\"\",\"\",Datatable_t!H246)","v":""},{"$f":"IF($J246=\"\",\"\",Datatable_t!I246/2)","v":""},{"$f":"IF($J246=\"\",\"\",Datatable_t!J246)","v":""},{"$f":"IF($J246=\"\",\"\",Datatable_t!K246/2)","v":""},{"$f":"IF($J246=\"\",\"\",Datatable_t!F246)","v":""},{"$f":"IF($J246=\"\",\"\",Datatable_t!G246/2)","v":""},null,null,{"$f":"IF(J246=\"\",\"\",IF(AND(Datatable_t!X246>15,Datatable_t!X246<30),2,IF(OR(Datatable_t!X246>30,Datatable_t!X246<-10),3,1)))","v":""},{"$f":"IF(Datatable_t!A246=\"\",\"\",Datatable_t!A246)","v":""}]
[{"$f":"IF($J247=\"\",\"\",Datatable_t!H247)","v":""},{"$f":"IF($J247=\"\",\"\",Datatable_t!I247/2)","v":""},{"$f":"IF($J247=\"\",\"\",Datatable_t!J247)","v":""},{"$f":"IF($J247=\"\",\"\",Datatable_t!K247/2)","v":""},{"$f":"IF($J247=\"\",\"\",Datatable_t!F247)","v":""},{"$f":"IF($J247=\"\",\"\",Datatable_t!G247/2)","v":""},null,null,{"$f":"IF(J247=\"\",\"\",IF(AND(Datatable_t!X247>15,Datatable_t!X247<30),2,IF(OR(Datatable_t!X247>30,Datatable_t!X247<-10),3,1)))","v":""},{"$f":"IF(Datatable_t!A247=\"\",\"\",Datatable_t!A247)","v":""}]
[{"$f":"IF($J248=\"\",\"\",Datatable_t!H248)","v":""},{"$f":"IF($J248=\"\",\"\",Datatable_t!I248/2)","v":""},{"$f":"IF($J248=\"\",\"\",Datatable_t!J248)","v":""},{"$f":"IF($J248=\"\",\"\",Datatable_t!K248/2)","v":""},{"$f":"IF($J248=\"\",\"\",Datatable_t!F248)","v":""},{"$f":"IF($J248=\"\",\"\",Datatable_t!G248/2)","v":""},null,null,{"$f":"IF(J248=\"\",\"\",IF(AND(Datatable_t!X248>15,Datatable_t!X248<30),2,IF(OR(Datatable_t!X248>30,Datatable_t!X248<-10),3,1)))","v":""},{"$f":"IF(Datatable_t!A248=\"\",\"\",Datatable_t!A248)","v":""}]
[{"$f":"IF($J249=\"\",\"\",Datatable_t!H249)","v":""},{"$f":"IF($J249=\"\",\"\",Datatable_t!I249/2)","v":""},{"$f":"IF($J249=\"\",\"\",Datatable_t!J249)","v":""},{"$f":"IF($J249=\"\",\"\",Datatable_t!K249/2)","v":""},{"$f":"IF($J249=\"\",\"\",Datatable_t!F249)","v":""},{"$f":"IF($J249=\"\",\"\",Datatable_t!G249/2)","v":""},null,null,{"$f":"IF(J249=\"\",\"\",IF(AND(Datatable_t!X249>15,Datatable_t!X249<30),2,IF(OR(Datatable_t!X249>30,Datatable_t!X249<-10),3,1)))","v":""},{"$f":"IF(Datatable_t!A249=\"\",\"\",Datatable_t!A249)","v":""}]
[{"$f":"IF($J250=\"\",\"\",Datatable_t!H250)","v":""},{"$f":"IF($J250=\"\",\"\",Datatable_t!I250/2)","v":""},{"$f":"IF($J250=\"\",\"\",Datatable_t!J250)","v":""},{"$f":"IF($J250=\"\",\"\",Datatable_t!K250/2)","v":""},{"$f":"IF($J250=\"\",\"\",Datatable_t!F250)","v":""},{"$f":"IF($J250=\"\",\"\",Datatable_t!G250/2)","v":""},null,null,{"$f":"IF(J250=\"\",\"\",IF(AND(Datatable_t!X250>15,Datatable_t!X250<30),2,IF(OR(Datatable_t!X250>30,Datatable_t!X250<-10),3,1)))","v":""},{"$f":"IF(Datatable_t!A250=\"\",\"\",Datatable_t!A250)","v":""}]
[{"$f":"IF($J251=\"\",\"\",Datatable_t!H251)","v":""},{"$f":"IF($J251=\"\",\"\",Datatable_t!I251/2)","v":""},{"$f":"IF($J251=\"\",\"\",Datatable_t!J251)","v":""},{"$f":"IF($J251=\"\",\"\",Datatable_t!K251/2)","v":""},{"$f":"IF($J251=\"\",\"\",Datatable_t!F251)","v":""},{"$f":"IF($J251=\"\",\"\",Datatable_t!G251/2)","v":""},null,null,{"$f":"IF(J251=\"\",\"\",IF(AND(Datatable_t!X251>15,Datatable_t!X251<30),2,IF(OR(Datatable_t!X251>30,Datatable_t!X251<-10),3,1)))","v":""},{"$f":"IF(Datatable_t!A251=\"\",\"\",Datatable_t!A251)","v":""}]
[{"$f":"IF($J252=\"\",\"\",Datatable_t!H252)","v":""},{"$f":"IF($J252=\"\",\"\",Datatable_t!I252/2)","v":""},{"$f":"IF($J252=\"\",\"\",Datatable_t!J252)","v":""},{"$f":"IF($J252=\"\",\"\",Datatable_t!K252/2)","v":""},{"$f":"IF($J252=\"\",\"\",Datatable_t!F252)","v":""},{"$f":"IF($J252=\"\",\"\",Datatable_t!G252/2)","v":""},null,null,{"$f":"IF(J252=\"\",\"\",IF(AND(Datatable_t!X252>15,Datatable_t!X252<30),2,IF(OR(Datatable_t!X252>30,Datatable_t!X252<-10),3,1)))","v":""},{"$f":"IF(Datatable_t!A252=\"\",\"\",Datatable_t!A252)","v":""}]
[{"$f":"IF($J253=\"\",\"\",Datatable_t!H253)","v":""},{"$f":"IF($J253=\"\",\"\",Datatable_t!I253/2)","v":""},{"$f":"IF($J253=\"\",\"\",Datatable_t!J253)","v":""},{"$f":"IF($J253=\"\",\"\",Datatable_t!K253/2)","v":""},{"$f":"IF($J253=\"\",\"\",Datatable_t!F253)","v":""},{"$f":"IF($J253=\"\",\"\",Datatable_t!G253/2)","v":""},null,null,{"$f":"IF(J253=\"\",\"\",IF(AND(Datatable_t!X253>15,Datatable_t!X253<30),2,IF(OR(Datatable_t!X253>30,Datatable_t!X253<-10),3,1)))","v":""},{"$f":"IF(Datatable_t!A253=\"\",\"\",Datatable_t!A253)","v":""}]
[{"$f":"IF($J254=\"\",\"\",Datatable_t!H254)","v":""},{"$f":"IF($J254=\"\",\"\",Datatable_t!I254/2)","v":""},{"$f":"IF($J254=\"\",\"\",Datatable_t!J254)","v":""},{"$f":"IF($J254=\"\",\"\",Datatable_t!K254/2)","v":""},{"$f":"IF($J254=\"\",\"\",Datatable_t!F254)","v":""},{"$f":"IF($J254=\"\",\"\",Datatable_t!G254/2)","v":""},null,null,{"$f":"IF(J254=\"\",\"\",IF(AND(Datatable_t!X254>15,Datatable_t!X254<30),2,IF(OR(Datatable_t!X254>30,Datatable_t!X254<-10),3,1)))","v":""},{"$f":"IF(Datatable_t!A254=\"\",\"\",Datatable_t!A254)","v":""}]
[{"$f":"IF($J255=\"\",\"\",Datatable_t!H255)","v":""},{"$f":"IF($J255=\"\",\"\",Datatable_t!I255/2)","v":""},{"$f":"IF($J255=\"\",\"\",Datatable_t!J255)","v":""},{"$f":"IF($J255=\"\",\"\",Datatable_t!K255/2)","v":""},{"$f":"IF($J255=\"\",\"\",Datatable_t!F255)","v":""},{"$f":"IF($J255=\"\",\"\",Datatable_t!G255/2)","v":""},null,null,{"$f":"IF(J255=\"\",\"\",IF(AND(Datatable_t!X255>15,Datatable_t!X255<30),2,IF(OR(Datatable_t!X255>30,Datatable_t!X255<-10),3,1)))","v":""},{"$f":"IF(Datatable_t!A255=\"\",\"\",Datatable_t!A255)","v":""}]
[{"$f":"IF($J256=\"\",\"\",Datatable_t!H256)","v":""},{"$f":"IF($J256=\"\",\"\",Datatable_t!I256/2)","v":""},{"$f":"IF($J256=\"\",\"\",Datatable_t!J256)","v":""},{"$f":"IF($J256=\"\",\"\",Datatable_t!K256/2)","v":""},{"$f":"IF($J256=\"\",\"\",Datatable_t!F256)","v":""},{"$f":"IF($J256=\"\",\"\",Datatable_t!G256/2)","v":""},null,null,{"$f":"IF(J256=\"\",\"\",IF(AND(Datatable_t!X256>15,Datatable_t!X256<30),2,IF(OR(Datatable_t!X256>30,Datatable_t!X256<-10),3,1)))","v":""},{"$f":"IF(Datatable_t!A256=\"\",\"\",Datatable_t!A256)","v":""}]
[{"$f":"IF($J257=\"\",\"\",Datatable_t!H257)","v":""},{"$f":"IF($J257=\"\",\"\",Datatable_t!I257/2)","v":""},{"$f":"IF($J257=\"\",\"\",Datatable_t!J257)","v":""},{"$f":"IF($J257=\"\",\"\",Datatable_t!K257/2)","v":""},{"$f":"IF($J257=\"\",\"\",Datatable_t!F257)","v":""},{"$f":"IF($J257=\"\",\"\",Datatable_t!G257/2)","v":""},null,null,{"$f":"IF(J257=\"\",\"\",IF(AND(Datatable_t!X257>15,Datatable_t!X257<30),2,IF(OR(Datatable_t!X257>30,Datatable_t!X257<-10),3,1)))","v":""},{"$f":"IF(Datatable_t!A257=\"\",\"\",Datatable_t!A257)","v":""}]
[{"$f":"IF($J258=\"\",\"\",Datatable_t!H258)","v":""},{"$f":"IF($J258=\"\",\"\",Datatable_t!I258/2)","v":""},{"$f":"IF($J258=\"\",\"\",Datatable_t!J258)","v":""},{"$f":"IF($J258=\"\",\"\",Datatable_t!K258/2)","v":""},{"$f":"IF($J258=\"\",\"\",Datatable_t!F258)","v":""},{"$f":"IF($J258=\"\",\"\",Datatable_t!G258/2)","v":""},null,null,{"$f":"IF(J258=\"\",\"\",IF(AND(Datatable_t!X258>15,Datatable_t!X258<30),2,IF(OR(Datatable_t!X258>30,Datatable_t!X258<-10),3,1)))","v":""},{"$f":"IF(Datatable_t!A258=\"\",\"\",Datatable_t!A258)","v":""}]
[{"$f":"IF($J259=\"\",\"\",Datatable_t!H259)","v":""},{"$f":"IF($J259=\"\",\"\",Datatable_t!I259/2)","v":""},{"$f":"IF($J259=\"\",\"\",Datatable_t!J259)","v":""},{"$f":"IF($J259=\"\",\"\",Datatable_t!K259/2)","v":""},{"$f":"IF($J259=\"\",\"\",Datatable_t!F259)","v":""},{"$f":"IF($J259=\"\",\"\",Datatable_t!G259/2)","v":""},null,null,{"$f":"IF(J259=\"\",\"\",IF(AND(Datatable_t!X259>15,Datatable_t!X259<30),2,IF(OR(Datatable_t!X259>30,Datatable_t!X259<-10),3,1)))","v":""},{"$f":"IF(Datatable_t!A259=\"\",\"\",Datatable_t!A259)","v":""}]
[{"$f":"IF($J260=\"\",\"\",Datatable_t!H260)","v":""},{"$f":"IF($J260=\"\",\"\",Datatable_t!I260/2)","v":""},{"$f":"IF($J260=\"\",\"\",Datatable_t!J260)","v":""},{"$f":"IF($J260=\"\",\"\",Datatable_t!K260/2)","v":""},{"$f":"IF($J260=\"\",\"\",Datatable_t!F260)","v":""},{"$f":"IF($J260=\"\",\"\",Datatable_t!G260/2)","v":""},null,null,{"$f":"IF(J260=\"\",\"\",IF(AND(Datatable_t!X260>15,Datatable_t!X260<30),2,IF(OR(Datatable_t!X260>30,Datatable_t!X260<-10),3,1)))","v":""},{"$f":"IF(Datatable_t!A260=\"\",\"\",Datatable_t!A260)","v":""}]
[{"$f":"IF($J261=\"\",\"\",Datatable_t!H261)","v":""},{"$f":"IF($J261=\"\",\"\",Datatable_t!I261/2)","v":""},{"$f":"IF($J261=\"\",\"\",Datatable_t!J261)","v":""},{"$f":"IF($J261=\"\",\"\",Datatable_t!K261/2)","v":""},{"$f":"IF($J261=\"\",\"\",Datatable_t!F261)","v":""},{"$f":"IF($J261=\"\",\"\",Datatable_t!G261/2)","v":""},null,null,{"$f":"IF(J261=\"\",\"\",IF(AND(Datatable_t!X261>15,Datatable_t!X261<30),2,IF(OR(Datatable_t!X261>30,Datatable_t!X261<-10),3,1)))","v":""},{"$f":"IF(Datatable_t!A261=\"\",\"\",Datatable_t!A261)","v":""}]
[{"$f":"IF($J262=\"\",\"\",Datatable_t!H262)","v":""},{"$f":"IF($J262=\"\",\"\",Datatable_t!I262/2)","v":""},{"$f":"IF($J262=\"\",\"\",Datatable_t!J262)","v":""},{"$f":"IF($J262=\"\",\"\",Datatable_t!K262/2)","v":""},{"$f":"IF($J262=\"\",\"\",Datatable_t!F262)","v":""},{"$f":"IF($J262=\"\",\"\",Datatable_t!G262/2)","v":""},null,null,{"$f":"IF(J262=\"\",\"\",IF(AND(Datatable_t!X262>15,Datatable_t!X262<30),2,IF(OR(Datatable_t!X262>30,Datatable_t!X262<-10),3,1)))","v":""},{"$f":"IF(Datatable_t!A262=\"\",\"\",Datatable_t!A262)","v":""}]
[{"$f":"IF($J263=\"\",\"\",Datatable_t!H263)","v":""},{"$f":"IF($J263=\"\",\"\",Datatable_t!I263/2)","v":""},{"$f":"IF($J263=\"\",\"\",Datatable_t!J263)","v":""},{"$f":"IF($J263=\"\",\"\",Datatable_t!K263/2)","v":""},{"$f":"IF($J263=\"\",\"\",Datatable_t!F263)","v":""},{"$f":"IF($J263=\"\",\"\",Datatable_t!G263/2)","v":""},null,null,{"$f":"IF(J263=\"\",\"\",IF(AND(Datatable_t!X263>15,Datatable_t!X263<30),2,IF(OR(Datatable_t!X263>30,Datatable_t!X263<-10),3,1)))","v":""},{"$f":"IF(Datatable_t!A263=\"\",\"\",Datatable_t!A263)","v":""}]
[{"$f":"IF($J264=\"\",\"\",Datatable_t!H264)","v":""},{"$f":"IF($J264=\"\",\"\",Datatable_t!I264/2)","v":""},{"$f":"IF($J264=\"\",\"\",Datatable_t!J264)","v":""},{"$f":"IF($J264=\"\",\"\",Datatable_t!K264/2)","v":""},{"$f":"IF($J264=\"\",\"\",Datatable_t!F264)","v":""},{"$f":"IF($J264=\"\",\"\",Datatable_t!G264/2)","v":""},null,null,{"$f":"IF(J264=\"\",\"\",IF(AND(Datatable_t!X264>15,Datatable_t!X264<30),2,IF(OR(Datatable_t!X264>30,Datatable_t!X264<-10),3,1)))","v":""},{"$f":"IF(Datatable_t!A264=\"\",\"\",Datatable_t!A264)","v":""}]
[{"$f":"IF($J265=\"\",\"\",Datatable_t!H265)","v":""},{"$f":"IF($J265=\"\",\"\",Datatable_t!I265/2)","v":""},{"$f":"IF($J265=\"\",\"\",Datatable_t!J265)","v":""},{"$f":"IF($J265=\"\",\"\",Datatable_t!K265/2)","v":""},{"$f":"IF($J265=\"\",\"\",Datatable_t!F265)","v":""},{"$f":"IF($J265=\"\",\"\",Datatable_t!G265/2)","v":""},null,null,{"$f":"IF(J265=\"\",\"\",IF(AND(Datatable_t!X265>15,Datatable_t!X265<30),2,IF(OR(Datatable_t!X265>30,Datatable_t!X265<-10),3,1)))","v":""},{"$f":"IF(Datatable_t!A265=\"\",\"\",Datatable_t!A265)","v":""}]
[{"$f":"IF($J266=\"\",\"\",Datatable_t!H266)","v":""},{"$f":"IF($J266=\"\",\"\",Datatable_t!I266/2)","v":""},{"$f":"IF($J266=\"\",\"\",Datatable_t!J266)","v":""},{"$f":"IF($J266=\"\",\"\",Datatable_t!K266/2)","v":""},{"$f":"IF($J266=\"\",\"\",Datatable_t!F266)","v":""},{"$f":"IF($J266=\"\",\"\",Datatable_t!G266/2)","v":""},null,null,{"$f":"IF(J266=\"\",\"\",IF(AND(Datatable_t!X266>15,Datatable_t!X266<30),2,IF(OR(Datatable_t!X266>30,Datatable_t!X266<-10),3,1)))","v":""},{"$f":"IF(Datatable_t!A266=\"\",\"\",Datatable_t!A266)","v":""}]
[{"$f":"IF($J267=\"\",\"\",Datatable_t!H267)","v":""},{"$f":"IF($J267=\"\",\"\",Datatable_t!I267/2)","v":""},{"$f":"IF($J267=\"\",\"\",Datatable_t!J267)","v":""},{"$f":"IF($J267=\"\",\"\",Datatable_t!K267/2)","v":""},{"$f":"IF($J267=\"\",\"\",Datatable_t!F267)","v":""},{"$f":"IF($J267=\"\",\"\",Datatable_t!G267/2)","v":""},null,null,{"$f":"IF(J267=\"\",\"\",IF(AND(Datatable_t!X267>15,Datatable_t!X267<30),2,IF(OR(Datatable_t!X267>30,Datatable_t!X267<-10),3,1)))","v":""},{"$f":"IF(Datatable_t!A267=\"\",\"\",Datatable_t!A267)","v":""}]
[{"$f":"IF($J268=\"\",\"\",Datatable_t!H268)","v":""},{"$f":"IF($J268=\"\",\"\",Datatable_t!I268/2)","v":""},{"$f":"IF($J268=\"\",\"\",Datatable_t!J268)","v":""},{"$f":"IF($J268=\"\",\"\",Datatable_t!K268/2)","v":""},{"$f":"IF($J268=\"\",\"\",Datatable_t!F268)","v":""},{"$f":"IF($J268=\"\",\"\",Datatable_t!G268/2)","v":""},null,null,{"$f":"IF(J268=\"\",\"\",IF(AND(Datatable_t!X268>15,Datatable_t!X268<30),2,IF(OR(Datatable_t!X268>30,Datatable_t!X268<-10),3,1)))","v":""},{"$f":"IF(Datatable_t!A268=\"\",\"\",Datatable_t!A268)","v":""}]
[{"$f":"IF($J269=\"\",\"\",Datatable_t!H269)","v":""},{"$f":"IF($J269=\"\",\"\",Datatable_t!I269/2)","v":""},{"$f":"IF($J269=\"\",\"\",Datatable_t!J269)","v":""},{"$f":"IF($J269=\"\",\"\",Datatable_t!K269/2)","v":""},{"$f":"IF($J269=\"\",\"\",Datatable_t!F269)","v":""},{"$f":"IF($J269=\"\",\"\",Datatable_t!G269/2)","v":""},null,null,{"$f":"IF(J269=\"\",\"\",IF(AND(Datatable_t!X269>15,Datatable_t!X269<30),2,IF(OR(Datatable_t!X269>30,Datatable_t!X269<-10),3,1)))","v":""},{"$f":"IF(Datatable_t!A269=\"\",\"\",Datatable_t!A269)","v":""}]
[{"$f":"IF($J270=\"\",\"\",Datatable_t!H270)","v":""},{"$f":"IF($J270=\"\",\"\",Datatable_t!I270/2)","v":""},{"$f":"IF($J270=\"\",\"\",Datatable_t!J270)","v":""},{"$f":"IF($J270=\"\",\"\",Datatable_t!K270/2)","v":""},{"$f":"IF($J270=\"\",\"\",Datatable_t!F270)","v":""},{"$f":"IF($J270=\"\",\"\",Datatable_t!G270/2)","v":""},null,null,{"$f":"IF(J270=\"\",\"\",IF(AND(Datatable_t!X270>15,Datatable_t!X270<30),2,IF(OR(Datatable_t!X270>30,Datatable_t!X270<-10),3,1)))","v":""},{"$f":"IF(Datatable_t!A270=\"\",\"\",Datatable_t!A270)","v":""}]
[{"$f":"IF($J271=\"\",\"\",Datatable_t!H271)","v":""},{"$f":"IF($J271=\"\",\"\",Datatable_t!I271/2)","v":""},{"$f":"IF($J271=\"\",\"\",Datatable_t!J271)","v":""},{"$f":"IF($J271=\"\",\"\",Datatable_t!K271/2)","v":""},{"$f":"IF($J271=\"\",\"\",Datatable_t!F271)","v":""},{"$f":"IF($J271=\"\",\"\",Datatable_t!G271/2)","v":""},null,null,{"$f":"IF(J271=\"\",\"\",IF(AND(Datatable_t!X271>15,Datatable_t!X271<30),2,IF(OR(Datatable_t!X271>30,Datatable_t!X271<-10),3,1)))","v":""},{"$f":"IF(Datatable_t!A271=\"\",\"\",Datatable_t!A271)","v":""}]
[{"$f":"IF($J272=\"\",\"\",Datatable_t!H272)","v":""},{"$f":"IF($J272=\"\",\"\",Datatable_t!I272/2)","v":""},{"$f":"IF($J272=\"\",\"\",Datatable_t!J272)","v":""},{"$f":"IF($J272=\"\",\"\",Datatable_t!K272/2)","v":""},{"$f":"IF($J272=\"\",\"\",Datatable_t!F272)","v":""},{"$f":"IF($J272=\"\",\"\",Datatable_t!G272/2)","v":""},null,null,{"$f":"IF(J272=\"\",\"\",IF(AND(Datatable_t!X272>15,Datatable_t!X272<30),2,IF(OR(Datatable_t!X272>30,Datatable_t!X272<-10),3,1)))","v":""},{"$f":"IF(Datatable_t!A272=\"\",\"\",Datatable_t!A272)","v":""}]
[{"$f":"IF($J273=\"\",\"\",Datatable_t!H273)","v":""},{"$f":"IF($J273=\"\",\"\",Datatable_t!I273/2)","v":""},{"$f":"IF($J273=\"\",\"\",Datatable_t!J273)","v":""},{"$f":"IF($J273=\"\",\"\",Datatable_t!K273/2)","v":""},{"$f":"IF($J273=\"\",\"\",Datatable_t!F273)","v":""},{"$f":"IF($J273=\"\",\"\",Datatable_t!G273/2)","v":""},null,null,{"$f":"IF(J273=\"\",\"\",IF(AND(Datatable_t!X273>15,Datatable_t!X273<30),2,IF(OR(Datatable_t!X273>30,Datatable_t!X273<-10),3,1)))","v":""},{"$f":"IF(Datatable_t!A273=\"\",\"\",Datatable_t!A273)","v":""}]
[{"$f":"IF($J274=\"\",\"\",Datatable_t!H274)","v":""},{"$f":"IF($J274=\"\",\"\",Datatable_t!I274/2)","v":""},{"$f":"IF($J274=\"\",\"\",Datatable_t!J274)","v":""},{"$f":"IF($J274=\"\",\"\",Datatable_t!K274/2)","v":""},{"$f":"IF($J274=\"\",\"\",Datatable_t!F274)","v":""},{"$f":"IF($J274=\"\",\"\",Datatable_t!G274/2)","v":""},null,null,{"$f":"IF(J274=\"\",\"\",IF(AND(Datatable_t!X274>15,Datatable_t!X274<30),2,IF(OR(Datatable_t!X274>30,Datatable_t!X274<-10),3,1)))","v":""},{"$f":"IF(Datatable_t!A274=\"\",\"\",Datatable_t!A274)","v":""}]
[{"$f":"IF($J275=\"\",\"\",Datatable_t!H275)","v":""},{"$f":"IF($J275=\"\",\"\",Datatable_t!I275/2)","v":""},{"$f":"IF($J275=\"\",\"\",Datatable_t!J275)","v":""},{"$f":"IF($J275=\"\",\"\",Datatable_t!K275/2)","v":""},{"$f":"IF($J275=\"\",\"\",Datatable_t!F275)","v":""},{"$f":"IF($J275=\"\",\"\",Datatable_t!G275/2)","v":""},null,null,{"$f":"IF(J275=\"\",\"\",IF(AND(Datatable_t!X275>15,Datatable_t!X275<30),2,IF(OR(Datatable_t!X275>30,Datatable_t!X275<-10),3,1)))","v":""},{"$f":"IF(Datatable_t!A275=\"\",\"\",Datatable_t!A275)","v":""}]
[{"$f":"IF($J276=\"\",\"\",Datatable_t!H276)","v":""},{"$f":"IF($J276=\"\",\"\",Datatable_t!I276/2)","v":""},{"$f":"IF($J276=\"\",\"\",Datatable_t!J276)","v":""},{"$f":"IF($J276=\"\",\"\",Datatable_t!K276/2)","v":""},{"$f":"IF($J276=\"\",\"\",Datatable_t!F276)","v":""},{"$f":"IF($J276=\"\",\"\",Datatable_t!G276/2)","v":""},null,null,{"$f":"IF(J276=\"\",\"\",IF(AND(Datatable_t!X276>15,Datatable_t!X276<30),2,IF(OR(Datatable_t!X276>30,Datatable_t!X276<-10),3,1)))","v":""},{"$f":"IF(Datatable_t!A276=\"\",\"\",Datatable_t!A276)","v":""}]
[{"$f":"IF($J277=\"\",\"\",Datatable_t!H277)","v":""},{"$f":"IF($J277=\"\",\"\",Datatable_t!I277/2)","v":""},{"$f":"IF($J277=\"\",\"\",Datatable_t!J277)","v":""},{"$f":"IF($J277=\"\",\"\",Datatable_t!K277/2)","v":""},{"$f":"IF($J277=\"\",\"\",Datatable_t!F277)","v":""},{"$f":"IF($J277=\"\",\"\",Datatable_t!G277/2)","v":""},null,null,{"$f":"IF(J277=\"\",\"\",IF(AND(Datatable_t!X277>15,Datatable_t!X277<30),2,IF(OR(Datatable_t!X277>30,Datatable_t!X277<-10),3,1)))","v":""},{"$f":"IF(Datatable_t!A277=\"\",\"\",Datatable_t!A277)","v":""}]
[{"$f":"IF($J278=\"\",\"\",Datatable_t!H278)","v":""},{"$f":"IF($J278=\"\",\"\",Datatable_t!I278/2)","v":""},{"$f":"IF($J278=\"\",\"\",Datatable_t!J278)","v":""},{"$f":"IF($J278=\"\",\"\",Datatable_t!K278/2)","v":""},{"$f":"IF($J278=\"\",\"\",Datatable_t!F278)","v":""},{"$f":"IF($J278=\"\",\"\",Datatable_t!G278/2)","v":""},null,null,{"$f":"IF(J278=\"\",\"\",IF(AND(Datatable_t!X278>15,Datatable_t!X278<30),2,IF(OR(Datatable_t!X278>30,Datatable_t!X278<-10),3,1)))","v":""},{"$f":"IF(Datatable_t!A278=\"\",\"\",Datatable_t!A278)","v":""}]
[{"$f":"IF($J279=\"\",\"\",Datatable_t!H279)","v":""},{"$f":"IF($J279=\"\",\"\",Datatable_t!I279/2)","v":""},{"$f":"IF($J279=\"\",\"\",Datatable_t!J279)","v":""},{"$f":"IF($J279=\"\",\"\",Datatable_t!K279/2)","v":""},{"$f":"IF($J279=\"\",\"\",Datatable_t!F279)","v":""},{"$f":"IF($J279=\"\",\"\",Datatable_t!G279/2)","v":""},null,null,{"$f":"IF(J279=\"\",\"\",IF(AND(Datatable_t!X279>15,Datatable_t!X279<30),2,IF(OR(Datatable_t!X279>30,Datatable_t!X279<-10),3,1)))","v":""},{"$f":"IF(Datatable_t!A279=\"\",\"\",Datatable_t!A279)","v":""}]
[{"$f":"IF($J280=\"\",\"\",Datatable_t!H280)","v":""},{"$f":"IF($J280=\"\",\"\",Datatable_t!I280/2)","v":""},{"$f":"IF($J280=\"\",\"\",Datatable_t!J280)","v":""},{"$f":"IF($J280=\"\",\"\",Datatable_t!K280/2)","v":""},{"$f":"IF($J280=\"\",\"\",Datatable_t!F280)","v":""},{"$f":"IF($J280=\"\",\"\",Datatable_t!G280/2)","v":""},null,null,{"$f":"IF(J280=\"\",\"\",IF(AND(Datatable_t!X280>15,Datatable_t!X280<30),2,IF(OR(Datatable_t!X280>30,Datatable_t!X280<-10),3,1)))","v":""},{"$f":"IF(Datatable_t!A280=\"\",\"\",Datatable_t!A280)","v":""}]
[{"$f":"IF($J281=\"\",\"\",Datatable_t!H281)","v":""},{"$f":"IF($J281=\"\",\"\",Datatable_t!I281/2)","v":""},{"$f":"IF($J281=\"\",\"\",Datatable_t!J281)","v":""},{"$f":"IF($J281=\"\",\"\",Datatable_t!K281/2)","v":""},{"$f":"IF($J281=\"\",\"\",Datatable_t!F281)","v":""},{"$f":"IF($J281=\"\",\"\",Datatable_t!G281/2)","v":""},null,null,{"$f":"IF(J281=\"\",\"\",IF(AND(Datatable_t!X281>15,Datatable_t!X281<30),2,IF(OR(Datatable_t!X281>30,Datatable_t!X281<-10),3,1)))","v":""},{"$f":"IF(Datatable_t!A281=\"\",\"\",Datatable_t!A281)","v":""}]
[{"$f":"IF($J282=\"\",\"\",Datatable_t!H282)","v":""},{"$f":"IF($J282=\"\",\"\",Datatable_t!I282/2)","v":""},{"$f":"IF($J282=\"\",\"\",Datatable_t!J282)","v":""},{"$f":"IF($J282=\"\",\"\",Datatable_t!K282/2)","v":""},{"$f":"IF($J282=\"\",\"\",Datatable_t!F282)","v":""},{"$f":"IF($J282=\"\",\"\",Datatable_t!G282/2)","v":""},null,null,{"$f":"IF(J282=\"\",\"\",IF(AND(Datatable_t!X282>15,Datatable_t!X282<30),2,IF(OR(Datatable_t!X282>30,Datatable_t!X282<-10),3,1)))","v":""},{"$f":"IF(Datatable_t!A282=\"\",\"\",Datatable_t!A282)","v":""}]
[{"$f":"IF($J283=\"\",\"\",Datatable_t!H283)","v":""},{"$f":"IF($J283=\"\",\"\",Datatable_t!I283/2)","v":""},{"$f":"IF($J283=\"\",\"\",Datatable_t!J283)","v":""},{"$f":"IF($J283=\"\",\"\",Datatable_t!K283/2)","v":""},{"$f":"IF($J283=\"\",\"\",Datatable_t!F283)","v":""},{"$f":"IF($J283=\"\",\"\",Datatable_t!G283/2)","v":""},null,null,{"$f":"IF(J283=\"\",\"\",IF(AND(Datatable_t!X283>15,Datatable_t!X283<30),2,IF(OR(Datatable_t!X283>30,Datatable_t!X283<-10),3,1)))","v":""},{"$f":"IF(Datatable_t!A283=\"\",\"\",Datatable_t!A283)","v":""}]
[{"$f":"IF($J284=\"\",\"\",Datatable_t!H284)","v":""},{"$f":"IF($J284=\"\",\"\",Datatable_t!I284/2)","v":""},{"$f":"IF($J284=\"\",\"\",Datatable_t!J284)","v":""},{"$f":"IF($J284=\"\",\"\",Datatable_t!K284/2)","v":""},{"$f":"IF($J284=\"\",\"\",Datatable_t!F284)","v":""},{"$f":"IF($J284=\"\",\"\",Datatable_t!G284/2)","v":""},null,null,{"$f":"IF(J284=\"\",\"\",IF(AND(Datatable_t!X284>15,Datatable_t!X284<30),2,IF(OR(Datatable_t!X284>30,Datatable_t!X284<-10),3,1)))","v":""},{"$f":"IF(Datatable_t!A284=\"\",\"\",Datatable_t!A284)","v":""}]
[{"$f":"IF($J285=\"\",\"\",Datatable_t!H285)","v":""},{"$f":"IF($J285=\"\",\"\",Datatable_t!I285/2)","v":""},{"$f":"IF($J285=\"\",\"\",Datatable_t!J285)","v":""},{"$f":"IF($J285=\"\",\"\",Datatable_t!K285/2)","v":""},{"$f":"IF($J285=\"\",\"\",Datatable_t!F285)","v":""},{"$f":"IF($J285=\"\",\"\",Datatable_t!G285/2)","v":""},null,null,{"$f":"IF(J285=\"\",\"\",IF(AND(Datatable_t!X285>15,Datatable_t!X285<30),2,IF(OR(Datatable_t!X285>30,Datatable_t!X285<-10),3,1)))","v":""},{"$f":"IF(Datatable_t!A285=\"\",\"\",Datatable_t!A285)","v":""}]
[{"$f":"IF($J286=\"\",\"\",Datatable_t!H286)","v":""},{"$f":"IF($J286=\"\",\"\",Datatable_t!I286/2)","v":""},{"$f":"IF($J286=\"\",\"\",Datatable_t!J286)","v":""},{"$f":"IF($J286=\"\",\"\",Datatable_t!K286/2)","v":""},{"$f":"IF($J286=\"\",\"\",Datatable_t!F286)","v":""},{"$f":"IF($J286=\"\",\"\",Datatable_t!G286/2)","v":""},null,null,{"$f":"IF(J286=\"\",\"\",IF(AND(Datatable_t!X286>15,Datatable_t!X286<30),2,IF(OR(Datatable_t!X286>30,Datatable_t!X286<-10),3,1)))","v":""},{"$f":"IF(Datatable_t!A286=\"\",\"\",Datatable_t!A286)","v":""}]
[{"$f":"IF($J287=\"\",\"\",Datatable_t!H287)","v":""},{"$f":"IF($J287=\"\",\"\",Datatable_t!I287/2)","v":""},{"$f":"IF($J287=\"\",\"\",Datatable_t!J287)","v":""},{"$f":"IF($J287=\"\",\"\",Datatable_t!K287/2)","v":""},{"$f":"IF($J287=\"\",\"\",Datatable_t!F287)","v":""},{"$f":"IF($J287=\"\",\"\",Datatable_t!G287/2)","v":""},null,null,{"$f":"IF(J287=\"\",\"\",IF(AND(Datatable_t!X287>15,Datatable_t!X287<30),2,IF(OR(Datatable_t!X287>30,Datatable_t!X287<-10),3,1)))","v":""},{"$f":"IF(Datatable_t!A287=\"\",\"\",Datatable_t!A287)","v":""}]
[{"$f":"IF($J288=\"\",\"\",Datatable_t!H288)","v":""},{"$f":"IF($J288=\"\",\"\",Datatable_t!I288/2)","v":""},{"$f":"IF($J288=\"\",\"\",Datatable_t!J288)","v":""},{"$f":"IF($J288=\"\",\"\",Datatable_t!K288/2)","v":""},{"$f":"IF($J288=\"\",\"\",Datatable_t!F288)","v":""},{"$f":"IF($J288=\"\",\"\",Datatable_t!G288/2)","v":""},null,null,{"$f":"IF(J288=\"\",\"\",IF(AND(Datatable_t!X288>15,Datatable_t!X288<30),2,IF(OR(Datatable_t!X288>30,Datatable_t!X288<-10),3,1)))","v":""},{"$f":"IF(Datatable_t!A288=\"\",\"\",Datatable_t!A288)","v":""}]
[{"$f":"IF($J289=\"\",\"\",Datatable_t!H289)","v":""},{"$f":"IF($J289=\"\",\"\",Datatable_t!I289/2)","v":""},{"$f":"IF($J289=\"\",\"\",Datatable_t!J289)","v":""},{"$f":"IF($J289=\"\",\"\",Datatable_t!K289/2)","v":""},{"$f":"IF($J289=\"\",\"\",Datatable_t!F289)","v":""},{"$f":"IF($J289=\"\",\"\",Datatable_t!G289/2)","v":""},null,null,{"$f":"IF(J289=\"\",\"\",IF(AND(Datatable_t!X289>15,Datatable_t!X289<30),2,IF(OR(Datatable_t!X289>30,Datatable_t!X289<-10),3,1)))","v":""},{"$f":"IF(Datatable_t!A289=\"\",\"\",Datatable_t!A289)","v":""}]
[{"$f":"IF($J290=\"\",\"\",Datatable_t!H290)","v":""},{"$f":"IF($J290=\"\",\"\",Datatable_t!I290/2)","v":""},{"$f":"IF($J290=\"\",\"\",Datatable_t!J290)","v":""},{"$f":"IF($J290=\"\",\"\",Datatable_t!K290/2)","v":""},{"$f":"IF($J290=\"\",\"\",Datatable_t!F290)","v":""},{"$f":"IF($J290=\"\",\"\",Datatable_t!G290/2)","v":""},null,null,{"$f":"IF(J290=\"\",\"\",IF(AND(Datatable_t!X290>15,Datatable_t!X290<30),2,IF(OR(Datatable_t!X290>30,Datatable_t!X290<-10),3,1)))","v":""},{"$f":"IF(Datatable_t!A290=\"\",\"\",Datatable_t!A290)","v":""}]
[{"$f":"IF($J291=\"\",\"\",Datatable_t!H291)","v":""},{"$f":"IF($J291=\"\",\"\",Datatable_t!I291/2)","v":""},{"$f":"IF($J291=\"\",\"\",Datatable_t!J291)","v":""},{"$f":"IF($J291=\"\",\"\",Datatable_t!K291/2)","v":""},{"$f":"IF($J291=\"\",\"\",Datatable_t!F291)","v":""},{"$f":"IF($J291=\"\",\"\",Datatable_t!G291/2)","v":""},null,null,{"$f":"IF(J291=\"\",\"\",IF(AND(Datatable_t!X291>15,Datatable_t!X291<30),2,IF(OR(Datatable_t!X291>30,Datatable_t!X291<-10),3,1)))","v":""},{"$f":"IF(Datatable_t!A291=\"\",\"\",Datatable_t!A291)","v":""}]
[{"$f":"IF($J292=\"\",\"\",Datatable_t!H292)","v":""},{"$f":"IF($J292=\"\",\"\",Datatable_t!I292/2)","v":""},{"$f":"IF($J292=\"\",\"\",Datatable_t!J292)","v":""},{"$f":"IF($J292=\"\",\"\",Datatable_t!K292/2)","v":""},{"$f":"IF($J292=\"\",\"\",Datatable_t!F292)","v":""},{"$f":"IF($J292=\"\",\"\",Datatable_t!G292/2)","v":""},null,null,{"$f":"IF(J292=\"\",\"\",IF(AND(Datatable_t!X292>15,Datatable_t!X292<30),2,IF(OR(Datatable_t!X292>30,Datatable_t!X292<-10),3,1)))","v":""},{"$f":"IF(Datatable_t!A292=\"\",\"\",Datatable_t!A292)","v":""}]
[{"$f":"IF($J293=\"\",\"\",Datatable_t!H293)","v":""},{"$f":"IF($J293=\"\",\"\",Datatable_t!I293/2)","v":""},{"$f":"IF($J293=\"\",\"\",Datatable_t!J293)","v":""},{"$f":"IF($J293=\"\",\"\",Datatable_t!K293/2)","v":""},{"$f":"IF($J293=\"\",\"\",Datatable_t!F293)","v":""},{"$f":"IF($J293=\"\",\"\",Datatable_t!G293/2)","v":""},null,null,{"$f":"IF(J293=\"\",\"\",IF(AND(Datatable_t!X293>15,Datatable_t!X293<30),2,IF(OR(Datatable_t!X293>30,Datatable_t!X293<-10),3,1)))","v":""},{"$f":"IF(Datatable_t!A293=\"\",\"\",Datatable_t!A293)","v":""}]
[{"$f":"IF($J294=\"\",\"\",Datatable_t!H294)","v":""},{"$f":"IF($J294=\"\",\"\",Datatable_t!I294/2)","v":""},{"$f":"IF($J294=\"\",\"\",Datatable_t!J294)","v":""},{"$f":"IF($J294=\"\",\"\",Datatable_t!K294/2)","v":""},{"$f":"IF($J294=\"\",\"\",Datatable_t!F294)","v":""},{"$f":"IF($J294=\"\",\"\",Datatable_t!G294/2)","v":""},null,null,{"$f":"IF(J294=\"\",\"\",IF(AND(Datatable_t!X294>15,Datatable_t!X294<30),2,IF(OR(Datatable_t!X294>30,Datatable_t!X294<-10),3,1)))","v":""},{"$f":"IF(Datatable_t!A294=\"\",\"\",Datatable_t!A294)","v":""}]
[{"$f":"IF($J295=\"\",\"\",Datatable_t!H295)","v":""},{"$f":"IF($J295=\"\",\"\",Datatable_t!I295/2)","v":""},{"$f":"IF($J295=\"\",\"\",Datatable_t!J295)","v":""},{"$f":"IF($J295=\"\",\"\",Datatable_t!K295/2)","v":""},{"$f":"IF($J295=\"\",\"\",Datatable_t!F295)","v":""},{"$f":"IF($J295=\"\",\"\",Datatable_t!G295/2)","v":""},null,null,{"$f":"IF(J295=\"\",\"\",IF(AND(Datatable_t!X295>15,Datatable_t!X295<30),2,IF(OR(Datatable_t!X295>30,Datatable_t!X295<-10),3,1)))","v":""},{"$f":"IF(Datatable_t!A295=\"\",\"\",Datatable_t!A295)","v":""}]
[{"$f":"IF($J296=\"\",\"\",Datatable_t!H296)","v":""},{"$f":"IF($J296=\"\",\"\",Datatable_t!I296/2)","v":""},{"$f":"IF($J296=\"\",\"\",Datatable_t!J296)","v":""},{"$f":"IF($J296=\"\",\"\",Datatable_t!K296/2)","v":""},{"$f":"IF($J296=\"\",\"\",Datatable_t!F296)","v":""},{"$f":"IF($J296=\"\",\"\",Datatable_t!G296/2)","v":""},null,null,{"$f":"IF(J296=\"\",\"\",IF(AND(Datatable_t!X296>15,Datatable_t!X296<30),2,IF(OR(Datatable_t!X296>30,Datatable_t!X296<-10),3,1)))","v":""},{"$f":"IF(Datatable_t!A296=\"\",\"\",Datatable_t!A296)","v":""}]
[{"$f":"IF($J297=\"\",\"\",Datatable_t!H297)","v":""},{"$f":"IF($J297=\"\",\"\",Datatable_t!I297/2)","v":""},{"$f":"IF($J297=\"\",\"\",Datatable_t!J297)","v":""},{"$f":"IF($J297=\"\",\"\",Datatable_t!K297/2)","v":""},{"$f":"IF($J297=\"\",\"\",Datatable_t!F297)","v":""},{"$f":"IF($J297=\"\",\"\",Datatable_t!G297/2)","v":""},null,null,{"$f":"IF(J297=\"\",\"\",IF(AND(Datatable_t!X297>15,Datatable_t!X297<30),2,IF(OR(Datatable_t!X297>30,Datatable_t!X297<-10),3,1)))","v":""},{"$f":"IF(Datatable_t!A297=\"\",\"\",Datatable_t!A297)","v":""}]
[{"$f":"IF($J298=\"\",\"\",Datatable_t!H298)","v":""},{"$f":"IF($J298=\"\",\"\",Datatable_t!I298/2)","v":""},{"$f":"IF($J298=\"\",\"\",Datatable_t!J298)","v":""},{"$f":"IF($J298=\"\",\"\",Datatable_t!K298/2)","v":""},{"$f":"IF($J298=\"\",\"\",Datatable_t!F298)","v":""},{"$f":"IF($J298=\"\",\"\",Datatable_t!G298/2)","v":""},null,null,{"$f":"IF(J298=\"\",\"\",IF(AND(Datatable_t!X298>15,Datatable_t!X298<30),2,IF(OR(Datatable_t!X298>30,Datatable_t!X298<-10),3,1)))","v":""},{"$f":"IF(Datatable_t!A298=\"\",\"\",Datatable_t!A298)","v":""}]
[{"$f":"IF($J299=\"\",\"\",Datatable_t!H299)","v":""},{"$f":"IF($J299=\"\",\"\",Datatable_t!I299/2)","v":""},{"$f":"IF($J299=\"\",\"\",Datatable_t!J299)","v":""},{"$f":"IF($J299=\"\",\"\",Datatable_t!K299/2)","v":""},{"$f":"IF($J299=\"\",\"\",Datatable_t!F299)","v":""},{"$f":"IF($J299=\"\",\"\",Datatable_t!G299/2)","v":""},null,null,{"$f":"IF(J299=\"\",\"\",IF(AND(Datatable_t!X299>15,Datatable_t!X299<30),2,IF(OR(Datatable_t!X299>30,Datatable_t!X299<-10),3,1)))","v":""},{"$f":"IF(Datatable_t!A299=\"\",\"\",Datatable_t!A299)","v":""}]
[{"$f":"IF($J300=\"\",\"\",Datatable_t!H300)","v":""},{"$f":"IF($J300=\"\",\"\",Datatable_t!I300/2)","v":""},{"$f":"IF($J300=\"\",\"\",Datatable_t!J300)","v":""},{"$f":"IF($J300=\"\",\"\",Datatable_t!K300/2)","v":""},{"$f":"IF($J300=\"\",\"\",Datatable_t!F300)","v":""},{"$f":"IF($J300=\"\",\"\",Datatable_t!G300/2)","v":""},null,null,{"$f":"IF(J300=\"\",\"\",IF(AND(Datatable_t!X300>15,Datatable_t!X300<30),2,IF(OR(Datatable_t!X300>30,Datatable_t!X300<-10),3,1)))","v":""},{"$f":"IF(Datatable_t!A300=\"\",\"\",Datatable_t!A300)","v":""}]
[{"$f":"IF($J301=\"\",\"\",Datatable_t!H301)","v":""},{"$f":"IF($J301=\"\",\"\",Datatable_t!I301/2)","v":""},{"$f":"IF($J301=\"\",\"\",Datatable_t!J301)","v":""},{"$f":"IF($J301=\"\",\"\",Datatable_t!K301/2)","v":""},{"$f":"IF($J301=\"\",\"\",Datatable_t!F301)","v":""},{"$f":"IF($J301=\"\",\"\",Datatable_t!G301/2)","v":""},null,null,{"$f":"IF(J301=\"\",\"\",IF(AND(Datatable_t!X301>15,Datatable_t!X301<30),2,IF(OR(Datatable_t!X301>30,Datatable_t!X301<-10),3,1)))","v":""},{"$f":"IF(Datatable_t!A301=\"\",\"\",Datatable_t!A301)","v":""}]
[{"$f":"IF($J302=\"\",\"\",Datatable_t!H302)","v":""},{"$f":"IF($J302=\"\",\"\",Datatable_t!I302/2)","v":""},{"$f":"IF($J302=\"\",\"\",Datatable_t!J302)","v":""},{"$f":"IF($J302=\"\",\"\",Datatable_t!K302/2)","v":""},{"$f":"IF($J302=\"\",\"\",Datatable_t!F302)","v":""},{"$f":"IF($J302=\"\",\"\",Datatable_t!G302/2)","v":""},null,null,{"$f":"IF(J302=\"\",\"\",IF(AND(Datatable_t!X302>15,Datatable_t!X302<30),2,IF(OR(Datatable_t!X302>30,Datatable_t!X302<-10),3,1)))","v":""},{"$f":"IF(Datatable_t!A302=\"\",\"\",Datatable_t!A302)","v":""}]
[{"$f":"IF($J303=\"\",\"\",Datatable_t!H303)","v":""},{"$f":"IF($J303=\"\",\"\",Datatable_t!I303/2)","v":""},{"$f":"IF($J303=\"\",\"\",Datatable_t!J303)","v":""},{"$f":"IF($J303=\"\",\"\",Datatable_t!K303/2)","v":""},{"$f":"IF($J303=\"\",\"\",Datatable_t!F303)","v":""},{"$f":"IF($J303=\"\",\"\",Datatable_t!G303/2)","v":""},null,null,{"$f":"IF(J303=\"\",\"\",IF(AND(Datatable_t!X303>15,Datatable_t!X303<30),2,IF(OR(Datatable_t!X303>30,Datatable_t!X303<-10),3,1)))","v":""},{"$f":"IF(Datatable_t!A303=\"\",\"\",Datatable_t!A303)","v":""}]
[{"$f":"IF($J304=\"\",\"\",Datatable_t!H304)","v":""},{"$f":"IF($J304=\"\",\"\",Datatable_t!I304/2)","v":""},{"$f":"IF($J304=\"\",\"\",Datatable_t!J304)","v":""},{"$f":"IF($J304=\"\",\"\",Datatable_t!K304/2)","v":""},{"$f":"IF($J304=\"\",\"\",Datatable_t!F304)","v":""},{"$f":"IF($J304=\"\",\"\",Datatable_t!G304/2)","v":""},null,null,{"$f":"IF(J304=\"\",\"\",IF(AND(Datatable_t!X304>15,Datatable_t!X304<30),2,IF(OR(Datatable_t!X304>30,Datatable_t!X304<-10),3,1)))","v":""},{"$f":"IF(Datatable_t!A304=\"\",\"\",Datatable_t!A304)","v":""}]
[{"$f":"IF($J305=\"\",\"\",Datatable_t!H305)","v":""},{"$f":"IF($J305=\"\",\"\",Datatable_t!I305/2)","v":""},{"$f":"IF($J305=\"\",\"\",Datatable_t!J305)","v":""},{"$f":"IF($J305=\"\",\"\",Datatable_t!K305/2)","v":""},{"$f":"IF($J305=\"\",\"\",Datatable_t!F305)","v":""},{"$f":"IF($J305=\"\",\"\",Datatable_t!G305/2)","v":""},null,null,{"$f":"IF(J305=\"\",\"\",IF(AND(Datatable_t!X305>15,Datatable_t!X305<30),2,IF(OR(Datatable_t!X305>30,Datatable_t!X305<-10),3,1)))","v":""},{"$f":"IF(Datatable_t!A305=\"\",\"\",Datatable_t!A305)","v":""}]
[{"$f":"IF($J306=\"\",\"\",Datatable_t!H306)","v":""},{"$f":"IF($J306=\"\",\"\",Datatable_t!I306/2)","v":""},{"$f":"IF($J306=\"\",\"\",Datatable_t!J306)","v":""},{"$f":"IF($J306=\"\",\"\",Datatable_t!K306/2)","v":""},{"$f":"IF($J306=\"\",\"\",Datatable_t!F306)","v":""},{"$f":"IF($J306=\"\",\"\",Datatable_t!G306/2)","v":""},null,null,{"$f":"IF(J306=\"\",\"\",IF(AND(Datatable_t!X306>15,Datatable_t!X306<30),2,IF(OR(Datatable_t!X306>30,Datatable_t!X306<-10),3,1)))","v":""},{"$f":"IF(Datatable_t!A306=\"\",\"\",Datatable_t!A306)","v":""}]
[{"$f":"IF($J307=\"\",\"\",Datatable_t!H307)","v":""},{"$f":"IF($J307=\"\",\"\",Datatable_t!I307/2)","v":""},{"$f":"IF($J307=\"\",\"\",Datatable_t!J307)","v":""},{"$f":"IF($J307=\"\",\"\",Datatable_t!K307/2)","v":""},{"$f":"IF($J307=\"\",\"\",Datatable_t!F307)","v":""},{"$f":"IF($J307=\"\",\"\",Datatable_t!G307/2)","v":""},null,null,{"$f":"IF(J307=\"\",\"\",IF(AND(Datatable_t!X307>15,Datatable_t!X307<30),2,IF(OR(Datatable_t!X307>30,Datatable_t!X307<-10),3,1)))","v":""},{"$f":"IF(Datatable_t!A307=\"\",\"\",Datatable_t!A307)","v":""}]
[{"$f":"IF($J308=\"\",\"\",Datatable_t!H308)","v":""},{"$f":"IF($J308=\"\",\"\",Datatable_t!I308/2)","v":""},{"$f":"IF($J308=\"\",\"\",Datatable_t!J308)","v":""},{"$f":"IF($J308=\"\",\"\",Datatable_t!K308/2)","v":""},{"$f":"IF($J308=\"\",\"\",Datatable_t!F308)","v":""},{"$f":"IF($J308=\"\",\"\",Datatable_t!G308/2)","v":""},null,null,{"$f":"IF(J308=\"\",\"\",IF(AND(Datatable_t!X308>15,Datatable_t!X308<30),2,IF(OR(Datatable_t!X308>30,Datatable_t!X308<-10),3,1)))","v":""},{"$f":"IF(Datatable_t!A308=\"\",\"\",Datatable_t!A308)","v":""}]
[{"$f":"IF($J309=\"\",\"\",Datatable_t!H309)","v":""},{"$f":"IF($J309=\"\",\"\",Datatable_t!I309/2)","v":""},{"$f":"IF($J309=\"\",\"\",Datatable_t!J309)","v":""},{"$f":"IF($J309=\"\",\"\",Datatable_t!K309/2)","v":""},{"$f":"IF($J309=\"\",\"\",Datatable_t!F309)","v":""},{"$f":"IF($J309=\"\",\"\",Datatable_t!G309/2)","v":""},null,null,{"$f":"IF(J309=\"\",\"\",IF(AND(Datatable_t!X309>15,Datatable_t!X309<30),2,IF(OR(Datatable_t!X309>30,Datatable_t!X309<-10),3,1)))","v":""},{"$f":"IF(Datatable_t!A309=\"\",\"\",Datatable_t!A309)","v":""}]
[{"$f":"IF($J310=\"\",\"\",Datatable_t!H310)","v":""},{"$f":"IF($J310=\"\",\"\",Datatable_t!I310/2)","v":""},{"$f":"IF($J310=\"\",\"\",Datatable_t!J310)","v":""},{"$f":"IF($J310=\"\",\"\",Datatable_t!K310/2)","v":""},{"$f":"IF($J310=\"\",\"\",Datatable_t!F310)","v":""},{"$f":"IF($J310=\"\",\"\",Datatable_t!G310/2)","v":""},null,null,{"$f":"IF(J310=\"\",\"\",IF(AND(Datatable_t!X310>15,Datatable_t!X310<30),2,IF(OR(Datatable_t!X310>30,Datatable_t!X310<-10),3,1)))","v":""},{"$f":"IF(Datatable_t!A310=\"\",\"\",Datatable_t!A310)","v":""}]
[{"$f":"IF($J311=\"\",\"\",Datatable_t!H311)","v":""},{"$f":"IF($J311=\"\",\"\",Datatable_t!I311/2)","v":""},{"$f":"IF($J311=\"\",\"\",Datatable_t!J311)","v":""},{"$f":"IF($J311=\"\",\"\",Datatable_t!K311/2)","v":""},{"$f":"IF($J311=\"\",\"\",Datatable_t!F311)","v":""},{"$f":"IF($J311=\"\",\"\",Datatable_t!G311/2)","v":""},null,null,{"$f":"IF(J311=\"\",\"\",IF(AND(Datatable_t!X311>15,Datatable_t!X311<30),2,IF(OR(Datatable_t!X311>30,Datatable_t!X311<-10),3,1)))","v":""},{"$f":"IF(Datatable_t!A311=\"\",\"\",Datatable_t!A311)","v":""}]
[{"$f":"IF($J312=\"\",\"\",Datatable_t!H312)","v":""},{"$f":"IF($J312=\"\",\"\",Datatable_t!I312/2)","v":""},{"$f":"IF($J312=\"\",\"\",Datatable_t!J312)","v":""},{"$f":"IF($J312=\"\",\"\",Datatable_t!K312/2)","v":""},{"$f":"IF($J312=\"\",\"\",Datatable_t!F312)","v":""},{"$f":"IF($J312=\"\",\"\",Datatable_t!G312/2)","v":""},null,null,{"$f":"IF(J312=\"\",\"\",IF(AND(Datatable_t!X312>15,Datatable_t!X312<30),2,IF(OR(Datatable_t!X312>30,Datatable_t!X312<-10),3,1)))","v":""},{"$f":"IF(Datatable_t!A312=\"\",\"\",Datatable_t!A312)","v":""}]
[{"$f":"IF($J313=\"\",\"\",Datatable_t!H313)","v":""},{"$f":"IF($J313=\"\",\"\",Datatable_t!I313/2)","v":""},{"$f":"IF($J313=\"\",\"\",Datatable_t!J313)","v":""},{"$f":"IF($J313=\"\",\"\",Datatable_t!K313/2)","v":""},{"$f":"IF($J313=\"\",\"\",Datatable_t!F313)","v":""},{"$f":"IF($J313=\"\",\"\",Datatable_t!G313/2)","v":""},null,null,{"$f":"IF(J313=\"\",\"\",IF(AND(Datatable_t!X313>15,Datatable_t!X313<30),2,IF(OR(Datatable_t!X313>30,Datatable_t!X313<-10),3,1)))","v":""},{"$f":"IF(Datatable_t!A313=\"\",\"\",Datatable_t!A313)","v":""}]
[{"$f":"IF($J314=\"\",\"\",Datatable_t!H314)","v":""},{"$f":"IF($J314=\"\",\"\",Datatable_t!I314/2)","v":""},{"$f":"IF($J314=\"\",\"\",Datatable_t!J314)","v":""},{"$f":"IF($J314=\"\",\"\",Datatable_t!K314/2)","v":""},{"$f":"IF($J314=\"\",\"\",Datatable_t!F314)","v":""},{"$f":"IF($J314=\"\",\"\",Datatable_t!G314/2)","v":""},null,null,{"$f":"IF(J314=\"\",\"\",IF(AND(Datatable_t!X314>15,Datatable_t!X314<30),2,IF(OR(Datatable_t!X314>30,Datatable_t!X314<-10),3,1)))","v":""},{"$f":"IF(Datatable_t!A314=\"\",\"\",Datatable_t!A314)","v":""}]
[{"$f":"IF($J315=\"\",\"\",Datatable_t!H315)","v":""},{"$f":"IF($J315=\"\",\"\",Datatable_t!I315/2)","v":""},{"$f":"IF($J315=\"\",\"\",Datatable_t!J315)","v":""},{"$f":"IF($J315=\"\",\"\",Datatable_t!K315/2)","v":""},{"$f":"IF($J315=\"\",\"\",Datatable_t!F315)","v":""},{"$f":"IF($J315=\"\",\"\",Datatable_t!G315/2)","v":""},null,null,{"$f":"IF(J315=\"\",\"\",IF(AND(Datatable_t!X315>15,Datatable_t!X315<30),2,IF(OR(Datatable_t!X315>30,Datatable_t!X315<-10),3,1)))","v":""},{"$f":"IF(Datatable_t!A315=\"\",\"\",Datatable_t!A315)","v":""}]
[{"$f":"IF($J316=\"\",\"\",Datatable_t!H316)","v":""},{"$f":"IF($J316=\"\",\"\",Datatable_t!I316/2)","v":""},{"$f":"IF($J316=\"\",\"\",Datatable_t!J316)","v":""},{"$f":"IF($J316=\"\",\"\",Datatable_t!K316/2)","v":""},{"$f":"IF($J316=\"\",\"\",Datatable_t!F316)","v":""},{"$f":"IF($J316=\"\",\"\",Datatable_t!G316/2)","v":""},null,null,{"$f":"IF(J316=\"\",\"\",IF(AND(Datatable_t!X316>15,Datatable_t!X316<30),2,IF(OR(Datatable_t!X316>30,Datatable_t!X316<-10),3,1)))","v":""},{"$f":"IF(Datatable_t!A316=\"\",\"\",Datatable_t!A316)","v":""}]
[{"$f":"IF($J317=\"\",\"\",Datatable_t!H317)","v":""},{"$f":"IF($J317=\"\",\"\",Datatable_t!I317/2)","v":""},{"$f":"IF($J317=\"\",\"\",Datatable_t!J317)","v":""},{"$f":"IF($J317=\"\",\"\",Datatable_t!K317/2)","v":""},{"$f":"IF($J317=\"\",\"\",Datatable_t!F317)","v":""},{"$f":"IF($J317=\"\",\"\",Datatable_t!G317/2)","v":""},null,null,{"$f":"IF(J317=\"\",\"\",IF(AND(Datatable_t!X317>15,Datatable_t!X317<30),2,IF(OR(Datatable_t!X317>30,Datatable_t!X317<-10),3,1)))","v":""},{"$f":"IF(Datatable_t!A317=\"\",\"\",Datatable_t!A317)","v":""}]
[{"$f":"IF($J318=\"\",\"\",Datatable_t!H318)","v":""},{"$f":"IF($J318=\"\",\"\",Datatable_t!I318/2)","v":""},{"$f":"IF($J318=\"\",\"\",Datatable_t!J318)","v":""},{"$f":"IF($J318=\"\",\"\",Datatable_t!K318/2)","v":""},{"$f":"IF($J318=\"\",\"\",Datatable_t!F318)","v":""},{"$f":"IF($J318=\"\",\"\",Datatable_t!G318/2)","v":""},null,null,{"$f":"IF(J318=\"\",\"\",IF(AND(Datatable_t!X318>15,Datatable_t!X318<30),2,IF(OR(Datatable_t!X318>30,Datatable_t!X318<-10),3,1)))","v":""},{"$f":"IF(Datatable_t!A318=\"\",\"\",Datatable_t!A318)","v":""}]
[{"$f":"IF($J319=\"\",\"\",Datatable_t!H319)","v":""},{"$f":"IF($J319=\"\",\"\",Datatable_t!I319/2)","v":""},{"$f":"IF($J319=\"\",\"\",Datatable_t!J319)","v":""},{"$f":"IF($J319=\"\",\"\",Datatable_t!K319/2)","v":""},{"$f":"IF($J319=\"\",\"\",Datatable_t!F319)","v":""},{"$f":"IF($J319=\"\",\"\",Datatable_t!G319/2)","v":""},null,null,{"$f":"IF(J319=\"\",\"\",IF(AND(Datatable_t!X319>15,Datatable_t!X319<30),2,IF(OR(Datatable_t!X319>30,Datatable_t!X319<-10),3,1)))","v":""},{"$f":"IF(Datatable_t!A319=\"\",\"\",Datatable_t!A319)","v":""}]
[{"$f":"IF($J320=\"\",\"\",Datatable_t!H320)","v":""},{"$f":"IF($J320=\"\",\"\",Datatable_t!I320/2)","v":""},{"$f":"IF($J320=\"\",\"\",Datatable_t!J320)","v":""},{"$f":"IF($J320=\"\",\"\",Datatable_t!K320/2)","v":""},{"$f":"IF($J320=\"\",\"\",Datatable_t!F320)","v":""},{"$f":"IF($J320=\"\",\"\",Datatable_t!G320/2)","v":""},null,null,{"$f":"IF(J320=\"\",\"\",IF(AND(Datatable_t!X320>15,Datatable_t!X320<30),2,IF(OR(Datatable_t!X320>30,Datatable_t!X320<-10),3,1)))","v":""},{"$f":"IF(Datatable_t!A320=\"\",\"\",Datatable_t!A320)","v":""}]
[{"$f":"IF($J321=\"\",\"\",Datatable_t!H321)","v":""},{"$f":"IF($J321=\"\",\"\",Datatable_t!I321/2)","v":""},{"$f":"IF($J321=\"\",\"\",Datatable_t!J321)","v":""},{"$f":"IF($J321=\"\",\"\",Datatable_t!K321/2)","v":""},{"$f":"IF($J321=\"\",\"\",Datatable_t!F321)","v":""},{"$f":"IF($J321=\"\",\"\",Datatable_t!G321/2)","v":""},null,null,{"$f":"IF(J321=\"\",\"\",IF(AND(Datatable_t!X321>15,Datatable_t!X321<30),2,IF(OR(Datatable_t!X321>30,Datatable_t!X321<-10),3,1)))","v":""},{"$f":"IF(Datatable_t!A321=\"\",\"\",Datatable_t!A321)","v":""}]
[{"$f":"IF($J322=\"\",\"\",Datatable_t!H322)","v":""},{"$f":"IF($J322=\"\",\"\",Datatable_t!I322/2)","v":""},{"$f":"IF($J322=\"\",\"\",Datatable_t!J322)","v":""},{"$f":"IF($J322=\"\",\"\",Datatable_t!K322/2)","v":""},{"$f":"IF($J322=\"\",\"\",Datatable_t!F322)","v":""},{"$f":"IF($J322=\"\",\"\",Datatable_t!G322/2)","v":""},null,null,{"$f":"IF(J322=\"\",\"\",IF(AND(Datatable_t!X322>15,Datatable_t!X322<30),2,IF(OR(Datatable_t!X322>30,Datatable_t!X322<-10),3,1)))","v":""},{"$f":"IF(Datatable_t!A322=\"\",\"\",Datatable_t!A322)","v":""}]
[{"$f":"IF($J323=\"\",\"\",Datatable_t!H323)","v":""},{"$f":"IF($J323=\"\",\"\",Datatable_t!I323/2)","v":""},{"$f":"IF($J323=\"\",\"\",Datatable_t!J323)","v":""},{"$f":"IF($J323=\"\",\"\",Datatable_t!K323/2)","v":""},{"$f":"IF($J323=\"\",\"\",Datatable_t!F323)","v":""},{"$f":"IF($J323=\"\",\"\",Datatable_t!G323/2)","v":""},null,null,{"$f":"IF(J323=\"\",\"\",IF(AND(Datatable_t!X323>15,Datatable_t!X323<30),2,IF(OR(Datatable_t!X323>30,Datatable_t!X323<-10),3,1)))","v":""},{"$f":"IF(Datatable_t!A323=\"\",\"\",Datatable_t!A323)","v":""}]
[{"$f":"IF($J324=\"\",\"\",Datatable_t!H324)","v":""},{"$f":"IF($J324=\"\",\"\",Datatable_t!I324/2)","v":""},{"$f":"IF($J324=\"\",\"\",Datatable_t!J324)","v":""},{"$f":"IF($J324=\"\",\"\",Datatable_t!K324/2)","v":""},{"$f":"IF($J324=\"\",\"\",Datatable_t!F324)","v":""},{"$f":"IF($J324=\"\",\"\",Datatable_t!G324/2)","v":""},null,null,{"$f":"IF(J324=\"\",\"\",IF(AND(Datatable_t!X324>15,Datatable_t!X324<30),2,IF(OR(Datatable_t!X324>30,Datatable_t!X324<-10),3,1)))","v":""},{"$f":"IF(Datatable_t!A324=\"\",\"\",Datatable_t!A324)","v":""}]
[{"$f":"IF($J325=\"\",\"\",Datatable_t!H325)","v":""},{"$f":"IF($J325=\"\",\"\",Datatable_t!I325/2)","v":""},{"$f":"IF($J325=\"\",\"\",Datatable_t!J325)","v":""},{"$f":"IF($J325=\"\",\"\",Datatable_t!K325/2)","v":""},{"$f":"IF($J325=\"\",\"\",Datatable_t!F325)","v":""},{"$f":"IF($J325=\"\",\"\",Datatable_t!G325/2)","v":""},null,null,{"$f":"IF(J325=\"\",\"\",IF(AND(Datatable_t!X325>15,Datatable_t!X325<30),2,IF(OR(Datatable_t!X325>30,Datatable_t!X325<-10),3,1)))","v":""},{"$f":"IF(Datatable_t!A325=\"\",\"\",Datatable_t!A325)","v":""}]
[{"$f":"IF($J326=\"\",\"\",Datatable_t!H326)","v":""},{"$f":"IF($J326=\"\",\"\",Datatable_t!I326/2)","v":""},{"$f":"IF($J326=\"\",\"\",Datatable_t!J326)","v":""},{"$f":"IF($J326=\"\",\"\",Datatable_t!K326/2)","v":""},{"$f":"IF($J326=\"\",\"\",Datatable_t!F326)","v":""},{"$f":"IF($J326=\"\",\"\",Datatable_t!G326/2)","v":""},null,null,{"$f":"IF(J326=\"\",\"\",IF(AND(Datatable_t!X326>15,Datatable_t!X326<30),2,IF(OR(Datatable_t!X326>30,Datatable_t!X326<-10),3,1)))","v":""},{"$f":"IF(Datatable_t!A326=\"\",\"\",Datatable_t!A326)","v":""}]
[{"$f":"IF($J327=\"\",\"\",Datatable_t!H327)","v":""},{"$f":"IF($J327=\"\",\"\",Datatable_t!I327/2)","v":""},{"$f":"IF($J327=\"\",\"\",Datatable_t!J327)","v":""},{"$f":"IF($J327=\"\",\"\",Datatable_t!K327/2)","v":""},{"$f":"IF($J327=\"\",\"\",Datatable_t!F327)","v":""},{"$f":"IF($J327=\"\",\"\",Datatable_t!G327/2)","v":""},null,null,{"$f":"IF(J327=\"\",\"\",IF(AND(Datatable_t!X327>15,Datatable_t!X327<30),2,IF(OR(Datatable_t!X327>30,Datatable_t!X327<-10),3,1)))","v":""},{"$f":"IF(Datatable_t!A327=\"\",\"\",Datatable_t!A327)","v":""}]
[{"$f":"IF($J328=\"\",\"\",Datatable_t!H328)","v":""},{"$f":"IF($J328=\"\",\"\",Datatable_t!I328/2)","v":""},{"$f":"IF($J328=\"\",\"\",Datatable_t!J328)","v":""},{"$f":"IF($J328=\"\",\"\",Datatable_t!K328/2)","v":""},{"$f":"IF($J328=\"\",\"\",Datatable_t!F328)","v":""},{"$f":"IF($J328=\"\",\"\",Datatable_t!G328/2)","v":""},null,null,{"$f":"IF(J328=\"\",\"\",IF(AND(Datatable_t!X328>15,Datatable_t!X328<30),2,IF(OR(Datatable_t!X328>30,Datatable_t!X328<-10),3,1)))","v":""},{"$f":"IF(Datatable_t!A328=\"\",\"\",Datatable_t!A328)","v":""}]
[{"$f":"IF($J329=\"\",\"\",Datatable_t!H329)","v":""},{"$f":"IF($J329=\"\",\"\",Datatable_t!I329/2)","v":""},{"$f":"IF($J329=\"\",\"\",Datatable_t!J329)","v":""},{"$f":"IF($J329=\"\",\"\",Datatable_t!K329/2)","v":""},{"$f":"IF($J329=\"\",\"\",Datatable_t!F329)","v":""},{"$f":"IF($J329=\"\",\"\",Datatable_t!G329/2)","v":""},null,null,{"$f":"IF(J329=\"\",\"\",IF(AND(Datatable_t!X329>15,Datatable_t!X329<30),2,IF(OR(Datatable_t!X329>30,Datatable_t!X329<-10),3,1)))","v":""},{"$f":"IF(Datatable_t!A329=\"\",\"\",Datatable_t!A329)","v":""}]
[{"$f":"IF($J330=\"\",\"\",Datatable_t!H330)","v":""},{"$f":"IF($J330=\"\",\"\",Datatable_t!I330/2)","v":""},{"$f":"IF($J330=\"\",\"\",Datatable_t!J330)","v":""},{"$f":"IF($J330=\"\",\"\",Datatable_t!K330/2)","v":""},{"$f":"IF($J330=\"\",\"\",Datatable_t!F330)","v":""},{"$f":"IF($J330=\"\",\"\",Datatable_t!G330/2)","v":""},null,null,{"$f":"IF(J330=\"\",\"\",IF(AND(Datatable_t!X330>15,Datatable_t!X330<30),2,IF(OR(Datatable_t!X330>30,Datatable_t!X330<-10),3,1)))","v":""},{"$f":"IF(Datatable_t!A330=\"\",\"\",Datatable_t!A330)","v":""}]
[{"$f":"IF($J331=\"\",\"\",Datatable_t!H331)","v":""},{"$f":"IF($J331=\"\",\"\",Datatable_t!I331/2)","v":""},{"$f":"IF($J331=\"\",\"\",Datatable_t!J331)","v":""},{"$f":"IF($J331=\"\",\"\",Datatable_t!K331/2)","v":""},{"$f":"IF($J331=\"\",\"\",Datatable_t!F331)","v":""},{"$f":"IF($J331=\"\",\"\",Datatable_t!G331/2)","v":""},null,null,{"$f":"IF(J331=\"\",\"\",IF(AND(Datatable_t!X331>15,Datatable_t!X331<30),2,IF(OR(Datatable_t!X331>30,Datatable_t!X331<-10),3,1)))","v":""},{"$f":"IF(Datatable_t!A331=\"\",\"\",Datatable_t!A331)","v":""}]
[{"$f":"IF($J332=\"\",\"\",Datatable_t!H332)","v":""},{"$f":"IF($J332=\"\",\"\",Datatable_t!I332/2)","v":""},{"$f":"IF($J332=\"\",\"\",Datatable_t!J332)","v":""},{"$f":"IF($J332=\"\",\"\",Datatable_t!K332/2)","v":""},{"$f":"IF($J332=\"\",\"\",Datatable_t!F332)","v":""},{"$f":"IF($J332=\"\",\"\",Datatable_t!G332/2)","v":""},null,null,{"$f":"IF(J332=\"\",\"\",IF(AND(Datatable_t!X332>15,Datatable_t!X332<30),2,IF(OR(Datatable_t!X332>30,Datatable_t!X332<-10),3,1)))","v":""},{"$f":"IF(Datatable_t!A332=\"\",\"\",Datatable_t!A332)","v":""}]
[{"$f":"IF($J333=\"\",\"\",Datatable_t!H333)","v":""},{"$f":"IF($J333=\"\",\"\",Datatable_t!I333/2)","v":""},{"$f":"IF($J333=\"\",\"\",Datatable_t!J333)","v":""},{"$f":"IF($J333=\"\",\"\",Datatable_t!K333/2)","v":""},{"$f":"IF($J333=\"\",\"\",Datatable_t!F333)","v":""},{"$f":"IF($J333=\"\",\"\",Datatable_t!G333/2)","v":""},null,null,{"$f":"IF(J333=\"\",\"\",IF(AND(Datatable_t!X333>15,Datatable_t!X333<30),2,IF(OR(Datatable_t!X333>30,Datatable_t!X333<-10),3,1)))","v":""},{"$f":"IF(Datatable_t!A333=\"\",\"\",Datatable_t!A333)","v":""}]
[{"$f":"IF($J334=\"\",\"\",Datatable_t!H334)","v":""},{"$f":"IF($J334=\"\",\"\",Datatable_t!I334/2)","v":""},{"$f":"IF($J334=\"\",\"\",Datatable_t!J334)","v":""},{"$f":"IF($J334=\"\",\"\",Datatable_t!K334/2)","v":""},{"$f":"IF($J334=\"\",\"\",Datatable_t!F334)","v":""},{"$f":"IF($J334=\"\",\"\",Datatable_t!G334/2)","v":""},null,null,{"$f":"IF(J334=\"\",\"\",IF(AND(Datatable_t!X334>15,Datatable_t!X334<30),2,IF(OR(Datatable_t!X334>30,Datatable_t!X334<-10),3,1)))","v":""},{"$f":"IF(Datatable_t!A334=\"\",\"\",Datatable_t!A334)","v":""}]
[{"$f":"IF($J335=\"\",\"\",Datatable_t!H335)","v":""},{"$f":"IF($J335=\"\",\"\",Datatable_t!I335/2)","v":""},{"$f":"IF($J335=\"\",\"\",Datatable_t!J335)","v":""},{"$f":"IF($J335=\"\",\"\",Datatable_t!K335/2)","v":""},{"$f":"IF($J335=\"\",\"\",Datatable_t!F335)","v":""},{"$f":"IF($J335=\"\",\"\",Datatable_t!G335/2)","v":""},null,null,{"$f":"IF(J335=\"\",\"\",IF(AND(Datatable_t!X335>15,Datatable_t!X335<30),2,IF(OR(Datatable_t!X335>30,Datatable_t!X335<-10),3,1)))","v":""},{"$f":"IF(Datatable_t!A335=\"\",\"\",Datatable_t!A335)","v":""}]
[{"$f":"IF($J336=\"\",\"\",Datatable_t!H336)","v":""},{"$f":"IF($J336=\"\",\"\",Datatable_t!I336/2)","v":""},{"$f":"IF($J336=\"\",\"\",Datatable_t!J336)","v":""},{"$f":"IF($J336=\"\",\"\",Datatable_t!K336/2)","v":""},{"$f":"IF($J336=\"\",\"\",Datatable_t!F336)","v":""},{"$f":"IF($J336=\"\",\"\",Datatable_t!G336/2)","v":""},null,null,{"$f":"IF(J336=\"\",\"\",IF(AND(Datatable_t!X336>15,Datatable_t!X336<30),2,IF(OR(Datatable_t!X336>30,Datatable_t!X336<-10),3,1)))","v":""},{"$f":"IF(Datatable_t!A336=\"\",\"\",Datatable_t!A336)","v":""}]
[{"$f":"IF($J337=\"\",\"\",Datatable_t!H337)","v":""},{"$f":"IF($J337=\"\",\"\",Datatable_t!I337/2)","v":""},{"$f":"IF($J337=\"\",\"\",Datatable_t!J337)","v":""},{"$f":"IF($J337=\"\",\"\",Datatable_t!K337/2)","v":""},{"$f":"IF($J337=\"\",\"\",Datatable_t!F337)","v":""},{"$f":"IF($J337=\"\",\"\",Datatable_t!G337/2)","v":""},null,null,{"$f":"IF(J337=\"\",\"\",IF(AND(Datatable_t!X337>15,Datatable_t!X337<30),2,IF(OR(Datatable_t!X337>30,Datatable_t!X337<-10),3,1)))","v":""},{"$f":"IF(Datatable_t!A337=\"\",\"\",Datatable_t!A337)","v":""}]
[{"$f":"IF($J338=\"\",\"\",Datatable_t!H338)","v":""},{"$f":"IF($J338=\"\",\"\",Datatable_t!I338/2)","v":""},{"$f":"IF($J338=\"\",\"\",Datatable_t!J338)","v":""},{"$f":"IF($J338=\"\",\"\",Datatable_t!K338/2)","v":""},{"$f":"IF($J338=\"\",\"\",Datatable_t!F338)","v":""},{"$f":"IF($J338=\"\",\"\",Datatable_t!G338/2)","v":""},null,null,{"$f":"IF(J338=\"\",\"\",IF(AND(Datatable_t!X338>15,Datatable_t!X338<30),2,IF(OR(Datatable_t!X338>30,Datatable_t!X338<-10),3,1)))","v":""},{"$f":"IF(Datatable_t!A338=\"\",\"\",Datatable_t!A338)","v":""}]
[{"$f":"IF($J339=\"\",\"\",Datatable_t!H339)","v":""},{"$f":"IF($J339=\"\",\"\",Datatable_t!I339/2)","v":""},{"$f":"IF($J339=\"\",\"\",Datatable_t!J339)","v":""},{"$f":"IF($J339=\"\",\"\",Datatable_t!K339/2)","v":""},{"$f":"IF($J339=\"\",\"\",Datatable_t!F339)","v":""},{"$f":"IF($J339=\"\",\"\",Datatable_t!G339/2)","v":""},null,null,{"$f":"IF(J339=\"\",\"\",IF(AND(Datatable_t!X339>15,Datatable_t!X339<30),2,IF(OR(Datatable_t!X339>30,Datatable_t!X339<-10),3,1)))","v":""},{"$f":"IF(Datatable_t!A339=\"\",\"\",Datatable_t!A339)","v":""}]
[{"$f":"IF($J340=\"\",\"\",Datatable_t!H340)","v":""},{"$f":"IF($J340=\"\",\"\",Datatable_t!I340/2)","v":""},{"$f":"IF($J340=\"\",\"\",Datatable_t!J340)","v":""},{"$f":"IF($J340=\"\",\"\",Datatable_t!K340/2)","v":""},{"$f":"IF($J340=\"\",\"\",Datatable_t!F340)","v":""},{"$f":"IF($J340=\"\",\"\",Datatable_t!G340/2)","v":""},null,null,{"$f":"IF(J340=\"\",\"\",IF(AND(Datatable_t!X340>15,Datatable_t!X340<30),2,IF(OR(Datatable_t!X340>30,Datatable_t!X340<-10),3,1)))","v":""},{"$f":"IF(Datatable_t!A340=\"\",\"\",Datatable_t!A340)","v":""}]
[{"$f":"IF($J341=\"\",\"\",Datatable_t!H341)","v":""},{"$f":"IF($J341=\"\",\"\",Datatable_t!I341/2)","v":""},{"$f":"IF($J341=\"\",\"\",Datatable_t!J341)","v":""},{"$f":"IF($J341=\"\",\"\",Datatable_t!K341/2)","v":""},{"$f":"IF($J341=\"\",\"\",Datatable_t!F341)","v":""},{"$f":"IF($J341=\"\",\"\",Datatable_t!G341/2)","v":""},null,null,{"$f":"IF(J341=\"\",\"\",IF(AND(Datatable_t!X341>15,Datatable_t!X341<30),2,IF(OR(Datatable_t!X341>30,Datatable_t!X341<-10),3,1)))","v":""},{"$f":"IF(Datatable_t!A341=\"\",\"\",Datatable_t!A341)","v":""}]
[{"$f":"IF($J342=\"\",\"\",Datatable_t!H342)","v":""},{"$f":"IF($J342=\"\",\"\",Datatable_t!I342/2)","v":""},{"$f":"IF($J342=\"\",\"\",Datatable_t!J342)","v":""},{"$f":"IF($J342=\"\",\"\",Datatable_t!K342/2)","v":""},{"$f":"IF($J342=\"\",\"\",Datatable_t!F342)","v":""},{"$f":"IF($J342=\"\",\"\",Datatable_t!G342/2)","v":""},null,null,{"$f":"IF(J342=\"\",\"\",IF(AND(Datatable_t!X342>15,Datatable_t!X342<30),2,IF(OR(Datatable_t!X342>30,Datatable_t!X342<-10),3,1)))","v":""},{"$f":"IF(Datatable_t!A342=\"\",\"\",Datatable_t!A342)","v":""}]
[{"$f":"IF($J343=\"\",\"\",Datatable_t!H343)","v":""},{"$f":"IF($J343=\"\",\"\",Datatable_t!I343/2)","v":""},{"$f":"IF($J343=\"\",\"\",Datatable_t!J343)","v":""},{"$f":"IF($J343=\"\",\"\",Datatable_t!K343/2)","v":""},{"$f":"IF($J343=\"\",\"\",Datatable_t!F343)","v":""},{"$f":"IF($J343=\"\",\"\",Datatable_t!G343/2)","v":""},null,null,{"$f":"IF(J343=\"\",\"\",IF(AND(Datatable_t!X343>15,Datatable_t!X343<30),2,IF(OR(Datatable_t!X343>30,Datatable_t!X343<-10),3,1)))","v":""},{"$f":"IF(Datatable_t!A343=\"\",\"\",Datatable_t!A343)","v":""}]
[{"$f":"IF($J344=\"\",\"\",Datatable_t!H344)","v":""},{"$f":"IF($J344=\"\",\"\",Datatable_t!I344/2)","v":""},{"$f":"IF($J344=\"\",\"\",Datatable_t!J344)","v":""},{"$f":"IF($J344=\"\",\"\",Datatable_t!K344/2)","v":""},{"$f":"IF($J344=\"\",\"\",Datatable_t!F344)","v":""},{"$f":"IF($J344=\"\",\"\",Datatable_t!G344/2)","v":""},null,null,{"$f":"IF(J344=\"\",\"\",IF(AND(Datatable_t!X344>15,Datatable_t!X344<30),2,IF(OR(Datatable_t!X344>30,Datatable_t!X344<-10),3,1)))","v":""},{"$f":"IF(Datatable_t!A344=\"\",\"\",Datatable_t!A344)","v":""}]
[{"$f":"IF($J345=\"\",\"\",Datatable_t!H345)","v":""},{"$f":"IF($J345=\"\",\"\",Datatable_t!I345/2)","v":""},{"$f":"IF($J345=\"\",\"\",Datatable_t!J345)","v":""},{"$f":"IF($J345=\"\",\"\",Datatable_t!K345/2)","v":""},{"$f":"IF($J345=\"\",\"\",Datatable_t!F345)","v":""},{"$f":"IF($J345=\"\",\"\",Datatable_t!G345/2)","v":""},null,null,{"$f":"IF(J345=\"\",\"\",IF(AND(Datatable_t!X345>15,Datatable_t!X345<30),2,IF(OR(Datatable_t!X345>30,Datatable_t!X345<-10),3,1)))","v":""},{"$f":"IF(Datatable_t!A345=\"\",\"\",Datatable_t!A345)","v":""}]
[{"$f":"IF($J346=\"\",\"\",Datatable_t!H346)","v":""},{"$f":"IF($J346=\"\",\"\",Datatable_t!I346/2)","v":""},{"$f":"IF($J346=\"\",\"\",Datatable_t!J346)","v":""},{"$f":"IF($J346=\"\",\"\",Datatable_t!K346/2)","v":""},{"$f":"IF($J346=\"\",\"\",Datatable_t!F346)","v":""},{"$f":"IF($J346=\"\",\"\",Datatable_t!G346/2)","v":""},null,null,{"$f":"IF(J346=\"\",\"\",IF(AND(Datatable_t!X346>15,Datatable_t!X346<30),2,IF(OR(Datatable_t!X346>30,Datatable_t!X346<-10),3,1)))","v":""},{"$f":"IF(Datatable_t!A346=\"\",\"\",Datatable_t!A346)","v":""}]
[{"$f":"IF($J347=\"\",\"\",Datatable_t!H347)","v":""},{"$f":"IF($J347=\"\",\"\",Datatable_t!I347/2)","v":""},{"$f":"IF($J347=\"\",\"\",Datatable_t!J347)","v":""},{"$f":"IF($J347=\"\",\"\",Datatable_t!K347/2)","v":""},{"$f":"IF($J347=\"\",\"\",Datatable_t!F347)","v":""},{"$f":"IF($J347=\"\",\"\",Datatable_t!G347/2)","v":""},null,null,{"$f":"IF(J347=\"\",\"\",IF(AND(Datatable_t!X347>15,Datatable_t!X347<30),2,IF(OR(Datatable_t!X347>30,Datatable_t!X347<-10),3,1)))","v":""},{"$f":"IF(Datatable_t!A347=\"\",\"\",Datatable_t!A347)","v":""}]
[{"$f":"IF($J348=\"\",\"\",Datatable_t!H348)","v":""},{"$f":"IF($J348=\"\",\"\",Datatable_t!I348/2)","v":""},{"$f":"IF($J348=\"\",\"\",Datatable_t!J348)","v":""},{"$f":"IF($J348=\"\",\"\",Datatable_t!K348/2)","v":""},{"$f":"IF($J348=\"\",\"\",Datatable_t!F348)","v":""},{"$f":"IF($J348=\"\",\"\",Datatable_t!G348/2)","v":""},null,null,{"$f":"IF(J348=\"\",\"\",IF(AND(Datatable_t!X348>15,Datatable_t!X348<30),2,IF(OR(Datatable_t!X348>30,Datatable_t!X348<-10),3,1)))","v":""},{"$f":"IF(Datatable_t!A348=\"\",\"\",Datatable_t!A348)","v":""}]
[{"$f":"IF($J349=\"\",\"\",Datatable_t!H349)","v":""},{"$f":"IF($J349=\"\",\"\",Datatable_t!I349/2)","v":""},{"$f":"IF($J349=\"\",\"\",Datatable_t!J349)","v":""},{"$f":"IF($J349=\"\",\"\",Datatable_t!K349/2)","v":""},{"$f":"IF($J349=\"\",\"\",Datatable_t!F349)","v":""},{"$f":"IF($J349=\"\",\"\",Datatable_t!G349/2)","v":""},null,null,{"$f":"IF(J349=\"\",\"\",IF(AND(Datatable_t!X349>15,Datatable_t!X349<30),2,IF(OR(Datatable_t!X349>30,Datatable_t!X349<-10),3,1)))","v":""},{"$f":"IF(Datatable_t!A349=\"\",\"\",Datatable_t!A349)","v":""}]
[{"$f":"IF($J350=\"\",\"\",Datatable_t!H350)","v":""},{"$f":"IF($J350=\"\",\"\",Datatable_t!I350/2)","v":""},{"$f":"IF($J350=\"\",\"\",Datatable_t!J350)","v":""},{"$f":"IF($J350=\"\",\"\",Datatable_t!K350/2)","v":""},{"$f":"IF($J350=\"\",\"\",Datatable_t!F350)","v":""},{"$f":"IF($J350=\"\",\"\",Datatable_t!G350/2)","v":""},null,null,{"$f":"IF(J350=\"\",\"\",IF(AND(Datatable_t!X350>15,Datatable_t!X350<30),2,IF(OR(Datatable_t!X350>30,Datatable_t!X350<-10),3,1)))","v":""},{"$f":"IF(Datatable_t!A350=\"\",\"\",Datatable_t!A350)","v":""}]
[{"$f":"IF($J351=\"\",\"\",Datatable_t!H351)","v":""},{"$f":"IF($J351=\"\",\"\",Datatable_t!I351/2)","v":""},{"$f":"IF($J351=\"\",\"\",Datatable_t!J351)","v":""},{"$f":"IF($J351=\"\",\"\",Datatable_t!K351/2)","v":""},{"$f":"IF($J351=\"\",\"\",Datatable_t!F351)","v":""},{"$f":"IF($J351=\"\",\"\",Datatable_t!G351/2)","v":""},null,null,{"$f":"IF(J351=\"\",\"\",IF(AND(Datatable_t!X351>15,Datatable_t!X351<30),2,IF(OR(Datatable_t!X351>30,Datatable_t!X351<-10),3,1)))","v":""},{"$f":"IF(Datatable_t!A351=\"\",\"\",Datatable_t!A351)","v":""}]
[{"$f":"IF($J352=\"\",\"\",Datatable_t!H352)","v":""},{"$f":"IF($J352=\"\",\"\",Datatable_t!I352/2)","v":""},{"$f":"IF($J352=\"\",\"\",Datatable_t!J352)","v":""},{"$f":"IF($J352=\"\",\"\",Datatable_t!K352/2)","v":""},{"$f":"IF($J352=\"\",\"\",Datatable_t!F352)","v":""},{"$f":"IF($J352=\"\",\"\",Datatable_t!G352/2)","v":""},null,null,{"$f":"IF(J352=\"\",\"\",IF(AND(Datatable_t!X352>15,Datatable_t!X352<30),2,IF(OR(Datatable_t!X352>30,Datatable_t!X352<-10),3,1)))","v":""},{"$f":"IF(Datatable_t!A352=\"\",\"\",Datatable_t!A352)","v":""}]
[{"$f":"IF($J353=\"\",\"\",Datatable_t!H353)","v":""},{"$f":"IF($J353=\"\",\"\",Datatable_t!I353/2)","v":""},{"$f":"IF($J353=\"\",\"\",Datatable_t!J353)","v":""},{"$f":"IF($J353=\"\",\"\",Datatable_t!K353/2)","v":""},{"$f":"IF($J353=\"\",\"\",Datatable_t!F353)","v":""},{"$f":"IF($J353=\"\",\"\",Datatable_t!G353/2)","v":""},null,null,{"$f":"IF(J353=\"\",\"\",IF(AND(Datatable_t!X353>15,Datatable_t!X353<30),2,IF(OR(Datatable_t!X353>30,Datatable_t!X353<-10),3,1)))","v":""},{"$f":"IF(Datatable_t!A353=\"\",\"\",Datatable_t!A353)","v":""}]
[{"$f":"IF($J354=\"\",\"\",Datatable_t!H354)","v":""},{"$f":"IF($J354=\"\",\"\",Datatable_t!I354/2)","v":""},{"$f":"IF($J354=\"\",\"\",Datatable_t!J354)","v":""},{"$f":"IF($J354=\"\",\"\",Datatable_t!K354/2)","v":""},{"$f":"IF($J354=\"\",\"\",Datatable_t!F354)","v":""},{"$f":"IF($J354=\"\",\"\",Datatable_t!G354/2)","v":""},null,null,{"$f":"IF(J354=\"\",\"\",IF(AND(Datatable_t!X354>15,Datatable_t!X354<30),2,IF(OR(Datatable_t!X354>30,Datatable_t!X354<-10),3,1)))","v":""},{"$f":"IF(Datatable_t!A354=\"\",\"\",Datatable_t!A354)","v":""}]
[{"$f":"IF($J355=\"\",\"\",Datatable_t!H355)","v":""},{"$f":"IF($J355=\"\",\"\",Datatable_t!I355/2)","v":""},{"$f":"IF($J355=\"\",\"\",Datatable_t!J355)","v":""},{"$f":"IF($J355=\"\",\"\",Datatable_t!K355/2)","v":""},{"$f":"IF($J355=\"\",\"\",Datatable_t!F355)","v":""},{"$f":"IF($J355=\"\",\"\",Datatable_t!G355/2)","v":""},null,null,{"$f":"IF(J355=\"\",\"\",IF(AND(Datatable_t!X355>15,Datatable_t!X355<30),2,IF(OR(Datatable_t!X355>30,Datatable_t!X355<-10),3,1)))","v":""},{"$f":"IF(Datatable_t!A355=\"\",\"\",Datatable_t!A355)","v":""}]
[{"$f":"IF($J356=\"\",\"\",Datatable_t!H356)","v":""},{"$f":"IF($J356=\"\",\"\",Datatable_t!I356/2)","v":""},{"$f":"IF($J356=\"\",\"\",Datatable_t!J356)","v":""},{"$f":"IF($J356=\"\",\"\",Datatable_t!K356/2)","v":""},{"$f":"IF($J356=\"\",\"\",Datatable_t!F356)","v":""},{"$f":"IF($J356=\"\",\"\",Datatable_t!G356/2)","v":""},null,null,{"$f":"IF(J356=\"\",\"\",IF(AND(Datatable_t!X356>15,Datatable_t!X356<30),2,IF(OR(Datatable_t!X356>30,Datatable_t!X356<-10),3,1)))","v":""},{"$f":"IF(Datatable_t!A356=\"\",\"\",Datatable_t!A356)","v":""}]
[{"$f":"IF($J357=\"\",\"\",Datatable_t!H357)","v":""},{"$f":"IF($J357=\"\",\"\",Datatable_t!I357/2)","v":""},{"$f":"IF($J357=\"\",\"\",Datatable_t!J357)","v":""},{"$f":"IF($J357=\"\",\"\",Datatable_t!K357/2)","v":""},{"$f":"IF($J357=\"\",\"\",Datatable_t!F357)","v":""},{"$f":"IF($J357=\"\",\"\",Datatable_t!G357/2)","v":""},null,null,{"$f":"IF(J357=\"\",\"\",IF(AND(Datatable_t!X357>15,Datatable_t!X357<30),2,IF(OR(Datatable_t!X357>30,Datatable_t!X357<-10),3,1)))","v":""},{"$f":"IF(Datatable_t!A357=\"\",\"\",Datatable_t!A357)","v":""}]
[{"$f":"IF($J358=\"\",\"\",Datatable_t!H358)","v":""},{"$f":"IF($J358=\"\",\"\",Datatable_t!I358/2)","v":""},{"$f":"IF($J358=\"\",\"\",Datatable_t!J358)","v":""},{"$f":"IF($J358=\"\",\"\",Datatable_t!K358/2)","v":""},{"$f":"IF($J358=\"\",\"\",Datatable_t!F358)","v":""},{"$f":"IF($J358=\"\",\"\",Datatable_t!G358/2)","v":""},null,null,{"$f":"IF(J358=\"\",\"\",IF(AND(Datatable_t!X358>15,Datatable_t!X358<30),2,IF(OR(Datatable_t!X358>30,Datatable_t!X358<-10),3,1)))","v":""},{"$f":"IF(Datatable_t!A358=\"\",\"\",Datatable_t!A358)","v":""}]
[{"$f":"IF($J359=\"\",\"\",Datatable_t!H359)","v":""},{"$f":"IF($J359=\"\",\"\",Datatable_t!I359/2)","v":""},{"$f":"IF($J359=\"\",\"\",Datatable_t!J359)","v":""},{"$f":"IF($J359=\"\",\"\",Datatable_t!K359/2)","v":""},{"$f":"IF($J359=\"\",\"\",Datatable_t!F359)","v":""},{"$f":"IF($J359=\"\",\"\",Datatable_t!G359/2)","v":""},null,null,{"$f":"IF(J359=\"\",\"\",IF(AND(Datatable_t!X359>15,Datatable_t!X359<30),2,IF(OR(Datatable_t!X359>30,Datatable_t!X359<-10),3,1)))","v":""},{"$f":"IF(Datatable_t!A359=\"\",\"\",Datatable_t!A359)","v":""}]
[{"$f":"IF($J360=\"\",\"\",Datatable_t!H360)","v":""},{"$f":"IF($J360=\"\",\"\",Datatable_t!I360/2)","v":""},{"$f":"IF($J360=\"\",\"\",Datatable_t!J360)","v":""},{"$f":"IF($J360=\"\",\"\",Datatable_t!K360/2)","v":""},{"$f":"IF($J360=\"\",\"\",Datatable_t!F360)","v":""},{"$f":"IF($J360=\"\",\"\",Datatable_t!G360/2)","v":""},null,null,{"$f":"IF(J360=\"\",\"\",IF(AND(Datatable_t!X360>15,Datatable_t!X360<30),2,IF(OR(Datatable_t!X360>30,Datatable_t!X360<-10),3,1)))","v":""},{"$f":"IF(Datatable_t!A360=\"\",\"\",Datatable_t!A360)","v":""}]
[{"$f":"IF($J361=\"\",\"\",Datatable_t!H361)","v":""},{"$f":"IF($J361=\"\",\"\",Datatable_t!I361/2)","v":""},{"$f":"IF($J361=\"\",\"\",Datatable_t!J361)","v":""},{"$f":"IF($J361=\"\",\"\",Datatable_t!K361/2)","v":""},{"$f":"IF($J361=\"\",\"\",Datatable_t!F361)","v":""},{"$f":"IF($J361=\"\",\"\",Datatable_t!G361/2)","v":""},null,null,{"$f":"IF(J361=\"\",\"\",IF(AND(Datatable_t!X361>15,Datatable_t!X361<30),2,IF(OR(Datatable_t!X361>30,Datatable_t!X361<-10),3,1)))","v":""},{"$f":"IF(Datatable_t!A361=\"\",\"\",Datatable_t!A361)","v":""}]
[{"$f":"IF($J362=\"\",\"\",Datatable_t!H362)","v":""},{"$f":"IF($J362=\"\",\"\",Datatable_t!I362/2)","v":""},{"$f":"IF($J362=\"\",\"\",Datatable_t!J362)","v":""},{"$f":"IF($J362=\"\",\"\",Datatable_t!K362/2)","v":""},{"$f":"IF($J362=\"\",\"\",Datatable_t!F362)","v":""},{"$f":"IF($J362=\"\",\"\",Datatable_t!G362/2)","v":""},null,null,{"$f":"IF(J362=\"\",\"\",IF(AND(Datatable_t!X362>15,Datatable_t!X362<30),2,IF(OR(Datatable_t!X362>30,Datatable_t!X362<-10),3,1)))","v":""},{"$f":"IF(Datatable_t!A362=\"\",\"\",Datatable_t!A362)","v":""}]
[{"$f":"IF($J363=\"\",\"\",Datatable_t!H363)","v":""},{"$f":"IF($J363=\"\",\"\",Datatable_t!I363/2)","v":""},{"$f":"IF($J363=\"\",\"\",Datatable_t!J363)","v":""},{"$f":"IF($J363=\"\",\"\",Datatable_t!K363/2)","v":""},{"$f":"IF($J363=\"\",\"\",Datatable_t!F363)","v":""},{"$f":"IF($J363=\"\",\"\",Datatable_t!G363/2)","v":""},null,null,{"$f":"IF(J363=\"\",\"\",IF(AND(Datatable_t!X363>15,Datatable_t!X363<30),2,IF(OR(Datatable_t!X363>30,Datatable_t!X363<-10),3,1)))","v":""},{"$f":"IF(Datatable_t!A363=\"\",\"\",Datatable_t!A363)","v":""}]
[{"$f":"IF($J364=\"\",\"\",Datatable_t!H364)","v":""},{"$f":"IF($J364=\"\",\"\",Datatable_t!I364/2)","v":""},{"$f":"IF($J364=\"\",\"\",Datatable_t!J364)","v":""},{"$f":"IF($J364=\"\",\"\",Datatable_t!K364/2)","v":""},{"$f":"IF($J364=\"\",\"\",Datatable_t!F364)","v":""},{"$f":"IF($J364=\"\",\"\",Datatable_t!G364/2)","v":""},null,null,{"$f":"IF(J364=\"\",\"\",IF(AND(Datatable_t!X364>15,Datatable_t!X364<30),2,IF(OR(Datatable_t!X364>30,Datatable_t!X364<-10),3,1)))","v":""},{"$f":"IF(Datatable_t!A364=\"\",\"\",Datatable_t!A364)","v":""}]
[{"$f":"IF($J365=\"\",\"\",Datatable_t!H365)","v":""},{"$f":"IF($J365=\"\",\"\",Datatable_t!I365/2)","v":""},{"$f":"IF($J365=\"\",\"\",Datatable_t!J365)","v":""},{"$f":"IF($J365=\"\",\"\",Datatable_t!K365/2)","v":""},{"$f":"IF($J365=\"\",\"\",Datatable_t!F365)","v":""},{"$f":"IF($J365=\"\",\"\",Datatable_t!G365/2)","v":""},null,null,{"$f":"IF(J365=\"\",\"\",IF(AND(Datatable_t!X365>15,Datatable_t!X365<30),2,IF(OR(Datatable_t!X365>30,Datatable_t!X365<-10),3,1)))","v":""},{"$f":"IF(Datatable_t!A365=\"\",\"\",Datatable_t!A365)","v":""}]
[{"$f":"IF($J366=\"\",\"\",Datatable_t!H366)","v":""},{"$f":"IF($J366=\"\",\"\",Datatable_t!I366/2)","v":""},{"$f":"IF($J366=\"\",\"\",Datatable_t!J366)","v":""},{"$f":"IF($J366=\"\",\"\",Datatable_t!K366/2)","v":""},{"$f":"IF($J366=\"\",\"\",Datatable_t!F366)","v":""},{"$f":"IF($J366=\"\",\"\",Datatable_t!G366/2)","v":""},null,null,{"$f":"IF(J366=\"\",\"\",IF(AND(Datatable_t!X366>15,Datatable_t!X366<30),2,IF(OR(Datatable_t!X366>30,Datatable_t!X366<-10),3,1)))","v":""},{"$f":"IF(Datatable_t!A366=\"\",\"\",Datatable_t!A366)","v":""}]
[{"$f":"IF($J367=\"\",\"\",Datatable_t!H367)","v":""},{"$f":"IF($J367=\"\",\"\",Datatable_t!I367/2)","v":""},{"$f":"IF($J367=\"\",\"\",Datatable_t!J367)","v":""},{"$f":"IF($J367=\"\",\"\",Datatable_t!K367/2)","v":""},{"$f":"IF($J367=\"\",\"\",Datatable_t!F367)","v":""},{"$f":"IF($J367=\"\",\"\",Datatable_t!G367/2)","v":""},null,null,{"$f":"IF(J367=\"\",\"\",IF(AND(Datatable_t!X367>15,Datatable_t!X367<30),2,IF(OR(Datatable_t!X367>30,Datatable_t!X367<-10),3,1)))","v":""},{"$f":"IF(Datatable_t!A367=\"\",\"\",Datatable_t!A367)","v":""}]
[{"$f":"IF($J368=\"\",\"\",Datatable_t!H368)","v":""},{"$f":"IF($J368=\"\",\"\",Datatable_t!I368/2)","v":""},{"$f":"IF($J368=\"\",\"\",Datatable_t!J368)","v":""},{"$f":"IF($J368=\"\",\"\",Datatable_t!K368/2)","v":""},{"$f":"IF($J368=\"\",\"\",Datatable_t!F368)","v":""},{"$f":"IF($J368=\"\",\"\",Datatable_t!G368/2)","v":""},null,null,{"$f":"IF(J368=\"\",\"\",IF(AND(Datatable_t!X368>15,Datatable_t!X368<30),2,IF(OR(Datatable_t!X368>30,Datatable_t!X368<-10),3,1)))","v":""},{"$f":"IF(Datatable_t!A368=\"\",\"\",Datatable_t!A368)","v":""}]
[{"$f":"IF($J369=\"\",\"\",Datatable_t!H369)","v":""},{"$f":"IF($J369=\"\",\"\",Datatable_t!I369/2)","v":""},{"$f":"IF($J369=\"\",\"\",Datatable_t!J369)","v":""},{"$f":"IF($J369=\"\",\"\",Datatable_t!K369/2)","v":""},{"$f":"IF($J369=\"\",\"\",Datatable_t!F369)","v":""},{"$f":"IF($J369=\"\",\"\",Datatable_t!G369/2)","v":""},null,null,{"$f":"IF(J369=\"\",\"\",IF(AND(Datatable_t!X369>15,Datatable_t!X369<30),2,IF(OR(Datatable_t!X369>30,Datatable_t!X369<-10),3,1)))","v":""},{"$f":"IF(Datatable_t!A369=\"\",\"\",Datatable_t!A369)","v":""}]
[{"$f":"IF($J370=\"\",\"\",Datatable_t!H370)","v":""},{"$f":"IF($J370=\"\",\"\",Datatable_t!I370/2)","v":""},{"$f":"IF($J370=\"\",\"\",Datatable_t!J370)","v":""},{"$f":"IF($J370=\"\",\"\",Datatable_t!K370/2)","v":""},{"$f":"IF($J370=\"\",\"\",Datatable_t!F370)","v":""},{"$f":"IF($J370=\"\",\"\",Datatable_t!G370/2)","v":""},null,null,{"$f":"IF(J370=\"\",\"\",IF(AND(Datatable_t!X370>15,Datatable_t!X370<30),2,IF(OR(Datatable_t!X370>30,Datatable_t!X370<-10),3,1)))","v":""},{"$f":"IF(Datatable_t!A370=\"\",\"\",Datatable_t!A370)","v":""}]
[{"$f":"IF($J371=\"\",\"\",Datatable_t!H371)","v":""},{"$f":"IF($J371=\"\",\"\",Datatable_t!I371/2)","v":""},{"$f":"IF($J371=\"\",\"\",Datatable_t!J371)","v":""},{"$f":"IF($J371=\"\",\"\",Datatable_t!K371/2)","v":""},{"$f":"IF($J371=\"\",\"\",Datatable_t!F371)","v":""},{"$f":"IF($J371=\"\",\"\",Datatable_t!G371/2)","v":""},null,null,{"$f":"IF(J371=\"\",\"\",IF(AND(Datatable_t!X371>15,Datatable_t!X371<30),2,IF(OR(Datatable_t!X371>30,Datatable_t!X371<-10),3,1)))","v":""},{"$f":"IF(Datatable_t!A371=\"\",\"\",Datatable_t!A371)","v":""}]
[{"$f":"IF($J372=\"\",\"\",Datatable_t!H372)","v":""},{"$f":"IF($J372=\"\",\"\",Datatable_t!I372/2)","v":""},{"$f":"IF($J372=\"\",\"\",Datatable_t!J372)","v":""},{"$f":"IF($J372=\"\",\"\",Datatable_t!K372/2)","v":""},{"$f":"IF($J372=\"\",\"\",Datatable_t!F372)","v":""},{"$f":"IF($J372=\"\",\"\",Datatable_t!G372/2)","v":""},null,null,{"$f":"IF(J372=\"\",\"\",IF(AND(Datatable_t!X372>15,Datatable_t!X372<30),2,IF(OR(Datatable_t!X372>30,Datatable_t!X372<-10),3,1)))","v":""},{"$f":"IF(Datatable_t!A372=\"\",\"\",Datatable_t!A372)","v":""}]
[{"$f":"IF($J373=\"\",\"\",Datatable_t!H373)","v":""},{"$f":"IF($J373=\"\",\"\",Datatable_t!I373/2)","v":""},{"$f":"IF($J373=\"\",\"\",Datatable_t!J373)","v":""},{"$f":"IF($J373=\"\",\"\",Datatable_t!K373/2)","v":""},{"$f":"IF($J373=\"\",\"\",Datatable_t!F373)","v":""},{"$f":"IF($J373=\"\",\"\",Datatable_t!G373/2)","v":""},null,null,{"$f":"IF(J373=\"\",\"\",IF(AND(Datatable_t!X373>15,Datatable_t!X373<30),2,IF(OR(Datatable_t!X373>30,Datatable_t!X373<-10),3,1)))","v":""},{"$f":"IF(Datatable_t!A373=\"\",\"\",Datatable_t!A373)","v":""}]
[{"$f":"IF($J374=\"\",\"\",Datatable_t!H374)","v":""},{"$f":"IF($J374=\"\",\"\",Datatable_t!I374/2)","v":""},{"$f":"IF($J374=\"\",\"\",Datatable_t!J374)","v":""},{"$f":"IF($J374=\"\",\"\",Datatable_t!K374/2)","v":""},{"$f":"IF($J374=\"\",\"\",Datatable_t!F374)","v":""},{"$f":"IF($J374=\"\",\"\",Datatable_t!G374/2)","v":""},null,null,{"$f":"IF(J374=\"\",\"\",IF(AND(Datatable_t!X374>15,Datatable_t!X374<30),2,IF(OR(Datatable_t!X374>30,Datatable_t!X374<-10),3,1)))","v":""},{"$f":"IF(Datatable_t!A374=\"\",\"\",Datatable_t!A374)","v":""}]
[{"$f":"IF($J375=\"\",\"\",Datatable_t!H375)","v":""},{"$f":"IF($J375=\"\",\"\",Datatable_t!I375/2)","v":""},{"$f":"IF($J375=\"\",\"\",Datatable_t!J375)","v":""},{"$f":"IF($J375=\"\",\"\",Datatable_t!K375/2)","v":""},{"$f":"IF($J375=\"\",\"\",Datatable_t!F375)","v":""},{"$f":"IF($J375=\"\",\"\",Datatable_t!G375/2)","v":""},null,null,{"$f":"IF(J375=\"\",\"\",IF(AND(Datatable_t!X375>15,Datatable_t!X375<30),2,IF(OR(Datatable_t!X375>30,Datatable_t!X375<-10),3,1)))","v":""},{"$f":"IF(Datatable_t!A375=\"\",\"\",Datatable_t!A375)","v":""}]
[{"$f":"IF($J376=\"\",\"\",Datatable_t!H376)","v":""},{"$f":"IF($J376=\"\",\"\",Datatable_t!I376/2)","v":""},{"$f":"IF($J376=\"\",\"\",Datatable_t!J376)","v":""},{"$f":"IF($J376=\"\",\"\",Datatable_t!K376/2)","v":""},{"$f":"IF($J376=\"\",\"\",Datatable_t!F376)","v":""},{"$f":"IF($J376=\"\",\"\",Datatable_t!G376/2)","v":""},null,null,{"$f":"IF(J376=\"\",\"\",IF(AND(Datatable_t!X376>15,Datatable_t!X376<30),2,IF(OR(Datatable_t!X376>30,Datatable_t!X376<-10),3,1)))","v":""},{"$f":"IF(Datatable_t!A376=\"\",\"\",Datatable_t!A376)","v":""}]
[{"$f":"IF($J377=\"\",\"\",Datatable_t!H377)","v":""},{"$f":"IF($J377=\"\",\"\",Datatable_t!I377/2)","v":""},{"$f":"IF($J377=\"\",\"\",Datatable_t!J377)","v":""},{"$f":"IF($J377=\"\",\"\",Datatable_t!K377/2)","v":""},{"$f":"IF($J377=\"\",\"\",Datatable_t!F377)","v":""},{"$f":"IF($J377=\"\",\"\",Datatable_t!G377/2)","v":""},null,null,{"$f":"IF(J377=\"\",\"\",IF(AND(Datatable_t!X377>15,Datatable_t!X377<30),2,IF(OR(Datatable_t!X377>30,Datatable_t!X377<-10),3,1)))","v":""},{"$f":"IF(Datatable_t!A377=\"\",\"\",Datatable_t!A377)","v":""}]
[{"$f":"IF($J378=\"\",\"\",Datatable_t!H378)","v":""},{"$f":"IF($J378=\"\",\"\",Datatable_t!I378/2)","v":""},{"$f":"IF($J378=\"\",\"\",Datatable_t!J378)","v":""},{"$f":"IF($J378=\"\",\"\",Datatable_t!K378/2)","v":""},{"$f":"IF($J378=\"\",\"\",Datatable_t!F378)","v":""},{"$f":"IF($J378=\"\",\"\",Datatable_t!G378/2)","v":""},null,null,{"$f":"IF(J378=\"\",\"\",IF(AND(Datatable_t!X378>15,Datatable_t!X378<30),2,IF(OR(Datatable_t!X378>30,Datatable_t!X378<-10),3,1)))","v":""},{"$f":"IF(Datatable_t!A378=\"\",\"\",Datatable_t!A378)","v":""}]
[{"$f":"IF($J379=\"\",\"\",Datatable_t!H379)","v":""},{"$f":"IF($J379=\"\",\"\",Datatable_t!I379/2)","v":""},{"$f":"IF($J379=\"\",\"\",Datatable_t!J379)","v":""},{"$f":"IF($J379=\"\",\"\",Datatable_t!K379/2)","v":""},{"$f":"IF($J379=\"\",\"\",Datatable_t!F379)","v":""},{"$f":"IF($J379=\"\",\"\",Datatable_t!G379/2)","v":""},null,null,{"$f":"IF(J379=\"\",\"\",IF(AND(Datatable_t!X379>15,Datatable_t!X379<30),2,IF(OR(Datatable_t!X379>30,Datatable_t!X379<-10),3,1)))","v":""},{"$f":"IF(Datatable_t!A379=\"\",\"\",Datatable_t!A379)","v":""}]
[{"$f":"IF($J380=\"\",\"\",Datatable_t!H380)","v":""},{"$f":"IF($J380=\"\",\"\",Datatable_t!I380/2)","v":""},{"$f":"IF($J380=\"\",\"\",Datatable_t!J380)","v":""},{"$f":"IF($J380=\"\",\"\",Datatable_t!K380/2)","v":""},{"$f":"IF($J380=\"\",\"\",Datatable_t!F380)","v":""},{"$f":"IF($J380=\"\",\"\",Datatable_t!G380/2)","v":""},null,null,{"$f":"IF(J380=\"\",\"\",IF(AND(Datatable_t!X380>15,Datatable_t!X380<30),2,IF(OR(Datatable_t!X380>30,Datatable_t!X380<-10),3,1)))","v":""},{"$f":"IF(Datatable_t!A380=\"\",\"\",Datatable_t!A380)","v":""}]
[{"$f":"IF($J381=\"\",\"\",Datatable_t!H381)","v":""},{"$f":"IF($J381=\"\",\"\",Datatable_t!I381/2)","v":""},{"$f":"IF($J381=\"\",\"\",Datatable_t!J381)","v":""},{"$f":"IF($J381=\"\",\"\",Datatable_t!K381/2)","v":""},{"$f":"IF($J381=\"\",\"\",Datatable_t!F381)","v":""},{"$f":"IF($J381=\"\",\"\",Datatable_t!G381/2)","v":""},null,null,{"$f":"IF(J381=\"\",\"\",IF(AND(Datatable_t!X381>15,Datatable_t!X381<30),2,IF(OR(Datatable_t!X381>30,Datatable_t!X381<-10),3,1)))","v":""},{"$f":"IF(Datatable_t!A381=\"\",\"\",Datatable_t!A381)","v":""}]
[{"$f":"IF($J382=\"\",\"\",Datatable_t!H382)","v":""},{"$f":"IF($J382=\"\",\"\",Datatable_t!I382/2)","v":""},{"$f":"IF($J382=\"\",\"\",Datatable_t!J382)","v":""},{"$f":"IF($J382=\"\",\"\",Datatable_t!K382/2)","v":""},{"$f":"IF($J382=\"\",\"\",Datatable_t!F382)","v":""},{"$f":"IF($J382=\"\",\"\",Datatable_t!G382/2)","v":""},null,null,{"$f":"IF(J382=\"\",\"\",IF(AND(Datatable_t!X382>15,Datatable_t!X382<30),2,IF(OR(Datatable_t!X382>30,Datatable_t!X382<-10),3,1)))","v":""},{"$f":"IF(Datatable_t!A382=\"\",\"\",Datatable_t!A382)","v":""}]
[{"$f":"IF($J383=\"\",\"\",Datatable_t!H383)","v":""},{"$f":"IF($J383=\"\",\"\",Datatable_t!I383/2)","v":""},{"$f":"IF($J383=\"\",\"\",Datatable_t!J383)","v":""},{"$f":"IF($J383=\"\",\"\",Datatable_t!K383/2)","v":""},{"$f":"IF($J383=\"\",\"\",Datatable_t!F383)","v":""},{"$f":"IF($J383=\"\",\"\",Datatable_t!G383/2)","v":""},null,null,{"$f":"IF(J383=\"\",\"\",IF(AND(Datatable_t!X383>15,Datatable_t!X383<30),2,IF(OR(Datatable_t!X383>30,Datatable_t!X383<-10),3,1)))","v":""},{"$f":"IF(Datatable_t!A383=\"\",\"\",Datatable_t!A383)","v":""}]
[{"$f":"IF($J384=\"\",\"\",Datatable_t!H384)","v":""},{"$f":"IF($J384=\"\",\"\",Datatable_t!I384/2)","v":""},{"$f":"IF($J384=\"\",\"\",Datatable_t!J384)","v":""},{"$f":"IF($J384=\"\",\"\",Datatable_t!K384/2)","v":""},{"$f":"IF($J384=\"\",\"\",Datatable_t!F384)","v":""},{"$f":"IF($J384=\"\",\"\",Datatable_t!G384/2)","v":""},null,null,{"$f":"IF(J384=\"\",\"\",IF(AND(Datatable_t!X384>15,Datatable_t!X384<30),2,IF(OR(Datatable_t!X384>30,Datatable_t!X384<-10),3,1)))","v":""},{"$f":"IF(Datatable_t!A384=\"\",\"\",Datatable_t!A384)","v":""}]
[{"$f":"IF($J385=\"\",\"\",Datatable_t!H385)","v":""},{"$f":"IF($J385=\"\",\"\",Datatable_t!I385/2)","v":""},{"$f":"IF($J385=\"\",\"\",Datatable_t!J385)","v":""},{"$f":"IF($J385=\"\",\"\",Datatable_t!K385/2)","v":""},{"$f":"IF($J385=\"\",\"\",Datatable_t!F385)","v":""},{"$f":"IF($J385=\"\",\"\",Datatable_t!G385/2)","v":""},null,null,{"$f":"IF(J385=\"\",\"\",IF(AND(Datatable_t!X385>15,Datatable_t!X385<30),2,IF(OR(Datatable_t!X385>30,Datatable_t!X385<-10),3,1)))","v":""},{"$f":"IF(Datatable_t!A385=\"\",\"\",Datatable_t!A385)","v":""}]
[{"$f":"IF($J386=\"\",\"\",Datatable_t!H386)","v":""},{"$f":"IF($J386=\"\",\"\",Datatable_t!I386/2)","v":""},{"$f":"IF($J386=\"\",\"\",Datatable_t!J386)","v":""},{"$f":"IF($J386=\"\",\"\",Datatable_t!K386/2)","v":""},{"$f":"IF($J386=\"\",\"\",Datatable_t!F386)","v":""},{"$f":"IF($J386=\"\",\"\",Datatable_t!G386/2)","v":""},null,null,{"$f":"IF(J386=\"\",\"\",IF(AND(Datatable_t!X386>15,Datatable_t!X386<30),2,IF(OR(Datatable_t!X386>30,Datatable_t!X386<-10),3,1)))","v":""},{"$f":"IF(Datatable_t!A386=\"\",\"\",Datatable_t!A386)","v":""}]
[{"$f":"IF($J387=\"\",\"\",Datatable_t!H387)","v":""},{"$f":"IF($J387=\"\",\"\",Datatable_t!I387/2)","v":""},{"$f":"IF($J387=\"\",\"\",Datatable_t!J387)","v":""},{"$f":"IF($J387=\"\",\"\",Datatable_t!K387/2)","v":""},{"$f":"IF($J387=\"\",\"\",Datatable_t!F387)","v":""},{"$f":"IF($J387=\"\",\"\",Datatable_t!G387/2)","v":""},null,null,{"$f":"IF(J387=\"\",\"\",IF(AND(Datatable_t!X387>15,Datatable_t!X387<30),2,IF(OR(Datatable_t!X387>30,Datatable_t!X387<-10),3,1)))","v":""},{"$f":"IF(Datatable_t!A387=\"\",\"\",Datatable_t!A387)","v":""}]
[{"$f":"IF($J388=\"\",\"\",Datatable_t!H388)","v":""},{"$f":"IF($J388=\"\",\"\",Datatable_t!I388/2)","v":""},{"$f":"IF($J388=\"\",\"\",Datatable_t!J388)","v":""},{"$f":"IF($J388=\"\",\"\",Datatable_t!K388/2)","v":""},{"$f":"IF($J388=\"\",\"\",Datatable_t!F388)","v":""},{"$f":"IF($J388=\"\",\"\",Datatable_t!G388/2)","v":""},null,null,{"$f":"IF(J388=\"\",\"\",IF(AND(Datatable_t!X388>15,Datatable_t!X388<30),2,IF(OR(Datatable_t!X388>30,Datatable_t!X388<-10),3,1)))","v":""},{"$f":"IF(Datatable_t!A388=\"\",\"\",Datatable_t!A388)","v":""}]
[{"$f":"IF($J389=\"\",\"\",Datatable_t!H389)","v":""},{"$f":"IF($J389=\"\",\"\",Datatable_t!I389/2)","v":""},{"$f":"IF($J389=\"\",\"\",Datatable_t!J389)","v":""},{"$f":"IF($J389=\"\",\"\",Datatable_t!K389/2)","v":""},{"$f":"IF($J389=\"\",\"\",Datatable_t!F389)","v":""},{"$f":"IF($J389=\"\",\"\",Datatable_t!G389/2)","v":""},null,null,{"$f":"IF(J389=\"\",\"\",IF(AND(Datatable_t!X389>15,Datatable_t!X389<30),2,IF(OR(Datatable_t!X389>30,Datatable_t!X389<-10),3,1)))","v":""},{"$f":"IF(Datatable_t!A389=\"\",\"\",Datatable_t!A389)","v":""}]
[{"$f":"IF($J390=\"\",\"\",Datatable_t!H390)","v":""},{"$f":"IF($J390=\"\",\"\",Datatable_t!I390/2)","v":""},{"$f":"IF($J390=\"\",\"\",Datatable_t!J390)","v":""},{"$f":"IF($J390=\"\",\"\",Datatable_t!K390/2)","v":""},{"$f":"IF($J390=\"\",\"\",Datatable_t!F390)","v":""},{"$f":"IF($J390=\"\",\"\",Datatable_t!G390/2)","v":""},null,null,{"$f":"IF(J390=\"\",\"\",IF(AND(Datatable_t!X390>15,Datatable_t!X390<30),2,IF(OR(Datatable_t!X390>30,Datatable_t!X390<-10),3,1)))","v":""},{"$f":"IF(Datatable_t!A390=\"\",\"\",Datatable_t!A390)","v":""}]
[{"$f":"IF($J391=\"\",\"\",Datatable_t!H391)","v":""},{"$f":"IF($J391=\"\",\"\",Datatable_t!I391/2)","v":""},{"$f":"IF($J391=\"\",\"\",Datatable_t!J391)","v":""},{"$f":"IF($J391=\"\",\"\",Datatable_t!K391/2)","v":""},{"$f":"IF($J391=\"\",\"\",Datatable_t!F391)","v":""},{"$f":"IF($J391=\"\",\"\",Datatable_t!G391/2)","v":""},null,null,{"$f":"IF(J391=\"\",\"\",IF(AND(Datatable_t!X391>15,Datatable_t!X391<30),2,IF(OR(Datatable_t!X391>30,Datatable_t!X391<-10),3,1)))","v":""},{"$f":"IF(Datatable_t!A391=\"\",\"\",Datatable_t!A391)","v":""}]
[{"$f":"IF($J392=\"\",\"\",Datatable_t!H392)","v":""},{"$f":"IF($J392=\"\",\"\",Datatable_t!I392/2)","v":""},{"$f":"IF($J392=\"\",\"\",Datatable_t!J392)","v":""},{"$f":"IF($J392=\"\",\"\",Datatable_t!K392/2)","v":""},{"$f":"IF($J392=\"\",\"\",Datatable_t!F392)","v":""},{"$f":"IF($J392=\"\",\"\",Datatable_t!G392/2)","v":""},null,null,{"$f":"IF(J392=\"\",\"\",IF(AND(Datatable_t!X392>15,Datatable_t!X392<30),2,IF(OR(Datatable_t!X392>30,Datatable_t!X392<-10),3,1)))","v":""},{"$f":"IF(Datatable_t!A392=\"\",\"\",Datatable_t!A392)","v":""}]
[{"$f":"IF($J393=\"\",\"\",Datatable_t!H393)","v":""},{"$f":"IF($J393=\"\",\"\",Datatable_t!I393/2)","v":""},{"$f":"IF($J393=\"\",\"\",Datatable_t!J393)","v":""},{"$f":"IF($J393=\"\",\"\",Datatable_t!K393/2)","v":""},{"$f":"IF($J393=\"\",\"\",Datatable_t!F393)","v":""},{"$f":"IF($J393=\"\",\"\",Datatable_t!G393/2)","v":""},null,null,{"$f":"IF(J393=\"\",\"\",IF(AND(Datatable_t!X393>15,Datatable_t!X393<30),2,IF(OR(Datatable_t!X393>30,Datatable_t!X393<-10),3,1)))","v":""},{"$f":"IF(Datatable_t!A393=\"\",\"\",Datatable_t!A393)","v":""}]
[{"$f":"IF($J394=\"\",\"\",Datatable_t!H394)","v":""},{"$f":"IF($J394=\"\",\"\",Datatable_t!I394/2)","v":""},{"$f":"IF($J394=\"\",\"\",Datatable_t!J394)","v":""},{"$f":"IF($J394=\"\",\"\",Datatable_t!K394/2)","v":""},{"$f":"IF($J394=\"\",\"\",Datatable_t!F394)","v":""},{"$f":"IF($J394=\"\",\"\",Datatable_t!G394/2)","v":""},null,null,{"$f":"IF(J394=\"\",\"\",IF(AND(Datatable_t!X394>15,Datatable_t!X394<30),2,IF(OR(Datatable_t!X394>30,Datatable_t!X394<-10),3,1)))","v":""},{"$f":"IF(Datatable_t!A394=\"\",\"\",Datatable_t!A394)","v":""}]
[{"$f":"IF($J395=\"\",\"\",Datatable_t!H395)","v":""},{"$f":"IF($J395=\"\",\"\",Datatable_t!I395/2)","v":""},{"$f":"IF($J395=\"\",\"\",Datatable_t!J395)","v":""},{"$f":"IF($J395=\"\",\"\",Datatable_t!K395/2)","v":""},{"$f":"IF($J395=\"\",\"\",Datatable_t!F395)","v":""},{"$f":"IF($J395=\"\",\"\",Datatable_t!G395/2)","v":""},null,null,{"$f":"IF(J395=\"\",\"\",IF(AND(Datatable_t!X395>15,Datatable_t!X395<30),2,IF(OR(Datatable_t!X395>30,Datatable_t!X395<-10),3,1)))","v":""},{"$f":"IF(Datatable_t!A395=\"\",\"\",Datatable_t!A395)","v":""}]
[{"$f":"IF($J396=\"\",\"\",Datatable_t!H396)","v":""},{"$f":"IF($J396=\"\",\"\",Datatable_t!I396/2)","v":""},{"$f":"IF($J396=\"\",\"\",Datatable_t!J396)","v":""},{"$f":"IF($J396=\"\",\"\",Datatable_t!K396/2)","v":""},{"$f":"IF($J396=\"\",\"\",Datatable_t!F396)","v":""},{"$f":"IF($J396=\"\",\"\",Datatable_t!G396/2)","v":""},null,null,{"$f":"IF(J396=\"\",\"\",IF(AND(Datatable_t!X396>15,Datatable_t!X396<30),2,IF(OR(Datatable_t!X396>30,Datatable_t!X396<-10),3,1)))","v":""},{"$f":"IF(Datatable_t!A396=\"\",\"\",Datatable_t!A396)","v":""}]
[{"$f":"IF($J397=\"\",\"\",Datatable_t!H397)","v":""},{"$f":"IF($J397=\"\",\"\",Datatable_t!I397/2)","v":""},{"$f":"IF($J397=\"\",\"\",Datatable_t!J397)","v":""},{"$f":"IF($J397=\"\",\"\",Datatable_t!K397/2)","v":""},{"$f":"IF($J397=\"\",\"\",Datatable_t!F397)","v":""},{"$f":"IF($J397=\"\",\"\",Datatable_t!G397/2)","v":""},null,null,{"$f":"IF(J397=\"\",\"\",IF(AND(Datatable_t!X397>15,Datatable_t!X397<30),2,IF(OR(Datatable_t!X397>30,Datatable_t!X397<-10),3,1)))","v":""},{"$f":"IF(Datatable_t!A397=\"\",\"\",Datatable_t!A397)","v":""}]
[{"$f":"IF($J398=\"\",\"\",Datatable_t!H398)","v":""},{"$f":"IF($J398=\"\",\"\",Datatable_t!I398/2)","v":""},{"$f":"IF($J398=\"\",\"\",Datatable_t!J398)","v":""},{"$f":"IF($J398=\"\",\"\",Datatable_t!K398/2)","v":""},{"$f":"IF($J398=\"\",\"\",Datatable_t!F398)","v":""},{"$f":"IF($J398=\"\",\"\",Datatable_t!G398/2)","v":""},null,null,{"$f":"IF(J398=\"\",\"\",IF(AND(Datatable_t!X398>15,Datatable_t!X398<30),2,IF(OR(Datatable_t!X398>30,Datatable_t!X398<-10),3,1)))","v":""},{"$f":"IF(Datatable_t!A398=\"\",\"\",Datatable_t!A398)","v":""}]
[{"$f":"IF($J399=\"\",\"\",Datatable_t!H399)","v":""},{"$f":"IF($J399=\"\",\"\",Datatable_t!I399/2)","v":""},{"$f":"IF($J399=\"\",\"\",Datatable_t!J399)","v":""},{"$f":"IF($J399=\"\",\"\",Datatable_t!K399/2)","v":""},{"$f":"IF($J399=\"\",\"\",Datatable_t!F399)","v":""},{"$f":"IF($J399=\"\",\"\",Datatable_t!G399/2)","v":""},null,null,{"$f":"IF(J399=\"\",\"\",IF(AND(Datatable_t!X399>15,Datatable_t!X399<30),2,IF(OR(Datatable_t!X399>30,Datatable_t!X399<-10),3,1)))","v":""},{"$f":"IF(Datatable_t!A399=\"\",\"\",Datatable_t!A399)","v":""}]
[{"$f":"IF($J400=\"\",\"\",Datatable_t!H400)","v":""},{"$f":"IF($J400=\"\",\"\",Datatable_t!I400/2)","v":""},{"$f":"IF($J400=\"\",\"\",Datatable_t!J400)","v":""},{"$f":"IF($J400=\"\",\"\",Datatable_t!K400/2)","v":""},{"$f":"IF($J400=\"\",\"\",Datatable_t!F400)","v":""},{"$f":"IF($J400=\"\",\"\",Datatable_t!G400/2)","v":""},null,null,{"$f":"IF(J400=\"\",\"\",IF(AND(Datatable_t!X400>15,Datatable_t!X400<30),2,IF(OR(Datatable_t!X400>30,Datatable_t!X400<-10),3,1)))","v":""},{"$f":"IF(Datatable_t!A400=\"\",\"\",Datatable_t!A400)","v":""}]
[{"$f":"IF($J401=\"\",\"\",Datatable_t!H401)","v":""},{"$f":"IF($J401=\"\",\"\",Datatable_t!I401/2)","v":""},{"$f":"IF($J401=\"\",\"\",Datatable_t!J401)","v":""},{"$f":"IF($J401=\"\",\"\",Datatable_t!K401/2)","v":""},{"$f":"IF($J401=\"\",\"\",Datatable_t!F401)","v":""},{"$f":"IF($J401=\"\",\"\",Datatable_t!G401/2)","v":""},null,null,{"$f":"IF(J401=\"\",\"\",IF(AND(Datatable_t!X401>15,Datatable_t!X401<30),2,IF(OR(Datatable_t!X401>30,Datatable_t!X401<-10),3,1)))","v":""},{"$f":"IF(Datatable_t!A401=\"\",\"\",Datatable_t!A401)","v":""}]
[{"$f":"IF($J402=\"\",\"\",Datatable_t!H402)","v":""},{"$f":"IF($J402=\"\",\"\",Datatable_t!I402/2)","v":""},{"$f":"IF($J402=\"\",\"\",Datatable_t!J402)","v":""},{"$f":"IF($J402=\"\",\"\",Datatable_t!K402/2)","v":""},{"$f":"IF($J402=\"\",\"\",Datatable_t!F402)","v":""},{"$f":"IF($J402=\"\",\"\",Datatable_t!G402/2)","v":""},null,null,{"$f":"IF(J402=\"\",\"\",IF(AND(Datatable_t!X402>15,Datatable_t!X402<30),2,IF(OR(Datatable_t!X402>30,Datatable_t!X402<-10),3,1)))","v":""},{"$f":"IF(Datatable_t!A402=\"\",\"\",Datatable_t!A402)","v":""}]
[{"$f":"IF($J403=\"\",\"\",Datatable_t!H403)","v":""},{"$f":"IF($J403=\"\",\"\",Datatable_t!I403/2)","v":""},{"$f":"IF($J403=\"\",\"\",Datatable_t!J403)","v":""},{"$f":"IF($J403=\"\",\"\",Datatable_t!K403/2)","v":""},{"$f":"IF($J403=\"\",\"\",Datatable_t!F403)","v":""},{"$f":"IF($J403=\"\",\"\",Datatable_t!G403/2)","v":""},null,null,{"$f":"IF(J403=\"\",\"\",IF(AND(Datatable_t!X403>15,Datatable_t!X403<30),2,IF(OR(Datatable_t!X403>30,Datatable_t!X403<-10),3,1)))","v":""},{"$f":"IF(Datatable_t!A403=\"\",\"\",Datatable_t!A403)","v":""}]
[{"$f":"IF($J404=\"\",\"\",Datatable_t!H404)","v":""},{"$f":"IF($J404=\"\",\"\",Datatable_t!I404/2)","v":""},{"$f":"IF($J404=\"\",\"\",Datatable_t!J404)","v":""},{"$f":"IF($J404=\"\",\"\",Datatable_t!K404/2)","v":""},{"$f":"IF($J404=\"\",\"\",Datatable_t!F404)","v":""},{"$f":"IF($J404=\"\",\"\",Datatable_t!G404/2)","v":""},null,null,{"$f":"IF(J404=\"\",\"\",IF(AND(Datatable_t!X404>15,Datatable_t!X404<30),2,IF(OR(Datatable_t!X404>30,Datatable_t!X404<-10),3,1)))","v":""},{"$f":"IF(Datatable_t!A404=\"\",\"\",Datatable_t!A404)","v":""}]
[{"$f":"IF($J405=\"\",\"\",Datatable_t!H405)","v":""},{"$f":"IF($J405=\"\",\"\",Datatable_t!I405/2)","v":""},{"$f":"IF($J405=\"\",\"\",Datatable_t!J405)","v":""},{"$f":"IF($J405=\"\",\"\",Datatable_t!K405/2)","v":""},{"$f":"IF($J405=\"\",\"\",Datatable_t!F405)","v":""},{"$f":"IF($J405=\"\",\"\",Datatable_t!G405/2)","v":""},null,null,{"$f":"IF(J405=\"\",\"\",IF(AND(Datatable_t!X405>15,Datatable_t!X405<30),2,IF(OR(Datatable_t!X405>30,Datatable_t!X405<-10),3,1)))","v":""},{"$f":"IF(Datatable_t!A405=\"\",\"\",Datatable_t!A405)","v":""}]
[{"$f":"IF($J406=\"\",\"\",Datatable_t!H406)","v":""},{"$f":"IF($J406=\"\",\"\",Datatable_t!I406/2)","v":""},{"$f":"IF($J406=\"\",\"\",Datatable_t!J406)","v":""},{"$f":"IF($J406=\"\",\"\",Datatable_t!K406/2)","v":""},{"$f":"IF($J406=\"\",\"\",Datatable_t!F406)","v":""},{"$f":"IF($J406=\"\",\"\",Datatable_t!G406/2)","v":""},null,null,{"$f":"IF(J406=\"\",\"\",IF(AND(Datatable_t!X406>15,Datatable_t!X406<30),2,IF(OR(Datatable_t!X406>30,Datatable_t!X406<-10),3,1)))","v":""},{"$f":"IF(Datatable_t!A406=\"\",\"\",Datatable_t!A406)","v":""}]
[{"$f":"IF($J407=\"\",\"\",Datatable_t!H407)","v":""},{"$f":"IF($J407=\"\",\"\",Datatable_t!I407/2)","v":""},{"$f":"IF($J407=\"\",\"\",Datatable_t!J407)","v":""},{"$f":"IF($J407=\"\",\"\",Datatable_t!K407/2)","v":""},{"$f":"IF($J407=\"\",\"\",Datatable_t!F407)","v":""},{"$f":"IF($J407=\"\",\"\",Datatable_t!G407/2)","v":""},null,null,{"$f":"IF(J407=\"\",\"\",IF(AND(Datatable_t!X407>15,Datatable_t!X407<30),2,IF(OR(Datatable_t!X407>30,Datatable_t!X407<-10),3,1)))","v":""},{"$f":"IF(Datatable_t!A407=\"\",\"\",Datatable_t!A407)","v":""}]
[{"$f":"IF($J408=\"\",\"\",Datatable_t!H408)","v":""},{"$f":"IF($J408=\"\",\"\",Datatable_t!I408/2)","v":""},{"$f":"IF($J408=\"\",\"\",Datatable_t!J408)","v":""},{"$f":"IF($J408=\"\",\"\",Datatable_t!K408/2)","v":""},{"$f":"IF($J408=\"\",\"\",Datatable_t!F408)","v":""},{"$f":"IF($J408=\"\",\"\",Datatable_t!G408/2)","v":""},null,null,{"$f":"IF(J408=\"\",\"\",IF(AND(Datatable_t!X408>15,Datatable_t!X408<30),2,IF(OR(Datatable_t!X408>30,Datatable_t!X408<-10),3,1)))","v":""},{"$f":"IF(Datatable_t!A408=\"\",\"\",Datatable_t!A408)","v":""}]
[{"$f":"IF($J409=\"\",\"\",Datatable_t!H409)","v":""},{"$f":"IF($J409=\"\",\"\",Datatable_t!I409/2)","v":""},{"$f":"IF($J409=\"\",\"\",Datatable_t!J409)","v":""},{"$f":"IF($J409=\"\",\"\",Datatable_t!K409/2)","v":""},{"$f":"IF($J409=\"\",\"\",Datatable_t!F409)","v":""},{"$f":"IF($J409=\"\",\"\",Datatable_t!G409/2)","v":""},null,null,{"$f":"IF(J409=\"\",\"\",IF(AND(Datatable_t!X409>15,Datatable_t!X409<30),2,IF(OR(Datatable_t!X409>30,Datatable_t!X409<-10),3,1)))","v":""},{"$f":"IF(Datatable_t!A409=\"\",\"\",Datatable_t!A409)","v":""}]
[{"$f":"IF($J410=\"\",\"\",Datatable_t!H410)","v":""},{"$f":"IF($J410=\"\",\"\",Datatable_t!I410/2)","v":""},{"$f":"IF($J410=\"\",\"\",Datatable_t!J410)","v":""},{"$f":"IF($J410=\"\",\"\",Datatable_t!K410/2)","v":""},{"$f":"IF($J410=\"\",\"\",Datatable_t!F410)","v":""},{"$f":"IF($J410=\"\",\"\",Datatable_t!G410/2)","v":""},null,null,{"$f":"IF(J410=\"\",\"\",IF(AND(Datatable_t!X410>15,Datatable_t!X410<30),2,IF(OR(Datatable_t!X410>30,Datatable_t!X410<-10),3,1)))","v":""},{"$f":"IF(Datatable_t!A410=\"\",\"\",Datatable_t!A410)","v":""}]
[{"$f":"IF($J411=\"\",\"\",Datatable_t!H411)","v":""},{"$f":"IF($J411=\"\",\"\",Datatable_t!I411/2)","v":""},{"$f":"IF($J411=\"\",\"\",Datatable_t!J411)","v":""},{"$f":"IF($J411=\"\",\"\",Datatable_t!K411/2)","v":""},{"$f":"IF($J411=\"\",\"\",Datatable_t!F411)","v":""},{"$f":"IF($J411=\"\",\"\",Datatable_t!G411/2)","v":""},null,null,{"$f":"IF(J411=\"\",\"\",IF(AND(Datatable_t!X411>15,Datatable_t!X411<30),2,IF(OR(Datatable_t!X411>30,Datatable_t!X411<-10),3,1)))","v":""},{"$f":"IF(Datatable_t!A411=\"\",\"\",Datatable_t!A411)","v":""}]
[{"$f":"IF($J412=\"\",\"\",Datatable_t!H412)","v":""},{"$f":"IF($J412=\"\",\"\",Datatable_t!I412/2)","v":""},{"$f":"IF($J412=\"\",\"\",Datatable_t!J412)","v":""},{"$f":"IF($J412=\"\",\"\",Datatable_t!K412/2)","v":""},{"$f":"IF($J412=\"\",\"\",Datatable_t!F412)","v":""},{"$f":"IF($J412=\"\",\"\",Datatable_t!G412/2)","v":""},null,null,{"$f":"IF(J412=\"\",\"\",IF(AND(Datatable_t!X412>15,Datatable_t!X412<30),2,IF(OR(Datatable_t!X412>30,Datatable_t!X412<-10),3,1)))","v":""},{"$f":"IF(Datatable_t!A412=\"\",\"\",Datatable_t!A412)","v":""}]
[{"$f":"IF($J413=\"\",\"\",Datatable_t!H413)","v":""},{"$f":"IF($J413=\"\",\"\",Datatable_t!I413/2)","v":""},{"$f":"IF($J413=\"\",\"\",Datatable_t!J413)","v":""},{"$f":"IF($J413=\"\",\"\",Datatable_t!K413/2)","v":""},{"$f":"IF($J413=\"\",\"\",Datatable_t!F413)","v":""},{"$f":"IF($J413=\"\",\"\",Datatable_t!G413/2)","v":""},null,null,{"$f":"IF(J413=\"\",\"\",IF(AND(Datatable_t!X413>15,Datatable_t!X413<30),2,IF(OR(Datatable_t!X413>30,Datatable_t!X413<-10),3,1)))","v":""},{"$f":"IF(Datatable_t!A413=\"\",\"\",Datatable_t!A413)","v":""}]
[{"$f":"IF($J414=\"\",\"\",Datatable_t!H414)","v":""},{"$f":"IF($J414=\"\",\"\",Datatable_t!I414/2)","v":""},{"$f":"IF($J414=\"\",\"\",Datatable_t!J414)","v":""},{"$f":"IF($J414=\"\",\"\",Datatable_t!K414/2)","v":""},{"$f":"IF($J414=\"\",\"\",Datatable_t!F414)","v":""},{"$f":"IF($J414=\"\",\"\",Datatable_t!G414/2)","v":""},null,null,{"$f":"IF(J414=\"\",\"\",IF(AND(Datatable_t!X414>15,Datatable_t!X414<30),2,IF(OR(Datatable_t!X414>30,Datatable_t!X414<-10),3,1)))","v":""},{"$f":"IF(Datatable_t!A414=\"\",\"\",Datatable_t!A414)","v":""}]
[{"$f":"IF($J415=\"\",\"\",Datatable_t!H415)","v":""},{"$f":"IF($J415=\"\",\"\",Datatable_t!I415/2)","v":""},{"$f":"IF($J415=\"\",\"\",Datatable_t!J415)","v":""},{"$f":"IF($J415=\"\",\"\",Datatable_t!K415/2)","v":""},{"$f":"IF($J415=\"\",\"\",Datatable_t!F415)","v":""},{"$f":"IF($J415=\"\",\"\",Datatable_t!G415/2)","v":""},null,null,{"$f":"IF(J415=\"\",\"\",IF(AND(Datatable_t!X415>15,Datatable_t!X415<30),2,IF(OR(Datatable_t!X415>30,Datatable_t!X415<-10),3,1)))","v":""},{"$f":"IF(Datatable_t!A415=\"\",\"\",Datatable_t!A415)","v":""}]
[{"$f":"IF($J416=\"\",\"\",Datatable_t!H416)","v":""},{"$f":"IF($J416=\"\",\"\",Datatable_t!I416/2)","v":""},{"$f":"IF($J416=\"\",\"\",Datatable_t!J416)","v":""},{"$f":"IF($J416=\"\",\"\",Datatable_t!K416/2)","v":""},{"$f":"IF($J416=\"\",\"\",Datatable_t!F416)","v":""},{"$f":"IF($J416=\"\",\"\",Datatable_t!G416/2)","v":""},null,null,{"$f":"IF(J416=\"\",\"\",IF(AND(Datatable_t!X416>15,Datatable_t!X416<30),2,IF(OR(Datatable_t!X416>30,Datatable_t!X416<-10),3,1)))","v":""},{"$f":"IF(Datatable_t!A416=\"\",\"\",Datatable_t!A416)","v":""}]
[{"$f":"IF($J417=\"\",\"\",Datatable_t!H417)","v":""},{"$f":"IF($J417=\"\",\"\",Datatable_t!I417/2)","v":""},{"$f":"IF($J417=\"\",\"\",Datatable_t!J417)","v":""},{"$f":"IF($J417=\"\",\"\",Datatable_t!K417/2)","v":""},{"$f":"IF($J417=\"\",\"\",Datatable_t!F417)","v":""},{"$f":"IF($J417=\"\",\"\",Datatable_t!G417/2)","v":""},null,null,{"$f":"IF(J417=\"\",\"\",IF(AND(Datatable_t!X417>15,Datatable_t!X417<30),2,IF(OR(Datatable_t!X417>30,Datatable_t!X417<-10),3,1)))","v":""},{"$f":"IF(Datatable_t!A417=\"\",\"\",Datatable_t!A417)","v":""}]
[{"$f":"IF($J418=\"\",\"\",Datatable_t!H418)","v":""},{"$f":"IF($J418=\"\",\"\",Datatable_t!I418/2)","v":""},{"$f":"IF($J418=\"\",\"\",Datatable_t!J418)","v":""},{"$f":"IF($J418=\"\",\"\",Datatable_t!K418/2)","v":""},{"$f":"IF($J418=\"\",\"\",Datatable_t!F418)","v":""},{"$f":"IF($J418=\"\",\"\",Datatable_t!G418/2)","v":""},null,null,{"$f":"IF(J418=\"\",\"\",IF(AND(Datatable_t!X418>15,Datatable_t!X418<30),2,IF(OR(Datatable_t!X418>30,Datatable_t!X418<-10),3,1)))","v":""},{"$f":"IF(Datatable_t!A418=\"\",\"\",Datatable_t!A418)","v":""}]
[{"$f":"IF($J419=\"\",\"\",Datatable_t!H419)","v":""},{"$f":"IF($J419=\"\",\"\",Datatable_t!I419/2)","v":""},{"$f":"IF($J419=\"\",\"\",Datatable_t!J419)","v":""},{"$f":"IF($J419=\"\",\"\",Datatable_t!K419/2)","v":""},{"$f":"IF($J419=\"\",\"\",Datatable_t!F419)","v":""},{"$f":"IF($J419=\"\",\"\",Datatable_t!G419/2)","v":""},null,null,{"$f":"IF(J419=\"\",\"\",IF(AND(Datatable_t!X419>15,Datatable_t!X419<30),2,IF(OR(Datatable_t!X419>30,Datatable_t!X419<-10),3,1)))","v":""},{"$f":"IF(Datatable_t!A419=\"\",\"\",Datatable_t!A419)","v":""}]
[{"$f":"IF($J420=\"\",\"\",Datatable_t!H420)","v":""},{"$f":"IF($J420=\"\",\"\",Datatable_t!I420/2)","v":""},{"$f":"IF($J420=\"\",\"\",Datatable_t!J420)","v":""},{"$f":"IF($J420=\"\",\"\",Datatable_t!K420/2)","v":""},{"$f":"IF($J420=\"\",\"\",Datatable_t!F420)","v":""},{"$f":"IF($J420=\"\",\"\",Datatable_t!G420/2)","v":""},null,null,{"$f":"IF(J420=\"\",\"\",IF(AND(Datatable_t!X420>15,Datatable_t!X420<30),2,IF(OR(Datatable_t!X420>30,Datatable_t!X420<-10),3,1)))","v":""},{"$f":"IF(Datatable_t!A420=\"\",\"\",Datatable_t!A420)","v":""}]
[{"$f":"IF($J421=\"\",\"\",Datatable_t!H421)","v":""},{"$f":"IF($J421=\"\",\"\",Datatable_t!I421/2)","v":""},{"$f":"IF($J421=\"\",\"\",Datatable_t!J421)","v":""},{"$f":"IF($J421=\"\",\"\",Datatable_t!K421/2)","v":""},{"$f":"IF($J421=\"\",\"\",Datatable_t!F421)","v":""},{"$f":"IF($J421=\"\",\"\",Datatable_t!G421/2)","v":""},null,null,{"$f":"IF(J421=\"\",\"\",IF(AND(Datatable_t!X421>15,Datatable_t!X421<30),2,IF(OR(Datatable_t!X421>30,Datatable_t!X421<-10),3,1)))","v":""},{"$f":"IF(Datatable_t!A421=\"\",\"\",Datatable_t!A421)","v":""}]
[{"$f":"IF($J422=\"\",\"\",Datatable_t!H422)","v":""},{"$f":"IF($J422=\"\",\"\",Datatable_t!I422/2)","v":""},{"$f":"IF($J422=\"\",\"\",Datatable_t!J422)","v":""},{"$f":"IF($J422=\"\",\"\",Datatable_t!K422/2)","v":""},{"$f":"IF($J422=\"\",\"\",Datatable_t!F422)","v":""},{"$f":"IF($J422=\"\",\"\",Datatable_t!G422/2)","v":""},null,null,{"$f":"IF(J422=\"\",\"\",IF(AND(Datatable_t!X422>15,Datatable_t!X422<30),2,IF(OR(Datatable_t!X422>30,Datatable_t!X422<-10),3,1)))","v":""},{"$f":"IF(Datatable_t!A422=\"\",\"\",Datatable_t!A422)","v":""}]
[{"$f":"IF($J423=\"\",\"\",Datatable_t!H423)","v":""},{"$f":"IF($J423=\"\",\"\",Datatable_t!I423/2)","v":""},{"$f":"IF($J423=\"\",\"\",Datatable_t!J423)","v":""},{"$f":"IF($J423=\"\",\"\",Datatable_t!K423/2)","v":""},{"$f":"IF($J423=\"\",\"\",Datatable_t!F423)","v":""},{"$f":"IF($J423=\"\",\"\",Datatable_t!G423/2)","v":""},null,null,{"$f":"IF(J423=\"\",\"\",IF(AND(Datatable_t!X423>15,Datatable_t!X423<30),2,IF(OR(Datatable_t!X423>30,Datatable_t!X423<-10),3,1)))","v":""},{"$f":"IF(Datatable_t!A423=\"\",\"\",Datatable_t!A423)","v":""}]
[{"$f":"IF($J424=\"\",\"\",Datatable_t!H424)","v":""},{"$f":"IF($J424=\"\",\"\",Datatable_t!I424/2)","v":""},{"$f":"IF($J424=\"\",\"\",Datatable_t!J424)","v":""},{"$f":"IF($J424=\"\",\"\",Datatable_t!K424/2)","v":""},{"$f":"IF($J424=\"\",\"\",Datatable_t!F424)","v":""},{"$f":"IF($J424=\"\",\"\",Datatable_t!G424/2)","v":""},null,null,{"$f":"IF(J424=\"\",\"\",IF(AND(Datatable_t!X424>15,Datatable_t!X424<30),2,IF(OR(Datatable_t!X424>30,Datatable_t!X424<-10),3,1)))","v":""},{"$f":"IF(Datatable_t!A424=\"\",\"\",Datatable_t!A424)","v":""}]
[{"$f":"IF($J425=\"\",\"\",Datatable_t!H425)","v":""},{"$f":"IF($J425=\"\",\"\",Datatable_t!I425/2)","v":""},{"$f":"IF($J425=\"\",\"\",Datatable_t!J425)","v":""},{"$f":"IF($J425=\"\",\"\",Datatable_t!K425/2)","v":""},{"$f":"IF($J425=\"\",\"\",Datatable_t!F425)","v":""},{"$f":"IF($J425=\"\",\"\",Datatable_t!G425/2)","v":""},null,null,{"$f":"IF(J425=\"\",\"\",IF(AND(Datatable_t!X425>15,Datatable_t!X425<30),2,IF(OR(Datatable_t!X425>30,Datatable_t!X425<-10),3,1)))","v":""},{"$f":"IF(Datatable_t!A425=\"\",\"\",Datatable_t!A425)","v":""}]
[{"$f":"IF($J426=\"\",\"\",Datatable_t!H426)","v":""},{"$f":"IF($J426=\"\",\"\",Datatable_t!I426/2)","v":""},{"$f":"IF($J426=\"\",\"\",Datatable_t!J426)","v":""},{"$f":"IF($J426=\"\",\"\",Datatable_t!K426/2)","v":""},{"$f":"IF($J426=\"\",\"\",Datatable_t!F426)","v":""},{"$f":"IF($J426=\"\",\"\",Datatable_t!G426/2)","v":""},null,null,{"$f":"IF(J426=\"\",\"\",IF(AND(Datatable_t!X426>15,Datatable_t!X426<30),2,IF(OR(Datatable_t!X426>30,Datatable_t!X426<-10),3,1)))","v":""},{"$f":"IF(Datatable_t!A426=\"\",\"\",Datatable_t!A426)","v":""}]
[{"$f":"IF($J427=\"\",\"\",Datatable_t!H427)","v":""},{"$f":"IF($J427=\"\",\"\",Datatable_t!I427/2)","v":""},{"$f":"IF($J427=\"\",\"\",Datatable_t!J427)","v":""},{"$f":"IF($J427=\"\",\"\",Datatable_t!K427/2)","v":""},{"$f":"IF($J427=\"\",\"\",Datatable_t!F427)","v":""},{"$f":"IF($J427=\"\",\"\",Datatable_t!G427/2)","v":""},null,null,{"$f":"IF(J427=\"\",\"\",IF(AND(Datatable_t!X427>15,Datatable_t!X427<30),2,IF(OR(Datatable_t!X427>30,Datatable_t!X427<-10),3,1)))","v":""},{"$f":"IF(Datatable_t!A427=\"\",\"\",Datatable_t!A427)","v":""}]
[{"$f":"IF($J428=\"\",\"\",Datatable_t!H428)","v":""},{"$f":"IF($J428=\"\",\"\",Datatable_t!I428/2)","v":""},{"$f":"IF($J428=\"\",\"\",Datatable_t!J428)","v":""},{"$f":"IF($J428=\"\",\"\",Datatable_t!K428/2)","v":""},{"$f":"IF($J428=\"\",\"\",Datatable_t!F428)","v":""},{"$f":"IF($J428=\"\",\"\",Datatable_t!G428/2)","v":""},null,null,{"$f":"IF(J428=\"\",\"\",IF(AND(Datatable_t!X428>15,Datatable_t!X428<30),2,IF(OR(Datatable_t!X428>30,Datatable_t!X428<-10),3,1)))","v":""},{"$f":"IF(Datatable_t!A428=\"\",\"\",Datatable_t!A428)","v":""}]
[{"$f":"IF($J429=\"\",\"\",Datatable_t!H429)","v":""},{"$f":"IF($J429=\"\",\"\",Datatable_t!I429/2)","v":""},{"$f":"IF($J429=\"\",\"\",Datatable_t!J429)","v":""},{"$f":"IF($J429=\"\",\"\",Datatable_t!K429/2)","v":""},{"$f":"IF($J429=\"\",\"\",Datatable_t!F429)","v":""},{"$f":"IF($J429=\"\",\"\",Datatable_t!G429/2)","v":""},null,null,{"$f":"IF(J429=\"\",\"\",IF(AND(Datatable_t!X429>15,Datatable_t!X429<30),2,IF(OR(Datatable_t!X429>30,Datatable_t!X429<-10),3,1)))","v":""},{"$f":"IF(Datatable_t!A429=\"\",\"\",Datatable_t!A429)","v":""}]
[{"$f":"IF($J430=\"\",\"\",Datatable_t!H430)","v":""},{"$f":"IF($J430=\"\",\"\",Datatable_t!I430/2)","v":""},{"$f":"IF($J430=\"\",\"\",Datatable_t!J430)","v":""},{"$f":"IF($J430=\"\",\"\",Datatable_t!K430/2)","v":""},{"$f":"IF($J430=\"\",\"\",Datatable_t!F430)","v":""},{"$f":"IF($J430=\"\",\"\",Datatable_t!G430/2)","v":""},null,null,{"$f":"IF(J430=\"\",\"\",IF(AND(Datatable_t!X430>15,Datatable_t!X430<30),2,IF(OR(Datatable_t!X430>30,Datatable_t!X430<-10),3,1)))","v":""},{"$f":"IF(Datatable_t!A430=\"\",\"\",Datatable_t!A430)","v":""}]
[{"$f":"IF($J431=\"\",\"\",Datatable_t!H431)","v":""},{"$f":"IF($J431=\"\",\"\",Datatable_t!I431/2)","v":""},{"$f":"IF($J431=\"\",\"\",Datatable_t!J431)","v":""},{"$f":"IF($J431=\"\",\"\",Datatable_t!K431/2)","v":""},{"$f":"IF($J431=\"\",\"\",Datatable_t!F431)","v":""},{"$f":"IF($J431=\"\",\"\",Datatable_t!G431/2)","v":""},null,null,{"$f":"IF(J431=\"\",\"\",IF(AND(Datatable_t!X431>15,Datatable_t!X431<30),2,IF(OR(Datatable_t!X431>30,Datatable_t!X431<-10),3,1)))","v":""},{"$f":"IF(Datatable_t!A431=\"\",\"\",Datatable_t!A431)","v":""}]
[{"$f":"IF($J432=\"\",\"\",Datatable_t!H432)","v":""},{"$f":"IF($J432=\"\",\"\",Datatable_t!I432/2)","v":""},{"$f":"IF($J432=\"\",\"\",Datatable_t!J432)","v":""},{"$f":"IF($J432=\"\",\"\",Datatable_t!K432/2)","v":""},{"$f":"IF($J432=\"\",\"\",Datatable_t!F432)","v":""},{"$f":"IF($J432=\"\",\"\",Datatable_t!G432/2)","v":""},null,null,{"$f":"IF(J432=\"\",\"\",IF(AND(Datatable_t!X432>15,Datatable_t!X432<30),2,IF(OR(Datatable_t!X432>30,Datatable_t!X432<-10),3,1)))","v":""},{"$f":"IF(Datatable_t!A432=\"\",\"\",Datatable_t!A432)","v":""}]
[{"$f":"IF($J433=\"\",\"\",Datatable_t!H433)","v":""},{"$f":"IF($J433=\"\",\"\",Datatable_t!I433/2)","v":""},{"$f":"IF($J433=\"\",\"\",Datatable_t!J433)","v":""},{"$f":"IF($J433=\"\",\"\",Datatable_t!K433/2)","v":""},{"$f":"IF($J433=\"\",\"\",Datatable_t!F433)","v":""},{"$f":"IF($J433=\"\",\"\",Datatable_t!G433/2)","v":""},null,null,{"$f":"IF(J433=\"\",\"\",IF(AND(Datatable_t!X433>15,Datatable_t!X433<30),2,IF(OR(Datatable_t!X433>30,Datatable_t!X433<-10),3,1)))","v":""},{"$f":"IF(Datatable_t!A433=\"\",\"\",Datatable_t!A433)","v":""}]
[{"$f":"IF($J434=\"\",\"\",Datatable_t!H434)","v":""},{"$f":"IF($J434=\"\",\"\",Datatable_t!I434/2)","v":""},{"$f":"IF($J434=\"\",\"\",Datatable_t!J434)","v":""},{"$f":"IF($J434=\"\",\"\",Datatable_t!K434/2)","v":""},{"$f":"IF($J434=\"\",\"\",Datatable_t!F434)","v":""},{"$f":"IF($J434=\"\",\"\",Datatable_t!G434/2)","v":""},null,null,{"$f":"IF(J434=\"\",\"\",IF(AND(Datatable_t!X434>15,Datatable_t!X434<30),2,IF(OR(Datatable_t!X434>30,Datatable_t!X434<-10),3,1)))","v":""},{"$f":"IF(Datatable_t!A434=\"\",\"\",Datatable_t!A434)","v":""}]
[{"$f":"IF($J435=\"\",\"\",Datatable_t!H435)","v":""},{"$f":"IF($J435=\"\",\"\",Datatable_t!I435/2)","v":""},{"$f":"IF($J435=\"\",\"\",Datatable_t!J435)","v":""},{"$f":"IF($J435=\"\",\"\",Datatable_t!K435/2)","v":""},{"$f":"IF($J435=\"\",\"\",Datatable_t!F435)","v":""},{"$f":"IF($J435=\"\",\"\",Datatable_t!G435/2)","v":""},null,null,{"$f":"IF(J435=\"\",\"\",IF(AND(Datatable_t!X435>15,Datatable_t!X435<30),2,IF(OR(Datatable_t!X435>30,Datatable_t!X435<-10),3,1)))","v":""},{"$f":"IF(Datatable_t!A435=\"\",\"\",Datatable_t!A435)","v":""}]
[{"$f":"IF($J436=\"\",\"\",Datatable_t!H436)","v":""},{"$f":"IF($J436=\"\",\"\",Datatable_t!I436/2)","v":""},{"$f":"IF($J436=\"\",\"\",Datatable_t!J436)","v":""},{"$f":"IF($J436=\"\",\"\",Datatable_t!K436/2)","v":""},{"$f":"IF($J436=\"\",\"\",Datatable_t!F436)","v":""},{"$f":"IF($J436=\"\",\"\",Datatable_t!G436/2)","v":""},null,null,{"$f":"IF(J436=\"\",\"\",IF(AND(Datatable_t!X436>15,Datatable_t!X436<30),2,IF(OR(Datatable_t!X436>30,Datatable_t!X436<-10),3,1)))","v":""},{"$f":"IF(Datatable_t!A436=\"\",\"\",Datatable_t!A436)","v":""}]
[{"$f":"IF($J437=\"\",\"\",Datatable_t!H437)","v":""},{"$f":"IF($J437=\"\",\"\",Datatable_t!I437/2)","v":""},{"$f":"IF($J437=\"\",\"\",Datatable_t!J437)","v":""},{"$f":"IF($J437=\"\",\"\",Datatable_t!K437/2)","v":""},{"$f":"IF($J437=\"\",\"\",Datatable_t!F437)","v":""},{"$f":"IF($J437=\"\",\"\",Datatable_t!G437/2)","v":""},null,null,{"$f":"IF(J437=\"\",\"\",IF(AND(Datatable_t!X437>15,Datatable_t!X437<30),2,IF(OR(Datatable_t!X437>30,Datatable_t!X437<-10),3,1)))","v":""},{"$f":"IF(Datatable_t!A437=\"\",\"\",Datatable_t!A437)","v":""}]
[{"$f":"IF($J438=\"\",\"\",Datatable_t!H438)","v":""},{"$f":"IF($J438=\"\",\"\",Datatable_t!I438/2)","v":""},{"$f":"IF($J438=\"\",\"\",Datatable_t!J438)","v":""},{"$f":"IF($J438=\"\",\"\",Datatable_t!K438/2)","v":""},{"$f":"IF($J438=\"\",\"\",Datatable_t!F438)","v":""},{"$f":"IF($J438=\"\",\"\",Datatable_t!G438/2)","v":""},null,null,{"$f":"IF(J438=\"\",\"\",IF(AND(Datatable_t!X438>15,Datatable_t!X438<30),2,IF(OR(Datatable_t!X438>30,Datatable_t!X438<-10),3,1)))","v":""},{"$f":"IF(Datatable_t!A438=\"\",\"\",Datatable_t!A438)","v":""}]
[{"$f":"IF($J439=\"\",\"\",Datatable_t!H439)","v":""},{"$f":"IF($J439=\"\",\"\",Datatable_t!I439/2)","v":""},{"$f":"IF($J439=\"\",\"\",Datatable_t!J439)","v":""},{"$f":"IF($J439=\"\",\"\",Datatable_t!K439/2)","v":""},{"$f":"IF($J439=\"\",\"\",Datatable_t!F439)","v":""},{"$f":"IF($J439=\"\",\"\",Datatable_t!G439/2)","v":""},null,null,{"$f":"IF(J439=\"\",\"\",IF(AND(Datatable_t!X439>15,Datatable_t!X439<30),2,IF(OR(Datatable_t!X439>30,Datatable_t!X439<-10),3,1)))","v":""},{"$f":"IF(Datatable_t!A439=\"\",\"\",Datatable_t!A439)","v":""}]
[{"$f":"IF($J440=\"\",\"\",Datatable_t!H440)","v":""},{"$f":"IF($J440=\"\",\"\",Datatable_t!I440/2)","v":""},{"$f":"IF($J440=\"\",\"\",Datatable_t!J440)","v":""},{"$f":"IF($J440=\"\",\"\",Datatable_t!K440/2)","v":""},{"$f":"IF($J440=\"\",\"\",Datatable_t!F440)","v":""},{"$f":"IF($J440=\"\",\"\",Datatable_t!G440/2)","v":""},null,null,{"$f":"IF(J440=\"\",\"\",IF(AND(Datatable_t!X440>15,Datatable_t!X440<30),2,IF(OR(Datatable_t!X440>30,Datatable_t!X440<-10),3,1)))","v":""},{"$f":"IF(Datatable_t!A440=\"\",\"\",Datatable_t!A440)","v":""}]
[{"$f":"IF($J441=\"\",\"\",Datatable_t!H441)","v":""},{"$f":"IF($J441=\"\",\"\",Datatable_t!I441/2)","v":""},{"$f":"IF($J441=\"\",\"\",Datatable_t!J441)","v":""},{"$f":"IF($J441=\"\",\"\",Datatable_t!K441/2)","v":""},{"$f":"IF($J441=\"\",\"\",Datatable_t!F441)","v":""},{"$f":"IF($J441=\"\",\"\",Datatable_t!G441/2)","v":""},null,null,{"$f":"IF(J441=\"\",\"\",IF(AND(Datatable_t!X441>15,Datatable_t!X441<30),2,IF(OR(Datatable_t!X441>30,Datatable_t!X441<-10),3,1)))","v":""},{"$f":"IF(Datatable_t!A441=\"\",\"\",Datatable_t!A441)","v":""}]
[{"$f":"IF($J442=\"\",\"\",Datatable_t!H442)","v":""},{"$f":"IF($J442=\"\",\"\",Datatable_t!I442/2)","v":""},{"$f":"IF($J442=\"\",\"\",Datatable_t!J442)","v":""},{"$f":"IF($J442=\"\",\"\",Datatable_t!K442/2)","v":""},{"$f":"IF($J442=\"\",\"\",Datatable_t!F442)","v":""},{"$f":"IF($J442=\"\",\"\",Datatable_t!G442/2)","v":""},null,null,{"$f":"IF(J442=\"\",\"\",IF(AND(Datatable_t!X442>15,Datatable_t!X442<30),2,IF(OR(Datatable_t!X442>30,Datatable_t!X442<-10),3,1)))","v":""},{"$f":"IF(Datatable_t!A442=\"\",\"\",Datatable_t!A442)","v":""}]
[{"$f":"IF($J443=\"\",\"\",Datatable_t!H443)","v":""},{"$f":"IF($J443=\"\",\"\",Datatable_t!I443/2)","v":""},{"$f":"IF($J443=\"\",\"\",Datatable_t!J443)","v":""},{"$f":"IF($J443=\"\",\"\",Datatable_t!K443/2)","v":""},{"$f":"IF($J443=\"\",\"\",Datatable_t!F443)","v":""},{"$f":"IF($J443=\"\",\"\",Datatable_t!G443/2)","v":""},null,null,{"$f":"IF(J443=\"\",\"\",IF(AND(Datatable_t!X443>15,Datatable_t!X443<30),2,IF(OR(Datatable_t!X443>30,Datatable_t!X443<-10),3,1)))","v":""},{"$f":"IF(Datatable_t!A443=\"\",\"\",Datatable_t!A443)","v":""}]
[{"$f":"IF($J444=\"\",\"\",Datatable_t!H444)","v":""},{"$f":"IF($J444=\"\",\"\",Datatable_t!I444/2)","v":""},{"$f":"IF($J444=\"\",\"\",Datatable_t!J444)","v":""},{"$f":"IF($J444=\"\",\"\",Datatable_t!K444/2)","v":""},{"$f":"IF($J444=\"\",\"\",Datatable_t!F444)","v":""},{"$f":"IF($J444=\"\",\"\",Datatable_t!G444/2)","v":""},null,null,{"$f":"IF(J444=\"\",\"\",IF(AND(Datatable_t!X444>15,Datatable_t!X444<30),2,IF(OR(Datatable_t!X444>30,Datatable_t!X444<-10),3,1)))","v":""},{"$f":"IF(Datatable_t!A444=\"\",\"\",Datatable_t!A444)","v":""}]
[{"$f":"IF($J445=\"\",\"\",Datatable_t!H445)","v":""},{"$f":"IF($J445=\"\",\"\",Datatable_t!I445/2)","v":""},{"$f":"IF($J445=\"\",\"\",Datatable_t!J445)","v":""},{"$f":"IF($J445=\"\",\"\",Datatable_t!K445/2)","v":""},{"$f":"IF($J445=\"\",\"\",Datatable_t!F445)","v":""},{"$f":"IF($J445=\"\",\"\",Datatable_t!G445/2)","v":""},null,null,{"$f":"IF(J445=\"\",\"\",IF(AND(Datatable_t!X445>15,Datatable_t!X445<30),2,IF(OR(Datatable_t!X445>30,Datatable_t!X445<-10),3,1)))","v":""},{"$f":"IF(Datatable_t!A445=\"\",\"\",Datatable_t!A445)","v":""}]
[{"$f":"IF($J446=\"\",\"\",Datatable_t!H446)","v":""},{"$f":"IF($J446=\"\",\"\",Datatable_t!I446/2)","v":""},{"$f":"IF($J446=\"\",\"\",Datatable_t!J446)","v":""},{"$f":"IF($J446=\"\",\"\",Datatable_t!K446/2)","v":""},{"$f":"IF($J446=\"\",\"\",Datatable_t!F446)","v":""},{"$f":"IF($J446=\"\",\"\",Datatable_t!G446/2)","v":""},null,null,{"$f":"IF(J446=\"\",\"\",IF(AND(Datatable_t!X446>15,Datatable_t!X446<30),2,IF(OR(Datatable_t!X446>30,Datatable_t!X446<-10),3,1)))","v":""},{"$f":"IF(Datatable_t!A446=\"\",\"\",Datatable_t!A446)","v":""}]
[{"$f":"IF($J447=\"\",\"\",Datatable_t!H447)","v":""},{"$f":"IF($J447=\"\",\"\",Datatable_t!I447/2)","v":""},{"$f":"IF($J447=\"\",\"\",Datatable_t!J447)","v":""},{"$f":"IF($J447=\"\",\"\",Datatable_t!K447/2)","v":""},{"$f":"IF($J447=\"\",\"\",Datatable_t!F447)","v":""},{"$f":"IF($J447=\"\",\"\",Datatable_t!G447/2)","v":""},null,null,{"$f":"IF(J447=\"\",\"\",IF(AND(Datatable_t!X447>15,Datatable_t!X447<30),2,IF(OR(Datatable_t!X447>30,Datatable_t!X447<-10),3,1)))","v":""},{"$f":"IF(Datatable_t!A447=\"\",\"\",Datatable_t!A447)","v":""}]
[{"$f":"IF($J448=\"\",\"\",Datatable_t!H448)","v":""},{"$f":"IF($J448=\"\",\"\",Datatable_t!I448/2)","v":""},{"$f":"IF($J448=\"\",\"\",Datatable_t!J448)","v":""},{"$f":"IF($J448=\"\",\"\",Datatable_t!K448/2)","v":""},{"$f":"IF($J448=\"\",\"\",Datatable_t!F448)","v":""},{"$f":"IF($J448=\"\",\"\",Datatable_t!G448/2)","v":""},null,null,{"$f":"IF(J448=\"\",\"\",IF(AND(Datatable_t!X448>15,Datatable_t!X448<30),2,IF(OR(Datatable_t!X448>30,Datatable_t!X448<-10),3,1)))","v":""},{"$f":"IF(Datatable_t!A448=\"\",\"\",Datatable_t!A448)","v":""}]
[{"$f":"IF($J449=\"\",\"\",Datatable_t!H449)","v":""},{"$f":"IF($J449=\"\",\"\",Datatable_t!I449/2)","v":""},{"$f":"IF($J449=\"\",\"\",Datatable_t!J449)","v":""},{"$f":"IF($J449=\"\",\"\",Datatable_t!K449/2)","v":""},{"$f":"IF($J449=\"\",\"\",Datatable_t!F449)","v":""},{"$f":"IF($J449=\"\",\"\",Datatable_t!G449/2)","v":""},null,null,{"$f":"IF(J449=\"\",\"\",IF(AND(Datatable_t!X449>15,Datatable_t!X449<30),2,IF(OR(Datatable_t!X449>30,Datatable_t!X449<-10),3,1)))","v":""},{"$f":"IF(Datatable_t!A449=\"\",\"\",Datatable_t!A449)","v":""}]
[{"$f":"IF($J450=\"\",\"\",Datatable_t!H450)","v":""},{"$f":"IF($J450=\"\",\"\",Datatable_t!I450/2)","v":""},{"$f":"IF($J450=\"\",\"\",Datatable_t!J450)","v":""},{"$f":"IF($J450=\"\",\"\",Datatable_t!K450/2)","v":""},{"$f":"IF($J450=\"\",\"\",Datatable_t!F450)","v":""},{"$f":"IF($J450=\"\",\"\",Datatable_t!G450/2)","v":""},null,null,{"$f":"IF(J450=\"\",\"\",IF(AND(Datatable_t!X450>15,Datatable_t!X450<30),2,IF(OR(Datatable_t!X450>30,Datatable_t!X450<-10),3,1)))","v":""},{"$f":"IF(Datatable_t!A450=\"\",\"\",Datatable_t!A450)","v":""}]

{"sheet":"trace_t","index":10,"n_rows":930,"n_cols":25,"rows_kept":930,"cut":false,"hidden":false,"merged":[]}
["(ppm)","P","Sc","Ti","Y","Nb","La","Ce","Pr","Nd","Sm","Eu","Gd","Tb","Dy","Ho","Er","Yb","Lu","Hf","Pb","Th","U"]
[]
[{"$f":"IF(A4=Datatable_t!A4,\"\",\"Error muestras\")","v":""}]
["Baclab2N4CII-1",20,123.3,14.7,446,2.59,0,14.6,4.4999999999999998E-2,0.37,1.52,0.32400000000000001,8.0500000000000007,2.96,38.9,15.3,70.599999999999994,161,33.6,11240,30.125,62.9,170,null,{"$f":"IF(Datatable_t!AC4=\"\",\"\",Datatable_t!AC4)","v":"1: U and Th concentrations are calculated employing an external standard zircon as in Paton et al., 2010, Geochemistry, Geophysics, Geosystems."}]
["Baclab2N4CII-2",120,214,3.1,846,1.7,0,3.8,5.5E-2,1.51,3.16,0.42599999999999999,20.9,7.01,80.5,29.9,125,228,47.9,10170,3.125,67.599999999999994,190,null,{"$f":"IF(Datatable_t!AC5=\"\",\"\",Datatable_t!AC5)","v":"2: 2 sigma uncertainties propagated according to Paton et al., 2010,Geochemistry, Geophysics, Geosystems"}]
["Baclab2N4CII-3",220,196,14.3,842,1.53,4.4999999999999997E-3,1.7,1.4E-2,1.08,1.8,5.8999999999999997E-2,14.5,6.15,75.599999999999994,28,129,229,48.3,13400,46,32.24,271.2,null,{"$f":"IF(Datatable_t!AC6=\"\",\"\",Datatable_t!AC6)","v":"207Pb/206Pb ratios, ages and errors are calculated according to Petrus and Kamber, 2012, Geostandards Geoanalytical Research"}]
["Baclab2N4CII-4",590,199,12.7,968,1.55,0,3.03,6.9000000000000006E-2,1.37,3.38,0.13200000000000001,19.8,7.32,86.8,33.200000000000003,144,276,51.9,12610,40.75,63.19,260,null,{"$f":"IF(Datatable_t!AC7=\"\",\"\",Datatable_t!AC7)","v":"Analyzed spots were __ micrometers, using an analytical protocol modified from Solari et al., 2010, Geostandards Geoanalytical Research."}]
["Baclab2N4CII-5",240,103.6,8,816,3.48,0,8.51,4.4999999999999998E-2,1,2.2599999999999998,9.6000000000000002E-2,16.600000000000001,5.48,71.2,27.1,125,232,46.6,10700,55,76.599999999999994,231,null,{"$f":"IF(Datatable_t!AC8=\"\",\"\",Datatable_t!AC8)","v":"Data measured employing a Thermo iCapQc ICPMS coupled to a Resonetics, Resolution M050 excimer laser workstation."}]
["Baclab2N4CII-6",180,138,3.2,833,4.55,0,41.4,1.6E-2,0.55000000000000004,1.1100000000000001,0.57999999999999996,10.6,4.47,57.9,24.9,134,339,76.7,11490,15.425000000000001,151.30000000000001,205.9]
["Baclab2N4CII-7",160,175,8.4,1600,1.56,0,15.77,6.8000000000000005E-2,1.76,4.97,0.59,28.4,11.29,135.69999999999999,53,241,450,93.3,12060,21.45,179.6,286]
["Baclab2N4CII-8",500,165,6.5,1329,1.58,0.45,17.600000000000001,0.34,2.54,4.5199999999999996,0.64,26.1,9.3800000000000008,113.6,43.4,199,376,77.2,11180,25.675000000000001,233,400]
["Baclab2N4CII-9",510,91.8,2.8,1442,14.06,2.2999999999999998,27.2,0.86,5.8,4.47,7.0000000000000007E-2,26.7,9.5,123.4,49.9,229,402,79.900000000000006,12100,26.425000000000001,152.9,287]
["Baclab2N4CII-10",370,188,17.5,601,1.71,0,40.4,0.154,2.94,5.51,1.27,22.1,6.06,61.7,20.8,85.6,150,31.1,9040,5.15,80.3,81.599999999999994]
["Baclab2N4CII-11",400,115.2,4.5999999999999996,672,2.78,0,7.69,3.1E-2,0.74,1.74,0.27,11.02,4.38,55.3,22.4,106.3,225,51.6,12010,12.95,71.2,231]
["Baclab2N4CII-12",1140,196,4.9000000000000004,2370,6.21,0,5.24,2.1000000000000001E-2,0.44,2.69,9.4E-2,23.6,11.97,181,78.400000000000006,396,874,174.5,12240,52.75,187,876]
["Baclab2N4CII-13",330,226,4.4000000000000004,1143,6.98,0,47.4,8.8999999999999996E-2,1.46,3.7,0.88,19.3,7.69,101.6,39.6,185,403,82.4,11830,37.25,386,945]
["Baclab2N4CII-14","no value","no value","no value","no value","no value","no value","no value","no value","no value","no value","no value","no value","no value","no value","no value","no value","no value","no value","no value",{"$error":"#VALUE!"},161.9,95.2]
["Baclab2N4CII-15",1330,364,2.1,2310,1.34,0,0.38,0,0.14899999999999999,1.49,7.0999999999999994E-2,17.5,10.07,163,76.900000000000006,411,1028,228,14300,52,32.93,730]
["Baclab2N4CII-16",600,106,11.7,542,1.41,0,15.1,4.8000000000000001E-2,0.34,0.87,0.34,9.1,3.37,42.5,16.899999999999999,86.6,187,40.1,10500,16.675000000000001,30.7,71.900000000000006]
["Baclab2N4CII-17",700,523,3,1610,2.29,0,1.64,6.1999999999999998E-3,0.26,0.65,0.36299999999999999,9.1,6.02,109.3,50.6,259,492,89.9,13600,17.5,4.8600000000000003,288.39999999999998]
["Baclab2N4CII-18",420,246,5.4,1700,11.19,2.8000000000000001E-2,37.299999999999997,4.8000000000000001E-2,0.89,2.69,0.67,19.899999999999999,8.6300000000000008,122.5,53.6,280,664,154,11580,28.45,231.3,368]
["Baclab2N4CII-19",100,119,12.7,379,1.69,0,5.29,4.2999999999999997E-2,1.05,1.85,0.125,9.9,3.38,39.200000000000003,13.4,59.4,109,22,11000,44.25,68.5,238.5]
["Baclab2N4CII-20",1580,390,10.9,3230,2.2200000000000002,0,5.21,4.4999999999999998E-2,0.93,3.8,0.5,32.799999999999997,16.3,251,109.7,557,1178,242,12740,19.875,67,240]
["Baclab2N4CII-21",10,115.6,14.6,1870,1.23,0.20399999999999999,13.6,0.51,6.86,10.8,3.04,48.5,15.6,170,62,276,536,109.8,7910,29.024999999999999,413.2,449]
["Baclab2N4CII-22",230,103.2,3.5,289,0.89,0,3.86,0,0,0.23,0.16,2.99,1.45,21.3,9.5,53,138,34.4,11360,86.75,46.6,403]
["Baclab2N4CII-23",70,124.9,5.5,697,1.4,0,33.799999999999997,9.0999999999999998E-2,1.54,3.74,1.61,17.399999999999999,5.32,60.1,23.1,105.6,239,53.1,9930,17.45,240,211]
["Baclab2N4CII-24",50,135.80000000000001,15.8,517,2.02,0,27.8,0.185,2.85,4.03,1.1599999999999999,15.7,4.6900000000000004,49,17.21,74.8,143.69999999999999,31,9560,8.4499999999999993,83.6,80.8]
["Baclab2N4CII-25",140,120.2,8.5,306,0.69,0,9.43,2.5999999999999999E-2,0.47,1.19,0.218,5.77,2.0099999999999998,24.1,9.83,46.1,94.1,20.6,11960,21.524999999999999,40.5,112.3]
["Baclab2N4CII-26",140,152.4,3.3,522,0.67200000000000004,0,3.86,0.10299999999999999,1.88,2.42,1.05,10.44,3.34,39.200000000000003,16.600000000000001,81.7,206.8,52.8,8760,22.725000000000001,242.2,272]
["Baclab2N4CII-27",230,146.19999999999999,9.8000000000000007,1259,1.1000000000000001,1.4E-2,12.24,0.36799999999999999,6.93,10.95,1.37,43.1,12.62,132.1,44.8,179.1,294,57.6,9750,50.5,124,239]
["Baclab2N4CII-28",1220,382,17.600000000000001,2660,3.31,0.151,9.5,0.59899999999999998,5.21,7.42,2.0099999999999998,40.9,16.2,224,93,455,961,203,12260,34.5,131,511]
["Baclab2N4CII-29",-90,148.30000000000001,7,726,2.44,7.3999999999999996E-2,19.7,0.39,3.03,4.3,1.87,14.9,5.0599999999999996,60.1,23,115.8,293,68,11430,36,249,398]
["Baclab2N4CII-30",100,134.4,4.7,192,0.39700000000000002,0,2.94,1.6899999999999998E-2,0.19500000000000001,0.54,0.247,2.82,1.0900000000000001,13.55,6.23,31.8,88,24.3,7940,8.8249999999999993,74.8,106.4]
["Baclab2N4CII-31",180,123,12.7,471,1.28,0,3.38,8.5999999999999993E-2,1.07,3.38,0.28999999999999998,13,4.33,48.1,16.5,72.3,123,24.6,9870,18.75,30.5,91.5]
["Baclab2N4CII-32",220,118.2,8.3000000000000007,825,5.41,0,35.299999999999997,5.8999999999999997E-2,1.22,2.74,0.37,16.100000000000001,6.1,71.5,27.9,126.4,253,51.7,10390,30.1,262.60000000000002,299]
["Baclab2N4CII-33",160,123.6,15.6,382,1.17,0,3.18,1.4999999999999999E-2,0.62,1.07,0.11899999999999999,7.73,2.89,34.6,13.25,58.5,121.7,25.2,11670,30.8,44.7,170.9]
["Baclab2N4CII-34",400,117.2,6.1,1206,1.85,3.5999999999999997E-2,4.7300000000000004,0.10199999999999999,1.91,4.53,0.13100000000000001,27,9.48,109.1,42.2,178.1,315,65.8,10390,43.575000000000003,79,162]
["Baclab2N4CII-35",1260,310,8.1,3260,1.76,1.0999999999999999E-2,2.61,0.17299999999999999,3.71,10.029999999999999,0.38,71.900000000000006,25,310,119.1,519,915,178,11150,61.25,136,347]
["Baclab2N4CII-36",450,153,4.5,1026,6.76,0,39.9,2.1000000000000001E-2,0.47,2.58,0.48799999999999999,17.399999999999999,6.54,82.5,34.799999999999997,162,343,71.5,11280,23.3,168.2,299]
["Baclab2N4CII-37",50,102.6,6.2,227,1.0900000000000001,2.3E-3,9.74,3.3999999999999998E-3,0.33,0.45,0.29899999999999999,3.33,1.18,16.600000000000001,7.13,37.6,96.7,23.6,8790,3.3675000000000002,43.6,50.6]
["Baclab2N4CII-38",160,164,19.3,836,1.1399999999999999,2.8000000000000001E-2,40.299999999999997,0.39500000000000002,6.4,10.1,2.1,33.9,9.17,92.7,30.7,122,194,40,8570,6.1,93,74]
["Baclab2N4CII-39",-120,106.4,11,633,0.51400000000000001,0,5.75,1.9E-2,0.26100000000000001,1.22,0.31,10.31,3.91,49.9,19.940000000000001,94.7,177.1,37.4,9930,20.675000000000001,49.5,87.8]
["Baclab2N4CII-40",1080,341,4.7,2240,1.58,0,0.9,0.06,0.62,3.58,0.115,28.5,13.6,188,77,370,725,150,11920,25.074999999999999,55,351.4]
["Baclab2N4CII-41",190,105.2,6.6,721,2.35,0,11.3,3.5000000000000003E-2,1.1399999999999999,3.28,0.17199999999999999,17.7,5.32,67,25.4,114.4,213,44.9,10590,53,56.8,150.9]
["Baclab2N4CII-42",120,106.5,2.6,328,1.26,3.5999999999999997E-2,22.7,0.09,1.72,2.29,0.88,7.55,2.27,27,10.5,50.4,126.5,29,10250,14.65,145.6,137.80000000000001]
["Baclab2N4CII-43",320,116.6,1.4,1514,0.51,0,1.88,7.1999999999999995E-2,1.34,3.27,1.42,24.8,9.4,120.5,50.4,249,563,127.8,8360,6.3250000000000002,42.01,66.7]
["Baclab2N4CII-44",520,185,6.8,833,4.6500000000000004,1.1299999999999999,31.1,0.56000000000000005,3.84,4.03,0.46,19.3,6.65,75.900000000000006,28.5,130.5,259,52.4,11560,41.75,233.6,712]
["Baclab2N4CII-45",-30,116.4,1.8,402,1.43,0,5.68,7.9000000000000001E-2,0.98,1.95,0.51300000000000001,7.78,3.16,36.299999999999997,13.06,57.1,113.1,22.8,12080,21.15,79,198.5]
["Baclab2N4CII-46",180,161.6,3.6,557,1.71,0,4.4000000000000004,4.9000000000000002E-2,0.51,2.16,0.36399999999999999,13.7,5.1100000000000003,57.1,18.079999999999998,71.5,111.9,21.6,12990,43.5,116.1,449]
["Baclab2N4CII-47",210,108.5,12.4,1061,2.36,1.9E-3,8.81,0.13700000000000001,2.38,4.8,0.23599999999999999,27.3,9.08,104.4,36.700000000000003,155.1,256,51.2,10170,21.1,93.8,107.4]
["Baclab2N4CII-48",290,130.1,30.7,1770,1,0.13700000000000001,21,0.62,8.6999999999999993,11.7,3.77,54.5,17.100000000000001,181,61.9,243,383,74,8590,27.05,114.7,124.6]
["Baclab2N4CII-49",47000,140,18.8,1690,1.96,58,281,54,380,157,5.9,181,30.1,229,61,215,324,59.9,11600,19.2,130.4,219.3]
["Baclab2N4CII-50",-30,117.1,6.5,1337,1.98,0,11.35,0.318,6.02,10.79,0.89,47.8,13.89,142,47.3,185,283,53.2,10200,36.700000000000003,115.1,206.1]
["Baclab2N4CII-51",130,161.6,14.6,548,1.86,0,49.1,0.11799999999999999,2.0699999999999998,4.55,1.1499999999999999,18.3,5.34,55.5,19.16,79.2,140.80000000000001,28.6,9500,6.5250000000000004,108.7,120.6]
["Baclab2N4CII-52",40,116.2,5.2,769,2.85,0,11.81,4.7E-2,0.91,2.89,0.315,15.2,5.59,69.7,26.9,122.8,233,49.1,10030,11.775,91.5,137.30000000000001]
["Baclab2N4CII-53",520,98.5,7.6,1850,18.2,8,43.8,3.46,19.399999999999999,8.1999999999999993,0.16600000000000001,30.8,11.29,153,62.6,306,585,118.4,14230,42.5,262,511]
["Baclab2N4CII-54",152,111,12.8,589,0.42699999999999999,0,2.9,1.3599999999999999E-2,0.53,1.32,0.34699999999999998,10.58,3.87,49,19.11,87.7,158.80000000000001,32.799999999999997,9150,15.725,32.799999999999997,69.5]
["Baclab2N4CII-55",130,139,5.5,1600,8.89,0,50.8,4.8000000000000001E-2,0.65,2.4300000000000002,0.52,19.100000000000001,8.5399999999999991,123.9,53.8,270,592,116.7,11190,14.95,186.4,248.6]
["Baclab2N4CII-56",8300,177,9.8000000000000007,1256,6.53,198,441,45.1,181,39.5,4.21,52.1,11.5,118.6,43.5,195,392,86.9,10170,6.45,77.900000000000006,87.5]
["Baclab2N4CII-57",-50,91.9,3.3,611,5.43,0.63,9.57,0.182,1.26,2.04,0.23899999999999999,13.6,4.51,54.4,21.1,96.3,175,34.6,11430,28.95,53.5,192.1]
["Baclab2N4CII-58",120,111.8,3.3,638,3.24,8.7999999999999995E-2,6.81,8.2000000000000003E-2,1.23,2.5099999999999998,0.38300000000000001,15.5,5.35,62.6,21.9,93.9,164.9,33.1,9530,12.25,29.3,79.900000000000006]
["Baclab2N4CII-59",0,133.30000000000001,14,611,1.19,3.7999999999999999E-2,46.7,0.34499999999999997,6.16,8.8699999999999992,2.58,27,7.06,64.5,20.79,85.3,154.19999999999999,31.9,9400,11.4,261.10000000000002,216]
["Baclab2N4CII-60",80,131,11.3,449,1.82,0.01,57.7,8.5999999999999993E-2,2.6,4.5,1.48,15.8,4.33,43.4,14.7,59.3,119,25,9460,13.9,272.5,254.2]
["Baclab2N4CII-61",190,137.80000000000001,14.8,798,1.1539999999999999,1.4999999999999999E-2,54.2,0.5,8.5500000000000007,11.87,3.72,35.799999999999997,9.14,85.9,26.9,107,192.6,39.200000000000003,9180,13.25,357.4,255.6]
["Baclab2N4CII-62",90,133.9,6.9,1140,4.58,0,52.3,9.6000000000000002E-2,0.96,3.42,0.71,18.7,7.08,88.7,37,179,391,83.9,10840,19.225000000000001,314.39999999999998,330.3]
["Baclab2N4CII-63",570,210,10.8,1289,1.2,0,8.26,1.9E-2,0.78,2.56,0.30099999999999999,20.2,8.51,106,45.1,215,430,90.5,11590,8.875,63.5,102.7]
["Baclab2N4CII-64",240,101.1,3.7,329,2.8,4.0000000000000001E-3,29.8,6.7000000000000004E-2,1.05,1.38,0.57999999999999996,7.5,2.59,28,10.56,50.2,106.5,24,10610,27.95,180,303]
["Baclab2N4CII-65",130,101.1,11.7,591,2.88,0,14.72,2.5000000000000001E-2,0.61,1.75,0.248,9.26,3.74,47.7,19.18,97.5,213,46.8,10470,27.425000000000001,72.099999999999994,161.80000000000001]
["Baclab2N4CII-66",230,94.6,2.9,442,2.04,0,10.98,2.8000000000000001E-2,0.39,1.1100000000000001,0.13500000000000001,6.24,2.4700000000000002,33.4,13.69,71.900000000000006,180,40.700000000000003,10970,28.35,63.1,177]
["Baclab2N4CII-67",105,101.8,10.8,425,2.48,0,29.6,6.8000000000000005E-2,1.1399999999999999,2.0299999999999998,0.503,8.81,3.18,36.4,14.3,64.599999999999994,140.9,29.9,9730,27.375,75.099999999999994,166.2]
["Baclab2N4CII-68",160,112.1,16.899999999999999,558,2.5499999999999998,0,35.6,0.128,1.73,3.45,0.86,14.6,4.8,53.9,19.3,80.7,155,31.3,8670,23.425000000000001,80.7,131.1]
["Baclab2N4CII-69",350,156,5.2,1710,11.59,4.7000000000000002E-3,66.400000000000006,0.24399999999999999,4.18,7.7,1.04,39.299999999999997,14.3,169,62.1,268,478,96.1,8780,36,527,430.3]
["Baclab2N4CII-70",310,191,5.7,638,1.07,1.2E-2,1.58,0.22,1.97,4.75,0.63,21.7,7.38,72.2,21.2,77.5,119.3,22.8,12740,52.75,85.1,1205]
["Baclab2N4CII-71",140,172,9.6,1247,1.2,3.3000000000000002E-2,3.61,0.32200000000000001,5.68,9.1199999999999992,1.73,41.6,12.36,132.4,45.9,177,281,55,9040,12.324999999999999,39,84.5]
["Baclab2N4CII-72",320,129.19999999999999,10.4,1067,4.32,0.59,42.4,1.28,10.9,12.2,4.79,31.6,10.5,113.2,36.200000000000003,154,309,60.4,11090,13.525,210,181.8]
["Baclab2N4CII-73",10,109.1,8.4,434,3.27,0,6.32,0.04,0.61,1.58,0.09,9.43,3.23,39.9,15.3,67,140.69999999999999,29.3,11800,57,117.4,421]
["Baclab2N4CII-74",-40,142.6,17.8,434,1.43,0,4.7300000000000004,0.14399999999999999,2.15,2.94,0.76,15.2,4,44,15.7,61.4,106.8,21.8,9650,7.125,32.4,42.6]
["Baclab2N4CII-75",840,354,7.5,2103,1.36,0,3.2,1.1299999999999999E-2,0.48,2.08,0.30399999999999999,18.3,9.8000000000000007,155.5,70.900000000000006,369,836,175.4,12260,11.3,33.6,141.9]
["Baclab2N4CII-76",270,115,5.9,520,1.77,0,26.5,0.104,1.78,2.6,0.69,12.23,4.41,47.5,17.600000000000001,77.599999999999994,148.4,30.5,10120,35.975000000000001,184.5,197.8]
["Baclab2N4CII-77",90,104,15.4,513,1.74,0,10.98,7.0000000000000007E-2,0.99,1.78,0.33100000000000002,11.8,3.9,46.7,17.399999999999999,79.900000000000006,155,31.4,9850,31.5,85.45,182.3]
["Baclab2N4CII-78",252,157.69999999999999,13.7,567,1.71,0,44.9,0.156,1.63,3.4,0.84,18,5.29,58.2,20.2,82.6,149.19999999999999,30.9,9000,7.2750000000000004,123.9,143.30000000000001]
["Baclab2N4CII-79",200,172.2,7.8,1291,1.95,0,27.4,0.14499999999999999,3.61,6.65,2.2999999999999998,33.9,11.08,125.5,45.4,197,351,71.099999999999994,8630,10.15,125,112.2]
["Baclab2N4CII-80",39,83.5,2.4,227,0.53600000000000003,0,2.39,6.3E-3,1.7999999999999999E-2,0.24,6.4000000000000001E-2,1.57,0.98,13.5,6.22,37.4,117,29.2,10810,92.75,54.1,408]
["Baclab2N4CII-81",30,137.9,3.6,577,1.82,0.03,12.98,1.7999999999999999E-2,0.7,1.22,0.26100000000000001,8.6,3.35,42.7,18.5,97.6,252,61.1,10820,18.850000000000001,151.5,224.9]
["Baclab2N4CII-82",400,198,5,930,2.31,4.4999999999999998E-2,47.8,0.27300000000000002,4.33,7.61,2.59,31,9.0299999999999994,95.7,31.4,136,262,53.3,10380,20.75,483,496]
["Baclab2N4CII-83",370,164.9,5.4,1159,3.69,3.5000000000000001E-3,17.7,5.8999999999999997E-2,1.95,4.84,0.27500000000000002,26.8,9.25,111.1,40.5,179.2,322,63.6,11020,22.8,159,282]
["Baclab2N4CII-84",120,103,3.2,74.7,0.42,0,5.91,0,7.2999999999999995E-2,0.11799999999999999,0.122,0.93,0.32400000000000001,5.0199999999999996,2.2599999999999998,12.79,39.6,10.85,11340,70.75,60,219]
["Baclab2N4CII-85",110,104.7,5.7,345,1.18,0,3.25,1.6E-2,0.47,1.29,0,7.3,2.44,30.7,11.79,54.1,115.2,23.8,10670,37.774999999999999,33.119999999999997,177.1]
["Baclab2N4CII-86",970,438,7.8,2590,2,0,4.6399999999999997,1.4E-2,0.39,2.46,0.49,23.1,11.85,187.9,86.6,457,1022,217,13290,13.275,43.9,186.1]
["Baclab2N4CII-87",180,111.2,19,614,1.61,0,11.64,1.61E-2,0.69,1.57,0.30199999999999999,10.4,4.1399999999999997,51.2,21.04,98.1,198.2,41.4,10000,16.725000000000001,46.8,64.599999999999994]
["Baclab2N4CII-88",137,130.30000000000001,17.100000000000001,2058,0.96,3.2000000000000001E-2,19.8,0.35599999999999998,5.98,8.82,2.29,44.5,14.36,180.8,69.7,309,545,113,8730,10.25,282.2,230.4]
["Baclab2N4CII-89",290,97.7,5.0999999999999996,845,4.67,0,11.03,8.6999999999999994E-2,1.06,3.22,0.29699999999999999,17.399999999999999,6.19,76.900000000000006,29.7,130.19999999999999,243,48.8,10540,71.75,116.5,303]
["Baclab2N4CII-90",1140,436,7.1,3200,3.04,0,2.29,0.13900000000000001,3.2,9.7200000000000006,0.33700000000000002,61.2,24.5,310,109.8,435,621,110.4,11500,24.824999999999999,112.6,361]
["Baclab2N4CII-91",820,329,6.8,2440,1.1499999999999999,2.3E-2,0.83,5.5E-2,1.18,3.92,0.17499999999999999,36.4,14.87,209.9,85.8,393,740,149.80000000000001,11990,23.375,62.7,349]
["Baclab2N4CII-92",1060,388,4.9000000000000004,2930,2.09,0,2.76,4.5999999999999999E-2,1.3,5.03,0.33400000000000002,42.7,18,250,104,480,923,192,10640,36.725000000000001,115,519]
["Baclab2N4CII-93",178,114.1,8.4,825,1.69,0,8.08,0.25,4.28,7.3,0.76,29.2,8.6,93,30,120,205,41.7,10710,44.25,135.19999999999999,286]
["Baclab2N4CII-94",60,103,2.7,322,2.25,0,22.7,0,9.1999999999999998E-2,0.65,0.218,5.26,1.84,23.4,9.92,50,115.4,25.7,11150,16.75,85.8,287]
["Baclab2N4CII-95",-30,137.4,15.1,663,1.54,3.9E-2,13.93,0.189,1.9,2.92,0.85,11.6,4.33,54.8,21.8,104.7,247,58.3,11060,11.6,115.7,156.6]
["Baclab2N4CII-96",620,209.2,10.6,1595,0.81,0,4.13,5.1999999999999998E-2,1.63,4.4000000000000004,0.38400000000000001,30,10.5,136.30000000000001,55,258,494,101.2,10250,8.3249999999999993,47.1,80.099999999999994]
["Baclab2N4CII-97",144,84.7,3.4,670,11.47,0,14.52,3.5000000000000003E-2,0.72,2.0499999999999998,0.16300000000000001,12.46,4.84,62.2,23.8,109,210,42.7,11930,41.674999999999997,61.9,290]
["Baclab2N4CII-98",90,94.2,8,807,13.1,0,16.5,1.4999999999999999E-2,1.29,3.05,0.185,18,6.88,77.3,28.9,121.5,214,41.6,11560,33.524999999999999,66.099999999999994,235.6]
["Baclab2N4CII-99",315,205.2,6.4,1257,5.14,1.7000000000000001E-2,32.4,5.8999999999999997E-2,0.85,2.6,0.77,18.100000000000001,7.46,97.5,42.5,207.7,458,99.9,10740,25.5,213.2,328]
["Baclab2N4CII-100",340,206,26.9,1175,3.6,0.31,31,1.81,17.7,19,7.6,48.5,14.6,138,41,167,280,55.8,11130,97,304.8,352.7]
[null,null,null,null,null,null,null,null,null,null,null,null,null,null,null,null,null,null,null,null,""]
[null,null,null,null,null,null,null,null,null,null,null,null,null,null,null,null,null,null,null,null,""]
[null,null,null,null,null,null,null,null,null,null,null,null,null,null,null,null,null,null,null,null,""]
[null,null,null,null,null,null,null,null,null,null,null,null,null,null,null,null,null,null,null,null,""]
[null,null,null,null,null,null,null,null,null,null,null,null,null,null,null,null,null,null,null,null,""]
[null,null,null,null,null,null,null,null,null,null,null,null,null,null,null,null,null,null,null,null,""]
[null,null,null,null,null,null,null,null,null,null,null,null,null,null,null,null,null,null,null,null,""]
[null,null,null,null,null,null,null,null,null,null,null,null,null,null,null,null,null,null,null,null,""]
[null,null,null,null,null,null,null,null,null,null,null,null,null,null,null,null,null,null,null,null,""]
[null,null,null,null,null,null,null,null,null,null,null,null,null,null,null,null,null,null,null,null,""]
[null,null,null,null,null,null,null,null,null,null,null,null,null,null,null,null,null,null,null,null,""]
[null,null,null,null,null,null,null,null,null,null,null,null,null,null,null,null,null,null,null,null,""]
[null,null,null,null,null,null,null,null,null,null,null,null,null,null,null,null,null,null,null,null,""]
[null,null,null,null,null,null,null,null,null,null,null,null,null,null,null,null,null,null,null,null,""]
[null,null,null,null,null,null,null,null,null,null,null,null,null,null,null,null,null,null,null,null,""]
[null,null,null,null,null,null,null,null,null,null,null,null,null,null,null,null,null,null,null,null,""]
[null,null,null,null,null,null,null,null,null,null,null,null,null,null,null,null,null,null,null,null,""]
[null,null,null,null,null,null,null,null,null,null,null,null,null,null,null,null,null,null,null,null,""]
[null,null,null,null,null,null,null,null,null,null,null,null,null,null,null,null,null,null,null,null,""]
[null,null,null,null,null,null,null,null,null,null,null,null,null,null,null,null,null,null,null,null,""]
[null,null,null,null,null,null,null,null,null,null,null,null,null,null,null,null,null,null,null,null,""]
[null,null,null,null,null,null,null,null,null,null,null,null,null,null,null,null,null,null,null,null,""]
[null,null,null,null,null,null,null,null,null,null,null,null,null,null,null,null,null,null,null,null,""]
[null,null,null,null,null,null,null,null,null,null,null,null,null,null,null,null,null,null,null,null,""]
[null,null,null,null,null,null,null,null,null,null,null,null,null,null,null,null,null,null,null,null,""]
[null,null,null,null,null,null,null,null,null,null,null,null,null,null,null,null,null,null,null,null,""]
[null,null,null,null,null,null,null,null,null,null,null,null,null,null,null,null,null,null,null,null,""]
[null,null,null,null,null,null,null,null,null,null,null,null,null,null,null,null,null,null,null,null,""]
[null,null,null,null,null,null,null,null,null,null,null,null,null,null,null,null,null,null,null,null,""]
[null,null,null,null,null,null,null,null,null,null,null,null,null,null,null,null,null,null,null,null,""]
[null,null,null,null,null,null,null,null,null,null,null,null,null,null,null,null,null,null,null,null,""]
[null,null,null,null,null,null,null,null,null,null,null,null,null,null,null,null,null,null,null,null,""]
[null,null,null,null,null,null,null,null,null,null,null,null,null,null,null,null,null,null,null,null,""]
[null,null,null,null,null,null,null,null,null,null,null,null,null,null,null,null,null,null,null,null,""]
[null,null,null,null,null,null,null,null,null,null,null,null,null,null,null,null,null,null,null,null,""]
[null,null,null,null,null,null,null,null,null,null,null,null,null,null,null,null,null,null,null,null,""]
[null,null,null,null,null,null,null,null,null,null,null,null,null,null,null,null,null,null,null,null,""]
[null,null,null,null,null,null,null,null,null,null,null,null,null,null,null,null,null,null,null,null,""]
[null,null,null,null,null,null,null,null,null,null,null,null,null,null,null,null,null,null,null,null,""]
[null,null,null,null,null,null,null,null,null,null,null,null,null,null,null,null,null,null,null,null,""]
[null,null,null,null,null,null,null,null,null,null,null,null,null,null,null,null,null,null,null,null,""]
[null,null,null,null,null,null,null,null,null,null,null,null,null,null,null,null,null,null,null,null,""]
[null,null,null,null,null,null,null,null,null,null,null,null,null,null,null,null,null,null,null,null,""]
[null,null,null,null,null,null,null,null,null,null,null,null,null,null,null,null,null,null,null,null,""]
[null,null,null,null,null,null,null,null,null,null,null,null,null,null,null,null,null,null,null,null,""]
[null,null,null,null,null,null,null,null,null,null,null,null,null,null,null,null,null,null,null,null,""]
[null,null,null,null,null,null,null,null,null,null,null,null,null,null,null,null,null,null,null,null,""]
[null,null,null,null,null,null,null,null,null,null,null,null,null,null,null,null,null,null,null,null,""]
[null,null,null,null,null,null,null,null,null,null,null,null,null,null,null,null,null,null,null,null,""]
[null,null,null,null,null,null,null,null,null,null,null,null,null,null,null,null,null,null,null,null,""]
[null,null,null,null,null,null,null,null,null,null,null,null,null,null,null,null,null,null,null,null,""]
[null,null,null,null,null,null,null,null,null,null,null,null,null,null,null,null,null,null,null,null,""]
[null,null,null,null,null,null,null,null,null,null,null,null,null,null,null,null,null,null,null,null,""]
[null,null,null,null,null,null,null,null,null,null,null,null,null,null,null,null,null,null,null,null,""]
[null,null,null,null,null,null,null,null,null,null,null,null,null,null,null,null,null,null,null,null,""]
[null,null,null,null,null,null,null,null,null,null,null,null,null,null,null,null,null,null,null,null,""]
[null,null,null,null,null,null,null,null,null,null,null,null,null,null,null,null,null,null,null,null,""]
[null,null,null,null,null,null,null,null,null,null,null,null,null,null,null,null,null,null,null,null,""]
[null,null,null,null,null,null,null,null,null,null,null,null,null,null,null,null,null,null,null,null,""]
[null,null,null,null,null,null,null,null,null,null,null,null,null,null,null,null,null,null,null,null,""]
[null,null,null,null,null,null,null,null,null,null,null,null,null,null,null,null,null,null,null,null,""]
[null,null,null,null,null,null,null,null,null,null,null,null,null,null,null,null,null,null,null,null,""]
[null,null,null,null,null,null,null,null,null,null,null,null,null,null,null,null,null,null,null,null,""]
[null,null,null,null,null,null,null,null,null,null,null,null,null,null,null,null,null,null,null,null,""]
[null,null,null,null,null,null,null,null,null,null,null,null,null,null,null,null,null,null,null,null,""]
[null,null,null,null,null,null,null,null,null,null,null,null,null,null,null,null,null,null,null,null,""]
[null,null,null,null,null,null,null,null,null,null,null,null,null,null,null,null,null,null,null,null,""]
[null,null,null,null,null,null,null,null,null,null,null,null,null,null,null,null,null,null,null,null,""]
[null,null,null,null,null,null,null,null,null,null,null,null,null,null,null,null,null,null,null,null,""]
[null,null,null,null,null,null,null,null,null,null,null,null,null,null,null,null,null,null,null,null,""]
[null,null,null,null,null,null,null,null,null,null,null,null,null,null,null,null,null,null,null,null,""]
[null,null,null,null,null,null,null,null,null,null,null,null,null,null,null,null,null,null,null,null,""]
[null,null,null,null,null,null,null,null,null,null,null,null,null,null,null,null,null,null,null,null,""]
[null,null,null,null,null,null,null,null,null,null,null,null,null,null,null,null,null,null,null,null,""]
[null,null,null,null,null,null,null,null,null,null,null,null,null,null,null,null,null,null,null,null,""]
[null,null,null,null,null,null,null,null,null,null,null,null,null,null,null,null,null,null,null,null,""]
[null,null,null,null,null,null,null,null,null,null,null,null,null,null,null,null,null,null,null,null,""]
[null,null,null,null,null,null,null,null,null,null,null,null,null,null,null,null,null,null,null,null,""]
[null,null,null,null,null,null,null,null,null,null,null,null,null,null,null,null,null,null,null,null,""]
[null,null,null,null,null,null,null,null,null,null,null,null,null,null,null,null,null,null,null,null,""]
[null,null,null,null,null,null,null,null,null,null,null,null,null,null,null,null,null,null,null,null,""]
[null,null,null,null,null,null,null,null,null,null,null,null,null,null,null,null,null,null,null,null,""]
[null,null,null,null,null,null,null,null,null,null,null,null,null,null,null,null,null,null,null,null,""]
[null,null,null,null,null,null,null,null,null,null,null,null,null,null,null,null,null,null,null,null,""]
[null,null,null,null,null,null,null,null,null,null,null,null,null,null,null,null,null,null,null,null,""]
[null,null,null,null,null,null,null,null,null,null,null,null,null,null,null,null,null,null,null,null,""]
[null,null,null,null,null,null,null,null,null,null,null,null,null,null,null,null,null,null,null,null,""]
[null,null,null,null,null,null,null,null,null,null,null,null,null,null,null,null,null,null,null,null,""]
[null,null,null,null,null,null,null,null,null,null,null,null,null,null,null,null,null,null,null,null,""]
[null,null,null,null,null,null,null,null,null,null,null,null,null,null,null,null,null,null,null,null,""]
[null,null,null,null,null,null,null,null,null,null,null,null,null,null,null,null,null,null,null,null,""]
[null,null,null,null,null,null,null,null,null,null,null,null,null,null,null,null,null,null,null,null,""]
[null,null,null,null,null,null,null,null,null,null,null,null,null,null,null,null,null,null,null,null,""]
[null,null,null,null,null,null,null,null,null,null,null,null,null,null,null,null,null,null,null,null,""]
[null,null,null,null,null,null,null,null,null,null,null,null,null,null,null,null,null,null,null,null,""]
[null,null,null,null,null,null,null,null,null,null,null,null,null,null,null,null,null,null,null,null,""]
[null,null,null,null,null,null,null,null,null,null,null,null,null,null,null,null,null,null,null,null,""]
[null,null,null,null,null,null,null,null,null,null,null,null,null,null,null,null,null,null,null,null,""]
[null,null,null,null,null,null,null,null,null,null,null,null,null,null,null,null,null,null,null,null,""]
[null,null,null,null,null,null,null,null,null,null,null,null,null,null,null,null,null,null,null,null,""]
[null,null,null,null,null,null,null,null,null,null,null,null,null,null,null,null,null,null,null,null,""]
[null,null,null,null,null,null,null,null,null,null,null,null,null,null,null,null,null,null,null,null,""]
[null,null,null,null,null,null,null,null,null,null,null,null,null,null,null,null,null,null,null,null,""]
[null,null,null,null,null,null,null,null,null,null,null,null,null,null,null,null,null,null,null,null,""]
[null,null,null,null,null,null,null,null,null,null,null,null,null,null,null,null,null,null,null,null,""]
[null,null,null,null,null,null,null,null,null,null,null,null,null,null,null,null,null,null,null,null,""]
[null,null,null,null,null,null,null,null,null,null,null,null,null,null,null,null,null,null,null,null,""]
[null,null,null,null,null,null,null,null,null,null,null,null,null,null,null,null,null,null,null,null,""]
[null,null,null,null,null,null,null,null,null,null,null,null,null,null,null,null,null,null,null,null,""]
[null,null,null,null,null,null,null,null,null,null,null,null,null,null,null,null,null,null,null,null,""]
[null,null,null,null,null,null,null,null,null,null,null,null,null,null,null,null,null,null,null,null,""]
[null,null,null,null,null,null,null,null,null,null,null,null,null,null,null,null,null,null,null,null,""]
[null,null,null,null,null,null,null,null,null,null,null,null,null,null,null,null,null,null,null,null,""]
[null,null,null,null,null,null,null,null,null,null,null,null,null,null,null,null,null,null,null,null,""]
[null,null,null,null,null,null,null,null,null,null,null,null,null,null,null,null,null,null,null,null,""]
[null,null,null,null,null,null,null,null,null,null,null,null,null,null,null,null,null,null,null,null,""]
[null,null,null,null,null,null,null,null,null,null,null,null,null,null,null,null,null,null,null,null,""]
[null,null,null,null,null,null,null,null,null,null,null,null,null,null,null,null,null,null,null,null,""]
[null,null,null,null,null,null,null,null,null,null,null,null,null,null,null,null,null,null,null,null,""]
[null,null,null,null,null,null,null,null,null,null,null,null,null,null,null,null,null,null,null,null,""]
[null,null,null,null,null,null,null,null,null,null,null,null,null,null,null,null,null,null,null,null,""]
[null,null,null,null,null,null,null,null,null,null,null,null,null,null,null,null,null,null,null,null,""]
[null,null,null,null,null,null,null,null,null,null,null,null,null,null,null,null,null,null,null,null,""]
[null,null,null,null,null,null,null,null,null,null,null,null,null,null,null,null,null,null,null,null,""]
[null,null,null,null,null,null,null,null,null,null,null,null,null,null,null,null,null,null,null,null,""]
[null,null,null,null,null,null,null,null,null,null,null,null,null,null,null,null,null,null,null,null,""]
[null,null,null,null,null,null,null,null,null,null,null,null,null,null,null,null,null,null,null,null,""]
[null,null,null,null,null,null,null,null,null,null,null,null,null,null,null,null,null,null,null,null,""]
[null,null,null,null,null,null,null,null,null,null,null,null,null,null,null,null,null,null,null,null,""]
[null,null,null,null,null,null,null,null,null,null,null,null,null,null,null,null,null,null,null,null,""]
[null,null,null,null,null,null,null,null,null,null,null,null,null,null,null,null,null,null,null,null,""]
[null,null,null,null,null,null,null,null,null,null,null,null,null,null,null,null,null,null,null,null,""]
[null,null,null,null,null,null,null,null,null,null,null,null,null,null,null,null,null,null,null,null,""]
[null,null,null,null,null,null,null,null,null,null,null,null,null,null,null,null,null,null,null,null,""]
[null,null,null,null,null,null,null,null,null,null,null,null,null,null,null,null,null,null,null,null,""]
[null,null,null,null,null,null,null,null,null,null,null,null,null,null,null,null,null,null,null,null,""]
[null,null,null,null,null,null,null,null,null,null,null,null,null,null,null,null,null,null,null,null,""]
[null,null,null,null,null,null,null,null,null,null,null,null,null,null,null,null,null,null,null,null,""]
[null,null,null,null,null,null,null,null,null,null,null,null,null,null,null,null,null,null,null,null,""]
[null,null,null,null,null,null,null,null,null,null,null,null,null,null,null,null,null,null,null,null,""]
[null,null,null,null,null,null,null,null,null,null,null,null,null,null,null,null,null,null,null,null,""]
[null,null,null,null,null,null,null,null,null,null,null,null,null,null,null,null,null,null,null,null,""]
[null,null,null,null,null,null,null,null,null,null,null,null,null,null,null,null,null,null,null,null,""]
[null,null,null,null,null,null,null,null,null,null,null,null,null,null,null,null,null,null,null,null,""]
[null,null,null,null,null,null,null,null,null,null,null,null,null,null,null,null,null,null,null,null,""]
[null,null,null,null,null,null,null,null,null,null,null,null,null,null,null,null,null,null,null,null,""]
[null,null,null,null,null,null,null,null,null,null,null,null,null,null,null,null,null,null,null,null,""]
[null,null,null,null,null,null,null,null,null,null,null,null,null,null,null,null,null,null,null,null,""]
[null,null,null,null,null,null,null,null,null,null,null,null,null,null,null,null,null,null,null,null,""]
[null,null,null,null,null,null,null,null,null,null,null,null,null,null,null,null,null,null,null,null,""]
[null,null,null,null,null,null,null,null,null,null,null,null,null,null,null,null,null,null,null,null,""]
[null,null,null,null,null,null,null,null,null,null,null,null,null,null,null,null,null,null,null,null,""]
[null,null,null,null,null,null,null,null,null,null,null,null,null,null,null,null,null,null,null,null,""]
[null,null,null,null,null,null,null,null,null,null,null,null,null,null,null,null,null,null,null,null,""]
[null,null,null,null,null,null,null,null,null,null,null,null,null,null,null,null,null,null,null,null,""]
[null,null,null,null,null,null,null,null,null,null,null,null,null,null,null,null,null,null,null,null,""]
[null,null,null,null,null,null,null,null,null,null,null,null,null,null,null,null,null,null,null,null,""]
[null,null,null,null,null,null,null,null,null,null,null,null,null,null,null,null,null,null,null,null,""]
[null,null,null,null,null,null,null,null,null,null,null,null,null,null,null,null,null,null,null,null,""]
[null,null,null,null,null,null,null,null,null,null,null,null,null,null,null,null,null,null,null,null,""]
[null,null,null,null,null,null,null,null,null,null,null,null,null,null,null,null,null,null,null,null,""]
[null,null,null,null,null,null,null,null,null,null,null,null,null,null,null,null,null,null,null,null,""]
[null,null,null,null,null,null,null,null,null,null,null,null,null,null,null,null,null,null,null,null,""]
[null,null,null,null,null,null,null,null,null,null,null,null,null,null,null,null,null,null,null,null,""]
[null,null,null,null,null,null,null,null,null,null,null,null,null,null,null,null,null,null,null,null,""]
[null,null,null,null,null,null,null,null,null,null,null,null,null,null,null,null,null,null,null,null,""]
[null,null,null,null,null,null,null,null,null,null,null,null,null,null,null,null,null,null,null,null,""]
[null,null,null,null,null,null,null,null,null,null,null,null,null,null,null,null,null,null,null,null,""]
[null,null,null,null,null,null,null,null,null,null,null,null,null,null,null,null,null,null,null,null,""]
[null,null,null,null,null,null,null,null,null,null,null,null,null,null,null,null,null,null,null,null,""]
[null,null,null,null,null,null,null,null,null,null,null,null,null,null,null,null,null,null,null,null,""]
[null,null,null,null,null,null,null,null,null,null,null,null,null,null,null,null,null,null,null,null,""]
[null,null,null,null,null,null,null,null,null,null,null,null,null,null,null,null,null,null,null,null,""]
[null,null,null,null,null,null,null,null,null,null,null,null,null,null,null,null,null,null,null,null,""]
[null,null,null,null,null,null,null,null,null,null,null,null,null,null,null,null,null,null,null,null,""]
[null,null,null,null,null,null,null,null,null,null,null,null,null,null,null,null,null,null,null,null,""]
[null,null,null,null,null,null,null,null,null,null,null,null,null,null,null,null,null,null,null,null,""]
[null,null,null,null,null,null,null,null,null,null,null,null,null,null,null,null,null,null,null,null,""]
[null,null,null,null,null,null,null,null,null,null,null,null,null,null,null,null,null,null,null,null,""]
[null,null,null,null,null,null,null,null,null,null,null,null,null,null,null,null,null,null,null,null,""]
[null,null,null,null,null,null,null,null,null,null,null,null,null,null,null,null,null,null,null,null,""]
[null,null,null,null,null,null,null,null,null,null,null,null,null,null,null,null,null,null,null,null,""]
[null,null,null,null,null,null,null,null,null,null,null,null,null,null,null,null,null,null,null,null,""]
[null,null,null,null,null,null,null,null,null,null,null,null,null,null,null,null,null,null,null,null,""]
[null,null,null,null,null,null,null,null,null,null,null,null,null,null,null,null,null,null,null,null,""]
[null,null,null,null,null,null,null,null,null,null,null,null,null,null,null,null,null,null,null,null,""]
[null,null,null,null,null,null,null,null,null,null,null,null,null,null,null,null,null,null,null,null,""]
[null,null,null,null,null,null,null,null,null,null,null,null,null,null,null,null,null,null,null,null,""]
[null,null,null,null,null,null,null,null,null,null,null,null,null,null,null,null,null,null,null,null,""]
[null,null,null,null,null,null,null,null,null,null,null,null,null,null,null,null,null,null,null,null,""]
[null,null,null,null,null,null,null,null,null,null,null,null,null,null,null,null,null,null,null,null,""]
[null,null,null,null,null,null,null,null,null,null,null,null,null,null,null,null,null,null,null,null,""]
[null,null,null,null,null,null,null,null,null,null,null,null,null,null,null,null,null,null,null,null,""]
[null,null,null,null,null,null,null,null,null,null,null,null,null,null,null,null,null,null,null,null,""]
[null,null,null,null,null,null,null,null,null,null,null,null,null,null,null,null,null,null,null,null,""]
[null,null,null,null,null,null,null,null,null,null,null,null,null,null,null,null,null,null,null,null,""]
[null,null,null,null,null,null,null,null,null,null,null,null,null,null,null,null,null,null,null,null,""]
[null,null,null,null,null,null,null,null,null,null,null,null,null,null,null,null,null,null,null,null,""]
[null,null,null,null,null,null,null,null,null,null,null,null,null,null,null,null,null,null,null,null,""]
[null,null,null,null,null,null,null,null,null,null,null,null,null,null,null,null,null,null,null,null,""]
[null,null,null,null,null,null,null,null,null,null,null,null,null,null,null,null,null,null,null,null,""]
[null,null,null,null,null,null,null,null,null,null,null,null,null,null,null,null,null,null,null,null,""]
[null,null,null,null,null,null,null,null,null,null,null,null,null,null,null,null,null,null,null,null,""]
[null,null,null,null,null,null,null,null,null,null,null,null,null,null,null,null,null,null,null,null,""]
[null,null,null,null,null,null,null,null,null,null,null,null,null,null,null,null,null,null,null,null,""]
[null,null,null,null,null,null,null,null,null,null,null,null,null,null,null,null,null,null,null,null,""]
[null,null,null,null,null,null,null,null,null,null,null,null,null,null,null,null,null,null,null,null,""]
[null,null,null,null,null,null,null,null,null,null,null,null,null,null,null,null,null,null,null,null,""]
[null,null,null,null,null,null,null,null,null,null,null,null,null,null,null,null,null,null,null,null,""]
[null,null,null,null,null,null,null,null,null,null,null,null,null,null,null,null,null,null,null,null,""]
[null,null,null,null,null,null,null,null,null,null,null,null,null,null,null,null,null,null,null,null,""]
[null,null,null,null,null,null,null,null,null,null,null,null,null,null,null,null,null,null,null,null,""]
[null,null,null,null,null,null,null,null,null,null,null,null,null,null,null,null,null,null,null,null,""]
[null,null,null,null,null,null,null,null,null,null,null,null,null,null,null,null,null,null,null,null,""]
[null,null,null,null,null,null,null,null,null,null,null,null,null,null,null,null,null,null,null,null,""]
[null,null,null,null,null,null,null,null,null,null,null,null,null,null,null,null,null,null,null,null,""]
[null,null,null,null,null,null,null,null,null,null,null,null,null,null,null,null,null,null,null,null,""]
[null,null,null,null,null,null,null,null,null,null,null,null,null,null,null,null,null,null,null,null,""]
[null,null,null,null,null,null,null,null,null,null,null,null,null,null,null,null,null,null,null,null,""]
[null,null,null,null,null,null,null,null,null,null,null,null,null,null,null,null,null,null,null,null,""]
[null,null,null,null,null,null,null,null,null,null,null,null,null,null,null,null,null,null,null,null,""]
[null,null,null,null,null,null,null,null,null,null,null,null,null,null,null,null,null,null,null,null,""]
[null,null,null,null,null,null,null,null,null,null,null,null,null,null,null,null,null,null,null,null,""]
[null,null,null,null,null,null,null,null,null,null,null,null,null,null,null,null,null,null,null,null,""]
[null,null,null,null,null,null,null,null,null,null,null,null,null,null,null,null,null,null,null,null,""]
[null,null,null,null,null,null,null,null,null,null,null,null,null,null,null,null,null,null,null,null,""]
[null,null,null,null,null,null,null,null,null,null,null,null,null,null,null,null,null,null,null,null,""]
[null,null,null,null,null,null,null,null,null,null,null,null,null,null,null,null,null,null,null,null,""]
[null,null,null,null,null,null,null,null,null,null,null,null,null,null,null,null,null,null,null,null,""]
[null,null,null,null,null,null,null,null,null,null,null,null,null,null,null,null,null,null,null,null,""]
[null,null,null,null,null,null,null,null,null,null,null,null,null,null,null,null,null,null,null,null,""]
[null,null,null,null,null,null,null,null,null,null,null,null,null,null,null,null,null,null,null,null,""]
[null,null,null,null,null,null,null,null,null,null,null,null,null,null,null,null,null,null,null,null,""]
[null,null,null,null,null,null,null,null,null,null,null,null,null,null,null,null,null,null,null,null,""]
[null,null,null,null,null,null,null,null,null,null,null,null,null,null,null,null,null,null,null,null,""]
[null,null,null,null,null,null,null,null,null,null,null,null,null,null,null,null,null,null,null,null,""]
[null,null,null,null,null,null,null,null,null,null,null,null,null,null,null,null,null,null,null,null,""]
[null,null,null,null,null,null,null,null,null,null,null,null,null,null,null,null,null,null,null,null,""]
[null,null,null,null,null,null,null,null,null,null,null,null,null,null,null,null,null,null,null,null,""]
[null,null,null,null,null,null,null,null,null,null,null,null,null,null,null,null,null,null,null,null,""]
[null,null,null,null,null,null,null,null,null,null,null,null,null,null,null,null,null,null,null,null,""]
[null,null,null,null,null,null,null,null,null,null,null,null,null,null,null,null,null,null,null,null,""]
[null,null,null,null,null,null,null,null,null,null,null,null,null,null,null,null,null,null,null,null,""]
[null,null,null,null,null,null,null,null,null,null,null,null,null,null,null,null,null,null,null,null,""]
[null,null,null,null,null,null,null,null,null,null,null,null,null,null,null,null,null,null,null,null,""]
[null,null,null,null,null,null,null,null,null,null,null,null,null,null,null,null,null,null,null,null,""]
[null,null,null,null,null,null,null,null,null,null,null,null,null,null,null,null,null,null,null,null,""]
[null,null,null,null,null,null,null,null,null,null,null,null,null,null,null,null,null,null,null,null,""]
[null,null,null,null,null,null,null,null,null,null,null,null,null,null,null,null,null,null,null,null,""]
[null,null,null,null,null,null,null,null,null,null,null,null,null,null,null,null,null,null,null,null,""]
[null,null,null,null,null,null,null,null,null,null,null,null,null,null,null,null,null,null,null,null,""]
[null,null,null,null,null,null,null,null,null,null,null,null,null,null,null,null,null,null,null,null,""]
[null,null,null,null,null,null,null,null,null,null,null,null,null,null,null,null,null,null,null,null,""]
[null,null,null,null,null,null,null,null,null,null,null,null,null,null,null,null,null,null,null,null,""]
[null,null,null,null,null,null,null,null,null,null,null,null,null,null,null,null,null,null,null,null,""]
[null,null,null,null,null,null,null,null,null,null,null,null,null,null,null,null,null,null,null,null,""]
[null,null,null,null,null,null,null,null,null,null,null,null,null,null,null,null,null,null,null,null,""]
[null,null,null,null,null,null,null,null,null,null,null,null,null,null,null,null,null,null,null,null,""]
[null,null,null,null,null,null,null,null,null,null,null,null,null,null,null,null,null,null,null,null,""]
[null,null,null,null,null,null,null,null,null,null,null,null,null,null,null,null,null,null,null,null,""]
[null,null,null,null,null,null,null,null,null,null,null,null,null,null,null,null,null,null,null,null,""]
[null,null,null,null,null,null,null,null,null,null,null,null,null,null,null,null,null,null,null,null,""]
[null,null,null,null,null,null,null,null,null,null,null,null,null,null,null,null,null,null,null,null,""]
[null,null,null,null,null,null,null,null,null,null,null,null,null,null,null,null,null,null,null,null,""]
[null,null,null,null,null,null,null,null,null,null,null,null,null,null,null,null,null,null,null,null,""]
[null,null,null,null,null,null,null,null,null,null,null,null,null,null,null,null,null,null,null,null,""]
[null,null,null,null,null,null,null,null,null,null,null,null,null,null,null,null,null,null,null,null,""]
[null,null,null,null,null,null,null,null,null,null,null,null,null,null,null,null,null,null,null,null,""]
[null,null,null,null,null,null,null,null,null,null,null,null,null,null,null,null,null,null,null,null,""]
[null,null,null,null,null,null,null,null,null,null,null,null,null,null,null,null,null,null,null,null,""]
[null,null,null,null,null,null,null,null,null,null,null,null,null,null,null,null,null,null,null,null,""]
[null,null,null,null,null,null,null,null,null,null,null,null,null,null,null,null,null,null,null,null,""]
[null,null,null,null,null,null,null,null,null,null,null,null,null,null,null,null,null,null,null,null,""]
[null,null,null,null,null,null,null,null,null,null,null,null,null,null,null,null,null,null,null,null,""]
[null,null,null,null,null,null,null,null,null,null,null,null,null,null,null,null,null,null,null,null,""]
[null,null,null,null,null,null,null,null,null,null,null,null,null,null,null,null,null,null,null,null,""]
[null,null,null,null,null,null,null,null,null,null,null,null,null,null,null,null,null,null,null,null,""]
[null,null,null,null,null,null,null,null,null,null,null,null,null,null,null,null,null,null,null,null,""]
[null,null,null,null,null,null,null,null,null,null,null,null,null,null,null,null,null,null,null,null,""]
[null,null,null,null,null,null,null,null,null,null,null,null,null,null,null,null,null,null,null,null,""]
[null,null,null,null,null,null,null,null,null,null,null,null,null,null,null,null,null,null,null,null,""]
[null,null,null,null,null,null,null,null,null,null,null,null,null,null,null,null,null,null,null,null,""]
[null,null,null,null,null,null,null,null,null,null,null,null,null,null,null,null,null,null,null,null,""]
[null,null,null,null,null,null,null,null,null,null,null,null,null,null,null,null,null,null,null,null,""]
[null,null,null,null,null,null,null,null,null,null,null,null,null,null,null,null,null,null,null,null,""]
[null,null,null,null,null,null,null,null,null,null,null,null,null,null,null,null,null,null,null,null,""]
[null,null,null,null,null,null,null,null,null,null,null,null,null,null,null,null,null,null,null,null,""]
[null,null,null,null,null,null,null,null,null,null,null,null,null,null,null,null,null,null,null,null,""]
[null,null,null,null,null,null,null,null,null,null,null,null,null,null,null,null,null,null,null,null,""]
[null,null,null,null,null,null,null,null,null,null,null,null,null,null,null,null,null,null,null,null,""]
[null,null,null,null,null,null,null,null,null,null,null,null,null,null,null,null,null,null,null,null,""]
[null,null,null,null,null,null,null,null,null,null,null,null,null,null,null,null,null,null,null,null,""]
[null,null,null,null,null,null,null,null,null,null,null,null,null,null,null,null,null,null,null,null,""]
[null,null,null,null,null,null,null,null,null,null,null,null,null,null,null,null,null,null,null,null,""]
[null,null,null,null,null,null,null,null,null,null,null,null,null,null,null,null,null,null,null,null,""]
[null,null,null,null,null,null,null,null,null,null,null,null,null,null,null,null,null,null,null,null,""]
[null,null,null,null,null,null,null,null,null,null,null,null,null,null,null,null,null,null,null,null,""]
[null,null,null,null,null,null,null,null,null,null,null,null,null,null,null,null,null,null,null,null,""]
[null,null,null,null,null,null,null,null,null,null,null,null,null,null,null,null,null,null,null,null,""]
[null,null,null,null,null,null,null,null,null,null,null,null,null,null,null,null,null,null,null,null,""]
[null,null,null,null,null,null,null,null,null,null,null,null,null,null,null,null,null,null,null,null,""]
[null,null,null,null,null,null,null,null,null,null,null,null,null,null,null,null,null,null,null,null,""]
[null,null,null,null,null,null,null,null,null,null,null,null,null,null,null,null,null,null,null,null,""]
[null,null,null,null,null,null,null,null,null,null,null,null,null,null,null,null,null,null,null,null,""]
[null,null,null,null,null,null,null,null,null,null,null,null,null,null,null,null,null,null,null,null,""]
[null,null,null,null,null,null,null,null,null,null,null,null,null,null,null,null,null,null,null,null,""]
[null,null,null,null,null,null,null,null,null,null,null,null,null,null,null,null,null,null,null,null,""]
[null,null,null,null,null,null,null,null,null,null,null,null,null,null,null,null,null,null,null,null,""]
[null,null,null,null,null,null,null,null,null,null,null,null,null,null,null,null,null,null,null,null,""]
[null,null,null,null,null,null,null,null,null,null,null,null,null,null,null,null,null,null,null,null,""]
[null,null,null,null,null,null,null,null,null,null,null,null,null,null,null,null,null,null,null,null,""]
[null,null,null,null,null,null,null,null,null,null,null,null,null,null,null,null,null,null,null,null,""]
[null,null,null,null,null,null,null,null,null,null,null,null,null,null,null,null,null,null,null,null,""]
[null,null,null,null,null,null,null,null,null,null,null,null,null,null,null,null,null,null,null,null,""]
[null,null,null,null,null,null,null,null,null,null,null,null,null,null,null,null,null,null,null,null,""]
[null,null,null,null,null,null,null,null,null,null,null,null,null,null,null,null,null,null,null,null,""]
[null,null,null,null,null,null,null,null,null,null,null,null,null,null,null,null,null,null,null,null,""]
[null,null,null,null,null,null,null,null,null,null,null,null,null,null,null,null,null,null,null,null,""]
[null,null,null,null,null,null,null,null,null,null,null,null,null,null,null,null,null,null,null,null,""]
[null,null,null,null,null,null,null,null,null,null,null,null,null,null,null,null,null,null,null,null,""]
[null,null,null,null,null,null,null,null,null,null,null,null,null,null,null,null,null,null,null,null,""]
[null,null,null,null,null,null,null,null,null,null,null,null,null,null,null,null,null,null,null,null,""]
[null,null,null,null,null,null,null,null,null,null,null,null,null,null,null,null,null,null,null,null,""]
[null,null,null,null,null,null,null,null,null,null,null,null,null,null,null,null,null,null,null,null,""]
[null,null,null,null,null,null,null,null,null,null,null,null,null,null,null,null,null,null,null,null,""]
[null,null,null,null,null,null,null,null,null,null,null,null,null,null,null,null,null,null,null,null,""]
[null,null,null,null,null,null,null,null,null,null,null,null,null,null,null,null,null,null,null,null,""]
[null,null,null,null,null,null,null,null,null,null,null,null,null,null,null,null,null,null,null,null,""]
[null,null,null,null,null,null,null,null,null,null,null,null,null,null,null,null,null,null,null,null,""]
[null,null,null,null,null,null,null,null,null,null,null,null,null,null,null,null,null,null,null,null,""]
[null,null,null,null,null,null,null,null,null,null,null,null,null,null,null,null,null,null,null,null,""]
[null,null,null,null,null,null,null,null,null,null,null,null,null,null,null,null,null,null,null,null,""]
[null,null,null,null,null,null,null,null,null,null,null,null,null,null,null,null,null,null,null,null,""]
[null,null,null,null,null,null,null,null,null,null,null,null,null,null,null,null,null,null,null,null,""]
[null,null,null,null,null,null,null,null,null,null,null,null,null,null,null,null,null,null,null,null,""]
[null,null,null,null,null,null,null,null,null,null,null,null,null,null,null,null,null,null,null,null,""]
[null,null,null,null,null,null,null,null,null,null,null,null,null,null,null,null,null,null,null,null,""]
[null,null,null,null,null,null,null,null,null,null,null,null,null,null,null,null,null,null,null,null,""]
[null,null,null,null,null,null,null,null,null,null,null,null,null,null,null,null,null,null,null,null,""]
[null,null,null,null,null,null,null,null,null,null,null,null,null,null,null,null,null,null,null,null,""]
[null,null,null,null,null,null,null,null,null,null,null,null,null,null,null,null,null,null,null,null,""]
[null,null,null,null,null,null,null,null,null,null,null,null,null,null,null,null,null,null,null,null,""]
[null,null,null,null,null,null,null,null,null,null,null,null,null,null,null,null,null,null,null,null,""]
[null,null,null,null,null,null,null,null,null,null,null,null,null,null,null,null,null,null,null,null,""]
[null,null,null,null,null,null,null,null,null,null,null,null,null,null,null,null,null,null,null,null,""]
[null,null,null,null,null,null,null,null,null,null,null,null,null,null,null,null,null,null,null,null,""]
[null,null,null,null,null,null,null,null,null,null,null,null,null,null,null,null,null,null,null,null,""]
[null,null,null,null,null,null,null,null,null,null,null,null,null,null,null,null,null,null,null,null,""]
[null,null,null,null,null,null,null,null,null,null,null,null,null,null,null,null,null,null,null,null,""]
[null,null,null,null,null,null,null,null,null,null,null,null,null,null,null,null,null,null,null,null,""]
[null,null,null,null,null,null,null,null,null,null,null,null,null,null,null,null,null,null,null,null,""]
[null,null,null,null,null,null,null,null,null,null,null,null,null,null,null,null,null,null,null,null,""]
[null,null,null,null,null,null,null,null,null,null,null,null,null,null,null,null,null,null,null,null,""]
[null,null,null,null,null,null,null,null,null,null,null,null,null,null,null,null,null,null,null,null,""]
[null,null,null,null,null,null,null,null,null,null,null,null,null,null,null,null,null,null,null,null,""]
[null,null,null,null,null,null,null,null,null,null,null,null,null,null,null,null,null,null,null,null,""]
[null,null,null,null,null,null,null,null,null,null,null,null,null,null,null,null,null,null,null,null,""]
[null,null,null,null,null,null,null,null,null,null,null,null,null,null,null,null,null,null,null,null,""]
[null,null,null,null,null,null,null,null,null,null,null,null,null,null,null,null,null,null,null,null,""]
[null,null,null,null,null,null,null,null,null,null,null,null,null,null,null,null,null,null,null,null,""]
[null,null,null,null,null,null,null,null,null,null,null,null,null,null,null,null,null,null,null,null,""]
[null,null,null,null,null,null,null,null,null,null,null,null,null,null,null,null,null,null,null,null,""]
[null,null,null,null,null,null,null,null,null,null,null,null,null,null,null,null,null,null,null,null,""]
[null,null,null,null,null,null,null,null,null,null,null,null,null,null,null,null,null,null,null,null,""]
[null,null,null,null,null,null,null,null,null,null,null,null,null,null,null,null,null,null,null,null,""]
[null,null,null,null,null,null,null,null,null,null,null,null,null,null,null,null,null,null,null,null,""]
[null,null,null,null,null,null,null,null,null,null,null,null,null,null,null,null,null,null,null,null,""]
[null,null,null,null,null,null,null,null,null,null,null,null,null,null,null,null,null,null,null,null,""]
[null,null,null,null,null,null,null,null,null,null,null,null,null,null,null,null,null,null,null,null,""]
[null,null,null,null,null,null,null,null,null,null,null,null,null,null,null,null,null,null,null,null,""]
[null,null,null,null,null,null,null,null,null,null,null,null,null,null,null,null,null,null,null,null,""]
[null,null,null,null,null,null,null,null,null,null,null,null,null,null,null,null,null,null,null,null,""]
[null,null,null,null,null,null,null,null,null,null,null,null,null,null,null,null,null,null,null,null,""]
[null,null,null,null,null,null,null,null,null,null,null,null,null,null,null,null,null,null,null,null,""]
[null,null,null,null,null,null,null,null,null,null,null,null,null,null,null,null,null,null,null,null,""]
[null,null,null,null,null,null,null,null,null,null,null,null,null,null,null,null,null,null,null,null,""]
[null,null,null,null,null,null,null,null,null,null,null,null,null,null,null,null,null,null,null,null,""]
[null,null,null,null,null,null,null,null,null,null,null,null,null,null,null,null,null,null,null,null,""]
[null,null,null,null,null,null,null,null,null,null,null,null,null,null,null,null,null,null,null,null,""]
[null,null,null,null,null,null,null,null,null,null,null,null,null,null,null,null,null,null,null,null,""]
[null,null,null,null,null,null,null,null,null,null,null,null,null,null,null,null,null,null,null,null,""]
[null,null,null,null,null,null,null,null,null,null,null,null,null,null,null,null,null,null,null,null,""]
[null,null,null,null,null,null,null,null,null,null,null,null,null,null,null,null,null,null,null,null,""]
[null,null,null,null,null,null,null,null,null,null,null,null,null,null,null,null,null,null,null,null,""]
[null,null,null,null,null,null,null,null,null,null,null,null,null,null,null,null,null,null,null,null,""]
[null,null,null,null,null,null,null,null,null,null,null,null,null,null,null,null,null,null,null,null,""]
[null,null,null,null,null,null,null,null,null,null,null,null,null,null,null,null,null,null,null,null,""]
[null,null,null,null,null,null,null,null,null,null,null,null,null,null,null,null,null,null,null,null,""]
[null,null,null,null,null,null,null,null,null,null,null,null,null,null,null,null,null,null,null,null,""]
[null,null,null,null,null,null,null,null,null,null,null,null,null,null,null,null,null,null,null,null,""]
[null,null,null,null,null,null,null,null,null,null,null,null,null,null,null,null,null,null,null,null,""]
[null,null,null,null,null,null,null,null,null,null,null,null,null,null,null,null,null,null,null,null,""]
[null,null,null,null,null,null,null,null,null,null,null,null,null,null,null,null,null,null,null,null,""]
[null,null,null,null,null,null,null,null,null,null,null,null,null,null,null,null,null,null,null,null,""]
[null,null,null,null,null,null,null,null,null,null,null,null,null,null,null,null,null,null,null,null,""]
[null,null,null,null,null,null,null,null,null,null,null,null,null,null,null,null,null,null,null,null,""]
[null,null,null,null,null,null,null,null,null,null,null,null,null,null,null,null,null,null,null,null,""]
[null,null,null,null,null,null,null,null,null,null,null,null,null,null,null,null,null,null,null,null,""]
[null,null,null,null,null,null,null,null,null,null,null,null,null,null,null,null,null,null,null,null,""]
[null,null,null,null,null,null,null,null,null,null,null,null,null,null,null,null,null,null,null,null,""]
[null,null,null,null,null,null,null,null,null,null,null,null,null,null,null,null,null,null,null,null,""]
[null,null,null,null,null,null,null,null,null,null,null,null,null,null,null,null,null,null,null,null,""]
[null,null,null,null,null,null,null,null,null,null,null,null,null,null,null,null,null,null,null,null,""]
[null,null,null,null,null,null,null,null,null,null,null,null,null,null,null,null,null,null,null,null,""]
[null,null,null,null,null,null,null,null,null,null,null,null,null,null,null,null,null,null,null,null,""]
[null,null,null,null,null,null,null,null,null,null,null,null,null,null,null,null,null,null,null,null,""]
[null,null,null,null,null,null,null,null,null,null,null,null,null,null,null,null,null,null,null,null,""]
[null,null,null,null,null,null,null,null,null,null,null,null,null,null,null,null,null,null,null,null,""]
[null,null,null,null,null,null,null,null,null,null,null,null,null,null,null,null,null,null,null,null,""]
[null,null,null,null,null,null,null,null,null,null,null,null,null,null,null,null,null,null,null,null,""]
[null,null,null,null,null,null,null,null,null,null,null,null,null,null,null,null,null,null,null,null,""]
[null,null,null,null,null,null,null,null,null,null,null,null,null,null,null,null,null,null,null,null,""]
[null,null,null,null,null,null,null,null,null,null,null,null,null,null,null,null,null,null,null,null,""]
[null,null,null,null,null,null,null,null,null,null,null,null,null,null,null,null,null,null,null,null,""]
[null,null,null,null,null,null,null,null,null,null,null,null,null,null,null,null,null,null,null,null,""]
[null,null,null,null,null,null,null,null,null,null,null,null,null,null,null,null,null,null,null,null,""]
[null,null,null,null,null,null,null,null,null,null,null,null,null,null,null,null,null,null,null,null,""]
[null,null,null,null,null,null,null,null,null,null,null,null,null,null,null,null,null,null,null,null,""]
[null,null,null,null,null,null,null,null,null,null,null,null,null,null,null,null,null,null,null,null,""]
[null,null,null,null,null,null,null,null,null,null,null,null,null,null,null,null,null,null,null,null,""]
[null,null,null,null,null,null,null,null,null,null,null,null,null,null,null,null,null,null,null,null,""]
[null,null,null,null,null,null,null,null,null,null,null,null,null,null,null,null,null,null,null,null,""]
[null,null,null,null,null,null,null,null,null,null,null,null,null,null,null,null,null,null,null,null,""]
[null,null,null,null,null,null,null,null,null,null,null,null,null,null,null,null,null,null,null,null,""]
[null,null,null,null,null,null,null,null,null,null,null,null,null,null,null,null,null,null,null,null,""]
[null,null,null,null,null,null,null,null,null,null,null,null,null,null,null,null,null,null,null,null,""]
[null,null,null,null,null,null,null,null,null,null,null,null,null,null,null,null,null,null,null,null,""]
[null,null,null,null,null,null,null,null,null,null,null,null,null,null,null,null,null,null,null,null,""]
[null,null,null,null,null,null,null,null,null,null,null,null,null,null,null,null,null,null,null,null,""]
[null,null,null,null,null,null,null,null,null,null,null,null,null,null,null,null,null,null,null,null,""]
[null,null,null,null,null,null,null,null,null,null,null,null,null,null,null,null,null,null,null,null,""]
[null,null,null,null,null,null,null,null,null,null,null,null,null,null,null,null,null,null,null,null,""]
[null,null,null,null,null,null,null,null,null,null,null,null,null,null,null,null,null,null,null,null,""]
[null,null,null,null,null,null,null,null,null,null,null,null,null,null,null,null,null,null,null,null,""]
[null,null,null,null,null,null,null,null,null,null,null,null,null,null,null,null,null,null,null,null,""]
[null,null,null,null,null,null,null,null,null,null,null,null,null,null,null,null,null,null,null,null,""]
[null,null,null,null,null,null,null,null,null,null,null,null,null,null,null,null,null,null,null,null,""]
[null,null,null,null,null,null,null,null,null,null,null,null,null,null,null,null,null,null,null,null,""]
[null,null,null,null,null,null,null,null,null,null,null,null,null,null,null,null,null,null,null,null,""]
[null,null,null,null,null,null,null,null,null,null,null,null,null,null,null,null,null,null,null,null,""]
[null,null,null,null,null,null,null,null,null,null,null,null,null,null,null,null,null,null,null,null,""]
[null,null,null,null,null,null,null,null,null,null,null,null,null,null,null,null,null,null,null,null,""]
[null,null,null,null,null,null,null,null,null,null,null,null,null,null,null,null,null,null,null,null,""]
[null,null,null,null,null,null,null,null,null,null,null,null,null,null,null,null,null,null,null,null,""]
[null,null,null,null,null,null,null,null,null,null,null,null,null,null,null,null,null,null,null,null,""]
[null,null,null,null,null,null,null,null,null,null,null,null,null,null,null,null,null,null,null,null,""]
[null,null,null,null,null,null,null,null,null,null,null,null,null,null,null,null,null,null,null,null,""]
[null,null,null,null,null,null,null,null,null,null,null,null,null,null,null,null,null,null,null,null,""]
[null,null,null,null,null,null,null,null,null,null,null,null,null,null,null,null,null,null,null,null,""]
[null,null,null,null,null,null,null,null,null,null,null,null,null,null,null,null,null,null,null,null,""]
[null,null,null,null,null,null,null,null,null,null,null,null,null,null,null,null,null,null,null,null,""]
[null,null,null,null,null,null,null,null,null,null,null,null,null,null,null,null,null,null,null,null,""]
[null,null,null,null,null,null,null,null,null,null,null,null,null,null,null,null,null,null,null,null,""]
[null,null,null,null,null,null,null,null,null,null,null,null,null,null,null,null,null,null,null,null,""]
[null,null,null,null,null,null,null,null,null,null,null,null,null,null,null,null,null,null,null,null,""]
[null,null,null,null,null,null,null,null,null,null,null,null,null,null,null,null,null,null,null,null,""]
[null,null,null,null,null,null,null,null,null,null,null,null,null,null,null,null,null,null,null,null,""]
[null,null,null,null,null,null,null,null,null,null,null,null,null,null,null,null,null,null,null,null,""]
[null,null,null,null,null,null,null,null,null,null,null,null,null,null,null,null,null,null,null,null,""]
[null,null,null,null,null,null,null,null,null,null,null,null,null,null,null,null,null,null,null,null,""]
[null,null,null,null,null,null,null,null,null,null,null,null,null,null,null,null,null,null,null,null,""]
[null,null,null,null,null,null,null,null,null,null,null,null,null,null,null,null,null,null,null,null,""]
[null,null,null,null,null,null,null,null,null,null,null,null,null,null,null,null,null,null,null,null,""]
[null,null,null,null,null,null,null,null,null,null,null,null,null,null,null,null,null,null,null,null,""]
[null,null,null,null,null,null,null,null,null,null,null,null,null,null,null,null,null,null,null,null,""]
[null,null,null,null,null,null,null,null,null,null,null,null,null,null,null,null,null,null,null,null,""]
[null,null,null,null,null,null,null,null,null,null,null,null,null,null,null,null,null,null,null,null,""]
[null,null,null,null,null,null,null,null,null,null,null,null,null,null,null,null,null,null,null,null,""]
[null,null,null,null,null,null,null,null,null,null,null,null,null,null,null,null,null,null,null,null,""]
[null,null,null,null,null,null,null,null,null,null,null,null,null,null,null,null,null,null,null,null,""]
[null,null,null,null,null,null,null,null,null,null,null,null,null,null,null,null,null,null,null,null,""]
[null,null,null,null,null,null,null,null,null,null,null,null,null,null,null,null,null,null,null,null,""]
[null,null,null,null,null,null,null,null,null,null,null,null,null,null,null,null,null,null,null,null,""]
[null,null,null,null,null,null,null,null,null,null,null,null,null,null,null,null,null,null,null,null,""]
[null,null,null,null,null,null,null,null,null,null,null,null,null,null,null,null,null,null,null,null,""]
[null,null,null,null,null,null,null,null,null,null,null,null,null,null,null,null,null,null,null,null,""]
[null,null,null,null,null,null,null,null,null,null,null,null,null,null,null,null,null,null,null,null,""]
[null,null,null,null,null,null,null,null,null,null,null,null,null,null,null,null,null,null,null,null,""]
[null,null,null,null,null,null,null,null,null,null,null,null,null,null,null,null,null,null,null,null,""]
[null,null,null,null,null,null,null,null,null,null,null,null,null,null,null,null,null,null,null,null,""]
[null,null,null,null,null,null,null,null,null,null,null,null,null,null,null,null,null,null,null,null,""]
[null,null,null,null,null,null,null,null,null,null,null,null,null,null,null,null,null,null,null,null,""]
[null,null,null,null,null,null,null,null,null,null,null,null,null,null,null,null,null,null,null,null,""]
[null,null,null,null,null,null,null,null,null,null,null,null,null,null,null,null,null,null,null,null,""]
[null,null,null,null,null,null,null,null,null,null,null,null,null,null,null,null,null,null,null,null,""]
[null,null,null,null,null,null,null,null,null,null,null,null,null,null,null,null,null,null,null,null,""]
[null,null,null,null,null,null,null,null,null,null,null,null,null,null,null,null,null,null,null,null,""]
[null,null,null,null,null,null,null,null,null,null,null,null,null,null,null,null,null,null,null,null,""]
[null,null,null,null,null,null,null,null,null,null,null,null,null,null,null,null,null,null,null,null,""]
[null,null,null,null,null,null,null,null,null,null,null,null,null,null,null,null,null,null,null,null,""]
[null,null,null,null,null,null,null,null,null,null,null,null,null,null,null,null,null,null,null,null,""]
[null,null,null,null,null,null,null,null,null,null,null,null,null,null,null,null,null,null,null,null,""]
[null,null,null,null,null,null,null,null,null,null,null,null,null,null,null,null,null,null,null,null,""]
[null,null,null,null,null,null,null,null,null,null,null,null,null,null,null,null,null,null,null,null,""]
[null,null,null,null,null,null,null,null,null,null,null,null,null,null,null,null,null,null,null,null,""]
[null,null,null,null,null,null,null,null,null,null,null,null,null,null,null,null,null,null,null,null,""]
[null,null,null,null,null,null,null,null,null,null,null,null,null,null,null,null,null,null,null,null,""]
[null,null,null,null,null,null,null,null,null,null,null,null,null,null,null,null,null,null,null,null,""]
[null,null,null,null,null,null,null,null,null,null,null,null,null,null,null,null,null,null,null,null,""]
[null,null,null,null,null,null,null,null,null,null,null,null,null,null,null,null,null,null,null,null,""]
[null,null,null,null,null,null,null,null,null,null,null,null,null,null,null,null,null,null,null,null,""]
[null,null,null,null,null,null,null,null,null,null,null,null,null,null,null,null,null,null,null,null,""]
[null,null,null,null,null,null,null,null,null,null,null,null,null,null,null,null,null,null,null,null,""]
[null,null,null,null,null,null,null,null,null,null,null,null,null,null,null,null,null,null,null,null,""]
[null,null,null,null,null,null,null,null,null,null,null,null,null,null,null,null,null,null,null,null,""]
[null,null,null,null,null,null,null,null,null,null,null,null,null,null,null,null,null,null,null,null,""]
[null,null,null,null,null,null,null,null,null,null,null,null,null,null,null,null,null,null,null,null,""]
[null,null,null,null,null,null,null,null,null,null,null,null,null,null,null,null,null,null,null,null,""]
[null,null,null,null,null,null,null,null,null,null,null,null,null,null,null,null,null,null,null,null,""]
[null,null,null,null,null,null,null,null,null,null,null,null,null,null,null,null,null,null,null,null,""]
[null,null,null,null,null,null,null,null,null,null,null,null,null,null,null,null,null,null,null,null,""]
[null,null,null,null,null,null,null,null,null,null,null,null,null,null,null,null,null,null,null,null,""]
[null,null,null,null,null,null,null,null,null,null,null,null,null,null,null,null,null,null,null,null,""]
[null,null,null,null,null,null,null,null,null,null,null,null,null,null,null,null,null,null,null,null,""]
[null,null,null,null,null,null,null,null,null,null,null,null,null,null,null,null,null,null,null,null,""]
[null,null,null,null,null,null,null,null,null,null,null,null,null,null,null,null,null,null,null,null,""]
[null,null,null,null,null,null,null,null,null,null,null,null,null,null,null,null,null,null,null,null,""]
[null,null,null,null,null,null,null,null,null,null,null,null,null,null,null,null,null,null,null,null,""]
[null,null,null,null,null,null,null,null,null,null,null,null,null,null,null,null,null,null,null,null,""]
[null,null,null,null,null,null,null,null,null,null,null,null,null,null,null,null,null,null,null,null,""]
[null,null,null,null,null,null,null,null,null,null,null,null,null,null,null,null,null,null,null,null,""]
[null,null,null,null,null,null,null,null,null,null,null,null,null,null,null,null,null,null,null,null,""]
[null,null,null,null,null,null,null,null,null,null,null,null,null,null,null,null,null,null,null,null,""]
[null,null,null,null,null,null,null,null,null,null,null,null,null,null,null,null,null,null,null,null,""]
[null,null,null,null,null,null,null,null,null,null,null,null,null,null,null,null,null,null,null,null,""]
[null,null,null,null,null,null,null,null,null,null,null,null,null,null,null,null,null,null,null,null,""]
[null,null,null,null,null,null,null,null,null,null,null,null,null,null,null,null,null,null,null,null,""]
[null,null,null,null,null,null,null,null,null,null,null,null,null,null,null,null,null,null,null,null,""]
[null,null,null,null,null,null,null,null,null,null,null,null,null,null,null,null,null,null,null,null,""]
[null,null,null,null,null,null,null,null,null,null,null,null,null,null,null,null,null,null,null,null,""]
[null,null,null,null,null,null,null,null,null,null,null,null,null,null,null,null,null,null,null,null,""]
[null,null,null,null,null,null,null,null,null,null,null,null,null,null,null,null,null,null,null,null,""]
[null,null,null,null,null,null,null,null,null,null,null,null,null,null,null,null,null,null,null,null,""]
[null,null,null,null,null,null,null,null,null,null,null,null,null,null,null,null,null,null,null,null,""]
[null,null,null,null,null,null,null,null,null,null,null,null,null,null,null,null,null,null,null,null,""]
[null,null,null,null,null,null,null,null,null,null,null,null,null,null,null,null,null,null,null,null,""]
[null,null,null,null,null,null,null,null,null,null,null,null,null,null,null,null,null,null,null,null,""]
[null,null,null,null,null,null,null,null,null,null,null,null,null,null,null,null,null,null,null,null,""]
[null,null,null,null,null,null,null,null,null,null,null,null,null,null,null,null,null,null,null,null,""]
[null,null,null,null,null,null,null,null,null,null,null,null,null,null,null,null,null,null,null,null,""]
[null,null,null,null,null,null,null,null,null,null,null,null,null,null,null,null,null,null,null,null,""]
[null,null,null,null,null,null,null,null,null,null,null,null,null,null,null,null,null,null,null,null,""]
[null,null,null,null,null,null,null,null,null,null,null,null,null,null,null,null,null,null,null,null,""]
[null,null,null,null,null,null,null,null,null,null,null,null,null,null,null,null,null,null,null,null,""]
[null,null,null,null,null,null,null,null,null,null,null,null,null,null,null,null,null,null,null,null,""]
[null,null,null,null,null,null,null,null,null,null,null,null,null,null,null,null,null,null,null,null,""]
[null,null,null,null,null,null,null,null,null,null,null,null,null,null,null,null,null,null,null,null,""]
[null,null,null,null,null,null,null,null,null,null,null,null,null,null,null,null,null,null,null,null,""]
[null,null,null,null,null,null,null,null,null,null,null,null,null,null,null,null,null,null,null,null,""]
[null,null,null,null,null,null,null,null,null,null,null,null,null,null,null,null,null,null,null,null,""]
[null,null,null,null,null,null,null,null,null,null,null,null,null,null,null,null,null,null,null,null,""]
[null,null,null,null,null,null,null,null,null,null,null,null,null,null,null,null,null,null,null,null,""]
[null,null,null,null,null,null,null,null,null,null,null,null,null,null,null,null,null,null,null,null,""]
[null,null,null,null,null,null,null,null,null,null,null,null,null,null,null,null,null,null,null,null,""]
[null,null,null,null,null,null,null,null,null,null,null,null,null,null,null,null,null,null,null,null,""]
[null,null,null,null,null,null,null,null,null,null,null,null,null,null,null,null,null,null,null,null,""]
[null,null,null,null,null,null,null,null,null,null,null,null,null,null,null,null,null,null,null,null,""]
[null,null,null,null,null,null,null,null,null,null,null,null,null,null,null,null,null,null,null,null,""]
[null,null,null,null,null,null,null,null,null,null,null,null,null,null,null,null,null,null,null,null,""]
[null,null,null,null,null,null,null,null,null,null,null,null,null,null,null,null,null,null,null,null,""]
[null,null,null,null,null,null,null,null,null,null,null,null,null,null,null,null,null,null,null,null,""]
[null,null,null,null,null,null,null,null,null,null,null,null,null,null,null,null,null,null,null,null,""]
[null,null,null,null,null,null,null,null,null,null,null,null,null,null,null,null,null,null,null,null,""]
[null,null,null,null,null,null,null,null,null,null,null,null,null,null,null,null,null,null,null,null,""]
[null,null,null,null,null,null,null,null,null,null,null,null,null,null,null,null,null,null,null,null,""]
[null,null,null,null,null,null,null,null,null,null,null,null,null,null,null,null,null,null,null,null,""]
[null,null,null,null,null,null,null,null,null,null,null,null,null,null,null,null,null,null,null,null,""]
[null,null,null,null,null,null,null,null,null,null,null,null,null,null,null,null,null,null,null,null,""]
[null,null,null,null,null,null,null,null,null,null,null,null,null,null,null,null,null,null,null,null,""]
[null,null,null,null,null,null,null,null,null,null,null,null,null,null,null,null,null,null,null,null,""]
[null,null,null,null,null,null,null,null,null,null,null,null,null,null,null,null,null,null,null,null,""]
[null,null,null,null,null,null,null,null,null,null,null,null,null,null,null,null,null,null,null,null,""]
[null,null,null,null,null,null,null,null,null,null,null,null,null,null,null,null,null,null,null,null,""]
[null,null,null,null,null,null,null,null,null,null,null,null,null,null,null,null,null,null,null,null,""]
[null,null,null,null,null,null,null,null,null,null,null,null,null,null,null,null,null,null,null,null,""]
[null,null,null,null,null,null,null,null,null,null,null,null,null,null,null,null,null,null,null,null,""]
[null,null,null,null,null,null,null,null,null,null,null,null,null,null,null,null,null,null,null,null,""]
[null,null,null,null,null,null,null,null,null,null,null,null,null,null,null,null,null,null,null,null,""]
[null,null,null,null,null,null,null,null,null,null,null,null,null,null,null,null,null,null,null,null,""]
[null,null,null,null,null,null,null,null,null,null,null,null,null,null,null,null,null,null,null,null,""]
[null,null,null,null,null,null,null,null,null,null,null,null,null,null,null,null,null,null,null,null,""]
[null,null,null,null,null,null,null,null,null,null,null,null,null,null,null,null,null,null,null,null,""]
[null,null,null,null,null,null,null,null,null,null,null,null,null,null,null,null,null,null,null,null,""]
[null,null,null,null,null,null,null,null,null,null,null,null,null,null,null,null,null,null,null,null,""]
[null,null,null,null,null,null,null,null,null,null,null,null,null,null,null,null,null,null,null,null,""]
[null,null,null,null,null,null,null,null,null,null,null,null,null,null,null,null,null,null,null,null,""]
[null,null,null,null,null,null,null,null,null,null,null,null,null,null,null,null,null,null,null,null,""]
[null,null,null,null,null,null,null,null,null,null,null,null,null,null,null,null,null,null,null,null,""]
[null,null,null,null,null,null,null,null,null,null,null,null,null,null,null,null,null,null,null,null,""]
[null,null,null,null,null,null,null,null,null,null,null,null,null,null,null,null,null,null,null,null,""]
[null,null,null,null,null,null,null,null,null,null,null,null,null,null,null,null,null,null,null,null,""]
[null,null,null,null,null,null,null,null,null,null,null,null,null,null,null,null,null,null,null,null,""]
[null,null,null,null,null,null,null,null,null,null,null,null,null,null,null,null,null,null,null,null,""]
[null,null,null,null,null,null,null,null,null,null,null,null,null,null,null,null,null,null,null,null,""]
[null,null,null,null,null,null,null,null,null,null,null,null,null,null,null,null,null,null,null,null,""]
[null,null,null,null,null,null,null,null,null,null,null,null,null,null,null,null,null,null,null,null,""]
[null,null,null,null,null,null,null,null,null,null,null,null,null,null,null,null,null,null,null,null,""]
[null,null,null,null,null,null,null,null,null,null,null,null,null,null,null,null,null,null,null,null,""]
[null,null,null,null,null,null,null,null,null,null,null,null,null,null,null,null,null,null,null,null,""]
[null,null,null,null,null,null,null,null,null,null,null,null,null,null,null,null,null,null,null,null,""]
[null,null,null,null,null,null,null,null,null,null,null,null,null,null,null,null,null,null,null,null,""]
[null,null,null,null,null,null,null,null,null,null,null,null,null,null,null,null,null,null,null,null,""]
[null,null,null,null,null,null,null,null,null,null,null,null,null,null,null,null,null,null,null,null,""]
[null,null,null,null,null,null,null,null,null,null,null,null,null,null,null,null,null,null,null,null,""]
[null,null,null,null,null,null,null,null,null,null,null,null,null,null,null,null,null,null,null,null,""]
[null,null,null,null,null,null,null,null,null,null,null,null,null,null,null,null,null,null,null,null,""]
[null,null,null,null,null,null,null,null,null,null,null,null,null,null,null,null,null,null,null,null,""]
[null,null,null,null,null,null,null,null,null,null,null,null,null,null,null,null,null,null,null,null,""]
[null,null,null,null,null,null,null,null,null,null,null,null,null,null,null,null,null,null,null,null,""]
[null,null,null,null,null,null,null,null,null,null,null,null,null,null,null,null,null,null,null,null,""]
[null,null,null,null,null,null,null,null,null,null,null,null,null,null,null,null,null,null,null,null,""]
[null,null,null,null,null,null,null,null,null,null,null,null,null,null,null,null,null,null,null,null,""]
[null,null,null,null,null,null,null,null,null,null,null,null,null,null,null,null,null,null,null,null,""]
[null,null,null,null,null,null,null,null,null,null,null,null,null,null,null,null,null,null,null,null,""]
[null,null,null,null,null,null,null,null,null,null,null,null,null,null,null,null,null,null,null,null,""]
[null,null,null,null,null,null,null,null,null,null,null,null,null,null,null,null,null,null,null,null,""]
[null,null,null,null,null,null,null,null,null,null,null,null,null,null,null,null,null,null,null,null,""]
[null,null,null,null,null,null,null,null,null,null,null,null,null,null,null,null,null,null,null,null,""]
[null,null,null,null,null,null,null,null,null,null,null,null,null,null,null,null,null,null,null,null,""]
[null,null,null,null,null,null,null,null,null,null,null,null,null,null,null,null,null,null,null,null,""]
[null,null,null,null,null,null,null,null,null,null,null,null,null,null,null,null,null,null,null,null,""]
[null,null,null,null,null,null,null,null,null,null,null,null,null,null,null,null,null,null,null,null,""]
[null,null,null,null,null,null,null,null,null,null,null,null,null,null,null,null,null,null,null,null,""]
[null,null,null,null,null,null,null,null,null,null,null,null,null,null,null,null,null,null,null,null,""]
[null,null,null,null,null,null,null,null,null,null,null,null,null,null,null,null,null,null,null,null,""]
[null,null,null,null,null,null,null,null,null,null,null,null,null,null,null,null,null,null,null,null,""]
[null,null,null,null,null,null,null,null,null,null,null,null,null,null,null,null,null,null,null,null,""]
[null,null,null,null,null,null,null,null,null,null,null,null,null,null,null,null,null,null,null,null,""]
[null,null,null,null,null,null,null,null,null,null,null,null,null,null,null,null,null,null,null,null,""]
[null,null,null,null,null,null,null,null,null,null,null,null,null,null,null,null,null,null,null,null,""]
[null,null,null,null,null,null,null,null,null,null,null,null,null,null,null,null,null,null,null,null,""]
[null,null,null,null,null,null,null,null,null,null,null,null,null,null,null,null,null,null,null,null,""]
[null,null,null,null,null,null,null,null,null,null,null,null,null,null,null,null,null,null,null,null,""]
[null,null,null,null,null,null,null,null,null,null,null,null,null,null,null,null,null,null,null,null,""]
[null,null,null,null,null,null,null,null,null,null,null,null,null,null,null,null,null,null,null,null,""]
[null,null,null,null,null,null,null,null,null,null,null,null,null,null,null,null,null,null,null,null,""]
[null,null,null,null,null,null,null,null,null,null,null,null,null,null,null,null,null,null,null,null,""]
[null,null,null,null,null,null,null,null,null,null,null,null,null,null,null,null,null,null,null,null,""]
[null,null,null,null,null,null,null,null,null,null,null,null,null,null,null,null,null,null,null,null,""]
[null,null,null,null,null,null,null,null,null,null,null,null,null,null,null,null,null,null,null,null,""]
[null,null,null,null,null,null,null,null,null,null,null,null,null,null,null,null,null,null,null,null,""]
[null,null,null,null,null,null,null,null,null,null,null,null,null,null,null,null,null,null,null,null,""]
[null,null,null,null,null,null,null,null,null,null,null,null,null,null,null,null,null,null,null,null,""]
[null,null,null,null,null,null,null,null,null,null,null,null,null,null,null,null,null,null,null,null,""]
[null,null,null,null,null,null,null,null,null,null,null,null,null,null,null,null,null,null,null,null,""]
[null,null,null,null,null,null,null,null,null,null,null,null,null,null,null,null,null,null,null,null,""]
[null,null,null,null,null,null,null,null,null,null,null,null,null,null,null,null,null,null,null,null,""]
[null,null,null,null,null,null,null,null,null,null,null,null,null,null,null,null,null,null,null,null,""]
[null,null,null,null,null,null,null,null,null,null,null,null,null,null,null,null,null,null,null,null,""]
[null,null,null,null,null,null,null,null,null,null,null,null,null,null,null,null,null,null,null,null,""]
[null,null,null,null,null,null,null,null,null,null,null,null,null,null,null,null,null,null,null,null,""]
[null,null,null,null,null,null,null,null,null,null,null,null,null,null,null,null,null,null,null,null,""]
[null,null,null,null,null,null,null,null,null,null,null,null,null,null,null,null,null,null,null,null,""]
[null,null,null,null,null,null,null,null,null,null,null,null,null,null,null,null,null,null,null,null,""]
[null,null,null,null,null,null,null,null,null,null,null,null,null,null,null,null,null,null,null,null,""]
[null,null,null,null,null,null,null,null,null,null,null,null,null,null,null,null,null,null,null,null,""]
[null,null,null,null,null,null,null,null,null,null,null,null,null,null,null,null,null,null,null,null,""]
[null,null,null,null,null,null,null,null,null,null,null,null,null,null,null,null,null,null,null,null,""]
[null,null,null,null,null,null,null,null,null,null,null,null,null,null,null,null,null,null,null,null,""]
[null,null,null,null,null,null,null,null,null,null,null,null,null,null,null,null,null,null,null,null,""]
[null,null,null,null,null,null,null,null,null,null,null,null,null,null,null,null,null,null,null,null,""]
[null,null,null,null,null,null,null,null,null,null,null,null,null,null,null,null,null,null,null,null,""]
[null,null,null,null,null,null,null,null,null,null,null,null,null,null,null,null,null,null,null,null,""]
[null,null,null,null,null,null,null,null,null,null,null,null,null,null,null,null,null,null,null,null,""]
[null,null,null,null,null,null,null,null,null,null,null,null,null,null,null,null,null,null,null,null,""]
[null,null,null,null,null,null,null,null,null,null,null,null,null,null,null,null,null,null,null,null,""]
[null,null,null,null,null,null,null,null,null,null,null,null,null,null,null,null,null,null,null,null,""]
[null,null,null,null,null,null,null,null,null,null,null,null,null,null,null,null,null,null,null,null,""]
[null,null,null,null,null,null,null,null,null,null,null,null,null,null,null,null,null,null,null,null,""]
[null,null,null,null,null,null,null,null,null,null,null,null,null,null,null,null,null,null,null,null,""]
[null,null,null,null,null,null,null,null,null,null,null,null,null,null,null,null,null,null,null,null,""]
[null,null,null,null,null,null,null,null,null,null,null,null,null,null,null,null,null,null,null,null,""]
[null,null,null,null,null,null,null,null,null,null,null,null,null,null,null,null,null,null,null,null,""]
[null,null,null,null,null,null,null,null,null,null,null,null,null,null,null,null,null,null,null,null,""]
[null,null,null,null,null,null,null,null,null,null,null,null,null,null,null,null,null,null,null,null,""]
[null,null,null,null,null,null,null,null,null,null,null,null,null,null,null,null,null,null,null,null,""]
[null,null,null,null,null,null,null,null,null,null,null,null,null,null,null,null,null,null,null,null,""]
[null,null,null,null,null,null,null,null,null,null,null,null,null,null,null,null,null,null,null,null,""]
[null,null,null,null,null,null,null,null,null,null,null,null,null,null,null,null,null,null,null,null,""]
[null,null,null,null,null,null,null,null,null,null,null,null,null,null,null,null,null,null,null,null,""]
[null,null,null,null,null,null,null,null,null,null,null,null,null,null,null,null,null,null,null,null,""]
[null,null,null,null,null,null,null,null,null,null,null,null,null,null,null,null,null,null,null,null,""]
[null,null,null,null,null,null,null,null,null,null,null,null,null,null,null,null,null,null,null,null,""]
[null,null,null,null,null,null,null,null,null,null,null,null,null,null,null,null,null,null,null,null,""]
[null,null,null,null,null,null,null,null,null,null,null,null,null,null,null,null,null,null,null,null,""]
[null,null,null,null,null,null,null,null,null,null,null,null,null,null,null,null,null,null,null,null,""]
[null,null,null,null,null,null,null,null,null,null,null,null,null,null,null,null,null,null,null,null,""]
[null,null,null,null,null,null,null,null,null,null,null,null,null,null,null,null,null,null,null,null,""]
[null,null,null,null,null,null,null,null,null,null,null,null,null,null,null,null,null,null,null,null,""]
[null,null,null,null,null,null,null,null,null,null,null,null,null,null,null,null,null,null,null,null,""]
[null,null,null,null,null,null,null,null,null,null,null,null,null,null,null,null,null,null,null,null,""]
[null,null,null,null,null,null,null,null,null,null,null,null,null,null,null,null,null,null,null,null,""]
[null,null,null,null,null,null,null,null,null,null,null,null,null,null,null,null,null,null,null,null,""]
[null,null,null,null,null,null,null,null,null,null,null,null,null,null,null,null,null,null,null,null,""]
[null,null,null,null,null,null,null,null,null,null,null,null,null,null,null,null,null,null,null,null,""]
[null,null,null,null,null,null,null,null,null,null,null,null,null,null,null,null,null,null,null,null,""]
[null,null,null,null,null,null,null,null,null,null,null,null,null,null,null,null,null,null,null,null,""]
[null,null,null,null,null,null,null,null,null,null,null,null,null,null,null,null,null,null,null,null,""]
[null,null,null,null,null,null,null,null,null,null,null,null,null,null,null,null,null,null,null,null,""]
[null,null,null,null,null,null,null,null,null,null,null,null,null,null,null,null,null,null,null,null,""]
[null,null,null,null,null,null,null,null,null,null,null,null,null,null,null,null,null,null,null,null,""]
[null,null,null,null,null,null,null,null,null,null,null,null,null,null,null,null,null,null,null,null,""]
[null,null,null,null,null,null,null,null,null,null,null,null,null,null,null,null,null,null,null,null,""]
[null,null,null,null,null,null,null,null,null,null,null,null,null,null,null,null,null,null,null,null,""]
[null,null,null,null,null,null,null,null,null,null,null,null,null,null,null,null,null,null,null,null,""]
[null,null,null,null,null,null,null,null,null,null,null,null,null,null,null,null,null,null,null,null,""]
[null,null,null,null,null,null,null,null,null,null,null,null,null,null,null,null,null,null,null,null,""]
[null,null,null,null,null,null,null,null,null,null,null,null,null,null,null,null,null,null,null,null,""]
[null,null,null,null,null,null,null,null,null,null,null,null,null,null,null,null,null,null,null,null,""]
[null,null,null,null,null,null,null,null,null,null,null,null,null,null,null,null,null,null,null,null,""]
[null,null,null,null,null,null,null,null,null,null,null,null,null,null,null,null,null,null,null,null,""]
[null,null,null,null,null,null,null,null,null,null,null,null,null,null,null,null,null,null,null,null,""]
[null,null,null,null,null,null,null,null,null,null,null,null,null,null,null,null,null,null,null,null,""]
[null,null,null,null,null,null,null,null,null,null,null,null,null,null,null,null,null,null,null,null,""]
[null,null,null,null,null,null,null,null,null,null,null,null,null,null,null,null,null,null,null,null,""]
[null,null,null,null,null,null,null,null,null,null,null,null,null,null,null,null,null,null,null,null,""]
[null,null,null,null,null,null,null,null,null,null,null,null,null,null,null,null,null,null,null,null,""]
[null,null,null,null,null,null,null,null,null,null,null,null,null,null,null,null,null,null,null,null,""]
[null,null,null,null,null,null,null,null,null,null,null,null,null,null,null,null,null,null,null,null,""]
[null,null,null,null,null,null,null,null,null,null,null,null,null,null,null,null,null,null,null,null,""]
[null,null,null,null,null,null,null,null,null,null,null,null,null,null,null,null,null,null,null,null,""]
[null,null,null,null,null,null,null,null,null,null,null,null,null,null,null,null,null,null,null,null,""]
[null,null,null,null,null,null,null,null,null,null,null,null,null,null,null,null,null,null,null,null,""]
[null,null,null,null,null,null,null,null,null,null,null,null,null,null,null,null,null,null,null,null,""]
[null,null,null,null,null,null,null,null,null,null,null,null,null,null,null,null,null,null,null,null,""]
[null,null,null,null,null,null,null,null,null,null,null,null,null,null,null,null,null,null,null,null,""]
[null,null,null,null,null,null,null,null,null,null,null,null,null,null,null,null,null,null,null,null,""]
[null,null,null,null,null,null,null,null,null,null,null,null,null,null,null,null,null,null,null,null,""]
[null,null,null,null,null,null,null,null,null,null,null,null,null,null,null,null,null,null,null,null,""]
[null,null,null,null,null,null,null,null,null,null,null,null,null,null,null,null,null,null,null,null,""]
[null,null,null,null,null,null,null,null,null,null,null,null,null,null,null,null,null,null,null,null,""]
[null,null,null,null,null,null,null,null,null,null,null,null,null,null,null,null,null,null,null,null,""]
[null,null,null,null,null,null,null,null,null,null,null,null,null,null,null,null,null,null,null,null,""]
[null,null,null,null,null,null,null,null,null,null,null,null,null,null,null,null,null,null,null,null,""]
[null,null,null,null,null,null,null,null,null,null,null,null,null,null,null,null,null,null,null,null,""]
[null,null,null,null,null,null,null,null,null,null,null,null,null,null,null,null,null,null,null,null,""]
[null,null,null,null,null,null,null,null,null,null,null,null,null,null,null,null,null,null,null,null,""]
[null,null,null,null,null,null,null,null,null,null,null,null,null,null,null,null,null,null,null,null,""]
[null,null,null,null,null,null,null,null,null,null,null,null,null,null,null,null,null,null,null,null,""]
[null,null,null,null,null,null,null,null,null,null,null,null,null,null,null,null,null,null,null,null,""]
[null,null,null,null,null,null,null,null,null,null,null,null,null,null,null,null,null,null,null,null,""]
[null,null,null,null,null,null,null,null,null,null,null,null,null,null,null,null,null,null,null,null,""]
[null,null,null,null,null,null,null,null,null,null,null,null,null,null,null,null,null,null,null,null,""]
[null,null,null,null,null,null,null,null,null,null,null,null,null,null,null,null,null,null,null,null,""]
[null,null,null,null,null,null,null,null,null,null,null,null,null,null,null,null,null,null,null,null,""]
[null,null,null,null,null,null,null,null,null,null,null,null,null,null,null,null,null,null,null,null,""]
[null,null,null,null,null,null,null,null,null,null,null,null,null,null,null,null,null,null,null,null,""]
[null,null,null,null,null,null,null,null,null,null,null,null,null,null,null,null,null,null,null,null,""]
[null,null,null,null,null,null,null,null,null,null,null,null,null,null,null,null,null,null,null,null,""]
[null,null,null,null,null,null,null,null,null,null,null,null,null,null,null,null,null,null,null,null,""]
[null,null,null,null,null,null,null,null,null,null,null,null,null,null,null,null,null,null,null,null,""]
[null,null,null,null,null,null,null,null,null,null,null,null,null,null,null,null,null,null,null,null,""]
[null,null,null,null,null,null,null,null,null,null,null,null,null,null,null,null,null,null,null,null,""]
[null,null,null,null,null,null,null,null,null,null,null,null,null,null,null,null,null,null,null,null,""]
[null,null,null,null,null,null,null,null,null,null,null,null,null,null,null,null,null,null,null,null,""]
[null,null,null,null,null,null,null,null,null,null,null,null,null,null,null,null,null,null,null,null,""]
[null,null,null,null,null,null,null,null,null,null,null,null,null,null,null,null,null,null,null,null,""]
[null,null,null,null,null,null,null,null,null,null,null,null,null,null,null,null,null,null,null,null,""]
[null,null,null,null,null,null,null,null,null,null,null,null,null,null,null,null,null,null,null,null,""]
[null,null,null,null,null,null,null,null,null,null,null,null,null,null,null,null,null,null,null,null,""]
[null,null,null,null,null,null,null,null,null,null,null,null,null,null,null,null,null,null,null,null,""]
[null,null,null,null,null,null,null,null,null,null,null,null,null,null,null,null,null,null,null,null,""]
[null,null,null,null,null,null,null,null,null,null,null,null,null,null,null,null,null,null,null,null,""]
[null,null,null,null,null,null,null,null,null,null,null,null,null,null,null,null,null,null,null,null,""]
[null,null,null,null,null,null,null,null,null,null,null,null,null,null,null,null,null,null,null,null,""]
[null,null,null,null,null,null,null,null,null,null,null,null,null,null,null,null,null,null,null,null,""]
[null,null,null,null,null,null,null,null,null,null,null,null,null,null,null,null,null,null,null,null,""]
[null,null,null,null,null,null,null,null,null,null,null,null,null,null,null,null,null,null,null,null,""]
[null,null,null,null,null,null,null,null,null,null,null,null,null,null,null,null,null,null,null,null,""]
[null,null,null,null,null,null,null,null,null,null,null,null,null,null,null,null,null,null,null,null,""]
[null,null,null,null,null,null,null,null,null,null,null,null,null,null,null,null,null,null,null,null,""]
[null,null,null,null,null,null,null,null,null,null,null,null,null,null,null,null,null,null,null,null,""]
[null,null,null,null,null,null,null,null,null,null,null,null,null,null,null,null,null,null,null,null,""]
[null,null,null,null,null,null,null,null,null,null,null,null,null,null,null,null,null,null,null,null,""]
[null,null,null,null,null,null,null,null,null,null,null,null,null,null,null,null,null,null,null,null,""]
[null,null,null,null,null,null,null,null,null,null,null,null,null,null,null,null,null,null,null,null,""]
[null,null,null,null,null,null,null,null,null,null,null,null,null,null,null,null,null,null,null,null,""]
[null,null,null,null,null,null,null,null,null,null,null,null,null,null,null,null,null,null,null,null,""]
[null,null,null,null,null,null,null,null,null,null,null,null,null,null,null,null,null,null,null,null,""]
[null,null,null,null,null,null,null,null,null,null,null,null,null,null,null,null,null,null,null,null,""]
[null,null,null,null,null,null,null,null,null,null,null,null,null,null,null,null,null,null,null,null,""]
[null,null,null,null,null,null,null,null,null,null,null,null,null,null,null,null,null,null,null,null,""]
[null,null,null,null,null,null,null,null,null,null,null,null,null,null,null,null,null,null,null,null,""]
[null,null,null,null,null,null,null,null,null,null,null,null,null,null,null,null,null,null,null,null,""]
[null,null,null,null,null,null,null,null,null,null,null,null,null,null,null,null,null,null,null,null,""]
[null,null,null,null,null,null,null,null,null,null,null,null,null,null,null,null,null,null,null,null,""]
[null,null,null,null,null,null,null,null,null,null,null,null,null,null,null,null,null,null,null,null,""]
[null,null,null,null,null,null,null,null,null,null,null,null,null,null,null,null,null,null,null,null,""]
[null,null,null,null,null,null,null,null,null,null,null,null,null,null,null,null,null,null,null,null,""]
[null,null,null,null,null,null,null,null,null,null,null,null,null,null,null,null,null,null,null,null,""]
[null,null,null,null,null,null,null,null,null,null,null,null,null,null,null,null,null,null,null,null,""]
[null,null,null,null,null,null,null,null,null,null,null,null,null,null,null,null,null,null,null,null,""]
[null,null,null,null,null,null,null,null,null,null,null,null,null,null,null,null,null,null,null,null,""]
[null,null,null,null,null,null,null,null,null,null,null,null,null,null,null,null,null,null,null,null,""]
[null,null,null,null,null,null,null,null,null,null,null,null,null,null,null,null,null,null,null,null,""]
[null,null,null,null,null,null,null,null,null,null,null,null,null,null,null,null,null,null,null,null,""]
[null,null,null,null,null,null,null,null,null,null,null,null,null,null,null,null,null,null,null,null,""]
[null,null,null,null,null,null,null,null,null,null,null,null,null,null,null,null,null,null,null,null,""]
[null,null,null,null,null,null,null,null,null,null,null,null,null,null,null,null,null,null,null,null,""]
[null,null,null,null,null,null,null,null,null,null,null,null,null,null,null,null,null,null,null,null,""]
[null,null,null,null,null,null,null,null,null,null,null,null,null,null,null,null,null,null,null,null,""]
[null,null,null,null,null,null,null,null,null,null,null,null,null,null,null,null,null,null,null,null,""]
[null,null,null,null,null,null,null,null,null,null,null,null,null,null,null,null,null,null,null,null,""]
[null,null,null,null,null,null,null,null,null,null,null,null,null,null,null,null,null,null,null,null,""]
[null,null,null,null,null,null,null,null,null,null,null,null,null,null,null,null,null,null,null,null,""]
[null,null,null,null,null,null,null,null,null,null,null,null,null,null,null,null,null,null,null,null,""]
[null,null,null,null,null,null,null,null,null,null,null,null,null,null,null,null,null,null,null,null,""]
[null,null,null,null,null,null,null,null,null,null,null,null,null,null,null,null,null,null,null,null,""]
[null,null,null,null,null,null,null,null,null,null,null,null,null,null,null,null,null,null,null,null,""]
[null,null,null,null,null,null,null,null,null,null,null,null,null,null,null,null,null,null,null,null,""]
[null,null,null,null,null,null,null,null,null,null,null,null,null,null,null,null,null,null,null,null,""]
[null,null,null,null,null,null,null,null,null,null,null,null,null,null,null,null,null,null,null,null,""]
[null,null,null,null,null,null,null,null,null,null,null,null,null,null,null,null,null,null,null,null,""]
[null,null,null,null,null,null,null,null,null,null,null,null,null,null,null,null,null,null,null,null,""]
[null,null,null,null,null,null,null,null,null,null,null,null,null,null,null,null,null,null,null,null,""]
[null,null,null,null,null,null,null,null,null,null,null,null,null,null,null,null,null,null,null,null,""]
[null,null,null,null,null,null,null,null,null,null,null,null,null,null,null,null,null,null,null,null,""]
[null,null,null,null,null,null,null,null,null,null,null,null,null,null,null,null,null,null,null,null,""]
[null,null,null,null,null,null,null,null,null,null,null,null,null,null,null,null,null,null,null,null,""]
[null,null,null,null,null,null,null,null,null,null,null,null,null,null,null,null,null,null,null,null,""]
[null,null,null,null,null,null,null,null,null,null,null,null,null,null,null,null,null,null,null,null,""]
[null,null,null,null,null,null,null,null,null,null,null,null,null,null,null,null,null,null,null,null,""]
[null,null,null,null,null,null,null,null,null,null,null,null,null,null,null,null,null,null,null,null,""]
[null,null,null,null,null,null,null,null,null,null,null,null,null,null,null,null,null,null,null,null,""]
[null,null,null,null,null,null,null,null,null,null,null,null,null,null,null,null,null,null,null,null,""]
[null,null,null,null,null,null,null,null,null,null,null,null,null,null,null,null,null,null,null,null,""]
[null,null,null,null,null,null,null,null,null,null,null,null,null,null,null,null,null,null,null,null,""]